{"text_format":"1","workbook":"xlsx","n_sheets":10,"sheets":["Introduction & Help","Tender Finder","Competition Data","Hidden Tabs >>","Data","Lists & wording","result period from comp name","result type from comp name","Enhance logic (Do not use)","Manual Entry (Do not use)"],"not_rendered":{"charts":0,"images":6,"macros":1,"external_links":0,"defined_names":10,"comments":0,"pivot_tables":0},"unopened":[],"bounds":{"document_bytes":16777216,"sheet_cells":100000,"rows_first":2000,"rows_last":500,"rows_between":2000,"halvings":0,"cell_chars":16384,"cell_head_chars":4096},"cells_cut":0,"cells_raw":0,"read":"whole","date_system":"1900"}

{"sheet":"Introduction & Help","index":0,"n_rows":22,"n_cols":12,"rows_kept":22,"cut":false,"hidden":false,"merged":[[21,1,21,9],[18,11,18,12],[18,1,19,9],[1,4,3,8],[9,1,16,9],[2,11,3,12],[8,11,14,12],[20,1,20,9]]}
[]
[null,null,null,null,"Flexibility Services \ncost checker"]
[null,null,null,null,null,null,null,null,null,null,null,"Click here to visit ElectronConnect"]
[]
[]
[]
[]
[]
[null,"Description:",null,null,null,null,null,null,null,null,null,"Click here to visit our website"]
[null,"This tool helps potential participants in SP Electricity North West's flexibility services tenders check whether their proposed prices for availability and utilisation fall within the maximum (ceiling) prices offered. By using this tool before submitting a bid, users can quickly see if their prices exceed the limits set by SP Electricity North West.\nPlease note a result from this tool - whether positive or negative - does not guarantee that your bid will be accepted or rejected. Final contract awards will consider additional factors beyond pricing after the tender process is complete."]
[]
[]
[]
[]
[]
[]
[]
[null,"Help Guide:"]
[null,"This tool offers methods to calculate your bidding prices. \n\nTender Finder: Use this tab to search for the specific competition you want to participate in. Once you find the competition, the tool will automatically populate the relevant variables for that competition.\n\nIn this tab, you will need to select:\n- Competition Name\n- Period\n- Service Type\n\nIf the selected product is Operational Utilisation, Scheduled Utilisation or Peak Reduction, the tool will display the maximum utilisation price (in £/MWh) that can be accepted for the competition. This helps you ensure your bid does not exceed the ceiling price set by SP Electricity North West.\n\nIf the selected product is Variable Availability + Operational Utilisation, enter your proposed:\n- Availability price (£/MW/h)\n- Utilisation price (£/MWh)\n- Flexible capacity (MW)\n\nAfter entering your details, the tool will calculate your total bidding prices (in £) and indicate whether they are within the ceiling price set for the competition or above the limit.\n\nCompetition Data Tab: This tab provides detailed information about the tender requirements for your reference.\n",null,null,null,null,null,null,null,null,null,"Click here to contact us"]
[]
[null,"If you encouter any issues whilst utilising the tool, please feel free to get in touch: "]
[null,"flexible.contracts@enwl.co.uk"]

{"sheet":"Tender Finder","index":1,"n_rows":31,"n_cols":14,"rows_kept":31,"cut":false,"hidden":false,"merged":[[30,2,31,2],[30,3,31,3],[30,4,31,6],[30,8,31,9],[26,3,27,9],[26,2,27,2],[16,9,16,10],[12,4,12,6],[14,4,14,6],[16,4,16,6],[22,10,23,10],[22,6,22,9],[22,1,22,3],[22,4,23,4],[1,3,3,8],[17,4,17,6],[18,4,18,6],[13,4,13,6],[12,1,14,1],[1,13,1,14],[10,13,11,14],[15,13,15,14],[12,9,12,10],[13,9,13,10],[14,9,14,10],[15,9,15,10],[2,13,3,14]]}
[]
[null,null,null,"Flexibility Services \ncost checker"]
[null,null,null,null,null,null,null,null,null,null,null,null,null,"Click here to visit ElectronConnect"]
[]
[]
[]
[]
[]
[]
[]
[null,null,null,null,null,null,null,null,null,null,null,null,null,"Click here to visit our website"]
[null,null,null,"Insert Bid Details Here",null,null,null,null,"Competition details (auto-populated)",null,null,"CONCATENATE:"]
[null,"Competion details","Competition Name",null,{"$f":"IF(ISBLANK(D13),\"Enter data\",\"\")","v":"Enter data"},null,null,null,"Competition ID",{"$f":"IFERROR(VLOOKUP(L13,Data!$A:$I,3,FALSE),'Lists & wording'!J11)","v":""},null,{"$f":"CONCATENATE(D13,D14,D15)","v":""}]
[null,null,"Period",null,{"$f":"IF(ISBLANK(D14),\"Enter data\",IF(OR(ISBLANK(D13),ISBLANK(D14),ISBLANK(D15)),\"\",IF(J13='Lists & wording'!J11,'Lists & wording'!J11,\"\")))","v":"Enter data"},null,null,null,"Celling Price for Period",{"$f":"IFERROR(VLOOKUP(L13,Data!$A:$I,6,FALSE),'Lists & wording'!J11)","v":""}]
[null,null,"Service Type",null,{"$f":"IF(ISBLANK(D15),\"Enter data\",\"\")","v":"Enter data"},null,null,null,"Availability Hours",{"$f":"IFERROR(VLOOKUP(L13,Data!$A:$I,8,FALSE),'Lists & wording'!J11)","v":""},null,"FLAG:"]
[null,null,null,null,null,null,null,null,"Utilisation Hours",{"$f":"IFERROR(VLOOKUP(L13,Data!$A:$I,7,FALSE),'Lists & wording'!J11)","v":""},null,{"$f":"IF(OR(E13=\"No Tender matching these parameters\",E14=\"No Tender matching these parameters\",E15=\"No Tender matching these parameters\",E13=\"Enter data\", E14=\"Enter data\", E15=\"Enter data\"),TRUE,FALSE)","v":true},null,"Click here to contact us"]
[null,"Bid Details","Availability £/MW/h",null,{"$f":"IF(ISBLANK(D17),\"Enter data\",IF(AND(D15=\"Operational Utilisation\",D17>0,D17),\"No availability payments for Operational Utilisation contracts\",IF(AND(D15=\"Peak Reduction\",D17>0,D17),\"No availability payments for Peak Reduction contracts\",IF(AND(D15=\"Scheduled Utilisation\",D17>0,D17),\"No availability payments for Scheduled Utilisation contracts\",\"\"))))","v":"Enter data"},null,null,null,"Capacity Required MW",{"$f":"IFERROR(VLOOKUP(L13,Data!$A:$I,9,FALSE),'Lists & wording'!J11)","v":""}]
[null,null,"Utilisation £/MWh",null,{"$f":"IF(ISBLANK(D18),\"Enter data\",\"\")","v":"Enter data"}]
[null,null,"Capacity MW",null,{"$f":"IF(ISBLANK(D19),\"Enter data\",\"\")","v":"Enter data"}]
[]
[]
[]
[null,"Total Bid Price ",null,null,"% of capacity\n required",null,"Total price if scaled up to total capacity required",null,null,null,"% of celling Price"]
[null,"Availability £","Utilisation £","Total Bid \nPrice",null,null,"Availability £",null,"Utilisation","Total Bid Price"]
[null,{"$f":"IFERROR(D17*J15*D19,\"\")","v":""},{"$f":"IFERROR(D18*J16*D19,\"\")","v":""},{"$f":"IFERROR(B25+C25,\"\")","v":""},{"$f":"IFERROR(D19/J17,\"\")","v":""},null,{"$f":"IFERROR(D17*J15*J17,\"\")","v":""},null,{"$f":"IFERROR(D18*J16*J17,\"\")","v":""},{"$f":"IFERROR(G25+I25,\"\")","v":""},{"$f":"IFERROR(J25/J14,\"\")","v":""}]
[]
[null,null,"Result:",{"$f":"IF(OR(K25=0,K25=\"\"),\"\",IF(K25>1,'Lists & wording'!K4,'Lists & wording'!K3))","v":""}]
[]
[]
[]
[null,null,"Result:",{"$f":"IF(OR(D15 = \"Operational Utilisation\", D15 = \"Scheduled Utilisation\", D15= \"Peak Reduction\"),\"Ceiling Price is:\", \"\")","v":""},{"$f":" IF(OR(D15 = \"Operational Utilisation\", D15 = \"Scheduled Utilisation\", D15= \"Peak Reduction\"), INDEX(Data!K:K, MATCH($L$13,Data!A:A, 0)),\"\")","v":""},null,null,null,{"$f":"IF(OR(D15 = \"Operational Utilisation\", D15 = \"Scheduled Utilisation\", D15= \"Peak Reduction\"),\"£/MWh\", \"\")","v":""}]

{"sheet":"Competition Data","index":2,"n_rows":559,"n_cols":9,"rows_kept":559,"cut":false,"hidden":false,"merged":[]}
["Competition Name","Period","Competition type","Utilisation (hrs)","Availability (hrs)","Capacity Required (MW)","Ceiling Price (£/Period)","Competition Ref","Ceiling Price for OU/ SU/ PR\n(£/MWh)"]
["AIRE DR (ADJ NO 2)","W26/27","Peak Reduction",604,"0",0.03,892.77,null,{"$f":"IF(OR(C2 = \"Operational Utilisation\", C2 = \"Scheduled Utilisation\", C2= \"Peak Reduction\"),G2/D2/(F2), \"N/A\")","v":49.269867549668874}]
["AIRE DR (ADJ NO 2)","W26/27","Scheduled Utilisation",604,"0",0.03,892.77,null,49.269867549668874]
["ALDER RD","W26/27","Peak Reduction",604,"0",0.03,892.77,null,49.269867549668874]
["ALDER RD","W26/27","Scheduled Utilisation",604,"0",0.03,892.77,null,49.269867549668874]
["Alston","FY27","Operational Utilisation",100,"0",1.4,75627,null,540.19285714285718]
["Alston","FY28","Operational Utilisation",100,"0",1.4,75627,null,540.19285714285718]
["Alston","S27","Variable Availability + Operational Utilisation",48,"238",0.32,86930,null,"N/A"]
["Alston","S27","Peak Reduction",4392,"0",0.32,86930,null,61.852515938069217]
["Alston","W26/27","Variable Availability + Operational Utilisation",48,"647",0.47,233624,null,"N/A"]
["Alston","W26/27","Peak Reduction",3624,"0",0.47,233624,null,137.16124183927482]
["Alston","W27/28","Variable Availability + Operational Utilisation",48,"953",0.54,146694,null,"N/A"]
["Alston","W27/28","Peak Reduction",4392,"0",0.54,146694,null,61.852357822303176]
["AMBLESIDE-CALGARTH-MINTSFEET-WINDERMERE Group","W26/27","Variable Availability + Operational Utilisation",48,"108",4.8899999999999997,60831,null,"N/A"]
["AMBLESIDE-CALGARTH-MINTSFEET-WINDERMERE Group","W26/27","Peak Reduction",3624,"0",4.8899999999999997,60831,null,3.4326372242310974]
["AMBLESIDE-CALGARTH-MINTSFEET-WINDERMERE Group","W27/28","Variable Availability + Operational Utilisation",48,"155",5.74,60831,null,"N/A"]
["AMBLESIDE-CALGARTH-MINTSFEET-WINDERMERE Group","W27/28","Peak Reduction",4392,"0",5.74,60831,null,2.4129633860741415]
["Ancoats North T11 & T12","W26/27","Variable Availability + Operational Utilisation",15,"15",1.78,68008,null,"N/A"]
["Ancoats North T11 & T12","W26/27","Peak Reduction",3624,"0",1.78,68008,null,10.542699109556761]
["Ancoats North T11 & T12","W27/28","Variable Availability + Operational Utilisation",29,"29",2.2999999999999998,68008,null,"N/A"]
["Ancoats North T11 & T12","W27/28","Peak Reduction",4392,"0",2.2999999999999998,68008,null,6.7323988279084501]
["Ancoats North T11 & T12-CANNON ST-STRANGEWAYS-Ancoats North T14 Group","W26/27","Variable Availability + Operational Utilisation",48,"260",7.97,13554,null,"N/A"]
["Ancoats North T11 & T12-CANNON ST-STRANGEWAYS-Ancoats North T14 Group","W26/27","Peak Reduction",3624,"0",7.97,13554,null,0.46926803327045957]
["Ancoats North T11 & T12-CANNON ST-STRANGEWAYS-Ancoats North T14 Group","W27/28","Variable Availability + Operational Utilisation",48,"348",9.1199999999999992,13554,null,"N/A"]
["Ancoats North T11 & T12-CANNON ST-STRANGEWAYS-Ancoats North T14 Group","W27/28","Peak Reduction",4392,"0",9.1199999999999992,13554,null,0.3383843830888697]
["ANCOATS NORTH T14","W27/28","Peak Reduction",1216,"0",1,64727.519999999997,null,53.229868421052629]
["ANCOATS NORTH T14","W27/28","Scheduled Utilisation",1216,"0",1,64727.519999999997,null,53.229868421052629]
["ANDREW ST","W26/27","Peak Reduction",604,"0",0.03,892.77,null,49.269867549668874]
["ANDREW ST","W26/27","Scheduled Utilisation",604,"0",0.03,892.77,null,49.269867549668874]
["Ardwick","W26/27","Variable Availability + Operational Utilisation",48,"451",3.33,56615,null,"N/A"]
["Ardwick","W26/27","Peak Reduction",3624,"0",3.33,56615,null,4.6913635489794432]
["Ardwick","W27/28","Variable Availability + Operational Utilisation",48,"938",4.2,56615,null,"N/A"]
["Ardwick","W27/28","Peak Reduction",4392,"0",4.2,56615,null,3.0691625466215631]
["ARMISTEAD ST","W26/27","Peak Reduction",604,"0",0.05,892.77,null,29.561920529801323]
["ARMISTEAD ST","W26/27","Scheduled Utilisation",604,"0",0.05,892.77,null,29.561920529801323]
["ASH GR","W26/27","Peak Reduction",604,"0",0.04,892.77,null,36.952400662251655]
["ASH GR","W26/27","Scheduled Utilisation",604,"0",0.04,892.77,null,36.952400662251655]
["ASHLEY RD (NO 125)","W26/27","Peak Reduction",604,"0",0.04,892.77,null,36.952400662251655]
["ASHLEY RD (NO 125)","W26/27","Scheduled Utilisation",604,"0",0.04,892.77,null,36.952400662251655]
["Ashton (Golborne)","W26/27","Variable Availability + Operational Utilisation",13,"13",1.53,90361,null,"N/A"]
["Ashton (Golborne)","W26/27","Peak Reduction",3624,"0",1.53,90361,null,16.296765210867274]
["Ashton (Golborne)","W27/28","Variable Availability + Operational Utilisation",22,"22",1.89,90361,null,"N/A"]
["Ashton (Golborne)","W27/28","Peak Reduction",4392,"0",1.89,90361,null,10.885713321961045]
["Ashton (Ribble)-MOORSIDE-CATTERALL WATERWORKS Group","S27","Variable Availability + Operational Utilisation",36,"36",1.81,11602,null,"N/A"]
["Ashton (Ribble)-MOORSIDE-CATTERALL WATERWORKS Group","S27","Peak Reduction",4392,"0",1.81,11602,null,1.4594591874729543]
["Ashton (Ribble)-MOORSIDE-CATTERALL WATERWORKS Group","W26/27","Variable Availability + Operational Utilisation",48,"596",5.14,48330,null,"N/A"]
["Ashton (Ribble)-MOORSIDE-CATTERALL WATERWORKS Group","W26/27","Peak Reduction",3624,"0",5.14,48330,null,2.5945705671657175]
["Ashton (Ribble)-MOORSIDE-CATTERALL WATERWORKS Group","W27/28","Variable Availability + Operational Utilisation",48,"784",5.73,36728,null,"N/A"]
["Ashton (Ribble)-MOORSIDE-CATTERALL WATERWORKS Group","W27/28","Peak Reduction",4392,"0",5.73,36728,null,1.4594201101797015]
["Ashton On Mersey","W26/27","Variable Availability + Operational Utilisation",48,"248",5.14,128043,null,"N/A"]
["Ashton On Mersey","W26/27","Peak Reduction",3624,"0",5.14,128043,null,6.873920942098076]
["Ashton On Mersey","W27/28","Variable Availability + Operational Utilisation",48,"319",5.74,128043,null,"N/A"]
["Ashton On Mersey","W27/28","Peak Reduction",4392,"0",5.74,128043,null,5.0790398126463696]
["Askerton Castle","FY27","Operational Utilisation",100,"0",1.4,20145,null,143.89285714285714]
["Askerton Castle","FY28","Operational Utilisation",100,"0",1.4,20145,null,143.89285714285714]
["ATE GRIMSARGH","W26/27","Peak Reduction",604,"0",0.01,892.77,null,147.80960264900662]
["ATE GRIMSARGH","W26/27","Scheduled Utilisation",604,"0",0.01,892.77,null,147.80960264900662]
["BACK BOWNESS RD","W26/27","Peak Reduction",604,"0",0.03,892.77,null,49.269867549668874]
["BACK BOWNESS RD","W26/27","Scheduled Utilisation",604,"0",0.03,892.77,null,49.269867549668874]
["BACK HULTON LN S","W26/27","Peak Reduction",604,"0",0.02,892.77,null,73.90480132450331]
["BACK HULTON LN S","W26/27","Scheduled Utilisation",604,"0",0.02,892.77,null,73.90480132450331]
["BACK TOTTINGTON RD","W26/27","Peak Reduction",604,"0",0.01,892.77,null,147.80960264900662]
["BACK TOTTINGTON RD","W26/27","Scheduled Utilisation",604,"0",0.01,892.77,null,147.80960264900662]
["BARBARA ST","W27/28","Peak Reduction",1216,"0",1,64727.519999999997,null,53.229868421052629]
["BARBARA ST","W27/28","Scheduled Utilisation",1216,"0",1,64727.519999999997,null,53.229868421052629]
["BARLEY HALL","W26/27","Peak Reduction",604,"0",0.06,892.77,null,{"$f":"IF(OR(C66 = \"Operational Utilisation\", C66 = \"Scheduled Utilisation\", C66= \"Peak Reduction\"),G66/D66/(F66), \"N/A\")","v":24.634933774834437}]
["BARLEY HALL","W26/27","Scheduled Utilisation",604,"0",0.06,892.77,null,24.634933774834437]
["BARNFIELD RD","W26/27","Peak Reduction",604,"0",0.03,892.77,null,49.269867549668874]
["BARNFIELD RD","W26/27","Scheduled Utilisation",604,"0",0.03,892.77,null,49.269867549668874]
["BARTON GRANGE","W26/27","Peak Reduction",604,"0",0.01,892.77,null,147.80960264900662]
["BARTON GRANGE","W26/27","Scheduled Utilisation",604,"0",0.01,892.77,null,147.80960264900662]
["BCWW DUNCOMBE RD","W26/27","Peak Reduction",604,"0",0.02,892.77,null,73.90480132450331]
["BCWW DUNCOMBE RD","W26/27","Scheduled Utilisation",604,"0",0.02,892.77,null,73.90480132450331]
["BELL CL","W26/27","Peak Reduction",604,"0",0.03,892.77,null,49.269867549668874]
["BELL CL","W26/27","Scheduled Utilisation",604,"0",0.03,892.77,null,49.269867549668874]
["Bentham","FY27","Operational Utilisation",100,"0",3.5,148337,null,423.82]
["Bentham","FY28","Operational Utilisation",100,"0",3.5,148337,null,423.82]
["BERWICK AVE","W26/27","Peak Reduction",604,"0",0.02,892.77,null,73.90480132450331]
["BERWICK AVE","W26/27","Scheduled Utilisation",604,"0",0.02,892.77,null,73.90480132450331]
["BIRTWISTLE ST","W26/27","Peak Reduction",604,"0",0.03,892.77,null,49.269867549668874]
["BIRTWISTLE ST","W26/27","Scheduled Utilisation",604,"0",0.03,892.77,null,49.269867549668874]
["BK HAROLD ST","W26/27","Peak Reduction",604,"0",0.03,892.77,null,49.269867549668874]
["BK HAROLD ST","W26/27","Scheduled Utilisation",604,"0",0.03,892.77,null,49.269867549668874]
["BK MANCHESTER RD","W26/27","Peak Reduction",604,"0",0.04,892.77,null,36.952400662251655]
["BK MANCHESTER RD","W26/27","Scheduled Utilisation",604,"0",0.04,892.77,null,36.952400662251655]
["Blackfriars","W27/28","Variable Availability + Operational Utilisation",35,"35",1.7,118271,null,"N/A"]
["Blackfriars","W27/28","Peak Reduction",4392,"0",1.7,118271,null,15.840431801135756]
["BLACKLEY-HARPURHEY Group","W27/28","Variable Availability + Operational Utilisation",48,"239",4.62,173989,null,"N/A"]
["BLACKLEY-HARPURHEY Group","W27/28","Peak Reduction",4392,"0",4.62,173989,null,8.5746713820484324]
["BOARS HEAD","W26/27","Peak Reduction",604,"0",0.02,892.77,null,73.90480132450331]
["BOARS HEAD","W26/27","Scheduled Utilisation",604,"0",0.02,892.77,null,73.90480132450331]
["BOLEFOOT","W26/27","Peak Reduction",604,"0",0.01,892.77,null,147.80960264900662]
["BOLEFOOT","W26/27","Scheduled Utilisation",604,"0",0.01,892.77,null,147.80960264900662]
["Bolton By Bowland","FY27","Operational Utilisation",100,"0",2.2999999999999998,58014,null,252.23478260869567]
["Bolton By Bowland","FY28","Operational Utilisation",100,"0",2.2999999999999998,58014,null,252.23478260869567]
["Bolton By Bowland","W26/27","Variable Availability + Operational Utilisation",48,"117",0.35,49670,null,"N/A"]
["Bolton By Bowland","W26/27","Peak Reduction",3624,"0",0.35,49670,null,39.159571113213502]
["Bolton By Bowland","W27/28","Variable Availability + Operational Utilisation",48,"176",0.42,49670,null,"N/A"]
["Bolton By Bowland","W27/28","Peak Reduction",4392,"0",0.42,49670,null,26.926663197155001]
["BRADFORD ST","W26/27","Peak Reduction",604,"0",0.02,892.77,null,73.90480132450331]
["BRADFORD ST","W26/27","Scheduled Utilisation",604,"0",0.02,892.77,null,73.90480132450331]
["BRANDLESHOLME RD N","W26/27","Peak Reduction",604,"0",0.02,892.77,null,73.90480132450331]
["BRANDLESHOLME RD N","W26/27","Scheduled Utilisation",604,"0",0.02,892.77,null,73.90480132450331]
["BRIDGEWATER ST","W26/27","Peak Reduction",604,"0",0.01,892.77,null,147.80960264900662]
["BRIDGEWATER ST","W26/27","Scheduled Utilisation",604,"0",0.01,892.77,null,147.80960264900662]
["BROADFIELD ST","W26/27","Peak Reduction",604,"0",0.03,892.77,null,49.269867549668874]
["BROADFIELD ST","W26/27","Scheduled Utilisation",604,"0",0.03,892.77,null,49.269867549668874]
["BROOK TERR","W26/27","Peak Reduction",604,"0",0.05,892.77,null,29.561920529801323]
["BROOK TERR","W26/27","Scheduled Utilisation",604,"0",0.05,892.77,null,29.561920529801323]
["BROOKES LN","W26/27","Peak Reduction",604,"0",0.03,892.77,null,49.269867549668874]
["BROOKES LN","W26/27","Scheduled Utilisation",604,"0",0.03,892.77,null,49.269867549668874]
["BROOKFIELD ST","W26/27","Peak Reduction",604,"0",0.01,892.77,null,147.80960264900662]
["BROOKFIELD ST","W26/27","Scheduled Utilisation",604,"0",0.01,892.77,null,147.80960264900662]
["BROOMFIELD RD","W26/27","Peak Reduction",604,"0",0.03,892.77,null,49.269867549668874]
["BROOMFIELD RD","W26/27","Scheduled Utilisation",604,"0",0.03,892.77,null,49.269867549668874]
["BROWNLEY RD","W26/27","Peak Reduction",604,"0",0.1,892.77,null,14.780960264900662]
["BROWNLEY RD","W26/27","Scheduled Utilisation",604,"0",0.1,892.77,null,14.780960264900662]
["BUCK ST","W26/27","Peak Reduction",604,"0",0.01,892.77,null,147.80960264900662]
["BUCK ST","W26/27","Scheduled Utilisation",604,"0",0.01,892.77,null,147.80960264900662]
["BULLS HEAD (WILPSHIRE)","W26/27","Peak Reduction",604,"0",0.04,892.77,null,36.952400662251655]
["BULLS HEAD (WILPSHIRE)","W26/27","Scheduled Utilisation",604,"0",0.04,892.77,null,36.952400662251655]
["Burrow Beck","S27","Variable Availability + Operational Utilisation",48,"484",4.87,101470,null,"N/A"]
["Burrow Beck","S27","Peak Reduction",4392,"0",4.87,101470,null,4.7440184318697804]
["Burrow Beck","W26/27","Variable Availability + Operational Utilisation",100,"1851",11.87,368793,null,"N/A"]
["Burrow Beck","W26/27","Peak Reduction",3624,"0",11.87,368793,null,8.5732159096615099]
["Burrow Beck","W27/28","Variable Availability + Operational Utilisation",200,"2312",12.83,267323,null,"N/A"]
["Burrow Beck","W27/28","Peak Reduction",4392,"0",12.83,267323,null,4.7440290359996995]
["CAPONTREE-WESTLINTON-Morton Park & Pirelli Group","S27","Variable Availability + Operational Utilisation",400,"4392",23.05,70285,null,"N/A"]
["CAPONTREE-WESTLINTON-Morton Park & Pirelli Group","S27","Peak Reduction",4392,"0",23.05,70285,null,0.6942715803531565]
["CAPONTREE-WESTLINTON-Morton Park & Pirelli Group","W26/27","Variable Availability + Operational Utilisation",300,"3624",32.31,177436,null,{"$f":"IF(OR(C130 = \"Operational Utilisation\", C130 = \"Scheduled Utilisation\", C130= \"Peak Reduction\"),G130/D130/(F130), \"N/A\")","v":"N/A"}]
["CAPONTREE-WESTLINTON-Morton Park & Pirelli Group","W26/27","Peak Reduction",3624,"0",32.31,177436,null,1.5153626943182184]
["CAPONTREE-WESTLINTON-Morton Park & Pirelli Group","W27/28","Variable Availability + Operational Utilisation",400,"4392",35.14,107151,null,"N/A"]
["CAPONTREE-WESTLINTON-Morton Park & Pirelli Group","W27/28","Peak Reduction",4392,"0",35.14,107151,null,0.69427597961005316]
["Carlisle North BSP","S27","Variable Availability + Operational Utilisation",14,"14",2.2999999999999998,96760,null,"N/A"]
["Carlisle North BSP","S27","Peak Reduction",4392,"0",2.2999999999999998,96760,null,9.5786806050526661]
["CARLTON AVE","W26/27","Peak Reduction",604,"0",0.04,892.77,null,36.952400662251655]
["CARLTON AVE","W26/27","Scheduled Utilisation",604,"0",0.04,892.77,null,36.952400662251655]
["Catterall Waterworks","FY27","Operational Utilisation",100,"0",7.5,121587,null,162.11599999999999]
["Catterall Waterworks","FY28","Operational Utilisation",100,"0",7.5,121587,null,162.11599999999999]
["Catterall Waterworks","S27","Variable Availability + Operational Utilisation",400,"4392",5.09,11806,null,"N/A"]
["Catterall Waterworks","S27","Peak Reduction",4392,"0",5.09,11806,null,0.52810790113118689]
["Catterall Waterworks","W26/27","Variable Availability + Operational Utilisation",300,"3624",6.3,26511,null,"N/A"]
["Catterall Waterworks","W26/27","Peak Reduction",3624,"0",6.3,26511,null,1.1611741826973616]
["Catterall Waterworks","W27/28","Variable Availability + Operational Utilisation",400,"4392",6.34,14705,null,"N/A"]
["Catterall Waterworks","W27/28","Peak Reduction",4392,"0",6.34,14705,null,0.52809668281302968]
["CEDAR ST","W26/27","Peak Reduction",604,"0",0.02,892.77,null,73.90480132450331]
["CEDAR ST","W26/27","Scheduled Utilisation",604,"0",0.02,892.77,null,73.90480132450331]
["Cheetham Hill","W26/27","Variable Availability + Operational Utilisation",25,"25",1.57,113287,null,"N/A"]
["Cheetham Hill","W26/27","Peak Reduction",3624,"0",1.57,113287,null,19.910961600652406]
["Cheetham Hill","W27/28","Variable Availability + Operational Utilisation",48,"207",3.47,113287,null,"N/A"]
["Cheetham Hill","W27/28","Peak Reduction",4392,"0",3.47,113287,null,7.4334131221030635]
["CHELSEA RD","W26/27","Peak Reduction",604,"0",0.09,892.77,null,16.423289183222959]
["CHELSEA RD","W26/27","Scheduled Utilisation",604,"0",0.09,892.77,null,16.423289183222959]
["CHORLEY SOUTH","W27/28","Peak Reduction",1216,"0",1,64727.519999999997,null,53.229868421052629]
["CHORLEY SOUTH","W27/28","Scheduled Utilisation",1216,"0",1,64727.519999999997,null,53.229868421052629]
["CHORLEY ST","W26/27","Peak Reduction",604,"0",0.03,892.77,null,49.269867549668874]
["CHORLEY ST","W26/27","Scheduled Utilisation",604,"0",0.03,892.77,null,49.269867549668874]
["Church","FY27","Operational Utilisation",100,"0",5.7,246861,null,433.08947368421053]
["Church","FY28","Operational Utilisation",100,"0",5.7,246861,null,433.08947368421053]
["CHURCH HILL","W26/27","Peak Reduction",604,"0",0.02,892.77,null,73.90480132450331]
["CHURCH HILL","W26/27","Scheduled Utilisation",604,"0",0.02,892.77,null,73.90480132450331]
["Claughton","FY27","Operational Utilisation",100,"0",2.9,107661,null,371.2448275862069]
["Claughton","FY28","Operational Utilisation",100,"0",2.9,107661,null,371.2448275862069]
["CLEVELAND DR","W26/27","Peak Reduction",604,"0",0.02,892.77,null,73.90480132450331]
["CLEVELAND DR","W26/27","Scheduled Utilisation",604,"0",0.02,892.77,null,73.90480132450331]
["CLIFFORD ST","W26/27","Peak Reduction",604,"0",0.05,892.77,null,29.561920529801323]
["CLIFFORD ST","W26/27","Scheduled Utilisation",604,"0",0.05,892.77,null,29.561920529801323]
["CLIFTON ARMS (BLACKPOOL)","W26/27","Peak Reduction",604,"0",0.04,892.77,null,36.952400662251655]
["CLIFTON ARMS (BLACKPOOL)","W26/27","Scheduled Utilisation",604,"0",0.04,892.77,null,36.952400662251655]
["Coniston","FY27","Operational Utilisation",100,"0",2.1,86580,null,412.28571428571422]
["Coniston","FY28","Operational Utilisation",100,"0",2.1,86580,null,412.28571428571422]
["Coniston","S27","Variable Availability + Operational Utilisation",100,"1222",0.78,49351,null,"N/A"]
["Coniston","S27","Peak Reduction",4392,"0",0.78,49351,null,14.405854467329878]
["Coniston","W26/27","Variable Availability + Operational Utilisation",300,"3021",1.25,133500,null,"N/A"]
["Coniston","W26/27","Peak Reduction",3624,"0",1.25,133500,null,29.470198675496686]
["Coniston","W27/28","Variable Availability + Operational Utilisation",300,"3542",1.33,84149,null,"N/A"]
["Coniston","W27/28","Peak Reduction",4392,"0",1.33,84149,null,14.405720585617049]
["COPLEY NO 1","W26/27","Peak Reduction",604,"0",0.01,892.77,null,147.80960264900662]
["COPLEY NO 1","W26/27","Scheduled Utilisation",604,"0",0.01,892.77,null,147.80960264900662]
["CROMWELL ST","W26/27","Peak Reduction",604,"0",0.06,892.77,null,24.634933774834437]
["CROMWELL ST","W26/27","Scheduled Utilisation",604,"0",0.06,892.77,null,24.634933774834437]
["DIALSTONE LN","W26/27","Peak Reduction",604,"0",7.0000000000000007E-2,892.77,null,21.115657521286657]
["DIALSTONE LN","W26/27","Scheduled Utilisation",604,"0",7.0000000000000007E-2,892.77,null,21.115657521286657]
["DIDSBURY-WITHINGTON-FALLOWFIELD Group","W26/27","Variable Availability + Operational Utilisation",40,"40",3.66,49698,null,"N/A"]
["DIDSBURY-WITHINGTON-FALLOWFIELD Group","W26/27","Peak Reduction",3624,"0",3.66,49698,null,3.746878731950928]
["DIDSBURY-WITHINGTON-FALLOWFIELD Group","W27/28","Variable Availability + Operational Utilisation",48,"129",5.69,49698,null,"N/A"]
["DIDSBURY-WITHINGTON-FALLOWFIELD Group","W27/28","Peak Reduction",4392,"0",5.69,49698,null,1.9886772883113888]
["DORSET ST","W26/27","Peak Reduction",604,"0",0.02,892.77,null,73.90480132450331]
["DORSET ST","W26/27","Scheduled Utilisation",604,"0",0.02,892.77,null,73.90480132450331]
["Dumplington","S27","Variable Availability + Operational Utilisation",48,"168",2.31,28227,null,"N/A"]
["Dumplington","S27","Peak Reduction",4392,"0",2.31,28227,null,2.782213233032905]
["Dumplington","W27/28","Variable Availability + Operational Utilisation",23,"23",1.44,17596,null,"N/A"]
["Dumplington","W27/28","Peak Reduction",4392,"0",1.44,17596,null,2.7822050192268777]
["DUNKIRK AVE","W26/27","Peak Reduction",604,"0",0.01,892.77,null,{"$f":"IF(OR(C194 = \"Operational Utilisation\", C194 = \"Scheduled Utilisation\", C194= \"Peak Reduction\"),G194/D194/(F194), \"N/A\")","v":147.80960264900662}]
["DUNKIRK AVE","W26/27","Scheduled Utilisation",604,"0",0.01,892.77,null,147.80960264900662]
["Easton","S27","Variable Availability + Operational Utilisation",14,"14",0.11,7266,null,"N/A"]
["Easton","S27","Peak Reduction",4392,"0",0.11,7266,null,15.039741679085941]
["Easton","W26/27","Variable Availability + Operational Utilisation",48,"270",0.31,31044,null,"N/A"]
["Easton","W26/27","Peak Reduction",3624,"0",0.31,31044,null,27.632984405041658]
["Easton","W27/28","Variable Availability + Operational Utilisation",48,"358",0.36,23778,null,"N/A"]
["Easton","W27/28","Peak Reduction",4392,"0",0.36,23778,null,15.038706739526411]
["Egremont","W26/27","Variable Availability + Operational Utilisation",47,"47",1.96,47303,null,"N/A"]
["Egremont","W26/27","Peak Reduction",3624,"0",1.96,47303,null,6.6595429562553496]
["Egremont","W27/28","Variable Availability + Operational Utilisation",48,"59",2.21,47303,null,"N/A"]
["Egremont","W27/28","Peak Reduction",4392,"0",2.21,47303,null,4.8734226771835258]
["EMPIRE MILL","W26/27","Peak Reduction",604,"0",0.04,892.77,null,36.952400662251655]
["EMPIRE MILL","W26/27","Scheduled Utilisation",604,"0",0.04,892.77,null,36.952400662251655]
["ESKRICK ST","W26/27","Peak Reduction",604,"0",0.01,892.77,null,147.80960264900662]
["ESKRICK ST","W26/27","Scheduled Utilisation",604,"0",0.01,892.77,null,147.80960264900662]
["FAIRSNAPE DR","W26/27","Peak Reduction",604,"0",0.01,892.77,null,147.80960264900662]
["FAIRSNAPE DR","W26/27","Scheduled Utilisation",604,"0",0.01,892.77,null,147.80960264900662]
["Fallowfield","W27/28","Variable Availability + Operational Utilisation",48,"78",1.97,110850,null,"N/A"]
["Fallowfield","W27/28","Peak Reduction",4392,"0",1.97,110850,null,12.811711186929628]
["FAR MOOR","W26/27","Peak Reduction",604,"0",0.02,892.77,null,73.90480132450331]
["FAR MOOR","W26/27","Scheduled Utilisation",604,"0",0.02,892.77,null,73.90480132450331]
["Flat Lane","FY27","Operational Utilisation",100,"0",4.0999999999999996,122798,null,299.50731707317078]
["Flat Lane","FY28","Operational Utilisation",100,"0",4.0999999999999996,122798,null,299.50731707317078]
["FLEET ST","W26/27","Peak Reduction",604,"0",0.01,892.77,null,147.80960264900662]
["FLEET ST","W26/27","Scheduled Utilisation",604,"0",0.01,892.77,null,147.80960264900662]
["Frederick Rd","W27/28","Variable Availability + Operational Utilisation",48,"239",2.3199999999999998,100119,null,"N/A"]
["Frederick Rd","W27/28","Peak Reduction",4392,"0",2.3199999999999998,100119,null,9.8257607876389681]
["Frederick Rd BSP","S27","Variable Availability + Operational Utilisation",45,"45",7.23,48699,null,"N/A"]
["Frederick Rd BSP","S27","Peak Reduction",4392,"0",7.23,48699,null,1.5336258304423733]
["Frederick Rd BSP","W26/27","Variable Availability + Operational Utilisation",48,"944",32.61,386765,null,"N/A"]
["Frederick Rd BSP","W26/27","Peak Reduction",3624,"0",32.61,386765,null,3.2727149339339157]
["Frederick Rd BSP","W27/28","Variable Availability + Operational Utilisation",100,"1796",50.19,338066,null,"N/A"]
["Frederick Rd BSP","W27/28","Peak Reduction",4392,"0",50.19,338066,null,1.5336348469622358]
["FULSTONE MEWS","W26/27","Peak Reduction",604,"0",0.04,892.77,null,36.952400662251655]
["FULSTONE MEWS","W26/27","Scheduled Utilisation",604,"0",0.04,892.77,null,36.952400662251655]
["Gillsrow","FY27","Operational Utilisation",100,"0",3.4,98910,null,290.91176470588238]
["Gillsrow","FY28","Operational Utilisation",100,"0",3.4,98910,null,290.91176470588238]
["GIRLS GRAMMAR SCHOOL","W26/27","Peak Reduction",604,"0",0.01,892.77,null,147.80960264900662]
["GIRLS GRAMMAR SCHOOL","W26/27","Scheduled Utilisation",604,"0",0.01,892.77,null,147.80960264900662]
["GLENMOOR RD","W26/27","Peak Reduction",604,"0",0.02,892.77,null,73.90480132450331]
["GLENMOOR RD","W26/27","Scheduled Utilisation",604,"0",0.02,892.77,null,73.90480132450331]
["GOLDSMITH RD","W26/27","Peak Reduction",604,"0",0.02,892.77,null,73.90480132450331]
["GOLDSMITH RD","W26/27","Scheduled Utilisation",604,"0",0.02,892.77,null,73.90480132450331]
["GOODSHAW AVE","W26/27","Peak Reduction",604,"0",0.02,892.77,null,73.90480132450331]
["GOODSHAW AVE","W26/27","Scheduled Utilisation",604,"0",0.02,892.77,null,73.90480132450331]
["GRANGE PARK RD","W26/27","Peak Reduction",604,"0",0.01,892.77,null,147.80960264900662]
["GRANGE PARK RD","W26/27","Scheduled Utilisation",604,"0",0.01,892.77,null,147.80960264900662]
["GRASSCROFT CLOUGH","W26/27","Peak Reduction",604,"0",7.0000000000000007E-2,892.77,null,21.115657521286657]
["GRASSCROFT CLOUGH","W26/27","Scheduled Utilisation",604,"0",7.0000000000000007E-2,892.77,null,21.115657521286657]
["GRAYMARSH DR","W26/27","Peak Reduction",604,"0",0.04,892.77,null,36.952400662251655]
["GRAYMARSH DR","W26/27","Scheduled Utilisation",604,"0",0.04,892.77,null,36.952400662251655]
["Green St T12 & T13","W27/28","Variable Availability + Operational Utilisation",18,"18",1.1200000000000001,62915,null,"N/A"]
["Green St T12 & T13","W27/28","Peak Reduction",4392,"0",1.1200000000000001,62915,null,12.790097254748892]
["GREENACRES RD","W26/27","Peak Reduction",604,"0",0.01,892.77,null,147.80960264900662]
["GREENACRES RD","W26/27","Scheduled Utilisation",604,"0",0.01,892.77,null,147.80960264900662]
["GREENBROOK ST BURY","W26/27","Peak Reduction",604,"0",0.05,892.77,null,29.561920529801323]
["GREENBROOK ST BURY","W26/27","Scheduled Utilisation",604,"0",0.05,892.77,null,29.561920529801323]
["GREENWOOD HS","W26/27","Peak Reduction",604,"0",0.01,892.77,null,147.80960264900662]
["GREENWOOD HS","W26/27","Scheduled Utilisation",604,"0",0.01,892.77,null,147.80960264900662]
["HALL CROSS","W27/28","Peak Reduction",1216,"0",1,64727.519999999997,null,53.229868421052629]
["HALL CROSS","W27/28","Scheduled Utilisation",1216,"0",1,64727.519999999997,null,53.229868421052629]
["Hattersley","W26/27","Variable Availability + Operational Utilisation",48,"100",2.2599999999999998,45657,null,"N/A"]
["Hattersley","W26/27","Peak Reduction",3624,"0",2.2599999999999998,45657,null,5.5745619175994854]
["Hattersley","W27/28","Variable Availability + Operational Utilisation",48,"238",3.35,45657,null,{"$f":"IF(OR(C258 = \"Operational Utilisation\", C258 = \"Scheduled Utilisation\", C258= \"Peak Reduction\"),G258/D258/(F258), \"N/A\")","v":"N/A"}]
["Hattersley","W27/28","Peak Reduction",4392,"0",3.35,45657,null,3.1031318815757278]
["HAWKSLEY TERR","W26/27","Peak Reduction",604,"0",0.03,892.77,null,49.269867549668874]
["HAWKSLEY TERR","W26/27","Scheduled Utilisation",604,"0",0.03,892.77,null,49.269867549668874]
["HAWTHORNE AVE","W26/27","Peak Reduction",604,"0",0.02,892.77,null,73.90480132450331]
["HAWTHORNE AVE","W26/27","Scheduled Utilisation",604,"0",0.02,892.77,null,73.90480132450331]
["HAYNES ST","W26/27","Peak Reduction",604,"0",0.02,892.77,null,73.90480132450331]
["HAYNES ST","W26/27","Scheduled Utilisation",604,"0",0.02,892.77,null,73.90480132450331]
["HEALEYS CORNER","W26/27","Peak Reduction",604,"0",0.02,892.77,null,73.90480132450331]
["HEALEYS CORNER","W26/27","Scheduled Utilisation",604,"0",0.02,892.77,null,73.90480132450331]
["Helwith Bridge","FY27","Operational Utilisation",100,"0",3.6,46180,null,128.27777777777777]
["Helwith Bridge","FY28","Operational Utilisation",100,"0",3.6,46180,null,128.27777777777777]
["HEMSWORTH RD","W26/27","Peak Reduction",604,"0",0.02,892.77,null,73.90480132450331]
["HEMSWORTH RD","W26/27","Scheduled Utilisation",604,"0",0.02,892.77,null,73.90480132450331]
["HIGHER WALTON","W27/28","Peak Reduction",1216,"0",1,64727.519999999997,null,53.229868421052629]
["HIGHER WALTON","W27/28","Scheduled Utilisation",1216,"0",1,64727.519999999997,null,53.229868421052629]
["HIGHFIELD AVE (RR 28)","W26/27","Peak Reduction",604,"0",0.03,892.77,null,49.269867549668874]
["HIGHFIELD AVE (RR 28)","W26/27","Scheduled Utilisation",604,"0",0.03,892.77,null,49.269867549668874]
["HUNT RD","W26/27","Peak Reduction",604,"0",0.03,892.77,null,49.269867549668874]
["HUNT RD","W26/27","Scheduled Utilisation",604,"0",0.03,892.77,null,49.269867549668874]
["HUNTERS RD","W26/27","Peak Reduction",604,"0",0.02,892.77,null,73.90480132450331]
["HUNTERS RD","W26/27","Scheduled Utilisation",604,"0",0.02,892.77,null,73.90480132450331]
["ILFORD ST","W26/27","Peak Reduction",604,"0",0.06,892.77,null,24.634933774834437]
["ILFORD ST","W26/27","Scheduled Utilisation",604,"0",0.06,892.77,null,24.634933774834437]
["INCLINE RD","W26/27","Peak Reduction",604,"0",0.01,892.77,null,147.80960264900662]
["INCLINE RD","W26/27","Scheduled Utilisation",604,"0",0.01,892.77,null,147.80960264900662]
["Ingleton","FY27","Operational Utilisation",100,"0",2.2000000000000002,76838,null,349.26363636363635]
["Ingleton","FY28","Operational Utilisation",100,"0",2.2000000000000002,76838,null,349.26363636363635]
["JOHNS AVE","W26/27","Peak Reduction",604,"0",0.06,892.77,null,24.634933774834437]
["JOHNS AVE","W26/27","Scheduled Utilisation",604,"0",0.06,892.77,null,24.634933774834437]
["Kendal","W26/27","Variable Availability + Operational Utilisation",13,"13",1.75,41493,null,"N/A"]
["Kendal","W26/27","Peak Reduction",3624,"0",1.75,41493,null,6.5425733207190158]
["Kendal","W27/28","Variable Availability + Operational Utilisation",23,"23",2.27,41493,null,"N/A"]
["Kendal","W27/28","Peak Reduction",4392,"0",2.27,41493,null,4.1618521460725546]
["KENDAL DR","W26/27","Peak Reduction",604,"0",0.02,892.77,null,73.90480132450331]
["KENDAL DR","W26/27","Scheduled Utilisation",604,"0",0.02,892.77,null,73.90480132450331]
["KINGSLEA RD","W26/27","Peak Reduction",604,"0",0.03,892.77,null,49.269867549668874]
["KINGSLEA RD","W26/27","Scheduled Utilisation",604,"0",0.03,892.77,null,49.269867549668874]
["KINGSTON AVE_LANCASHIRE","W26/27","Peak Reduction",604,"0",0.04,892.77,null,36.952400662251655]
["KINGSTON AVE_LANCASHIRE","W26/27","Scheduled Utilisation",604,"0",0.04,892.77,null,36.952400662251655]
["KINGSTON AVE_MANCHESTER","W26/27","Peak Reduction",604,"0",0.03,892.77,null,49.269867549668874]
["KINGSTON AVE_MANCHESTER","W26/27","Scheduled Utilisation",604,"0",0.03,892.77,null,49.269867549668874]
["KIRKMAN CL","W26/27","Peak Reduction",604,"0",0.03,892.77,null,49.269867549668874]
["KIRKMAN CL","W26/27","Scheduled Utilisation",604,"0",0.03,892.77,null,49.269867549668874]
["LANCASTER PRIMARY","W27/28","Peak Reduction",1216,"0",1,64727.519999999997,null,53.229868421052629]
["LANCASTER PRIMARY","W27/28","Scheduled Utilisation",1216,"0",1,64727.519999999997,null,53.229868421052629]
["LANGLEY","W26/27","Peak Reduction",604,"0",0.03,892.77,null,49.269867549668874]
["LANGLEY","W26/27","Scheduled Utilisation",604,"0",0.03,892.77,null,49.269867549668874]
["LEYLAND RD","W26/27","Peak Reduction",604,"0",0.01,892.77,null,147.80960264900662]
["LEYLAND RD","W26/27","Scheduled Utilisation",604,"0",0.01,892.77,null,147.80960264900662]
["LINCOLN CL","W26/27","Peak Reduction",604,"0",0.01,892.77,null,147.80960264900662]
["LINCOLN CL","W26/27","Scheduled Utilisation",604,"0",0.01,892.77,null,147.80960264900662]
["Longsight","W26/27","Variable Availability + Operational Utilisation",39,"39",1.63,97032,null,"N/A"]
["Longsight","W26/27","Peak Reduction",3624,"0",1.63,97032,null,16.426278795758339]
["Longsight","W27/28","Variable Availability + Operational Utilisation",48,"92",2.19,97032,null,"N/A"]
["Longsight","W27/28","Peak Reduction",4392,"0",2.19,97032,null,10.088080445143099]
["Longsight BSP","S27","Variable Availability + Operational Utilisation",48,"109",11.71,26112,null,"N/A"]
["Longsight BSP","S27","Peak Reduction",4392,"0",11.71,26112,null,0.50771607098691973]
["Longsight BSP","W26/27","Variable Availability + Operational Utilisation",48,"311",11.45,78313,null,"N/A"]
["Longsight BSP","W26/27","Peak Reduction",3624,"0",11.45,78313,null,1.887296721516913]
["Longsight BSP","W27/28","Variable Availability + Operational Utilisation",100,"1513",23.41,52201,null,"N/A"]
["Longsight BSP","W27/28","Peak Reduction",4392,"0",23.41,52201,null,0.50770925195824179]
["LYONS FOLD","W26/27","Peak Reduction",604,"0",0.02,892.77,null,73.90480132450331]
["LYONS FOLD","W26/27","Scheduled Utilisation",604,"0",0.02,892.77,null,73.90480132450331]
["MAFEKING ST","W26/27","Peak Reduction",604,"0",0.01,892.77,null,{"$f":"IF(OR(C322 = \"Operational Utilisation\", C322 = \"Scheduled Utilisation\", C322= \"Peak Reduction\"),G322/D322/(F322), \"N/A\")","v":147.80960264900662}]
["MAFEKING ST","W26/27","Scheduled Utilisation",604,"0",0.01,892.77,null,147.80960264900662]
["MAPLE RD","W26/27","Peak Reduction",604,"0",0.05,892.77,null,29.561920529801323]
["MAPLE RD","W26/27","Scheduled Utilisation",604,"0",0.05,892.77,null,29.561920529801323]
["MARLBOROUGH RD ENG WKS","W26/27","Peak Reduction",604,"0",0.01,892.77,null,147.80960264900662]
["MARLBOROUGH RD ENG WKS","W26/27","Scheduled Utilisation",604,"0",0.01,892.77,null,147.80960264900662]
["Marple","FY27","Operational Utilisation",100,"0",4.7,216368.01,null,460.35746808510635]
["Marple","FY28","Operational Utilisation",100,"0",4.7,216368.01,null,460.35746808510635]
["MAY ST","W26/27","Peak Reduction",604,"0",0.02,892.77,null,73.90480132450331]
["MAY ST","W26/27","Scheduled Utilisation",604,"0",0.02,892.77,null,73.90480132450331]
["MAYORLOWE AVE","W26/27","Peak Reduction",604,"0",0.04,892.77,null,36.952400662251655]
["MAYORLOWE AVE","W26/27","Scheduled Utilisation",604,"0",0.04,892.77,null,36.952400662251655]
["Melling","FY27","Operational Utilisation",100,"0",2.2999999999999998,66049.759999999995,null,287.17286956521735]
["Melling","FY28","Operational Utilisation",100,"0",2.2999999999999998,66049.759999999995,null,287.17286956521735]
["MIDDLETON OLD RD","W26/27","Peak Reduction",604,"0",0.06,892.77,null,24.634933774834437]
["MIDDLETON OLD RD","W26/27","Scheduled Utilisation",604,"0",0.06,892.77,null,24.634933774834437]
["MIDWAY HOTEL","W26/27","Peak Reduction",604,"0",0.05,892.77,null,29.561920529801323]
["MIDWAY HOTEL","W26/27","Scheduled Utilisation",604,"0",0.05,892.77,null,29.561920529801323]
["MILL ST","W26/27","Peak Reduction",604,"0",0.03,892.77,null,49.269867549668874]
["MILL ST","W26/27","Scheduled Utilisation",604,"0",0.03,892.77,null,49.269867549668874]
["MILTON GR","W26/27","Peak Reduction",604,"0",0.01,892.77,null,147.80960264900662]
["MILTON GR","W26/27","Scheduled Utilisation",604,"0",0.01,892.77,null,147.80960264900662]
["Mintsfeet","S27","Variable Availability + Operational Utilisation",48,"165",4.38,47646,null,"N/A"]
["Mintsfeet","S27","Peak Reduction",4392,"0",4.38,47646,null,2.4767946702597503]
["Mintsfeet","W26/27","Variable Availability + Operational Utilisation",48,"873",7.28,131517,null,"N/A"]
["Mintsfeet","W26/27","Peak Reduction",3624,"0",7.28,131517,null,4.9849674332290226]
["Mintsfeet","W27/28","Variable Availability + Operational Utilisation",100,"1047",7.71,83871,null,"N/A"]
["Mintsfeet","W27/28","Peak Reduction",4392,"0",7.71,83871,null,2.476823797070018]
["Moorside","W27/28","Variable Availability + Operational Utilisation",19,"19",1.2,47303,null,"N/A"]
["Moorside","W27/28","Peak Reduction",4392,"0",1.2,47303,null,8.9752200971463285]
["MOSS LN SWINTON","W26/27","Peak Reduction",604,"0",0.03,892.77,null,49.269867549668874]
["MOSS LN SWINTON","W26/27","Scheduled Utilisation",604,"0",0.03,892.77,null,49.269867549668874]
["Moss Side (Leyland) & Seven Stars","W26/27","Variable Availability + Operational Utilisation",48,"218",2.71,79598,null,"N/A"]
["Moss Side (Leyland) & Seven Stars","W26/27","Peak Reduction",3624,"0",2.71,79598,null,8.104844293476047]
["Moss Side (Leyland) & Seven Stars","W27/28","Variable Availability + Operational Utilisation",48,"417",2.0099999999999998,79598,null,"N/A"]
["Moss Side (Leyland) & Seven Stars","W27/28","Peak Reduction",4392,"0",2.0099999999999998,79598,null,9.0166199965563809]
["MOSS ST","W26/27","Peak Reduction",604,"0",0.06,892.77,null,24.634933774834437]
["MOSS ST","W26/27","Scheduled Utilisation",604,"0",0.06,892.77,null,24.634933774834437]
["Newbiggin on Lune","FY27","Operational Utilisation",100,"0",0.9,38363.9,null,426.26555555555558]
["Newbiggin on Lune","FY28","Operational Utilisation",100,"0",0.9,38363.9,null,426.26555555555558]
["Newby","FY27","Operational Utilisation",100,"0",5.3,136888.13,null,258.27949056603774]
["Newby","FY28","Operational Utilisation",100,"0",5.3,136888.13,null,258.27949056603774]
["Newton","S27","Variable Availability + Operational Utilisation",200,"2358",9.24,22694,null,"N/A"]
["Newton","S27","Peak Reduction",4392,"0",9.24,22694,null,0.5592123419992272]
["Newton","W26/27","Variable Availability + Operational Utilisation",200,"2104",9.85,47303,null,"N/A"]
["Newton","W26/27","Peak Reduction",3624,"0",9.85,47303,null,1.3251476339350747]
["Newton","W27/28","Variable Availability + Operational Utilisation",200,"2536",10.02,24609,null,"N/A"]
["Newton","W27/28","Peak Reduction",4392,"0",10.02,24609,null,0.55919581601823676]
["Newtongate T11 & T12","W26/27","Variable Availability + Operational Utilisation",48,"130",2.19,50315,null,"N/A"]
["Newtongate T11 & T12","W26/27","Peak Reduction",3624,"0",2.19,50315,null,6.3396484119064178]
["Newtongate T11 & T12","W27/28","Variable Availability + Operational Utilisation",48,"202",2.61,50315,null,"N/A"]
["Newtongate T11 & T12","W27/28","Peak Reduction",4392,"0",2.61,50315,null,4.3892936652499497]
["Newtongate T13","S27","Variable Availability + Operational Utilisation",48,"129",2.09,15091,null,"N/A"]
["Newtongate T13","S27","Peak Reduction",4392,"0",2.09,15091,null,1.6440287255645325]
["Newtongate T13","W26/27","Variable Availability + Operational Utilisation",100,"1409",3.81,44261,null,"N/A"]
["Newtongate T13","W26/27","Peak Reduction",3624,"0",3.81,44261,null,3.2055906091208799]
["Newtongate T13","W27/28","Variable Availability + Operational Utilisation",100,"1557",4.04,29170,null,"N/A"]
["Newtongate T13","W27/28","Peak Reduction",4392,"0",4.04,29170,null,1.6439656260708038]
["NORBURY ST","W26/27","Peak Reduction",604,"0",0.01,892.77,null,147.80960264900662]
["NORBURY ST","W26/27","Scheduled Utilisation",604,"0",0.01,892.77,null,147.80960264900662]
["NORTH SCALE","W26/27","Peak Reduction",604,"0",0.04,892.77,null,36.952400662251655]
["NORTH SCALE","W26/27","Scheduled Utilisation",604,"0",0.04,892.77,null,36.952400662251655]
["NUTHURST RD 193","W26/27","Peak Reduction",604,"0",0.06,892.77,null,24.634933774834437]
["NUTHURST RD 193","W26/27","Scheduled Utilisation",604,"0",0.06,892.77,null,24.634933774834437]
["OLD HALL LN WORSLEY","W26/27","Peak Reduction",604,"0",0.01,892.77,null,{"$f":"IF(OR(C386 = \"Operational Utilisation\", C386 = \"Scheduled Utilisation\", C386= \"Peak Reduction\"),G386/D386/(F386), \"N/A\")","v":147.80960264900662}]
["OLD HALL LN WORSLEY","W26/27","Scheduled Utilisation",604,"0",0.01,892.77,null,147.80960264900662]
["OPENSHAW","W27/28","Peak Reduction",1216,"0",1,64727.519999999997,null,53.229868421052629]
["OPENSHAW","W27/28","Scheduled Utilisation",1216,"0",1,64727.519999999997,null,53.229868421052629]
["PARKEND RD","W26/27","Peak Reduction",604,"0",0.01,892.77,null,147.80960264900662]
["PARKEND RD","W26/27","Scheduled Utilisation",604,"0",0.01,892.77,null,147.80960264900662]
["Peel BSP","W27/28","Variable Availability + Operational Utilisation",12,"12",1.96,221956,null,"N/A"]
["Peel BSP","W27/28","Peak Reduction",4392,"0",1.96,221956,null,25.783892792089514]
["Peel St","W27/28","Variable Availability + Operational Utilisation",15,"15",0.42,44020,null,"N/A"]
["Peel St","W27/28","Peak Reduction",4392,"0",0.42,44020,null,23.863734929308702]
["Phillips Lane","W26/27","Variable Availability + Operational Utilisation",34,"34",0.71,128396,null,"N/A"]
["Phillips Lane","W26/27","Peak Reduction",3624,"0",0.71,128396,null,49.900506793520506]
["Phillips Lane","W27/28","Variable Availability + Operational Utilisation",48,"52",0.83,128396,null,"N/A"]
["Phillips Lane","W27/28","Peak Reduction",4392,"0",0.83,128396,null,35.221761362389451]
["PICKMERE RD","W26/27","Peak Reduction",604,"0",0.01,892.77,null,147.80960264900662]
["PICKMERE RD","W26/27","Scheduled Utilisation",604,"0",0.01,892.77,null,147.80960264900662]
["PILLING LN","W26/27","Peak Reduction",604,"0",0.02,892.77,null,73.90480132450331]
["PILLING LN","W26/27","Scheduled Utilisation",604,"0",0.02,892.77,null,73.90480132450331]
["PIMHOLE RD","W26/27","Peak Reduction",604,"0",0.01,892.77,null,147.80960264900662]
["PIMHOLE RD","W26/27","Scheduled Utilisation",604,"0",0.01,892.77,null,147.80960264900662]
["PINEWOOD RD","W26/27","Peak Reduction",604,"0",0.05,892.77,null,29.561920529801323]
["PINEWOOD RD","W26/27","Scheduled Utilisation",604,"0",0.05,892.77,null,29.561920529801323]
["PIPPIT LN","W26/27","Peak Reduction",604,"0",0.04,892.77,null,36.952400662251655]
["PIPPIT LN","W26/27","Scheduled Utilisation",604,"0",0.04,892.77,null,36.952400662251655]
["PITT ST","W26/27","Peak Reduction",604,"0",0.03,892.77,null,49.269867549668874]
["PITT ST","W26/27","Scheduled Utilisation",604,"0",0.03,892.77,null,49.269867549668874]
["PLATT LN HOLY TRINITY","W26/27","Peak Reduction",604,"0",0.01,892.77,null,147.80960264900662]
["PLATT LN HOLY TRINITY","W26/27","Scheduled Utilisation",604,"0",0.01,892.77,null,147.80960264900662]
["POPE LN","W26/27","Peak Reduction",604,"0",0.09,892.77,null,16.423289183222959]
["POPE LN","W26/27","Scheduled Utilisation",604,"0",0.09,892.77,null,16.423289183222959]
["Queens Park","W26/27","Variable Availability + Operational Utilisation",48,"425",5.12,113624,null,"N/A"]
["Queens Park","W26/27","Peak Reduction",3624,"0",5.12,113624,null,6.1236720474613682]
["QUEENSWAY (WARTON)","W26/27","Peak Reduction",604,"0",0.02,892.77,null,73.90480132450331]
["QUEENSWAY (WARTON)","W26/27","Scheduled Utilisation",604,"0",0.02,892.77,null,73.90480132450331]
["REDESMERE DR","W26/27","Peak Reduction",604,"0",0.01,892.77,null,147.80960264900662]
["REDESMERE DR","W26/27","Scheduled Utilisation",604,"0",0.01,892.77,null,147.80960264900662]
["RIBBLESDALE","W27/28","Peak Reduction",1216,"0",1,64727.519999999997,null,53.229868421052629]
["RIBBLESDALE","W27/28","Scheduled Utilisation",1216,"0",1,64727.519999999997,null,53.229868421052629]
["Risley","W26/27","Variable Availability + Operational Utilisation",48,"316",4.3499999999999996,15060,null,"N/A"]
["Risley","W26/27","Peak Reduction",3624,"0",4.3499999999999996,15060,null,0.95531704346502255]
["Risley","W27/28","Variable Availability + Operational Utilisation",48,"361",4.6399999999999997,15060,null,"N/A"]
["Risley","W27/28","Peak Reduction",4392,"0",4.6399999999999997,15060,null,0.73900037686075004]
["Romiley","W26/27","Variable Availability + Operational Utilisation",48,"67",2.23,47303,null,"N/A"]
["Romiley","W26/27","Peak Reduction",3624,"0",2.23,47303,null,5.8532305803858682]
["Romiley","W27/28","Variable Availability + Operational Utilisation",48,"79",2.46,47303,null,"N/A"]
["Romiley","W27/28","Peak Reduction",4392,"0",2.46,47303,null,4.3781561449494282]
["ROSEWOOD AVE","W26/27","Peak Reduction",604,"0",0.02,892.77,null,73.90480132450331]
["ROSEWOOD AVE","W26/27","Scheduled Utilisation",604,"0",0.02,892.77,null,73.90480132450331]
["Rossall","FY27","Operational Utilisation",100,"0",2.7,46620.12,null,172.6671111111111]
["Rossall","FY28","Operational Utilisation",100,"0",2.7,46620.12,null,172.6671111111111]
["RUSSELL ST","W26/27","Peak Reduction",604,"0",0.01,892.77,null,147.80960264900662]
["RUSSELL ST","W26/27","Scheduled Utilisation",604,"0",0.01,892.77,null,147.80960264900662]
["SALE RD","W26/27","Peak Reduction",604,"0",0.02,892.77,null,73.90480132450331]
["SALE RD","W26/27","Scheduled Utilisation",604,"0",0.02,892.77,null,73.90480132450331]
["SANDHURST AVE","W26/27","Peak Reduction",604,"0",0.01,892.77,null,147.80960264900662]
["SANDHURST AVE","W26/27","Scheduled Utilisation",604,"0",0.01,892.77,null,147.80960264900662]
["SAVILLE RD","W26/27","Peak Reduction",604,"0",0.02,892.77,null,73.90480132450331]
["SAVILLE RD","W26/27","Scheduled Utilisation",604,"0",0.02,892.77,null,73.90480132450331]
["Scarisbrick","FY27","Operational Utilisation",100,"0",3.7,93185,null,251.85135135135135]
["Scarisbrick","FY28","Operational Utilisation",100,"0",3.7,93185,null,251.85135135135135]
["SCOTT DR","W26/27","Peak Reduction",604,"0",0.01,892.77,null,147.80960264900662]
["SCOTT DR","W26/27","Scheduled Utilisation",604,"0",0.01,892.77,null,147.80960264900662]
["Sebergham","FY27","Operational Utilisation",100,"0",4.0999999999999996,45409,null,110.75365853658536]
["Sebergham","FY28","Operational Utilisation",100,"0",4.0999999999999996,45409,null,110.75365853658536]
["Sedbergh","FY27","Operational Utilisation",100,"0",4.4000000000000004,152135,null,{"$f":"IF(OR(C450 = \"Operational Utilisation\", C450 = \"Scheduled Utilisation\", C450= \"Peak Reduction\"),G450/D450/(F450), \"N/A\")","v":345.76136363636357}]
["Sedbergh","FY28","Operational Utilisation",100,"0",4.4000000000000004,152135,null,345.76136363636357]
["Settle","FY27","Operational Utilisation",100,"0",4.0999999999999996,145034,null,353.74146341463415]
["Settle","FY28","Operational Utilisation",100,"0",4.0999999999999996,145034,null,353.74146341463415]
["Settle","S27","Variable Availability + Operational Utilisation",48,"241",0.84,18963,null,"N/A"]
["Settle","S27","Peak Reduction",4392,"0",0.84,18963,null,5.1400273224043715]
["Settle","W26/27","Variable Availability + Operational Utilisation",100,"1342",1.58,56438,null,"N/A"]
["Settle","W26/27","Peak Reduction",3624,"0",1.58,56438,null,9.8565819990499346]
["Settle","W27/28","Variable Availability + Operational Utilisation",100,"1574",1.66,37475,null,"N/A"]
["Settle","W27/28","Peak Reduction",4392,"0",1.66,37475,null,5.1400959027366291]
["SHAWFIELD LN","W26/27","Peak Reduction",604,"0",0.01,892.77,null,147.80960264900662]
["SHAWFIELD LN","W26/27","Scheduled Utilisation",604,"0",0.01,892.77,null,147.80960264900662]
["SLADE HALL RD","W26/27","Peak Reduction",604,"0",0.04,892.77,null,36.952400662251655]
["SLADE HALL RD","W26/27","Scheduled Utilisation",604,"0",0.04,892.77,null,36.952400662251655]
["SOUTH WEST MACC","W27/28","Peak Reduction",1216,"0",1,64727.519999999997,null,53.229868421052629]
["SOUTH WEST MACC","W27/28","Scheduled Utilisation",1216,"0",1,64727.519999999997,null,53.229868421052629]
["SPA RD","W26/27","Peak Reduction",604,"0",0.03,892.77,null,49.269867549668874]
["SPA RD","W26/27","Scheduled Utilisation",604,"0",0.03,892.77,null,49.269867549668874]
["SPENDMORE LN W","W26/27","Peak Reduction",604,"0",0.02,892.77,null,73.90480132450331]
["SPENDMORE LN W","W26/27","Scheduled Utilisation",604,"0",0.02,892.77,null,73.90480132450331]
["Spring Garden St 11kV-BURROW BECK-Spring Garden St 6.6kV Group","S27","Variable Availability + Operational Utilisation",100,"1219",8.07,15820,null,"N/A"]
["Spring Garden St 11kV-BURROW BECK-Spring Garden St 6.6kV Group","S27","Peak Reduction",4392,"0",8.07,15820,null,0.44634493717314117]
["Spring Garden St 11kV-BURROW BECK-Spring Garden St 6.6kV Group","W26/27","Variable Availability + Operational Utilisation",200,"2306",20.94,61220,null,"N/A"]
["Spring Garden St 11kV-BURROW BECK-Spring Garden St 6.6kV Group","W26/27","Peak Reduction",3624,"0",20.94,61220,null,0.80673046716045638]
["Spring Garden St 11kV-BURROW BECK-Spring Garden St 6.6kV Group","W27/28","Variable Availability + Operational Utilisation",200,"2903",23.16,45401,null,"N/A"]
["Spring Garden St 11kV-BURROW BECK-Spring Garden St 6.6kV Group","W27/28","Peak Reduction",4392,"0",23.16,45401,null,0.44633868770664831]
["SPRINGFIELD","W26/27","Peak Reduction",604,"0",0.02,892.77,null,73.90480132450331]
["SPRINGFIELD","W26/27","Scheduled Utilisation",604,"0",0.02,892.77,null,73.90480132450331]
["ST ANDREWS AVE","W26/27","Peak Reduction",604,"0",0.05,892.77,null,29.561920529801323]
["ST ANDREWS AVE","W26/27","Scheduled Utilisation",604,"0",0.05,892.77,null,29.561920529801323]
["ST ANDREWS ST","W26/27","Peak Reduction",604,"0",0.02,892.77,null,73.90480132450331]
["ST ANDREWS ST","W26/27","Scheduled Utilisation",604,"0",0.02,892.77,null,73.90480132450331]
["ST ANNES RD","W26/27","Peak Reduction",604,"0",0.01,892.77,null,147.80960264900662]
["ST ANNES RD","W26/27","Scheduled Utilisation",604,"0",0.01,892.77,null,147.80960264900662]
["ST JUDES","W26/27","Peak Reduction",604,"0",0.01,892.77,null,147.80960264900662]
["ST JUDES","W26/27","Scheduled Utilisation",604,"0",0.01,892.77,null,147.80960264900662]
["STOCK GR","W26/27","Peak Reduction",604,"0",0.04,892.77,null,36.952400662251655]
["STOCK GR","W26/27","Scheduled Utilisation",604,"0",0.04,892.77,null,36.952400662251655]
["STRAWBERRY BANK-HYNDBURN RD-CHURCH-KAY ST-BLACKBURN RD CLAYTON-Great Harwood Group","W26/27","Variable Availability + Operational Utilisation",20,"20",1.55,89217,null,"N/A"]
["STRAWBERRY BANK-HYNDBURN RD-CHURCH-KAY ST-BLACKBURN RD CLAYTON-Great Harwood Group","W26/27","Peak Reduction",3624,"0",1.55,89217,null,15.882824182866909]
["STRAWBERRY BANK-HYNDBURN RD-CHURCH-KAY ST-BLACKBURN RD CLAYTON-Great Harwood Group","W27/28","Variable Availability + Operational Utilisation",43,"43",2.73,89217,null,"N/A"]
["STRAWBERRY BANK-HYNDBURN RD-CHURCH-KAY ST-BLACKBURN RD CLAYTON-Great Harwood Group","W27/28","Peak Reduction",4392,"0",2.73,89217,null,7.4408514982285467]
["Stuart St","W26/27","Variable Availability + Operational Utilisation",48,"673",3.25,61523,null,"N/A"]
["Stuart St","W26/27","Peak Reduction",3624,"0",3.25,61523,null,5.2235523858040409]
["Stuart St","W27/28","Variable Availability + Operational Utilisation",48,"855",3.56,61523,null,"N/A"]
["Stuart St","W27/28","Peak Reduction",4392,"0",3.56,61523,null,3.9348227625304437]
["SYCAMORE EST","W26/27","Peak Reduction",604,"0",0.04,892.77,null,36.952400662251655]
["SYCAMORE EST","W26/27","Scheduled Utilisation",604,"0",0.04,892.77,null,36.952400662251655]
["TATE ST","W26/27","Peak Reduction",604,"0",0.06,892.77,null,24.634933774834437]
["TATE ST","W26/27","Scheduled Utilisation",604,"0",0.06,892.77,null,24.634933774834437]
["TRAMWAY RD","W26/27","Peak Reduction",604,"0",0.05,892.77,null,29.561920529801323]
["TRAMWAY RD","W26/27","Scheduled Utilisation",604,"0",0.05,892.77,null,29.561920529801323]
["TURNBERRY DR","W26/27","Peak Reduction",604,"0",0.02,892.77,null,73.90480132450331]
["TURNBERRY DR","W26/27","Scheduled Utilisation",604,"0",0.02,892.77,null,73.90480132450331]
["TWINING BROOK RD","W26/27","Peak Reduction",604,"0",0.04,892.77,null,36.952400662251655]
["TWINING BROOK RD","W26/27","Scheduled Utilisation",604,"0",0.04,892.77,null,36.952400662251655]
["ULLSWATER RD","W26/27","Peak Reduction",604,"0",0.02,892.77,null,73.90480132450331]
["ULLSWATER RD","W26/27","Scheduled Utilisation",604,"0",0.02,892.77,null,73.90480132450331]
["UNION BRIDGE","W26/27","Peak Reduction",604,"0",0.03,892.77,null,49.269867549668874]
["UNION BRIDGE","W26/27","Scheduled Utilisation",604,"0",0.03,892.77,null,49.269867549668874]
["UNION RD","W26/27","Peak Reduction",604,"0",0.04,892.77,null,36.952400662251655]
["UNION RD","W26/27","Scheduled Utilisation",604,"0",0.04,892.77,null,36.952400662251655]
["Victoria Park","S27","Variable Availability + Operational Utilisation",48,"977",5.27,42318,null,"N/A"]
["Victoria Park","S27","Peak Reduction",4392,"0",5.27,42318,null,1.8283199054344108]
["Victoria Park","W26/27","Variable Availability + Operational Utilisation",48,"699",4.45,78372,null,{"$f":"IF(OR(C514 = \"Operational Utilisation\", C514 = \"Scheduled Utilisation\", C514= \"Peak Reduction\"),G514/D514/(F514), \"N/A\")","v":"N/A"}]
["Victoria Park","W26/27","Peak Reduction",3624,"0",4.45,78372,null,4.8597365875437157]
["Victoria Park","W27/28","Variable Availability + Operational Utilisation",48,"953",4.49,36054,null,"N/A"]
["Victoria Park","W27/28","Peak Reduction",4392,"0",4.49,36054,null,1.8282887290518091]
["VIEW RD","W26/27","Peak Reduction",604,"0",0.01,892.77,null,147.80960264900662]
["VIEW RD","W26/27","Scheduled Utilisation",604,"0",0.01,892.77,null,147.80960264900662]
["WALMSLEY AVE","W26/27","Peak Reduction",604,"0",0.01,892.77,null,147.80960264900662]
["WALMSLEY AVE","W26/27","Scheduled Utilisation",604,"0",0.01,892.77,null,147.80960264900662]
["WASH BROW","W26/27","Peak Reduction",604,"0",0.05,892.77,null,29.561920529801323]
["WASH BROW","W26/27","Scheduled Utilisation",604,"0",0.05,892.77,null,29.561920529801323]
["WASHINGTON ST","W26/27","Peak Reduction",604,"0",0.01,892.77,null,147.80960264900662]
["WASHINGTON ST","W26/27","Scheduled Utilisation",604,"0",0.01,892.77,null,147.80960264900662]
["WELLINGTON RD","W26/27","Peak Reduction",604,"0",0.01,892.77,null,147.80960264900662]
["WELLINGTON RD","W26/27","Scheduled Utilisation",604,"0",0.01,892.77,null,147.80960264900662]
["Westhoughton","W27/28","Variable Availability + Operational Utilisation",25,"25",1.84,56835,null,"N/A"]
["Westhoughton","W27/28","Peak Reduction",4392,"0",1.84,56835,null,7.0329205274411963]
["Whasset","S27","Variable Availability + Operational Utilisation",41,"41",1.58,25184,null,"N/A"]
["Whasset","S27","Peak Reduction",4392,"0",1.58,25184,null,3.6291531207488874]
["Whasset","W27/28","Variable Availability + Operational Utilisation",48,"61",1.6,25503,null,"N/A"]
["Whasset","W27/28","Peak Reduction",4392,"0",1.6,25503,null,3.6291837431693987]
["WHITE HORSE YARD","W26/27","Peak Reduction",604,"0",0.02,892.77,null,73.90480132450331]
["WHITE HORSE YARD","W26/27","Scheduled Utilisation",604,"0",0.02,892.77,null,73.90480132450331]
["Wigan BSP","S27","Variable Availability + Operational Utilisation",17,"17",3.19,78777,null,"N/A"]
["Wigan BSP","S27","Peak Reduction",4392,"0",3.19,78777,null,5.6227195642119332]
["Wigan BSP","W26/27","Variable Availability + Operational Utilisation",48,"64",6.69,541563,null,"N/A"]
["Wigan BSP","W26/27","Peak Reduction",3624,"0",6.69,541563,null,22.337505815737636]
["Wigan BSP","W27/28","Variable Availability + Operational Utilisation",48,"956",18.739999999999998,462786,null,"N/A"]
["Wigan BSP","W27/28","Peak Reduction",4392,"0",18.739999999999998,462786,null,5.6227437875792416]
["WINDSOR WAY","W26/27","Peak Reduction",604,"0",0.04,892.77,null,36.952400662251655]
["WINDSOR WAY","W26/27","Scheduled Utilisation",604,"0",0.04,892.77,null,36.952400662251655]
["WITHINGTON","W27/28","Peak Reduction",1216,"0",1,64727.519999999997,null,53.229868421052629]
["WITHINGTON","W27/28","Scheduled Utilisation",1216,"0",1,64727.519999999997,null,53.229868421052629]
["WOODHOUSES O/D","W26/27","Peak Reduction",604,"0",0.03,892.77,null,49.269867549668874]
["WOODHOUSES O/D","W26/27","Scheduled Utilisation",604,"0",0.03,892.77,null,49.269867549668874]
["WOODLANDS DR (B)","W26/27","Peak Reduction",604,"0",0.04,892.77,null,36.952400662251655]
["WOODLANDS DR (B)","W26/27","Scheduled Utilisation",604,"0",0.04,892.77,null,36.952400662251655]
["WORDSWORTH RD","W26/27","Peak Reduction",604,"0",0.03,892.77,null,49.269867549668874]
["WORDSWORTH RD","W26/27","Scheduled Utilisation",604,"0",0.03,892.77,null,49.269867549668874]
["Yealand","FY27","Operational Utilisation",100,"0",2.9,69187,null,238.57586206896553]
["Yealand","FY28","Operational Utilisation",100,"0",2.9,69187,null,238.57586206896553]
["Yealand","S27","Variable Availability + Operational Utilisation",200,"2350",2.7,46153,null,"N/A"]
["Yealand","S27","Peak Reduction",4392,"0",2.7,46153,null,3.8920090400053966]
["Yealand","W26/27","Variable Availability + Operational Utilisation",300,"3204",3.85,114186,null,"N/A"]
["Yealand","W26/27","Peak Reduction",3624,"0",3.85,114186,null,8.1839683495312627]
["Yealand","W27/28","Variable Availability + Operational Utilisation",300,"3858",3.98,68033,null,"N/A"]
["Yealand","W27/28","Peak Reduction",4392,"0",3.98,68033,null,3.8920124300921732]

{"sheet":"Hidden Tabs >>","index":3,"n_rows":0,"n_cols":0,"rows_kept":0,"cut":false,"hidden":true,"merged":[]}

{"sheet":"Data","index":4,"n_rows":788,"n_cols":11,"rows_kept":788,"cut":false,"hidden":true,"merged":[]}
["Concatenate","Competition Name","Competition Ref","Period","Competition type","Celing Price per annum","Utilisation","Availability","Capacity Required",null,"Ceiling Price for OU/ SU/ PR\n(£/MWh)"]
[{"$f":"CONCATENATE(B2,D2,E2)","v":"AIRE DR (ADJ NO 2)W26/27Peak Reduction"},{"$f":"IF(ISBLANK('Competition Data'!A2),\"\",'Competition Data'!A2)","v":"AIRE DR (ADJ NO 2)"},{"$f":"IF(ISBLANK('Competition Data'!H2),\"\",'Competition Data'!H2)","v":""},{"$f":"IF(ISBLANK('Competition Data'!B2),\"\",'Competition Data'!B2)","v":"W26/27"},{"$f":"IF(ISBLANK('Competition Data'!C2),\"\",'Competition Data'!C2)","v":"Peak Reduction"},{"$f":"IF(ISBLANK('Competition Data'!G2),\"\",'Competition Data'!G2)","v":892.77},{"$f":"IF(ISBLANK('Competition Data'!D2),\"\",'Competition Data'!D2)","v":604},{"$f":"IF(ISBLANK('Competition Data'!E2),\"\",'Competition Data'!E2)","v":"0"},{"$f":"IF(ISBLANK('Competition Data'!F2),\"\",'Competition Data'!F2)","v":0.03},{"$f":"CONCATENATE(B2,\" (\",E2,\")\")","v":"AIRE DR (ADJ NO 2) (Peak Reduction)"},{"$f":"IF(ISBLANK('Competition Data'!I2),\"\",'Competition Data'!I2)","v":49.269867549668874}]
[{"$f":"CONCATENATE(B3,D3,E3)","v":"AIRE DR (ADJ NO 2)W26/27Scheduled Utilisation"},{"$f":"IF(ISBLANK('Competition Data'!A3),\"\",'Competition Data'!A3)","v":"AIRE DR (ADJ NO 2)"},{"$f":"IF(ISBLANK('Competition Data'!H3),\"\",'Competition Data'!H3)","v":""},{"$f":"IF(ISBLANK('Competition Data'!B3),\"\",'Competition Data'!B3)","v":"W26/27"},{"$f":"IF(ISBLANK('Competition Data'!C3),\"\",'Competition Data'!C3)","v":"Scheduled Utilisation"},{"$f":"IF(ISBLANK('Competition Data'!G3),\"\",'Competition Data'!G3)","v":892.77},{"$f":"IF(ISBLANK('Competition Data'!D3),\"\",'Competition Data'!D3)","v":604},{"$f":"IF(ISBLANK('Competition Data'!E3),\"\",'Competition Data'!E3)","v":"0"},{"$f":"IF(ISBLANK('Competition Data'!F3),\"\",'Competition Data'!F3)","v":0.03},{"$f":"CONCATENATE(B3,\" (\",E3,\")\")","v":"AIRE DR (ADJ NO 2) (Scheduled Utilisation)"},{"$f":"IF(ISBLANK('Competition Data'!I3),\"\",'Competition Data'!I3)","v":49.269867549668874}]
["ALDER RDW26/27Peak Reduction",{"$f":"IF(ISBLANK('Competition Data'!A4),\"\",'Competition Data'!A4)","v":"ALDER RD"},{"$f":"IF(ISBLANK('Competition Data'!H4),\"\",'Competition Data'!H4)","v":""},{"$f":"IF(ISBLANK('Competition Data'!B4),\"\",'Competition Data'!B4)","v":"W26/27"},{"$f":"IF(ISBLANK('Competition Data'!C4),\"\",'Competition Data'!C4)","v":"Peak Reduction"},{"$f":"IF(ISBLANK('Competition Data'!G4),\"\",'Competition Data'!G4)","v":892.77},{"$f":"IF(ISBLANK('Competition Data'!D4),\"\",'Competition Data'!D4)","v":604},{"$f":"IF(ISBLANK('Competition Data'!E4),\"\",'Competition Data'!E4)","v":"0"},{"$f":"IF(ISBLANK('Competition Data'!F4),\"\",'Competition Data'!F4)","v":0.03},"ALDER RD (Peak Reduction)",{"$f":"IF(ISBLANK('Competition Data'!I4),\"\",'Competition Data'!I4)","v":49.269867549668874}]
["ALDER RDW26/27Scheduled Utilisation",{"$f":"IF(ISBLANK('Competition Data'!A5),\"\",'Competition Data'!A5)","v":"ALDER RD"},{"$f":"IF(ISBLANK('Competition Data'!H5),\"\",'Competition Data'!H5)","v":""},{"$f":"IF(ISBLANK('Competition Data'!B5),\"\",'Competition Data'!B5)","v":"W26/27"},{"$f":"IF(ISBLANK('Competition Data'!C5),\"\",'Competition Data'!C5)","v":"Scheduled Utilisation"},{"$f":"IF(ISBLANK('Competition Data'!G5),\"\",'Competition Data'!G5)","v":892.77},{"$f":"IF(ISBLANK('Competition Data'!D5),\"\",'Competition Data'!D5)","v":604},{"$f":"IF(ISBLANK('Competition Data'!E5),\"\",'Competition Data'!E5)","v":"0"},{"$f":"IF(ISBLANK('Competition Data'!F5),\"\",'Competition Data'!F5)","v":0.03},"ALDER RD (Scheduled Utilisation)",{"$f":"IF(ISBLANK('Competition Data'!I5),\"\",'Competition Data'!I5)","v":49.269867549668874}]
["AlstonFY27Operational Utilisation",{"$f":"IF(ISBLANK('Competition Data'!A6),\"\",'Competition Data'!A6)","v":"Alston"},{"$f":"IF(ISBLANK('Competition Data'!H6),\"\",'Competition Data'!H6)","v":""},{"$f":"IF(ISBLANK('Competition Data'!B6),\"\",'Competition Data'!B6)","v":"FY27"},{"$f":"IF(ISBLANK('Competition Data'!C6),\"\",'Competition Data'!C6)","v":"Operational Utilisation"},{"$f":"IF(ISBLANK('Competition Data'!G6),\"\",'Competition Data'!G6)","v":75627},{"$f":"IF(ISBLANK('Competition Data'!D6),\"\",'Competition Data'!D6)","v":100},{"$f":"IF(ISBLANK('Competition Data'!E6),\"\",'Competition Data'!E6)","v":"0"},{"$f":"IF(ISBLANK('Competition Data'!F6),\"\",'Competition Data'!F6)","v":1.4},"Alston (Operational Utilisation)",{"$f":"IF(ISBLANK('Competition Data'!I6),\"\",'Competition Data'!I6)","v":540.19285714285718}]
["AlstonFY28Operational Utilisation",{"$f":"IF(ISBLANK('Competition Data'!A7),\"\",'Competition Data'!A7)","v":"Alston"},{"$f":"IF(ISBLANK('Competition Data'!H7),\"\",'Competition Data'!H7)","v":""},{"$f":"IF(ISBLANK('Competition Data'!B7),\"\",'Competition Data'!B7)","v":"FY28"},{"$f":"IF(ISBLANK('Competition Data'!C7),\"\",'Competition Data'!C7)","v":"Operational Utilisation"},{"$f":"IF(ISBLANK('Competition Data'!G7),\"\",'Competition Data'!G7)","v":75627},{"$f":"IF(ISBLANK('Competition Data'!D7),\"\",'Competition Data'!D7)","v":100},{"$f":"IF(ISBLANK('Competition Data'!E7),\"\",'Competition Data'!E7)","v":"0"},{"$f":"IF(ISBLANK('Competition Data'!F7),\"\",'Competition Data'!F7)","v":1.4},"Alston (Operational Utilisation)",{"$f":"IF(ISBLANK('Competition Data'!I7),\"\",'Competition Data'!I7)","v":540.19285714285718}]
["AlstonS27Variable Availability + Operational Utilisation",{"$f":"IF(ISBLANK('Competition Data'!A8),\"\",'Competition Data'!A8)","v":"Alston"},{"$f":"IF(ISBLANK('Competition Data'!H8),\"\",'Competition Data'!H8)","v":""},{"$f":"IF(ISBLANK('Competition Data'!B8),\"\",'Competition Data'!B8)","v":"S27"},{"$f":"IF(ISBLANK('Competition Data'!C8),\"\",'Competition Data'!C8)","v":"Variable Availability + Operational Utilisation"},{"$f":"IF(ISBLANK('Competition Data'!G8),\"\",'Competition Data'!G8)","v":86930},{"$f":"IF(ISBLANK('Competition Data'!D8),\"\",'Competition Data'!D8)","v":48},{"$f":"IF(ISBLANK('Competition Data'!E8),\"\",'Competition Data'!E8)","v":"238"},{"$f":"IF(ISBLANK('Competition Data'!F8),\"\",'Competition Data'!F8)","v":0.32},"Alston (Variable Availability + Operational Utilisation)",{"$f":"IF(ISBLANK('Competition Data'!I8),\"\",'Competition Data'!I8)","v":"N/A"}]
["AlstonS27Peak Reduction",{"$f":"IF(ISBLANK('Competition Data'!A9),\"\",'Competition Data'!A9)","v":"Alston"},{"$f":"IF(ISBLANK('Competition Data'!H9),\"\",'Competition Data'!H9)","v":""},{"$f":"IF(ISBLANK('Competition Data'!B9),\"\",'Competition Data'!B9)","v":"S27"},{"$f":"IF(ISBLANK('Competition Data'!C9),\"\",'Competition Data'!C9)","v":"Peak Reduction"},{"$f":"IF(ISBLANK('Competition Data'!G9),\"\",'Competition Data'!G9)","v":86930},{"$f":"IF(ISBLANK('Competition Data'!D9),\"\",'Competition Data'!D9)","v":4392},{"$f":"IF(ISBLANK('Competition Data'!E9),\"\",'Competition Data'!E9)","v":"0"},{"$f":"IF(ISBLANK('Competition Data'!F9),\"\",'Competition Data'!F9)","v":0.32},"Alston (Peak Reduction)",{"$f":"IF(ISBLANK('Competition Data'!I9),\"\",'Competition Data'!I9)","v":61.852515938069217}]
["AlstonW26/27Variable Availability + Operational Utilisation",{"$f":"IF(ISBLANK('Competition Data'!A10),\"\",'Competition Data'!A10)","v":"Alston"},{"$f":"IF(ISBLANK('Competition Data'!H10),\"\",'Competition Data'!H10)","v":""},{"$f":"IF(ISBLANK('Competition Data'!B10),\"\",'Competition Data'!B10)","v":"W26/27"},{"$f":"IF(ISBLANK('Competition Data'!C10),\"\",'Competition Data'!C10)","v":"Variable Availability + Operational Utilisation"},{"$f":"IF(ISBLANK('Competition Data'!G10),\"\",'Competition Data'!G10)","v":233624},{"$f":"IF(ISBLANK('Competition Data'!D10),\"\",'Competition Data'!D10)","v":48},{"$f":"IF(ISBLANK('Competition Data'!E10),\"\",'Competition Data'!E10)","v":"647"},{"$f":"IF(ISBLANK('Competition Data'!F10),\"\",'Competition Data'!F10)","v":0.47},"Alston (Variable Availability + Operational Utilisation)",{"$f":"IF(ISBLANK('Competition Data'!I10),\"\",'Competition Data'!I10)","v":"N/A"}]
["AlstonW26/27Peak Reduction",{"$f":"IF(ISBLANK('Competition Data'!A11),\"\",'Competition Data'!A11)","v":"Alston"},{"$f":"IF(ISBLANK('Competition Data'!H11),\"\",'Competition Data'!H11)","v":""},{"$f":"IF(ISBLANK('Competition Data'!B11),\"\",'Competition Data'!B11)","v":"W26/27"},{"$f":"IF(ISBLANK('Competition Data'!C11),\"\",'Competition Data'!C11)","v":"Peak Reduction"},{"$f":"IF(ISBLANK('Competition Data'!G11),\"\",'Competition Data'!G11)","v":233624},{"$f":"IF(ISBLANK('Competition Data'!D11),\"\",'Competition Data'!D11)","v":3624},{"$f":"IF(ISBLANK('Competition Data'!E11),\"\",'Competition Data'!E11)","v":"0"},{"$f":"IF(ISBLANK('Competition Data'!F11),\"\",'Competition Data'!F11)","v":0.47},"Alston (Peak Reduction)",{"$f":"IF(ISBLANK('Competition Data'!I11),\"\",'Competition Data'!I11)","v":137.16124183927482}]
["AlstonW27/28Variable Availability + Operational Utilisation",{"$f":"IF(ISBLANK('Competition Data'!A12),\"\",'Competition Data'!A12)","v":"Alston"},{"$f":"IF(ISBLANK('Competition Data'!H12),\"\",'Competition Data'!H12)","v":""},{"$f":"IF(ISBLANK('Competition Data'!B12),\"\",'Competition Data'!B12)","v":"W27/28"},{"$f":"IF(ISBLANK('Competition Data'!C12),\"\",'Competition Data'!C12)","v":"Variable Availability + Operational Utilisation"},{"$f":"IF(ISBLANK('Competition Data'!G12),\"\",'Competition Data'!G12)","v":146694},{"$f":"IF(ISBLANK('Competition Data'!D12),\"\",'Competition Data'!D12)","v":48},{"$f":"IF(ISBLANK('Competition Data'!E12),\"\",'Competition Data'!E12)","v":"953"},{"$f":"IF(ISBLANK('Competition Data'!F12),\"\",'Competition Data'!F12)","v":0.54},"Alston (Variable Availability + Operational Utilisation)",{"$f":"IF(ISBLANK('Competition Data'!I12),\"\",'Competition Data'!I12)","v":"N/A"}]
["AlstonW27/28Peak Reduction",{"$f":"IF(ISBLANK('Competition Data'!A13),\"\",'Competition Data'!A13)","v":"Alston"},{"$f":"IF(ISBLANK('Competition Data'!H13),\"\",'Competition Data'!H13)","v":""},{"$f":"IF(ISBLANK('Competition Data'!B13),\"\",'Competition Data'!B13)","v":"W27/28"},{"$f":"IF(ISBLANK('Competition Data'!C13),\"\",'Competition Data'!C13)","v":"Peak Reduction"},{"$f":"IF(ISBLANK('Competition Data'!G13),\"\",'Competition Data'!G13)","v":146694},{"$f":"IF(ISBLANK('Competition Data'!D13),\"\",'Competition Data'!D13)","v":4392},{"$f":"IF(ISBLANK('Competition Data'!E13),\"\",'Competition Data'!E13)","v":"0"},{"$f":"IF(ISBLANK('Competition Data'!F13),\"\",'Competition Data'!F13)","v":0.54},"Alston (Peak Reduction)",{"$f":"IF(ISBLANK('Competition Data'!I13),\"\",'Competition Data'!I13)","v":61.852357822303176}]
["AMBLESIDE-CALGARTH-MINTSFEET-WINDERMERE GroupW26/27Variable Availability + Operational Utilisation",{"$f":"IF(ISBLANK('Competition Data'!A14),\"\",'Competition Data'!A14)","v":"AMBLESIDE-CALGARTH-MINTSFEET-WINDERMERE Group"},{"$f":"IF(ISBLANK('Competition Data'!H14),\"\",'Competition Data'!H14)","v":""},{"$f":"IF(ISBLANK('Competition Data'!B14),\"\",'Competition Data'!B14)","v":"W26/27"},{"$f":"IF(ISBLANK('Competition Data'!C14),\"\",'Competition Data'!C14)","v":"Variable Availability + Operational Utilisation"},{"$f":"IF(ISBLANK('Competition Data'!G14),\"\",'Competition Data'!G14)","v":60831},{"$f":"IF(ISBLANK('Competition Data'!D14),\"\",'Competition Data'!D14)","v":48},{"$f":"IF(ISBLANK('Competition Data'!E14),\"\",'Competition Data'!E14)","v":"108"},{"$f":"IF(ISBLANK('Competition Data'!F14),\"\",'Competition Data'!F14)","v":4.8899999999999997},"AMBLESIDE-CALGARTH-MINTSFEET-WINDERMERE Group (Variable Availability + Operational Utilisation)",{"$f":"IF(ISBLANK('Competition Data'!I14),\"\",'Competition Data'!I14)","v":"N/A"}]
["AMBLESIDE-CALGARTH-MINTSFEET-WINDERMERE GroupW26/27Peak Reduction",{"$f":"IF(ISBLANK('Competition Data'!A15),\"\",'Competition Data'!A15)","v":"AMBLESIDE-CALGARTH-MINTSFEET-WINDERMERE Group"},{"$f":"IF(ISBLANK('Competition Data'!H15),\"\",'Competition Data'!H15)","v":""},{"$f":"IF(ISBLANK('Competition Data'!B15),\"\",'Competition Data'!B15)","v":"W26/27"},{"$f":"IF(ISBLANK('Competition Data'!C15),\"\",'Competition Data'!C15)","v":"Peak Reduction"},{"$f":"IF(ISBLANK('Competition Data'!G15),\"\",'Competition Data'!G15)","v":60831},{"$f":"IF(ISBLANK('Competition Data'!D15),\"\",'Competition Data'!D15)","v":3624},{"$f":"IF(ISBLANK('Competition Data'!E15),\"\",'Competition Data'!E15)","v":"0"},{"$f":"IF(ISBLANK('Competition Data'!F15),\"\",'Competition Data'!F15)","v":4.8899999999999997},"AMBLESIDE-CALGARTH-MINTSFEET-WINDERMERE Group (Peak Reduction)",{"$f":"IF(ISBLANK('Competition Data'!I15),\"\",'Competition Data'!I15)","v":3.4326372242310974}]
["AMBLESIDE-CALGARTH-MINTSFEET-WINDERMERE GroupW27/28Variable Availability + Operational Utilisation",{"$f":"IF(ISBLANK('Competition Data'!A16),\"\",'Competition Data'!A16)","v":"AMBLESIDE-CALGARTH-MINTSFEET-WINDERMERE Group"},{"$f":"IF(ISBLANK('Competition Data'!H16),\"\",'Competition Data'!H16)","v":""},{"$f":"IF(ISBLANK('Competition Data'!B16),\"\",'Competition Data'!B16)","v":"W27/28"},{"$f":"IF(ISBLANK('Competition Data'!C16),\"\",'Competition Data'!C16)","v":"Variable Availability + Operational Utilisation"},{"$f":"IF(ISBLANK('Competition Data'!G16),\"\",'Competition Data'!G16)","v":60831},{"$f":"IF(ISBLANK('Competition Data'!D16),\"\",'Competition Data'!D16)","v":48},{"$f":"IF(ISBLANK('Competition Data'!E16),\"\",'Competition Data'!E16)","v":"155"},{"$f":"IF(ISBLANK('Competition Data'!F16),\"\",'Competition Data'!F16)","v":5.74},"AMBLESIDE-CALGARTH-MINTSFEET-WINDERMERE Group (Variable Availability + Operational Utilisation)",{"$f":"IF(ISBLANK('Competition Data'!I16),\"\",'Competition Data'!I16)","v":"N/A"}]
["AMBLESIDE-CALGARTH-MINTSFEET-WINDERMERE GroupW27/28Peak Reduction",{"$f":"IF(ISBLANK('Competition Data'!A17),\"\",'Competition Data'!A17)","v":"AMBLESIDE-CALGARTH-MINTSFEET-WINDERMERE Group"},{"$f":"IF(ISBLANK('Competition Data'!H17),\"\",'Competition Data'!H17)","v":""},{"$f":"IF(ISBLANK('Competition Data'!B17),\"\",'Competition Data'!B17)","v":"W27/28"},{"$f":"IF(ISBLANK('Competition Data'!C17),\"\",'Competition Data'!C17)","v":"Peak Reduction"},{"$f":"IF(ISBLANK('Competition Data'!G17),\"\",'Competition Data'!G17)","v":60831},{"$f":"IF(ISBLANK('Competition Data'!D17),\"\",'Competition Data'!D17)","v":4392},{"$f":"IF(ISBLANK('Competition Data'!E17),\"\",'Competition Data'!E17)","v":"0"},{"$f":"IF(ISBLANK('Competition Data'!F17),\"\",'Competition Data'!F17)","v":5.74},"AMBLESIDE-CALGARTH-MINTSFEET-WINDERMERE Group (Peak Reduction)",{"$f":"IF(ISBLANK('Competition Data'!I17),\"\",'Competition Data'!I17)","v":2.4129633860741415}]
["Ancoats North T11 & T12W26/27Variable Availability + Operational Utilisation",{"$f":"IF(ISBLANK('Competition Data'!A18),\"\",'Competition Data'!A18)","v":"Ancoats North T11 & T12"},{"$f":"IF(ISBLANK('Competition Data'!H18),\"\",'Competition Data'!H18)","v":""},{"$f":"IF(ISBLANK('Competition Data'!B18),\"\",'Competition Data'!B18)","v":"W26/27"},{"$f":"IF(ISBLANK('Competition Data'!C18),\"\",'Competition Data'!C18)","v":"Variable Availability + Operational Utilisation"},{"$f":"IF(ISBLANK('Competition Data'!G18),\"\",'Competition Data'!G18)","v":68008},{"$f":"IF(ISBLANK('Competition Data'!D18),\"\",'Competition Data'!D18)","v":15},{"$f":"IF(ISBLANK('Competition Data'!E18),\"\",'Competition Data'!E18)","v":"15"},{"$f":"IF(ISBLANK('Competition Data'!F18),\"\",'Competition Data'!F18)","v":1.78},"Ancoats North T11 & T12 (Variable Availability + Operational Utilisation)",{"$f":"IF(ISBLANK('Competition Data'!I18),\"\",'Competition Data'!I18)","v":"N/A"}]
["Ancoats North T11 & T12W26/27Peak Reduction",{"$f":"IF(ISBLANK('Competition Data'!A19),\"\",'Competition Data'!A19)","v":"Ancoats North T11 & T12"},{"$f":"IF(ISBLANK('Competition Data'!H19),\"\",'Competition Data'!H19)","v":""},{"$f":"IF(ISBLANK('Competition Data'!B19),\"\",'Competition Data'!B19)","v":"W26/27"},{"$f":"IF(ISBLANK('Competition Data'!C19),\"\",'Competition Data'!C19)","v":"Peak Reduction"},{"$f":"IF(ISBLANK('Competition Data'!G19),\"\",'Competition Data'!G19)","v":68008},{"$f":"IF(ISBLANK('Competition Data'!D19),\"\",'Competition Data'!D19)","v":3624},{"$f":"IF(ISBLANK('Competition Data'!E19),\"\",'Competition Data'!E19)","v":"0"},{"$f":"IF(ISBLANK('Competition Data'!F19),\"\",'Competition Data'!F19)","v":1.78},"Ancoats North T11 & T12 (Peak Reduction)",{"$f":"IF(ISBLANK('Competition Data'!I19),\"\",'Competition Data'!I19)","v":10.542699109556761}]
["Ancoats North T11 & T12W27/28Variable Availability + Operational Utilisation",{"$f":"IF(ISBLANK('Competition Data'!A20),\"\",'Competition Data'!A20)","v":"Ancoats North T11 & T12"},{"$f":"IF(ISBLANK('Competition Data'!H20),\"\",'Competition Data'!H20)","v":""},{"$f":"IF(ISBLANK('Competition Data'!B20),\"\",'Competition Data'!B20)","v":"W27/28"},{"$f":"IF(ISBLANK('Competition Data'!C20),\"\",'Competition Data'!C20)","v":"Variable Availability + Operational Utilisation"},{"$f":"IF(ISBLANK('Competition Data'!G20),\"\",'Competition Data'!G20)","v":68008},{"$f":"IF(ISBLANK('Competition Data'!D20),\"\",'Competition Data'!D20)","v":29},{"$f":"IF(ISBLANK('Competition Data'!E20),\"\",'Competition Data'!E20)","v":"29"},{"$f":"IF(ISBLANK('Competition Data'!F20),\"\",'Competition Data'!F20)","v":2.2999999999999998},"Ancoats North T11 & T12 (Variable Availability + Operational Utilisation)",{"$f":"IF(ISBLANK('Competition Data'!I20),\"\",'Competition Data'!I20)","v":"N/A"}]
["Ancoats North T11 & T12W27/28Peak Reduction",{"$f":"IF(ISBLANK('Competition Data'!A21),\"\",'Competition Data'!A21)","v":"Ancoats North T11 & T12"},{"$f":"IF(ISBLANK('Competition Data'!H21),\"\",'Competition Data'!H21)","v":""},{"$f":"IF(ISBLANK('Competition Data'!B21),\"\",'Competition Data'!B21)","v":"W27/28"},{"$f":"IF(ISBLANK('Competition Data'!C21),\"\",'Competition Data'!C21)","v":"Peak Reduction"},{"$f":"IF(ISBLANK('Competition Data'!G21),\"\",'Competition Data'!G21)","v":68008},{"$f":"IF(ISBLANK('Competition Data'!D21),\"\",'Competition Data'!D21)","v":4392},{"$f":"IF(ISBLANK('Competition Data'!E21),\"\",'Competition Data'!E21)","v":"0"},{"$f":"IF(ISBLANK('Competition Data'!F21),\"\",'Competition Data'!F21)","v":2.2999999999999998},"Ancoats North T11 & T12 (Peak Reduction)",{"$f":"IF(ISBLANK('Competition Data'!I21),\"\",'Competition Data'!I21)","v":6.7323988279084501}]
["Ancoats North T11 & T12-CANNON ST-STRANGEWAYS-Ancoats North T14 GroupW26/27Variable Availability + Operational Utilisation",{"$f":"IF(ISBLANK('Competition Data'!A22),\"\",'Competition Data'!A22)","v":"Ancoats North T11 & T12-CANNON ST-STRANGEWAYS-Ancoats North T14 Group"},{"$f":"IF(ISBLANK('Competition Data'!H22),\"\",'Competition Data'!H22)","v":""},{"$f":"IF(ISBLANK('Competition Data'!B22),\"\",'Competition Data'!B22)","v":"W26/27"},{"$f":"IF(ISBLANK('Competition Data'!C22),\"\",'Competition Data'!C22)","v":"Variable Availability + Operational Utilisation"},{"$f":"IF(ISBLANK('Competition Data'!G22),\"\",'Competition Data'!G22)","v":13554},{"$f":"IF(ISBLANK('Competition Data'!D22),\"\",'Competition Data'!D22)","v":48},{"$f":"IF(ISBLANK('Competition Data'!E22),\"\",'Competition Data'!E22)","v":"260"},{"$f":"IF(ISBLANK('Competition Data'!F22),\"\",'Competition Data'!F22)","v":7.97},"Ancoats North T11 & T12-CANNON ST-STRANGEWAYS-Ancoats North T14 Group (Variable Availability + Operational Utilisation)",{"$f":"IF(ISBLANK('Competition Data'!I22),\"\",'Competition Data'!I22)","v":"N/A"}]
["Ancoats North T11 & T12-CANNON ST-STRANGEWAYS-Ancoats North T14 GroupW26/27Peak Reduction",{"$f":"IF(ISBLANK('Competition Data'!A23),\"\",'Competition Data'!A23)","v":"Ancoats North T11 & T12-CANNON ST-STRANGEWAYS-Ancoats North T14 Group"},{"$f":"IF(ISBLANK('Competition Data'!H23),\"\",'Competition Data'!H23)","v":""},{"$f":"IF(ISBLANK('Competition Data'!B23),\"\",'Competition Data'!B23)","v":"W26/27"},{"$f":"IF(ISBLANK('Competition Data'!C23),\"\",'Competition Data'!C23)","v":"Peak Reduction"},{"$f":"IF(ISBLANK('Competition Data'!G23),\"\",'Competition Data'!G23)","v":13554},{"$f":"IF(ISBLANK('Competition Data'!D23),\"\",'Competition Data'!D23)","v":3624},{"$f":"IF(ISBLANK('Competition Data'!E23),\"\",'Competition Data'!E23)","v":"0"},{"$f":"IF(ISBLANK('Competition Data'!F23),\"\",'Competition Data'!F23)","v":7.97},"Ancoats North T11 & T12-CANNON ST-STRANGEWAYS-Ancoats North T14 Group (Peak Reduction)",{"$f":"IF(ISBLANK('Competition Data'!I23),\"\",'Competition Data'!I23)","v":0.46926803327045957}]
["Ancoats North T11 & T12-CANNON ST-STRANGEWAYS-Ancoats North T14 GroupW27/28Variable Availability + Operational Utilisation",{"$f":"IF(ISBLANK('Competition Data'!A24),\"\",'Competition Data'!A24)","v":"Ancoats North T11 & T12-CANNON ST-STRANGEWAYS-Ancoats North T14 Group"},{"$f":"IF(ISBLANK('Competition Data'!H24),\"\",'Competition Data'!H24)","v":""},{"$f":"IF(ISBLANK('Competition Data'!B24),\"\",'Competition Data'!B24)","v":"W27/28"},{"$f":"IF(ISBLANK('Competition Data'!C24),\"\",'Competition Data'!C24)","v":"Variable Availability + Operational Utilisation"},{"$f":"IF(ISBLANK('Competition Data'!G24),\"\",'Competition Data'!G24)","v":13554},{"$f":"IF(ISBLANK('Competition Data'!D24),\"\",'Competition Data'!D24)","v":48},{"$f":"IF(ISBLANK('Competition Data'!E24),\"\",'Competition Data'!E24)","v":"348"},{"$f":"IF(ISBLANK('Competition Data'!F24),\"\",'Competition Data'!F24)","v":9.1199999999999992},"Ancoats North T11 & T12-CANNON ST-STRANGEWAYS-Ancoats North T14 Group (Variable Availability + Operational Utilisation)",{"$f":"IF(ISBLANK('Competition Data'!I24),\"\",'Competition Data'!I24)","v":"N/A"}]
["Ancoats North T11 & T12-CANNON ST-STRANGEWAYS-Ancoats North T14 GroupW27/28Peak Reduction",{"$f":"IF(ISBLANK('Competition Data'!A25),\"\",'Competition Data'!A25)","v":"Ancoats North T11 & T12-CANNON ST-STRANGEWAYS-Ancoats North T14 Group"},{"$f":"IF(ISBLANK('Competition Data'!H25),\"\",'Competition Data'!H25)","v":""},{"$f":"IF(ISBLANK('Competition Data'!B25),\"\",'Competition Data'!B25)","v":"W27/28"},{"$f":"IF(ISBLANK('Competition Data'!C25),\"\",'Competition Data'!C25)","v":"Peak Reduction"},{"$f":"IF(ISBLANK('Competition Data'!G25),\"\",'Competition Data'!G25)","v":13554},{"$f":"IF(ISBLANK('Competition Data'!D25),\"\",'Competition Data'!D25)","v":4392},{"$f":"IF(ISBLANK('Competition Data'!E25),\"\",'Competition Data'!E25)","v":"0"},{"$f":"IF(ISBLANK('Competition Data'!F25),\"\",'Competition Data'!F25)","v":9.1199999999999992},"Ancoats North T11 & T12-CANNON ST-STRANGEWAYS-Ancoats North T14 Group (Peak Reduction)",{"$f":"IF(ISBLANK('Competition Data'!I25),\"\",'Competition Data'!I25)","v":0.3383843830888697}]
["ANCOATS NORTH T14W27/28Peak Reduction",{"$f":"IF(ISBLANK('Competition Data'!A26),\"\",'Competition Data'!A26)","v":"ANCOATS NORTH T14"},{"$f":"IF(ISBLANK('Competition Data'!H26),\"\",'Competition Data'!H26)","v":""},{"$f":"IF(ISBLANK('Competition Data'!B26),\"\",'Competition Data'!B26)","v":"W27/28"},{"$f":"IF(ISBLANK('Competition Data'!C26),\"\",'Competition Data'!C26)","v":"Peak Reduction"},{"$f":"IF(ISBLANK('Competition Data'!G26),\"\",'Competition Data'!G26)","v":64727.519999999997},{"$f":"IF(ISBLANK('Competition Data'!D26),\"\",'Competition Data'!D26)","v":1216},{"$f":"IF(ISBLANK('Competition Data'!E26),\"\",'Competition Data'!E26)","v":"0"},{"$f":"IF(ISBLANK('Competition Data'!F26),\"\",'Competition Data'!F26)","v":1},"ANCOATS NORTH T14 (Peak Reduction)",{"$f":"IF(ISBLANK('Competition Data'!I26),\"\",'Competition Data'!I26)","v":53.229868421052629}]
["ANCOATS NORTH T14W27/28Scheduled Utilisation",{"$f":"IF(ISBLANK('Competition Data'!A27),\"\",'Competition Data'!A27)","v":"ANCOATS NORTH T14"},{"$f":"IF(ISBLANK('Competition Data'!H27),\"\",'Competition Data'!H27)","v":""},{"$f":"IF(ISBLANK('Competition Data'!B27),\"\",'Competition Data'!B27)","v":"W27/28"},{"$f":"IF(ISBLANK('Competition Data'!C27),\"\",'Competition Data'!C27)","v":"Scheduled Utilisation"},{"$f":"IF(ISBLANK('Competition Data'!G27),\"\",'Competition Data'!G27)","v":64727.519999999997},{"$f":"IF(ISBLANK('Competition Data'!D27),\"\",'Competition Data'!D27)","v":1216},{"$f":"IF(ISBLANK('Competition Data'!E27),\"\",'Competition Data'!E27)","v":"0"},{"$f":"IF(ISBLANK('Competition Data'!F27),\"\",'Competition Data'!F27)","v":1},"ANCOATS NORTH T14 (Scheduled Utilisation)",{"$f":"IF(ISBLANK('Competition Data'!I27),\"\",'Competition Data'!I27)","v":53.229868421052629}]
["ANDREW STW26/27Peak Reduction",{"$f":"IF(ISBLANK('Competition Data'!A28),\"\",'Competition Data'!A28)","v":"ANDREW ST"},{"$f":"IF(ISBLANK('Competition Data'!H28),\"\",'Competition Data'!H28)","v":""},{"$f":"IF(ISBLANK('Competition Data'!B28),\"\",'Competition Data'!B28)","v":"W26/27"},{"$f":"IF(ISBLANK('Competition Data'!C28),\"\",'Competition Data'!C28)","v":"Peak Reduction"},{"$f":"IF(ISBLANK('Competition Data'!G28),\"\",'Competition Data'!G28)","v":892.77},{"$f":"IF(ISBLANK('Competition Data'!D28),\"\",'Competition Data'!D28)","v":604},{"$f":"IF(ISBLANK('Competition Data'!E28),\"\",'Competition Data'!E28)","v":"0"},{"$f":"IF(ISBLANK('Competition Data'!F28),\"\",'Competition Data'!F28)","v":0.03},"ANDREW ST (Peak Reduction)",{"$f":"IF(ISBLANK('Competition Data'!I28),\"\",'Competition Data'!I28)","v":49.269867549668874}]
["ANDREW STW26/27Scheduled Utilisation",{"$f":"IF(ISBLANK('Competition Data'!A29),\"\",'Competition Data'!A29)","v":"ANDREW ST"},{"$f":"IF(ISBLANK('Competition Data'!H29),\"\",'Competition Data'!H29)","v":""},{"$f":"IF(ISBLANK('Competition Data'!B29),\"\",'Competition Data'!B29)","v":"W26/27"},{"$f":"IF(ISBLANK('Competition Data'!C29),\"\",'Competition Data'!C29)","v":"Scheduled Utilisation"},{"$f":"IF(ISBLANK('Competition Data'!G29),\"\",'Competition Data'!G29)","v":892.77},{"$f":"IF(ISBLANK('Competition Data'!D29),\"\",'Competition Data'!D29)","v":604},{"$f":"IF(ISBLANK('Competition Data'!E29),\"\",'Competition Data'!E29)","v":"0"},{"$f":"IF(ISBLANK('Competition Data'!F29),\"\",'Competition Data'!F29)","v":0.03},"ANDREW ST (Scheduled Utilisation)",{"$f":"IF(ISBLANK('Competition Data'!I29),\"\",'Competition Data'!I29)","v":49.269867549668874}]
["ArdwickW26/27Variable Availability + Operational Utilisation",{"$f":"IF(ISBLANK('Competition Data'!A30),\"\",'Competition Data'!A30)","v":"Ardwick"},{"$f":"IF(ISBLANK('Competition Data'!H30),\"\",'Competition Data'!H30)","v":""},{"$f":"IF(ISBLANK('Competition Data'!B30),\"\",'Competition Data'!B30)","v":"W26/27"},{"$f":"IF(ISBLANK('Competition Data'!C30),\"\",'Competition Data'!C30)","v":"Variable Availability + Operational Utilisation"},{"$f":"IF(ISBLANK('Competition Data'!G30),\"\",'Competition Data'!G30)","v":56615},{"$f":"IF(ISBLANK('Competition Data'!D30),\"\",'Competition Data'!D30)","v":48},{"$f":"IF(ISBLANK('Competition Data'!E30),\"\",'Competition Data'!E30)","v":"451"},{"$f":"IF(ISBLANK('Competition Data'!F30),\"\",'Competition Data'!F30)","v":3.33},"Ardwick (Variable Availability + Operational Utilisation)",{"$f":"IF(ISBLANK('Competition Data'!I30),\"\",'Competition Data'!I30)","v":"N/A"}]
["ArdwickW26/27Peak Reduction",{"$f":"IF(ISBLANK('Competition Data'!A31),\"\",'Competition Data'!A31)","v":"Ardwick"},{"$f":"IF(ISBLANK('Competition Data'!H31),\"\",'Competition Data'!H31)","v":""},{"$f":"IF(ISBLANK('Competition Data'!B31),\"\",'Competition Data'!B31)","v":"W26/27"},{"$f":"IF(ISBLANK('Competition Data'!C31),\"\",'Competition Data'!C31)","v":"Peak Reduction"},{"$f":"IF(ISBLANK('Competition Data'!G31),\"\",'Competition Data'!G31)","v":56615},{"$f":"IF(ISBLANK('Competition Data'!D31),\"\",'Competition Data'!D31)","v":3624},{"$f":"IF(ISBLANK('Competition Data'!E31),\"\",'Competition Data'!E31)","v":"0"},{"$f":"IF(ISBLANK('Competition Data'!F31),\"\",'Competition Data'!F31)","v":3.33},"Ardwick (Peak Reduction)",{"$f":"IF(ISBLANK('Competition Data'!I31),\"\",'Competition Data'!I31)","v":4.6913635489794432}]
["ArdwickW27/28Variable Availability + Operational Utilisation",{"$f":"IF(ISBLANK('Competition Data'!A32),\"\",'Competition Data'!A32)","v":"Ardwick"},{"$f":"IF(ISBLANK('Competition Data'!H32),\"\",'Competition Data'!H32)","v":""},{"$f":"IF(ISBLANK('Competition Data'!B32),\"\",'Competition Data'!B32)","v":"W27/28"},{"$f":"IF(ISBLANK('Competition Data'!C32),\"\",'Competition Data'!C32)","v":"Variable Availability + Operational Utilisation"},{"$f":"IF(ISBLANK('Competition Data'!G32),\"\",'Competition Data'!G32)","v":56615},{"$f":"IF(ISBLANK('Competition Data'!D32),\"\",'Competition Data'!D32)","v":48},{"$f":"IF(ISBLANK('Competition Data'!E32),\"\",'Competition Data'!E32)","v":"938"},{"$f":"IF(ISBLANK('Competition Data'!F32),\"\",'Competition Data'!F32)","v":4.2},"Ardwick (Variable Availability + Operational Utilisation)",{"$f":"IF(ISBLANK('Competition Data'!I32),\"\",'Competition Data'!I32)","v":"N/A"}]
["ArdwickW27/28Peak Reduction",{"$f":"IF(ISBLANK('Competition Data'!A33),\"\",'Competition Data'!A33)","v":"Ardwick"},{"$f":"IF(ISBLANK('Competition Data'!H33),\"\",'Competition Data'!H33)","v":""},{"$f":"IF(ISBLANK('Competition Data'!B33),\"\",'Competition Data'!B33)","v":"W27/28"},{"$f":"IF(ISBLANK('Competition Data'!C33),\"\",'Competition Data'!C33)","v":"Peak Reduction"},{"$f":"IF(ISBLANK('Competition Data'!G33),\"\",'Competition Data'!G33)","v":56615},{"$f":"IF(ISBLANK('Competition Data'!D33),\"\",'Competition Data'!D33)","v":4392},{"$f":"IF(ISBLANK('Competition Data'!E33),\"\",'Competition Data'!E33)","v":"0"},{"$f":"IF(ISBLANK('Competition Data'!F33),\"\",'Competition Data'!F33)","v":4.2},"Ardwick (Peak Reduction)",{"$f":"IF(ISBLANK('Competition Data'!I33),\"\",'Competition Data'!I33)","v":3.0691625466215631}]
["ARMISTEAD STW26/27Peak Reduction",{"$f":"IF(ISBLANK('Competition Data'!A34),\"\",'Competition Data'!A34)","v":"ARMISTEAD ST"},{"$f":"IF(ISBLANK('Competition Data'!H34),\"\",'Competition Data'!H34)","v":""},{"$f":"IF(ISBLANK('Competition Data'!B34),\"\",'Competition Data'!B34)","v":"W26/27"},{"$f":"IF(ISBLANK('Competition Data'!C34),\"\",'Competition Data'!C34)","v":"Peak Reduction"},{"$f":"IF(ISBLANK('Competition Data'!G34),\"\",'Competition Data'!G34)","v":892.77},{"$f":"IF(ISBLANK('Competition Data'!D34),\"\",'Competition Data'!D34)","v":604},{"$f":"IF(ISBLANK('Competition Data'!E34),\"\",'Competition Data'!E34)","v":"0"},{"$f":"IF(ISBLANK('Competition Data'!F34),\"\",'Competition Data'!F34)","v":0.05},"ARMISTEAD ST (Peak Reduction)",{"$f":"IF(ISBLANK('Competition Data'!I34),\"\",'Competition Data'!I34)","v":29.561920529801323}]
["ARMISTEAD STW26/27Scheduled Utilisation",{"$f":"IF(ISBLANK('Competition Data'!A35),\"\",'Competition Data'!A35)","v":"ARMISTEAD ST"},{"$f":"IF(ISBLANK('Competition Data'!H35),\"\",'Competition Data'!H35)","v":""},{"$f":"IF(ISBLANK('Competition Data'!B35),\"\",'Competition Data'!B35)","v":"W26/27"},{"$f":"IF(ISBLANK('Competition Data'!C35),\"\",'Competition Data'!C35)","v":"Scheduled Utilisation"},{"$f":"IF(ISBLANK('Competition Data'!G35),\"\",'Competition Data'!G35)","v":892.77},{"$f":"IF(ISBLANK('Competition Data'!D35),\"\",'Competition Data'!D35)","v":604},{"$f":"IF(ISBLANK('Competition Data'!E35),\"\",'Competition Data'!E35)","v":"0"},{"$f":"IF(ISBLANK('Competition Data'!F35),\"\",'Competition Data'!F35)","v":0.05},"ARMISTEAD ST (Scheduled Utilisation)",{"$f":"IF(ISBLANK('Competition Data'!I35),\"\",'Competition Data'!I35)","v":29.561920529801323}]
["ASH GRW26/27Peak Reduction",{"$f":"IF(ISBLANK('Competition Data'!A36),\"\",'Competition Data'!A36)","v":"ASH GR"},{"$f":"IF(ISBLANK('Competition Data'!H36),\"\",'Competition Data'!H36)","v":""},{"$f":"IF(ISBLANK('Competition Data'!B36),\"\",'Competition Data'!B36)","v":"W26/27"},{"$f":"IF(ISBLANK('Competition Data'!C36),\"\",'Competition Data'!C36)","v":"Peak Reduction"},{"$f":"IF(ISBLANK('Competition Data'!G36),\"\",'Competition Data'!G36)","v":892.77},{"$f":"IF(ISBLANK('Competition Data'!D36),\"\",'Competition Data'!D36)","v":604},{"$f":"IF(ISBLANK('Competition Data'!E36),\"\",'Competition Data'!E36)","v":"0"},{"$f":"IF(ISBLANK('Competition Data'!F36),\"\",'Competition Data'!F36)","v":0.04},"ASH GR (Peak Reduction)",{"$f":"IF(ISBLANK('Competition Data'!I36),\"\",'Competition Data'!I36)","v":36.952400662251655}]
["ASH GRW26/27Scheduled Utilisation",{"$f":"IF(ISBLANK('Competition Data'!A37),\"\",'Competition Data'!A37)","v":"ASH GR"},{"$f":"IF(ISBLANK('Competition Data'!H37),\"\",'Competition Data'!H37)","v":""},{"$f":"IF(ISBLANK('Competition Data'!B37),\"\",'Competition Data'!B37)","v":"W26/27"},{"$f":"IF(ISBLANK('Competition Data'!C37),\"\",'Competition Data'!C37)","v":"Scheduled Utilisation"},{"$f":"IF(ISBLANK('Competition Data'!G37),\"\",'Competition Data'!G37)","v":892.77},{"$f":"IF(ISBLANK('Competition Data'!D37),\"\",'Competition Data'!D37)","v":604},{"$f":"IF(ISBLANK('Competition Data'!E37),\"\",'Competition Data'!E37)","v":"0"},{"$f":"IF(ISBLANK('Competition Data'!F37),\"\",'Competition Data'!F37)","v":0.04},"ASH GR (Scheduled Utilisation)",{"$f":"IF(ISBLANK('Competition Data'!I37),\"\",'Competition Data'!I37)","v":36.952400662251655}]
["ASHLEY RD (NO 125)W26/27Peak Reduction",{"$f":"IF(ISBLANK('Competition Data'!A38),\"\",'Competition Data'!A38)","v":"ASHLEY RD (NO 125)"},{"$f":"IF(ISBLANK('Competition Data'!H38),\"\",'Competition Data'!H38)","v":""},{"$f":"IF(ISBLANK('Competition Data'!B38),\"\",'Competition Data'!B38)","v":"W26/27"},{"$f":"IF(ISBLANK('Competition Data'!C38),\"\",'Competition Data'!C38)","v":"Peak Reduction"},{"$f":"IF(ISBLANK('Competition Data'!G38),\"\",'Competition Data'!G38)","v":892.77},{"$f":"IF(ISBLANK('Competition Data'!D38),\"\",'Competition Data'!D38)","v":604},{"$f":"IF(ISBLANK('Competition Data'!E38),\"\",'Competition Data'!E38)","v":"0"},{"$f":"IF(ISBLANK('Competition Data'!F38),\"\",'Competition Data'!F38)","v":0.04},"ASHLEY RD (NO 125) (Peak Reduction)",{"$f":"IF(ISBLANK('Competition Data'!I38),\"\",'Competition Data'!I38)","v":36.952400662251655}]
["ASHLEY RD (NO 125)W26/27Scheduled Utilisation",{"$f":"IF(ISBLANK('Competition Data'!A39),\"\",'Competition Data'!A39)","v":"ASHLEY RD (NO 125)"},{"$f":"IF(ISBLANK('Competition Data'!H39),\"\",'Competition Data'!H39)","v":""},{"$f":"IF(ISBLANK('Competition Data'!B39),\"\",'Competition Data'!B39)","v":"W26/27"},{"$f":"IF(ISBLANK('Competition Data'!C39),\"\",'Competition Data'!C39)","v":"Scheduled Utilisation"},{"$f":"IF(ISBLANK('Competition Data'!G39),\"\",'Competition Data'!G39)","v":892.77},{"$f":"IF(ISBLANK('Competition Data'!D39),\"\",'Competition Data'!D39)","v":604},{"$f":"IF(ISBLANK('Competition Data'!E39),\"\",'Competition Data'!E39)","v":"0"},{"$f":"IF(ISBLANK('Competition Data'!F39),\"\",'Competition Data'!F39)","v":0.04},"ASHLEY RD (NO 125) (Scheduled Utilisation)",{"$f":"IF(ISBLANK('Competition Data'!I39),\"\",'Competition Data'!I39)","v":36.952400662251655}]
["Ashton (Golborne)W26/27Variable Availability + Operational Utilisation",{"$f":"IF(ISBLANK('Competition Data'!A40),\"\",'Competition Data'!A40)","v":"Ashton (Golborne)"},{"$f":"IF(ISBLANK('Competition Data'!H40),\"\",'Competition Data'!H40)","v":""},{"$f":"IF(ISBLANK('Competition Data'!B40),\"\",'Competition Data'!B40)","v":"W26/27"},{"$f":"IF(ISBLANK('Competition Data'!C40),\"\",'Competition Data'!C40)","v":"Variable Availability + Operational Utilisation"},{"$f":"IF(ISBLANK('Competition Data'!G40),\"\",'Competition Data'!G40)","v":90361},{"$f":"IF(ISBLANK('Competition Data'!D40),\"\",'Competition Data'!D40)","v":13},{"$f":"IF(ISBLANK('Competition Data'!E40),\"\",'Competition Data'!E40)","v":"13"},{"$f":"IF(ISBLANK('Competition Data'!F40),\"\",'Competition Data'!F40)","v":1.53},"Ashton (Golborne) (Variable Availability + Operational Utilisation)",{"$f":"IF(ISBLANK('Competition Data'!I40),\"\",'Competition Data'!I40)","v":"N/A"}]
["Ashton (Golborne)W26/27Peak Reduction",{"$f":"IF(ISBLANK('Competition Data'!A41),\"\",'Competition Data'!A41)","v":"Ashton (Golborne)"},{"$f":"IF(ISBLANK('Competition Data'!H41),\"\",'Competition Data'!H41)","v":""},{"$f":"IF(ISBLANK('Competition Data'!B41),\"\",'Competition Data'!B41)","v":"W26/27"},{"$f":"IF(ISBLANK('Competition Data'!C41),\"\",'Competition Data'!C41)","v":"Peak Reduction"},{"$f":"IF(ISBLANK('Competition Data'!G41),\"\",'Competition Data'!G41)","v":90361},{"$f":"IF(ISBLANK('Competition Data'!D41),\"\",'Competition Data'!D41)","v":3624},{"$f":"IF(ISBLANK('Competition Data'!E41),\"\",'Competition Data'!E41)","v":"0"},{"$f":"IF(ISBLANK('Competition Data'!F41),\"\",'Competition Data'!F41)","v":1.53},"Ashton (Golborne) (Peak Reduction)",{"$f":"IF(ISBLANK('Competition Data'!I41),\"\",'Competition Data'!I41)","v":16.296765210867274}]
["Ashton (Golborne)W27/28Variable Availability + Operational Utilisation",{"$f":"IF(ISBLANK('Competition Data'!A42),\"\",'Competition Data'!A42)","v":"Ashton (Golborne)"},{"$f":"IF(ISBLANK('Competition Data'!H42),\"\",'Competition Data'!H42)","v":""},{"$f":"IF(ISBLANK('Competition Data'!B42),\"\",'Competition Data'!B42)","v":"W27/28"},{"$f":"IF(ISBLANK('Competition Data'!C42),\"\",'Competition Data'!C42)","v":"Variable Availability + Operational Utilisation"},{"$f":"IF(ISBLANK('Competition Data'!G42),\"\",'Competition Data'!G42)","v":90361},{"$f":"IF(ISBLANK('Competition Data'!D42),\"\",'Competition Data'!D42)","v":22},{"$f":"IF(ISBLANK('Competition Data'!E42),\"\",'Competition Data'!E42)","v":"22"},{"$f":"IF(ISBLANK('Competition Data'!F42),\"\",'Competition Data'!F42)","v":1.89},"Ashton (Golborne) (Variable Availability + Operational Utilisation)",{"$f":"IF(ISBLANK('Competition Data'!I42),\"\",'Competition Data'!I42)","v":"N/A"}]
["Ashton (Golborne)W27/28Peak Reduction",{"$f":"IF(ISBLANK('Competition Data'!A43),\"\",'Competition Data'!A43)","v":"Ashton (Golborne)"},{"$f":"IF(ISBLANK('Competition Data'!H43),\"\",'Competition Data'!H43)","v":""},{"$f":"IF(ISBLANK('Competition Data'!B43),\"\",'Competition Data'!B43)","v":"W27/28"},{"$f":"IF(ISBLANK('Competition Data'!C43),\"\",'Competition Data'!C43)","v":"Peak Reduction"},{"$f":"IF(ISBLANK('Competition Data'!G43),\"\",'Competition Data'!G43)","v":90361},{"$f":"IF(ISBLANK('Competition Data'!D43),\"\",'Competition Data'!D43)","v":4392},{"$f":"IF(ISBLANK('Competition Data'!E43),\"\",'Competition Data'!E43)","v":"0"},{"$f":"IF(ISBLANK('Competition Data'!F43),\"\",'Competition Data'!F43)","v":1.89},"Ashton (Golborne) (Peak Reduction)",{"$f":"IF(ISBLANK('Competition Data'!I43),\"\",'Competition Data'!I43)","v":10.885713321961045}]
["Ashton (Ribble)-MOORSIDE-CATTERALL WATERWORKS GroupS27Variable Availability + Operational Utilisation",{"$f":"IF(ISBLANK('Competition Data'!A44),\"\",'Competition Data'!A44)","v":"Ashton (Ribble)-MOORSIDE-CATTERALL WATERWORKS Group"},{"$f":"IF(ISBLANK('Competition Data'!H44),\"\",'Competition Data'!H44)","v":""},{"$f":"IF(ISBLANK('Competition Data'!B44),\"\",'Competition Data'!B44)","v":"S27"},{"$f":"IF(ISBLANK('Competition Data'!C44),\"\",'Competition Data'!C44)","v":"Variable Availability + Operational Utilisation"},{"$f":"IF(ISBLANK('Competition Data'!G44),\"\",'Competition Data'!G44)","v":11602},{"$f":"IF(ISBLANK('Competition Data'!D44),\"\",'Competition Data'!D44)","v":36},{"$f":"IF(ISBLANK('Competition Data'!E44),\"\",'Competition Data'!E44)","v":"36"},{"$f":"IF(ISBLANK('Competition Data'!F44),\"\",'Competition Data'!F44)","v":1.81},"Ashton (Ribble)-MOORSIDE-CATTERALL WATERWORKS Group (Variable Availability + Operational Utilisation)",{"$f":"IF(ISBLANK('Competition Data'!I44),\"\",'Competition Data'!I44)","v":"N/A"}]
["Ashton (Ribble)-MOORSIDE-CATTERALL WATERWORKS GroupS27Peak Reduction",{"$f":"IF(ISBLANK('Competition Data'!A45),\"\",'Competition Data'!A45)","v":"Ashton (Ribble)-MOORSIDE-CATTERALL WATERWORKS Group"},{"$f":"IF(ISBLANK('Competition Data'!H45),\"\",'Competition Data'!H45)","v":""},{"$f":"IF(ISBLANK('Competition Data'!B45),\"\",'Competition Data'!B45)","v":"S27"},{"$f":"IF(ISBLANK('Competition Data'!C45),\"\",'Competition Data'!C45)","v":"Peak Reduction"},{"$f":"IF(ISBLANK('Competition Data'!G45),\"\",'Competition Data'!G45)","v":11602},{"$f":"IF(ISBLANK('Competition Data'!D45),\"\",'Competition Data'!D45)","v":4392},{"$f":"IF(ISBLANK('Competition Data'!E45),\"\",'Competition Data'!E45)","v":"0"},{"$f":"IF(ISBLANK('Competition Data'!F45),\"\",'Competition Data'!F45)","v":1.81},"Ashton (Ribble)-MOORSIDE-CATTERALL WATERWORKS Group (Peak Reduction)",{"$f":"IF(ISBLANK('Competition Data'!I45),\"\",'Competition Data'!I45)","v":1.4594591874729543}]
["Ashton (Ribble)-MOORSIDE-CATTERALL WATERWORKS GroupW26/27Variable Availability + Operational Utilisation",{"$f":"IF(ISBLANK('Competition Data'!A46),\"\",'Competition Data'!A46)","v":"Ashton (Ribble)-MOORSIDE-CATTERALL WATERWORKS Group"},{"$f":"IF(ISBLANK('Competition Data'!H46),\"\",'Competition Data'!H46)","v":""},{"$f":"IF(ISBLANK('Competition Data'!B46),\"\",'Competition Data'!B46)","v":"W26/27"},{"$f":"IF(ISBLANK('Competition Data'!C46),\"\",'Competition Data'!C46)","v":"Variable Availability + Operational Utilisation"},{"$f":"IF(ISBLANK('Competition Data'!G46),\"\",'Competition Data'!G46)","v":48330},{"$f":"IF(ISBLANK('Competition Data'!D46),\"\",'Competition Data'!D46)","v":48},{"$f":"IF(ISBLANK('Competition Data'!E46),\"\",'Competition Data'!E46)","v":"596"},{"$f":"IF(ISBLANK('Competition Data'!F46),\"\",'Competition Data'!F46)","v":5.14},"Ashton (Ribble)-MOORSIDE-CATTERALL WATERWORKS Group (Variable Availability + Operational Utilisation)",{"$f":"IF(ISBLANK('Competition Data'!I46),\"\",'Competition Data'!I46)","v":"N/A"}]
["Ashton (Ribble)-MOORSIDE-CATTERALL WATERWORKS GroupW26/27Peak Reduction",{"$f":"IF(ISBLANK('Competition Data'!A47),\"\",'Competition Data'!A47)","v":"Ashton (Ribble)-MOORSIDE-CATTERALL WATERWORKS Group"},{"$f":"IF(ISBLANK('Competition Data'!H47),\"\",'Competition Data'!H47)","v":""},{"$f":"IF(ISBLANK('Competition Data'!B47),\"\",'Competition Data'!B47)","v":"W26/27"},{"$f":"IF(ISBLANK('Competition Data'!C47),\"\",'Competition Data'!C47)","v":"Peak Reduction"},{"$f":"IF(ISBLANK('Competition Data'!G47),\"\",'Competition Data'!G47)","v":48330},{"$f":"IF(ISBLANK('Competition Data'!D47),\"\",'Competition Data'!D47)","v":3624},{"$f":"IF(ISBLANK('Competition Data'!E47),\"\",'Competition Data'!E47)","v":"0"},{"$f":"IF(ISBLANK('Competition Data'!F47),\"\",'Competition Data'!F47)","v":5.14},"Ashton (Ribble)-MOORSIDE-CATTERALL WATERWORKS Group (Peak Reduction)",{"$f":"IF(ISBLANK('Competition Data'!I47),\"\",'Competition Data'!I47)","v":2.5945705671657175}]
["Ashton (Ribble)-MOORSIDE-CATTERALL WATERWORKS GroupW27/28Variable Availability + Operational Utilisation",{"$f":"IF(ISBLANK('Competition Data'!A48),\"\",'Competition Data'!A48)","v":"Ashton (Ribble)-MOORSIDE-CATTERALL WATERWORKS Group"},{"$f":"IF(ISBLANK('Competition Data'!H48),\"\",'Competition Data'!H48)","v":""},{"$f":"IF(ISBLANK('Competition Data'!B48),\"\",'Competition Data'!B48)","v":"W27/28"},{"$f":"IF(ISBLANK('Competition Data'!C48),\"\",'Competition Data'!C48)","v":"Variable Availability + Operational Utilisation"},{"$f":"IF(ISBLANK('Competition Data'!G48),\"\",'Competition Data'!G48)","v":36728},{"$f":"IF(ISBLANK('Competition Data'!D48),\"\",'Competition Data'!D48)","v":48},{"$f":"IF(ISBLANK('Competition Data'!E48),\"\",'Competition Data'!E48)","v":"784"},{"$f":"IF(ISBLANK('Competition Data'!F48),\"\",'Competition Data'!F48)","v":5.73},"Ashton (Ribble)-MOORSIDE-CATTERALL WATERWORKS Group (Variable Availability + Operational Utilisation)",{"$f":"IF(ISBLANK('Competition Data'!I48),\"\",'Competition Data'!I48)","v":"N/A"}]
["Ashton (Ribble)-MOORSIDE-CATTERALL WATERWORKS GroupW27/28Peak Reduction",{"$f":"IF(ISBLANK('Competition Data'!A49),\"\",'Competition Data'!A49)","v":"Ashton (Ribble)-MOORSIDE-CATTERALL WATERWORKS Group"},{"$f":"IF(ISBLANK('Competition Data'!H49),\"\",'Competition Data'!H49)","v":""},{"$f":"IF(ISBLANK('Competition Data'!B49),\"\",'Competition Data'!B49)","v":"W27/28"},{"$f":"IF(ISBLANK('Competition Data'!C49),\"\",'Competition Data'!C49)","v":"Peak Reduction"},{"$f":"IF(ISBLANK('Competition Data'!G49),\"\",'Competition Data'!G49)","v":36728},{"$f":"IF(ISBLANK('Competition Data'!D49),\"\",'Competition Data'!D49)","v":4392},{"$f":"IF(ISBLANK('Competition Data'!E49),\"\",'Competition Data'!E49)","v":"0"},{"$f":"IF(ISBLANK('Competition Data'!F49),\"\",'Competition Data'!F49)","v":5.73},"Ashton (Ribble)-MOORSIDE-CATTERALL WATERWORKS Group (Peak Reduction)",{"$f":"IF(ISBLANK('Competition Data'!I49),\"\",'Competition Data'!I49)","v":1.4594201101797015}]
["Ashton On MerseyW26/27Variable Availability + Operational Utilisation",{"$f":"IF(ISBLANK('Competition Data'!A50),\"\",'Competition Data'!A50)","v":"Ashton On Mersey"},{"$f":"IF(ISBLANK('Competition Data'!H50),\"\",'Competition Data'!H50)","v":""},{"$f":"IF(ISBLANK('Competition Data'!B50),\"\",'Competition Data'!B50)","v":"W26/27"},{"$f":"IF(ISBLANK('Competition Data'!C50),\"\",'Competition Data'!C50)","v":"Variable Availability + Operational Utilisation"},{"$f":"IF(ISBLANK('Competition Data'!G50),\"\",'Competition Data'!G50)","v":128043},{"$f":"IF(ISBLANK('Competition Data'!D50),\"\",'Competition Data'!D50)","v":48},{"$f":"IF(ISBLANK('Competition Data'!E50),\"\",'Competition Data'!E50)","v":"248"},{"$f":"IF(ISBLANK('Competition Data'!F50),\"\",'Competition Data'!F50)","v":5.14},"Ashton On Mersey (Variable Availability + Operational Utilisation)",{"$f":"IF(ISBLANK('Competition Data'!I50),\"\",'Competition Data'!I50)","v":"N/A"}]
["Ashton On MerseyW26/27Peak Reduction",{"$f":"IF(ISBLANK('Competition Data'!A51),\"\",'Competition Data'!A51)","v":"Ashton On Mersey"},{"$f":"IF(ISBLANK('Competition Data'!H51),\"\",'Competition Data'!H51)","v":""},{"$f":"IF(ISBLANK('Competition Data'!B51),\"\",'Competition Data'!B51)","v":"W26/27"},{"$f":"IF(ISBLANK('Competition Data'!C51),\"\",'Competition Data'!C51)","v":"Peak Reduction"},{"$f":"IF(ISBLANK('Competition Data'!G51),\"\",'Competition Data'!G51)","v":128043},{"$f":"IF(ISBLANK('Competition Data'!D51),\"\",'Competition Data'!D51)","v":3624},{"$f":"IF(ISBLANK('Competition Data'!E51),\"\",'Competition Data'!E51)","v":"0"},{"$f":"IF(ISBLANK('Competition Data'!F51),\"\",'Competition Data'!F51)","v":5.14},"Ashton On Mersey (Peak Reduction)",{"$f":"IF(ISBLANK('Competition Data'!I51),\"\",'Competition Data'!I51)","v":6.873920942098076}]
["Ashton On MerseyW27/28Variable Availability + Operational Utilisation",{"$f":"IF(ISBLANK('Competition Data'!A52),\"\",'Competition Data'!A52)","v":"Ashton On Mersey"},{"$f":"IF(ISBLANK('Competition Data'!H52),\"\",'Competition Data'!H52)","v":""},{"$f":"IF(ISBLANK('Competition Data'!B52),\"\",'Competition Data'!B52)","v":"W27/28"},{"$f":"IF(ISBLANK('Competition Data'!C52),\"\",'Competition Data'!C52)","v":"Variable Availability + Operational Utilisation"},{"$f":"IF(ISBLANK('Competition Data'!G52),\"\",'Competition Data'!G52)","v":128043},{"$f":"IF(ISBLANK('Competition Data'!D52),\"\",'Competition Data'!D52)","v":48},{"$f":"IF(ISBLANK('Competition Data'!E52),\"\",'Competition Data'!E52)","v":"319"},{"$f":"IF(ISBLANK('Competition Data'!F52),\"\",'Competition Data'!F52)","v":5.74},"Ashton On Mersey (Variable Availability + Operational Utilisation)",{"$f":"IF(ISBLANK('Competition Data'!I52),\"\",'Competition Data'!I52)","v":"N/A"}]
["Ashton On MerseyW27/28Peak Reduction",{"$f":"IF(ISBLANK('Competition Data'!A53),\"\",'Competition Data'!A53)","v":"Ashton On Mersey"},{"$f":"IF(ISBLANK('Competition Data'!H53),\"\",'Competition Data'!H53)","v":""},{"$f":"IF(ISBLANK('Competition Data'!B53),\"\",'Competition Data'!B53)","v":"W27/28"},{"$f":"IF(ISBLANK('Competition Data'!C53),\"\",'Competition Data'!C53)","v":"Peak Reduction"},{"$f":"IF(ISBLANK('Competition Data'!G53),\"\",'Competition Data'!G53)","v":128043},{"$f":"IF(ISBLANK('Competition Data'!D53),\"\",'Competition Data'!D53)","v":4392},{"$f":"IF(ISBLANK('Competition Data'!E53),\"\",'Competition Data'!E53)","v":"0"},{"$f":"IF(ISBLANK('Competition Data'!F53),\"\",'Competition Data'!F53)","v":5.74},"Ashton On Mersey (Peak Reduction)",{"$f":"IF(ISBLANK('Competition Data'!I53),\"\",'Competition Data'!I53)","v":5.0790398126463696}]
["Askerton CastleFY27Operational Utilisation",{"$f":"IF(ISBLANK('Competition Data'!A54),\"\",'Competition Data'!A54)","v":"Askerton Castle"},{"$f":"IF(ISBLANK('Competition Data'!H54),\"\",'Competition Data'!H54)","v":""},{"$f":"IF(ISBLANK('Competition Data'!B54),\"\",'Competition Data'!B54)","v":"FY27"},{"$f":"IF(ISBLANK('Competition Data'!C54),\"\",'Competition Data'!C54)","v":"Operational Utilisation"},{"$f":"IF(ISBLANK('Competition Data'!G54),\"\",'Competition Data'!G54)","v":20145},{"$f":"IF(ISBLANK('Competition Data'!D54),\"\",'Competition Data'!D54)","v":100},{"$f":"IF(ISBLANK('Competition Data'!E54),\"\",'Competition Data'!E54)","v":"0"},{"$f":"IF(ISBLANK('Competition Data'!F54),\"\",'Competition Data'!F54)","v":1.4},"Askerton Castle (Operational Utilisation)",{"$f":"IF(ISBLANK('Competition Data'!I54),\"\",'Competition Data'!I54)","v":143.89285714285714}]
["Askerton CastleFY28Operational Utilisation",{"$f":"IF(ISBLANK('Competition Data'!A55),\"\",'Competition Data'!A55)","v":"Askerton Castle"},{"$f":"IF(ISBLANK('Competition Data'!H55),\"\",'Competition Data'!H55)","v":""},{"$f":"IF(ISBLANK('Competition Data'!B55),\"\",'Competition Data'!B55)","v":"FY28"},{"$f":"IF(ISBLANK('Competition Data'!C55),\"\",'Competition Data'!C55)","v":"Operational Utilisation"},{"$f":"IF(ISBLANK('Competition Data'!G55),\"\",'Competition Data'!G55)","v":20145},{"$f":"IF(ISBLANK('Competition Data'!D55),\"\",'Competition Data'!D55)","v":100},{"$f":"IF(ISBLANK('Competition Data'!E55),\"\",'Competition Data'!E55)","v":"0"},{"$f":"IF(ISBLANK('Competition Data'!F55),\"\",'Competition Data'!F55)","v":1.4},"Askerton Castle (Operational Utilisation)",{"$f":"IF(ISBLANK('Competition Data'!I55),\"\",'Competition Data'!I55)","v":143.89285714285714}]
["ATE GRIMSARGHW26/27Peak Reduction",{"$f":"IF(ISBLANK('Competition Data'!A56),\"\",'Competition Data'!A56)","v":"ATE GRIMSARGH"},{"$f":"IF(ISBLANK('Competition Data'!H56),\"\",'Competition Data'!H56)","v":""},{"$f":"IF(ISBLANK('Competition Data'!B56),\"\",'Competition Data'!B56)","v":"W26/27"},{"$f":"IF(ISBLANK('Competition Data'!C56),\"\",'Competition Data'!C56)","v":"Peak Reduction"},{"$f":"IF(ISBLANK('Competition Data'!G56),\"\",'Competition Data'!G56)","v":892.77},{"$f":"IF(ISBLANK('Competition Data'!D56),\"\",'Competition Data'!D56)","v":604},{"$f":"IF(ISBLANK('Competition Data'!E56),\"\",'Competition Data'!E56)","v":"0"},{"$f":"IF(ISBLANK('Competition Data'!F56),\"\",'Competition Data'!F56)","v":0.01},"ATE GRIMSARGH (Peak Reduction)",{"$f":"IF(ISBLANK('Competition Data'!I56),\"\",'Competition Data'!I56)","v":147.80960264900662}]
["ATE GRIMSARGHW26/27Scheduled Utilisation",{"$f":"IF(ISBLANK('Competition Data'!A57),\"\",'Competition Data'!A57)","v":"ATE GRIMSARGH"},{"$f":"IF(ISBLANK('Competition Data'!H57),\"\",'Competition Data'!H57)","v":""},{"$f":"IF(ISBLANK('Competition Data'!B57),\"\",'Competition Data'!B57)","v":"W26/27"},{"$f":"IF(ISBLANK('Competition Data'!C57),\"\",'Competition Data'!C57)","v":"Scheduled Utilisation"},{"$f":"IF(ISBLANK('Competition Data'!G57),\"\",'Competition Data'!G57)","v":892.77},{"$f":"IF(ISBLANK('Competition Data'!D57),\"\",'Competition Data'!D57)","v":604},{"$f":"IF(ISBLANK('Competition Data'!E57),\"\",'Competition Data'!E57)","v":"0"},{"$f":"IF(ISBLANK('Competition Data'!F57),\"\",'Competition Data'!F57)","v":0.01},"ATE GRIMSARGH (Scheduled Utilisation)",{"$f":"IF(ISBLANK('Competition Data'!I57),\"\",'Competition Data'!I57)","v":147.80960264900662}]
["BACK BOWNESS RDW26/27Peak Reduction",{"$f":"IF(ISBLANK('Competition Data'!A58),\"\",'Competition Data'!A58)","v":"BACK BOWNESS RD"},{"$f":"IF(ISBLANK('Competition Data'!H58),\"\",'Competition Data'!H58)","v":""},{"$f":"IF(ISBLANK('Competition Data'!B58),\"\",'Competition Data'!B58)","v":"W26/27"},{"$f":"IF(ISBLANK('Competition Data'!C58),\"\",'Competition Data'!C58)","v":"Peak Reduction"},{"$f":"IF(ISBLANK('Competition Data'!G58),\"\",'Competition Data'!G58)","v":892.77},{"$f":"IF(ISBLANK('Competition Data'!D58),\"\",'Competition Data'!D58)","v":604},{"$f":"IF(ISBLANK('Competition Data'!E58),\"\",'Competition Data'!E58)","v":"0"},{"$f":"IF(ISBLANK('Competition Data'!F58),\"\",'Competition Data'!F58)","v":0.03},"BACK BOWNESS RD (Peak Reduction)",{"$f":"IF(ISBLANK('Competition Data'!I58),\"\",'Competition Data'!I58)","v":49.269867549668874}]
["BACK BOWNESS RDW26/27Scheduled Utilisation",{"$f":"IF(ISBLANK('Competition Data'!A59),\"\",'Competition Data'!A59)","v":"BACK BOWNESS RD"},{"$f":"IF(ISBLANK('Competition Data'!H59),\"\",'Competition Data'!H59)","v":""},{"$f":"IF(ISBLANK('Competition Data'!B59),\"\",'Competition Data'!B59)","v":"W26/27"},{"$f":"IF(ISBLANK('Competition Data'!C59),\"\",'Competition Data'!C59)","v":"Scheduled Utilisation"},{"$f":"IF(ISBLANK('Competition Data'!G59),\"\",'Competition Data'!G59)","v":892.77},{"$f":"IF(ISBLANK('Competition Data'!D59),\"\",'Competition Data'!D59)","v":604},{"$f":"IF(ISBLANK('Competition Data'!E59),\"\",'Competition Data'!E59)","v":"0"},{"$f":"IF(ISBLANK('Competition Data'!F59),\"\",'Competition Data'!F59)","v":0.03},"BACK BOWNESS RD (Scheduled Utilisation)",{"$f":"IF(ISBLANK('Competition Data'!I59),\"\",'Competition Data'!I59)","v":49.269867549668874}]
["BACK HULTON LN SW26/27Peak Reduction",{"$f":"IF(ISBLANK('Competition Data'!A60),\"\",'Competition Data'!A60)","v":"BACK HULTON LN S"},{"$f":"IF(ISBLANK('Competition Data'!H60),\"\",'Competition Data'!H60)","v":""},{"$f":"IF(ISBLANK('Competition Data'!B60),\"\",'Competition Data'!B60)","v":"W26/27"},{"$f":"IF(ISBLANK('Competition Data'!C60),\"\",'Competition Data'!C60)","v":"Peak Reduction"},{"$f":"IF(ISBLANK('Competition Data'!G60),\"\",'Competition Data'!G60)","v":892.77},{"$f":"IF(ISBLANK('Competition Data'!D60),\"\",'Competition Data'!D60)","v":604},{"$f":"IF(ISBLANK('Competition Data'!E60),\"\",'Competition Data'!E60)","v":"0"},{"$f":"IF(ISBLANK('Competition Data'!F60),\"\",'Competition Data'!F60)","v":0.02},"BACK HULTON LN S (Peak Reduction)",{"$f":"IF(ISBLANK('Competition Data'!I60),\"\",'Competition Data'!I60)","v":73.90480132450331}]
["BACK HULTON LN SW26/27Scheduled Utilisation",{"$f":"IF(ISBLANK('Competition Data'!A61),\"\",'Competition Data'!A61)","v":"BACK HULTON LN S"},{"$f":"IF(ISBLANK('Competition Data'!H61),\"\",'Competition Data'!H61)","v":""},{"$f":"IF(ISBLANK('Competition Data'!B61),\"\",'Competition Data'!B61)","v":"W26/27"},{"$f":"IF(ISBLANK('Competition Data'!C61),\"\",'Competition Data'!C61)","v":"Scheduled Utilisation"},{"$f":"IF(ISBLANK('Competition Data'!G61),\"\",'Competition Data'!G61)","v":892.77},{"$f":"IF(ISBLANK('Competition Data'!D61),\"\",'Competition Data'!D61)","v":604},{"$f":"IF(ISBLANK('Competition Data'!E61),\"\",'Competition Data'!E61)","v":"0"},{"$f":"IF(ISBLANK('Competition Data'!F61),\"\",'Competition Data'!F61)","v":0.02},"BACK HULTON LN S (Scheduled Utilisation)",{"$f":"IF(ISBLANK('Competition Data'!I61),\"\",'Competition Data'!I61)","v":73.90480132450331}]
["BACK TOTTINGTON RDW26/27Peak Reduction",{"$f":"IF(ISBLANK('Competition Data'!A62),\"\",'Competition Data'!A62)","v":"BACK TOTTINGTON RD"},{"$f":"IF(ISBLANK('Competition Data'!H62),\"\",'Competition Data'!H62)","v":""},{"$f":"IF(ISBLANK('Competition Data'!B62),\"\",'Competition Data'!B62)","v":"W26/27"},{"$f":"IF(ISBLANK('Competition Data'!C62),\"\",'Competition Data'!C62)","v":"Peak Reduction"},{"$f":"IF(ISBLANK('Competition Data'!G62),\"\",'Competition Data'!G62)","v":892.77},{"$f":"IF(ISBLANK('Competition Data'!D62),\"\",'Competition Data'!D62)","v":604},{"$f":"IF(ISBLANK('Competition Data'!E62),\"\",'Competition Data'!E62)","v":"0"},{"$f":"IF(ISBLANK('Competition Data'!F62),\"\",'Competition Data'!F62)","v":0.01},"BACK TOTTINGTON RD (Peak Reduction)",{"$f":"IF(ISBLANK('Competition Data'!I62),\"\",'Competition Data'!I62)","v":147.80960264900662}]
["BACK TOTTINGTON RDW26/27Scheduled Utilisation",{"$f":"IF(ISBLANK('Competition Data'!A63),\"\",'Competition Data'!A63)","v":"BACK TOTTINGTON RD"},{"$f":"IF(ISBLANK('Competition Data'!H63),\"\",'Competition Data'!H63)","v":""},{"$f":"IF(ISBLANK('Competition Data'!B63),\"\",'Competition Data'!B63)","v":"W26/27"},{"$f":"IF(ISBLANK('Competition Data'!C63),\"\",'Competition Data'!C63)","v":"Scheduled Utilisation"},{"$f":"IF(ISBLANK('Competition Data'!G63),\"\",'Competition Data'!G63)","v":892.77},{"$f":"IF(ISBLANK('Competition Data'!D63),\"\",'Competition Data'!D63)","v":604},{"$f":"IF(ISBLANK('Competition Data'!E63),\"\",'Competition Data'!E63)","v":"0"},{"$f":"IF(ISBLANK('Competition Data'!F63),\"\",'Competition Data'!F63)","v":0.01},"BACK TOTTINGTON RD (Scheduled Utilisation)",{"$f":"IF(ISBLANK('Competition Data'!I63),\"\",'Competition Data'!I63)","v":147.80960264900662}]
["BARBARA STW27/28Peak Reduction",{"$f":"IF(ISBLANK('Competition Data'!A64),\"\",'Competition Data'!A64)","v":"BARBARA ST"},{"$f":"IF(ISBLANK('Competition Data'!H64),\"\",'Competition Data'!H64)","v":""},{"$f":"IF(ISBLANK('Competition Data'!B64),\"\",'Competition Data'!B64)","v":"W27/28"},{"$f":"IF(ISBLANK('Competition Data'!C64),\"\",'Competition Data'!C64)","v":"Peak Reduction"},{"$f":"IF(ISBLANK('Competition Data'!G64),\"\",'Competition Data'!G64)","v":64727.519999999997},{"$f":"IF(ISBLANK('Competition Data'!D64),\"\",'Competition Data'!D64)","v":1216},{"$f":"IF(ISBLANK('Competition Data'!E64),\"\",'Competition Data'!E64)","v":"0"},{"$f":"IF(ISBLANK('Competition Data'!F64),\"\",'Competition Data'!F64)","v":1},"BARBARA ST (Peak Reduction)",{"$f":"IF(ISBLANK('Competition Data'!I64),\"\",'Competition Data'!I64)","v":53.229868421052629}]
["BARBARA STW27/28Scheduled Utilisation",{"$f":"IF(ISBLANK('Competition Data'!A65),\"\",'Competition Data'!A65)","v":"BARBARA ST"},{"$f":"IF(ISBLANK('Competition Data'!H65),\"\",'Competition Data'!H65)","v":""},{"$f":"IF(ISBLANK('Competition Data'!B65),\"\",'Competition Data'!B65)","v":"W27/28"},{"$f":"IF(ISBLANK('Competition Data'!C65),\"\",'Competition Data'!C65)","v":"Scheduled Utilisation"},{"$f":"IF(ISBLANK('Competition Data'!G65),\"\",'Competition Data'!G65)","v":64727.519999999997},{"$f":"IF(ISBLANK('Competition Data'!D65),\"\",'Competition Data'!D65)","v":1216},{"$f":"IF(ISBLANK('Competition Data'!E65),\"\",'Competition Data'!E65)","v":"0"},{"$f":"IF(ISBLANK('Competition Data'!F65),\"\",'Competition Data'!F65)","v":1},"BARBARA ST (Scheduled Utilisation)",{"$f":"IF(ISBLANK('Competition Data'!I65),\"\",'Competition Data'!I65)","v":53.229868421052629}]
["BARLEY HALLW26/27Peak Reduction",{"$f":"IF(ISBLANK('Competition Data'!A66),\"\",'Competition Data'!A66)","v":"BARLEY HALL"},{"$f":"IF(ISBLANK('Competition Data'!H66),\"\",'Competition Data'!H66)","v":""},{"$f":"IF(ISBLANK('Competition Data'!B66),\"\",'Competition Data'!B66)","v":"W26/27"},{"$f":"IF(ISBLANK('Competition Data'!C66),\"\",'Competition Data'!C66)","v":"Peak Reduction"},{"$f":"IF(ISBLANK('Competition Data'!G66),\"\",'Competition Data'!G66)","v":892.77},{"$f":"IF(ISBLANK('Competition Data'!D66),\"\",'Competition Data'!D66)","v":604},{"$f":"IF(ISBLANK('Competition Data'!E66),\"\",'Competition Data'!E66)","v":"0"},{"$f":"IF(ISBLANK('Competition Data'!F66),\"\",'Competition Data'!F66)","v":0.06},"BARLEY HALL (Peak Reduction)",{"$f":"IF(ISBLANK('Competition Data'!I66),\"\",'Competition Data'!I66)","v":24.634933774834437}]
[{"$f":"CONCATENATE(B67,D67,E67)","v":"BARLEY HALLW26/27Scheduled Utilisation"},{"$f":"IF(ISBLANK('Competition Data'!A67),\"\",'Competition Data'!A67)","v":"BARLEY HALL"},{"$f":"IF(ISBLANK('Competition Data'!H67),\"\",'Competition Data'!H67)","v":""},{"$f":"IF(ISBLANK('Competition Data'!B67),\"\",'Competition Data'!B67)","v":"W26/27"},{"$f":"IF(ISBLANK('Competition Data'!C67),\"\",'Competition Data'!C67)","v":"Scheduled Utilisation"},{"$f":"IF(ISBLANK('Competition Data'!G67),\"\",'Competition Data'!G67)","v":892.77},{"$f":"IF(ISBLANK('Competition Data'!D67),\"\",'Competition Data'!D67)","v":604},{"$f":"IF(ISBLANK('Competition Data'!E67),\"\",'Competition Data'!E67)","v":"0"},{"$f":"IF(ISBLANK('Competition Data'!F67),\"\",'Competition Data'!F67)","v":0.06},{"$f":"CONCATENATE(B67,\" (\",E67,\")\")","v":"BARLEY HALL (Scheduled Utilisation)"},{"$f":"IF(ISBLANK('Competition Data'!I67),\"\",'Competition Data'!I67)","v":24.634933774834437}]
["BARNFIELD RDW26/27Peak Reduction",{"$f":"IF(ISBLANK('Competition Data'!A68),\"\",'Competition Data'!A68)","v":"BARNFIELD RD"},{"$f":"IF(ISBLANK('Competition Data'!H68),\"\",'Competition Data'!H68)","v":""},{"$f":"IF(ISBLANK('Competition Data'!B68),\"\",'Competition Data'!B68)","v":"W26/27"},{"$f":"IF(ISBLANK('Competition Data'!C68),\"\",'Competition Data'!C68)","v":"Peak Reduction"},{"$f":"IF(ISBLANK('Competition Data'!G68),\"\",'Competition Data'!G68)","v":892.77},{"$f":"IF(ISBLANK('Competition Data'!D68),\"\",'Competition Data'!D68)","v":604},{"$f":"IF(ISBLANK('Competition Data'!E68),\"\",'Competition Data'!E68)","v":"0"},{"$f":"IF(ISBLANK('Competition Data'!F68),\"\",'Competition Data'!F68)","v":0.03},"BARNFIELD RD (Peak Reduction)",{"$f":"IF(ISBLANK('Competition Data'!I68),\"\",'Competition Data'!I68)","v":49.269867549668874}]
["BARNFIELD RDW26/27Scheduled Utilisation",{"$f":"IF(ISBLANK('Competition Data'!A69),\"\",'Competition Data'!A69)","v":"BARNFIELD RD"},{"$f":"IF(ISBLANK('Competition Data'!H69),\"\",'Competition Data'!H69)","v":""},{"$f":"IF(ISBLANK('Competition Data'!B69),\"\",'Competition Data'!B69)","v":"W26/27"},{"$f":"IF(ISBLANK('Competition Data'!C69),\"\",'Competition Data'!C69)","v":"Scheduled Utilisation"},{"$f":"IF(ISBLANK('Competition Data'!G69),\"\",'Competition Data'!G69)","v":892.77},{"$f":"IF(ISBLANK('Competition Data'!D69),\"\",'Competition Data'!D69)","v":604},{"$f":"IF(ISBLANK('Competition Data'!E69),\"\",'Competition Data'!E69)","v":"0"},{"$f":"IF(ISBLANK('Competition Data'!F69),\"\",'Competition Data'!F69)","v":0.03},"BARNFIELD RD (Scheduled Utilisation)",{"$f":"IF(ISBLANK('Competition Data'!I69),\"\",'Competition Data'!I69)","v":49.269867549668874}]
["BARTON GRANGEW26/27Peak Reduction",{"$f":"IF(ISBLANK('Competition Data'!A70),\"\",'Competition Data'!A70)","v":"BARTON GRANGE"},{"$f":"IF(ISBLANK('Competition Data'!H70),\"\",'Competition Data'!H70)","v":""},{"$f":"IF(ISBLANK('Competition Data'!B70),\"\",'Competition Data'!B70)","v":"W26/27"},{"$f":"IF(ISBLANK('Competition Data'!C70),\"\",'Competition Data'!C70)","v":"Peak Reduction"},{"$f":"IF(ISBLANK('Competition Data'!G70),\"\",'Competition Data'!G70)","v":892.77},{"$f":"IF(ISBLANK('Competition Data'!D70),\"\",'Competition Data'!D70)","v":604},{"$f":"IF(ISBLANK('Competition Data'!E70),\"\",'Competition Data'!E70)","v":"0"},{"$f":"IF(ISBLANK('Competition Data'!F70),\"\",'Competition Data'!F70)","v":0.01},"BARTON GRANGE (Peak Reduction)",{"$f":"IF(ISBLANK('Competition Data'!I70),\"\",'Competition Data'!I70)","v":147.80960264900662}]
["BARTON GRANGEW26/27Scheduled Utilisation",{"$f":"IF(ISBLANK('Competition Data'!A71),\"\",'Competition Data'!A71)","v":"BARTON GRANGE"},{"$f":"IF(ISBLANK('Competition Data'!H71),\"\",'Competition Data'!H71)","v":""},{"$f":"IF(ISBLANK('Competition Data'!B71),\"\",'Competition Data'!B71)","v":"W26/27"},{"$f":"IF(ISBLANK('Competition Data'!C71),\"\",'Competition Data'!C71)","v":"Scheduled Utilisation"},{"$f":"IF(ISBLANK('Competition Data'!G71),\"\",'Competition Data'!G71)","v":892.77},{"$f":"IF(ISBLANK('Competition Data'!D71),\"\",'Competition Data'!D71)","v":604},{"$f":"IF(ISBLANK('Competition Data'!E71),\"\",'Competition Data'!E71)","v":"0"},{"$f":"IF(ISBLANK('Competition Data'!F71),\"\",'Competition Data'!F71)","v":0.01},"BARTON GRANGE (Scheduled Utilisation)",{"$f":"IF(ISBLANK('Competition Data'!I71),\"\",'Competition Data'!I71)","v":147.80960264900662}]
["BCWW DUNCOMBE RDW26/27Peak Reduction",{"$f":"IF(ISBLANK('Competition Data'!A72),\"\",'Competition Data'!A72)","v":"BCWW DUNCOMBE RD"},{"$f":"IF(ISBLANK('Competition Data'!H72),\"\",'Competition Data'!H72)","v":""},{"$f":"IF(ISBLANK('Competition Data'!B72),\"\",'Competition Data'!B72)","v":"W26/27"},{"$f":"IF(ISBLANK('Competition Data'!C72),\"\",'Competition Data'!C72)","v":"Peak Reduction"},{"$f":"IF(ISBLANK('Competition Data'!G72),\"\",'Competition Data'!G72)","v":892.77},{"$f":"IF(ISBLANK('Competition Data'!D72),\"\",'Competition Data'!D72)","v":604},{"$f":"IF(ISBLANK('Competition Data'!E72),\"\",'Competition Data'!E72)","v":"0"},{"$f":"IF(ISBLANK('Competition Data'!F72),\"\",'Competition Data'!F72)","v":0.02},"BCWW DUNCOMBE RD (Peak Reduction)",{"$f":"IF(ISBLANK('Competition Data'!I72),\"\",'Competition Data'!I72)","v":73.90480132450331}]
["BCWW DUNCOMBE RDW26/27Scheduled Utilisation",{"$f":"IF(ISBLANK('Competition Data'!A73),\"\",'Competition Data'!A73)","v":"BCWW DUNCOMBE RD"},{"$f":"IF(ISBLANK('Competition Data'!H73),\"\",'Competition Data'!H73)","v":""},{"$f":"IF(ISBLANK('Competition Data'!B73),\"\",'Competition Data'!B73)","v":"W26/27"},{"$f":"IF(ISBLANK('Competition Data'!C73),\"\",'Competition Data'!C73)","v":"Scheduled Utilisation"},{"$f":"IF(ISBLANK('Competition Data'!G73),\"\",'Competition Data'!G73)","v":892.77},{"$f":"IF(ISBLANK('Competition Data'!D73),\"\",'Competition Data'!D73)","v":604},{"$f":"IF(ISBLANK('Competition Data'!E73),\"\",'Competition Data'!E73)","v":"0"},{"$f":"IF(ISBLANK('Competition Data'!F73),\"\",'Competition Data'!F73)","v":0.02},"BCWW DUNCOMBE RD (Scheduled Utilisation)",{"$f":"IF(ISBLANK('Competition Data'!I73),\"\",'Competition Data'!I73)","v":73.90480132450331}]
["BELL CLW26/27Peak Reduction",{"$f":"IF(ISBLANK('Competition Data'!A74),\"\",'Competition Data'!A74)","v":"BELL CL"},{"$f":"IF(ISBLANK('Competition Data'!H74),\"\",'Competition Data'!H74)","v":""},{"$f":"IF(ISBLANK('Competition Data'!B74),\"\",'Competition Data'!B74)","v":"W26/27"},{"$f":"IF(ISBLANK('Competition Data'!C74),\"\",'Competition Data'!C74)","v":"Peak Reduction"},{"$f":"IF(ISBLANK('Competition Data'!G74),\"\",'Competition Data'!G74)","v":892.77},{"$f":"IF(ISBLANK('Competition Data'!D74),\"\",'Competition Data'!D74)","v":604},{"$f":"IF(ISBLANK('Competition Data'!E74),\"\",'Competition Data'!E74)","v":"0"},{"$f":"IF(ISBLANK('Competition Data'!F74),\"\",'Competition Data'!F74)","v":0.03},"BELL CL (Peak Reduction)",{"$f":"IF(ISBLANK('Competition Data'!I74),\"\",'Competition Data'!I74)","v":49.269867549668874}]
["BELL CLW26/27Scheduled Utilisation",{"$f":"IF(ISBLANK('Competition Data'!A75),\"\",'Competition Data'!A75)","v":"BELL CL"},{"$f":"IF(ISBLANK('Competition Data'!H75),\"\",'Competition Data'!H75)","v":""},{"$f":"IF(ISBLANK('Competition Data'!B75),\"\",'Competition Data'!B75)","v":"W26/27"},{"$f":"IF(ISBLANK('Competition Data'!C75),\"\",'Competition Data'!C75)","v":"Scheduled Utilisation"},{"$f":"IF(ISBLANK('Competition Data'!G75),\"\",'Competition Data'!G75)","v":892.77},{"$f":"IF(ISBLANK('Competition Data'!D75),\"\",'Competition Data'!D75)","v":604},{"$f":"IF(ISBLANK('Competition Data'!E75),\"\",'Competition Data'!E75)","v":"0"},{"$f":"IF(ISBLANK('Competition Data'!F75),\"\",'Competition Data'!F75)","v":0.03},"BELL CL (Scheduled Utilisation)",{"$f":"IF(ISBLANK('Competition Data'!I75),\"\",'Competition Data'!I75)","v":49.269867549668874}]
["BenthamFY27Operational Utilisation",{"$f":"IF(ISBLANK('Competition Data'!A76),\"\",'Competition Data'!A76)","v":"Bentham"},{"$f":"IF(ISBLANK('Competition Data'!H76),\"\",'Competition Data'!H76)","v":""},{"$f":"IF(ISBLANK('Competition Data'!B76),\"\",'Competition Data'!B76)","v":"FY27"},{"$f":"IF(ISBLANK('Competition Data'!C76),\"\",'Competition Data'!C76)","v":"Operational Utilisation"},{"$f":"IF(ISBLANK('Competition Data'!G76),\"\",'Competition Data'!G76)","v":148337},{"$f":"IF(ISBLANK('Competition Data'!D76),\"\",'Competition Data'!D76)","v":100},{"$f":"IF(ISBLANK('Competition Data'!E76),\"\",'Competition Data'!E76)","v":"0"},{"$f":"IF(ISBLANK('Competition Data'!F76),\"\",'Competition Data'!F76)","v":3.5},"Bentham (Operational Utilisation)",{"$f":"IF(ISBLANK('Competition Data'!I76),\"\",'Competition Data'!I76)","v":423.82}]
["BenthamFY28Operational Utilisation",{"$f":"IF(ISBLANK('Competition Data'!A77),\"\",'Competition Data'!A77)","v":"Bentham"},{"$f":"IF(ISBLANK('Competition Data'!H77),\"\",'Competition Data'!H77)","v":""},{"$f":"IF(ISBLANK('Competition Data'!B77),\"\",'Competition Data'!B77)","v":"FY28"},{"$f":"IF(ISBLANK('Competition Data'!C77),\"\",'Competition Data'!C77)","v":"Operational Utilisation"},{"$f":"IF(ISBLANK('Competition Data'!G77),\"\",'Competition Data'!G77)","v":148337},{"$f":"IF(ISBLANK('Competition Data'!D77),\"\",'Competition Data'!D77)","v":100},{"$f":"IF(ISBLANK('Competition Data'!E77),\"\",'Competition Data'!E77)","v":"0"},{"$f":"IF(ISBLANK('Competition Data'!F77),\"\",'Competition Data'!F77)","v":3.5},"Bentham (Operational Utilisation)",{"$f":"IF(ISBLANK('Competition Data'!I77),\"\",'Competition Data'!I77)","v":423.82}]
["BERWICK AVEW26/27Peak Reduction",{"$f":"IF(ISBLANK('Competition Data'!A78),\"\",'Competition Data'!A78)","v":"BERWICK AVE"},{"$f":"IF(ISBLANK('Competition Data'!H78),\"\",'Competition Data'!H78)","v":""},{"$f":"IF(ISBLANK('Competition Data'!B78),\"\",'Competition Data'!B78)","v":"W26/27"},{"$f":"IF(ISBLANK('Competition Data'!C78),\"\",'Competition Data'!C78)","v":"Peak Reduction"},{"$f":"IF(ISBLANK('Competition Data'!G78),\"\",'Competition Data'!G78)","v":892.77},{"$f":"IF(ISBLANK('Competition Data'!D78),\"\",'Competition Data'!D78)","v":604},{"$f":"IF(ISBLANK('Competition Data'!E78),\"\",'Competition Data'!E78)","v":"0"},{"$f":"IF(ISBLANK('Competition Data'!F78),\"\",'Competition Data'!F78)","v":0.02},"BERWICK AVE (Peak Reduction)",{"$f":"IF(ISBLANK('Competition Data'!I78),\"\",'Competition Data'!I78)","v":73.90480132450331}]
["BERWICK AVEW26/27Scheduled Utilisation",{"$f":"IF(ISBLANK('Competition Data'!A79),\"\",'Competition Data'!A79)","v":"BERWICK AVE"},{"$f":"IF(ISBLANK('Competition Data'!H79),\"\",'Competition Data'!H79)","v":""},{"$f":"IF(ISBLANK('Competition Data'!B79),\"\",'Competition Data'!B79)","v":"W26/27"},{"$f":"IF(ISBLANK('Competition Data'!C79),\"\",'Competition Data'!C79)","v":"Scheduled Utilisation"},{"$f":"IF(ISBLANK('Competition Data'!G79),\"\",'Competition Data'!G79)","v":892.77},{"$f":"IF(ISBLANK('Competition Data'!D79),\"\",'Competition Data'!D79)","v":604},{"$f":"IF(ISBLANK('Competition Data'!E79),\"\",'Competition Data'!E79)","v":"0"},{"$f":"IF(ISBLANK('Competition Data'!F79),\"\",'Competition Data'!F79)","v":0.02},"BERWICK AVE (Scheduled Utilisation)",{"$f":"IF(ISBLANK('Competition Data'!I79),\"\",'Competition Data'!I79)","v":73.90480132450331}]
["BIRTWISTLE STW26/27Peak Reduction",{"$f":"IF(ISBLANK('Competition Data'!A80),\"\",'Competition Data'!A80)","v":"BIRTWISTLE ST"},{"$f":"IF(ISBLANK('Competition Data'!H80),\"\",'Competition Data'!H80)","v":""},{"$f":"IF(ISBLANK('Competition Data'!B80),\"\",'Competition Data'!B80)","v":"W26/27"},{"$f":"IF(ISBLANK('Competition Data'!C80),\"\",'Competition Data'!C80)","v":"Peak Reduction"},{"$f":"IF(ISBLANK('Competition Data'!G80),\"\",'Competition Data'!G80)","v":892.77},{"$f":"IF(ISBLANK('Competition Data'!D80),\"\",'Competition Data'!D80)","v":604},{"$f":"IF(ISBLANK('Competition Data'!E80),\"\",'Competition Data'!E80)","v":"0"},{"$f":"IF(ISBLANK('Competition Data'!F80),\"\",'Competition Data'!F80)","v":0.03},"BIRTWISTLE ST (Peak Reduction)",{"$f":"IF(ISBLANK('Competition Data'!I80),\"\",'Competition Data'!I80)","v":49.269867549668874}]
["BIRTWISTLE STW26/27Scheduled Utilisation",{"$f":"IF(ISBLANK('Competition Data'!A81),\"\",'Competition Data'!A81)","v":"BIRTWISTLE ST"},{"$f":"IF(ISBLANK('Competition Data'!H81),\"\",'Competition Data'!H81)","v":""},{"$f":"IF(ISBLANK('Competition Data'!B81),\"\",'Competition Data'!B81)","v":"W26/27"},{"$f":"IF(ISBLANK('Competition Data'!C81),\"\",'Competition Data'!C81)","v":"Scheduled Utilisation"},{"$f":"IF(ISBLANK('Competition Data'!G81),\"\",'Competition Data'!G81)","v":892.77},{"$f":"IF(ISBLANK('Competition Data'!D81),\"\",'Competition Data'!D81)","v":604},{"$f":"IF(ISBLANK('Competition Data'!E81),\"\",'Competition Data'!E81)","v":"0"},{"$f":"IF(ISBLANK('Competition Data'!F81),\"\",'Competition Data'!F81)","v":0.03},"BIRTWISTLE ST (Scheduled Utilisation)",{"$f":"IF(ISBLANK('Competition Data'!I81),\"\",'Competition Data'!I81)","v":49.269867549668874}]
["BK HAROLD STW26/27Peak Reduction",{"$f":"IF(ISBLANK('Competition Data'!A82),\"\",'Competition Data'!A82)","v":"BK HAROLD ST"},{"$f":"IF(ISBLANK('Competition Data'!H82),\"\",'Competition Data'!H82)","v":""},{"$f":"IF(ISBLANK('Competition Data'!B82),\"\",'Competition Data'!B82)","v":"W26/27"},{"$f":"IF(ISBLANK('Competition Data'!C82),\"\",'Competition Data'!C82)","v":"Peak Reduction"},{"$f":"IF(ISBLANK('Competition Data'!G82),\"\",'Competition Data'!G82)","v":892.77},{"$f":"IF(ISBLANK('Competition Data'!D82),\"\",'Competition Data'!D82)","v":604},{"$f":"IF(ISBLANK('Competition Data'!E82),\"\",'Competition Data'!E82)","v":"0"},{"$f":"IF(ISBLANK('Competition Data'!F82),\"\",'Competition Data'!F82)","v":0.03},"BK HAROLD ST (Peak Reduction)",{"$f":"IF(ISBLANK('Competition Data'!I82),\"\",'Competition Data'!I82)","v":49.269867549668874}]
["BK HAROLD STW26/27Scheduled Utilisation",{"$f":"IF(ISBLANK('Competition Data'!A83),\"\",'Competition Data'!A83)","v":"BK HAROLD ST"},{"$f":"IF(ISBLANK('Competition Data'!H83),\"\",'Competition Data'!H83)","v":""},{"$f":"IF(ISBLANK('Competition Data'!B83),\"\",'Competition Data'!B83)","v":"W26/27"},{"$f":"IF(ISBLANK('Competition Data'!C83),\"\",'Competition Data'!C83)","v":"Scheduled Utilisation"},{"$f":"IF(ISBLANK('Competition Data'!G83),\"\",'Competition Data'!G83)","v":892.77},{"$f":"IF(ISBLANK('Competition Data'!D83),\"\",'Competition Data'!D83)","v":604},{"$f":"IF(ISBLANK('Competition Data'!E83),\"\",'Competition Data'!E83)","v":"0"},{"$f":"IF(ISBLANK('Competition Data'!F83),\"\",'Competition Data'!F83)","v":0.03},"BK HAROLD ST (Scheduled Utilisation)",{"$f":"IF(ISBLANK('Competition Data'!I83),\"\",'Competition Data'!I83)","v":49.269867549668874}]
["BK MANCHESTER RDW26/27Peak Reduction",{"$f":"IF(ISBLANK('Competition Data'!A84),\"\",'Competition Data'!A84)","v":"BK MANCHESTER RD"},{"$f":"IF(ISBLANK('Competition Data'!H84),\"\",'Competition Data'!H84)","v":""},{"$f":"IF(ISBLANK('Competition Data'!B84),\"\",'Competition Data'!B84)","v":"W26/27"},{"$f":"IF(ISBLANK('Competition Data'!C84),\"\",'Competition Data'!C84)","v":"Peak Reduction"},{"$f":"IF(ISBLANK('Competition Data'!G84),\"\",'Competition Data'!G84)","v":892.77},{"$f":"IF(ISBLANK('Competition Data'!D84),\"\",'Competition Data'!D84)","v":604},{"$f":"IF(ISBLANK('Competition Data'!E84),\"\",'Competition Data'!E84)","v":"0"},{"$f":"IF(ISBLANK('Competition Data'!F84),\"\",'Competition Data'!F84)","v":0.04},"BK MANCHESTER RD (Peak Reduction)",{"$f":"IF(ISBLANK('Competition Data'!I84),\"\",'Competition Data'!I84)","v":36.952400662251655}]
["BK MANCHESTER RDW26/27Scheduled Utilisation",{"$f":"IF(ISBLANK('Competition Data'!A85),\"\",'Competition Data'!A85)","v":"BK MANCHESTER RD"},{"$f":"IF(ISBLANK('Competition Data'!H85),\"\",'Competition Data'!H85)","v":""},{"$f":"IF(ISBLANK('Competition Data'!B85),\"\",'Competition Data'!B85)","v":"W26/27"},{"$f":"IF(ISBLANK('Competition Data'!C85),\"\",'Competition Data'!C85)","v":"Scheduled Utilisation"},{"$f":"IF(ISBLANK('Competition Data'!G85),\"\",'Competition Data'!G85)","v":892.77},{"$f":"IF(ISBLANK('Competition Data'!D85),\"\",'Competition Data'!D85)","v":604},{"$f":"IF(ISBLANK('Competition Data'!E85),\"\",'Competition Data'!E85)","v":"0"},{"$f":"IF(ISBLANK('Competition Data'!F85),\"\",'Competition Data'!F85)","v":0.04},"BK MANCHESTER RD (Scheduled Utilisation)",{"$f":"IF(ISBLANK('Competition Data'!I85),\"\",'Competition Data'!I85)","v":36.952400662251655}]
["BlackfriarsW27/28Variable Availability + Operational Utilisation",{"$f":"IF(ISBLANK('Competition Data'!A86),\"\",'Competition Data'!A86)","v":"Blackfriars"},{"$f":"IF(ISBLANK('Competition Data'!H86),\"\",'Competition Data'!H86)","v":""},{"$f":"IF(ISBLANK('Competition Data'!B86),\"\",'Competition Data'!B86)","v":"W27/28"},{"$f":"IF(ISBLANK('Competition Data'!C86),\"\",'Competition Data'!C86)","v":"Variable Availability + Operational Utilisation"},{"$f":"IF(ISBLANK('Competition Data'!G86),\"\",'Competition Data'!G86)","v":118271},{"$f":"IF(ISBLANK('Competition Data'!D86),\"\",'Competition Data'!D86)","v":35},{"$f":"IF(ISBLANK('Competition Data'!E86),\"\",'Competition Data'!E86)","v":"35"},{"$f":"IF(ISBLANK('Competition Data'!F86),\"\",'Competition Data'!F86)","v":1.7},"Blackfriars (Variable Availability + Operational Utilisation)",{"$f":"IF(ISBLANK('Competition Data'!I86),\"\",'Competition Data'!I86)","v":"N/A"}]
["BlackfriarsW27/28Peak Reduction",{"$f":"IF(ISBLANK('Competition Data'!A87),\"\",'Competition Data'!A87)","v":"Blackfriars"},{"$f":"IF(ISBLANK('Competition Data'!H87),\"\",'Competition Data'!H87)","v":""},{"$f":"IF(ISBLANK('Competition Data'!B87),\"\",'Competition Data'!B87)","v":"W27/28"},{"$f":"IF(ISBLANK('Competition Data'!C87),\"\",'Competition Data'!C87)","v":"Peak Reduction"},{"$f":"IF(ISBLANK('Competition Data'!G87),\"\",'Competition Data'!G87)","v":118271},{"$f":"IF(ISBLANK('Competition Data'!D87),\"\",'Competition Data'!D87)","v":4392},{"$f":"IF(ISBLANK('Competition Data'!E87),\"\",'Competition Data'!E87)","v":"0"},{"$f":"IF(ISBLANK('Competition Data'!F87),\"\",'Competition Data'!F87)","v":1.7},"Blackfriars (Peak Reduction)",{"$f":"IF(ISBLANK('Competition Data'!I87),\"\",'Competition Data'!I87)","v":15.840431801135756}]
["BLACKLEY-HARPURHEY GroupW27/28Variable Availability + Operational Utilisation",{"$f":"IF(ISBLANK('Competition Data'!A88),\"\",'Competition Data'!A88)","v":"BLACKLEY-HARPURHEY Group"},{"$f":"IF(ISBLANK('Competition Data'!H88),\"\",'Competition Data'!H88)","v":""},{"$f":"IF(ISBLANK('Competition Data'!B88),\"\",'Competition Data'!B88)","v":"W27/28"},{"$f":"IF(ISBLANK('Competition Data'!C88),\"\",'Competition Data'!C88)","v":"Variable Availability + Operational Utilisation"},{"$f":"IF(ISBLANK('Competition Data'!G88),\"\",'Competition Data'!G88)","v":173989},{"$f":"IF(ISBLANK('Competition Data'!D88),\"\",'Competition Data'!D88)","v":48},{"$f":"IF(ISBLANK('Competition Data'!E88),\"\",'Competition Data'!E88)","v":"239"},{"$f":"IF(ISBLANK('Competition Data'!F88),\"\",'Competition Data'!F88)","v":4.62},"BLACKLEY-HARPURHEY Group (Variable Availability + Operational Utilisation)",{"$f":"IF(ISBLANK('Competition Data'!I88),\"\",'Competition Data'!I88)","v":"N/A"}]
["BLACKLEY-HARPURHEY GroupW27/28Peak Reduction",{"$f":"IF(ISBLANK('Competition Data'!A89),\"\",'Competition Data'!A89)","v":"BLACKLEY-HARPURHEY Group"},{"$f":"IF(ISBLANK('Competition Data'!H89),\"\",'Competition Data'!H89)","v":""},{"$f":"IF(ISBLANK('Competition Data'!B89),\"\",'Competition Data'!B89)","v":"W27/28"},{"$f":"IF(ISBLANK('Competition Data'!C89),\"\",'Competition Data'!C89)","v":"Peak Reduction"},{"$f":"IF(ISBLANK('Competition Data'!G89),\"\",'Competition Data'!G89)","v":173989},{"$f":"IF(ISBLANK('Competition Data'!D89),\"\",'Competition Data'!D89)","v":4392},{"$f":"IF(ISBLANK('Competition Data'!E89),\"\",'Competition Data'!E89)","v":"0"},{"$f":"IF(ISBLANK('Competition Data'!F89),\"\",'Competition Data'!F89)","v":4.62},"BLACKLEY-HARPURHEY Group (Peak Reduction)",{"$f":"IF(ISBLANK('Competition Data'!I89),\"\",'Competition Data'!I89)","v":8.5746713820484324}]
["BOARS HEADW26/27Peak Reduction",{"$f":"IF(ISBLANK('Competition Data'!A90),\"\",'Competition Data'!A90)","v":"BOARS HEAD"},{"$f":"IF(ISBLANK('Competition Data'!H90),\"\",'Competition Data'!H90)","v":""},{"$f":"IF(ISBLANK('Competition Data'!B90),\"\",'Competition Data'!B90)","v":"W26/27"},{"$f":"IF(ISBLANK('Competition Data'!C90),\"\",'Competition Data'!C90)","v":"Peak Reduction"},{"$f":"IF(ISBLANK('Competition Data'!G90),\"\",'Competition Data'!G90)","v":892.77},{"$f":"IF(ISBLANK('Competition Data'!D90),\"\",'Competition Data'!D90)","v":604},{"$f":"IF(ISBLANK('Competition Data'!E90),\"\",'Competition Data'!E90)","v":"0"},{"$f":"IF(ISBLANK('Competition Data'!F90),\"\",'Competition Data'!F90)","v":0.02},"BOARS HEAD (Peak Reduction)",{"$f":"IF(ISBLANK('Competition Data'!I90),\"\",'Competition Data'!I90)","v":73.90480132450331}]
["BOARS HEADW26/27Scheduled Utilisation",{"$f":"IF(ISBLANK('Competition Data'!A91),\"\",'Competition Data'!A91)","v":"BOARS HEAD"},{"$f":"IF(ISBLANK('Competition Data'!H91),\"\",'Competition Data'!H91)","v":""},{"$f":"IF(ISBLANK('Competition Data'!B91),\"\",'Competition Data'!B91)","v":"W26/27"},{"$f":"IF(ISBLANK('Competition Data'!C91),\"\",'Competition Data'!C91)","v":"Scheduled Utilisation"},{"$f":"IF(ISBLANK('Competition Data'!G91),\"\",'Competition Data'!G91)","v":892.77},{"$f":"IF(ISBLANK('Competition Data'!D91),\"\",'Competition Data'!D91)","v":604},{"$f":"IF(ISBLANK('Competition Data'!E91),\"\",'Competition Data'!E91)","v":"0"},{"$f":"IF(ISBLANK('Competition Data'!F91),\"\",'Competition Data'!F91)","v":0.02},"BOARS HEAD (Scheduled Utilisation)",{"$f":"IF(ISBLANK('Competition Data'!I91),\"\",'Competition Data'!I91)","v":73.90480132450331}]
["BOLEFOOTW26/27Peak Reduction",{"$f":"IF(ISBLANK('Competition Data'!A92),\"\",'Competition Data'!A92)","v":"BOLEFOOT"},{"$f":"IF(ISBLANK('Competition Data'!H92),\"\",'Competition Data'!H92)","v":""},{"$f":"IF(ISBLANK('Competition Data'!B92),\"\",'Competition Data'!B92)","v":"W26/27"},{"$f":"IF(ISBLANK('Competition Data'!C92),\"\",'Competition Data'!C92)","v":"Peak Reduction"},{"$f":"IF(ISBLANK('Competition Data'!G92),\"\",'Competition Data'!G92)","v":892.77},{"$f":"IF(ISBLANK('Competition Data'!D92),\"\",'Competition Data'!D92)","v":604},{"$f":"IF(ISBLANK('Competition Data'!E92),\"\",'Competition Data'!E92)","v":"0"},{"$f":"IF(ISBLANK('Competition Data'!F92),\"\",'Competition Data'!F92)","v":0.01},"BOLEFOOT (Peak Reduction)",{"$f":"IF(ISBLANK('Competition Data'!I92),\"\",'Competition Data'!I92)","v":147.80960264900662}]
["BOLEFOOTW26/27Scheduled Utilisation",{"$f":"IF(ISBLANK('Competition Data'!A93),\"\",'Competition Data'!A93)","v":"BOLEFOOT"},{"$f":"IF(ISBLANK('Competition Data'!H93),\"\",'Competition Data'!H93)","v":""},{"$f":"IF(ISBLANK('Competition Data'!B93),\"\",'Competition Data'!B93)","v":"W26/27"},{"$f":"IF(ISBLANK('Competition Data'!C93),\"\",'Competition Data'!C93)","v":"Scheduled Utilisation"},{"$f":"IF(ISBLANK('Competition Data'!G93),\"\",'Competition Data'!G93)","v":892.77},{"$f":"IF(ISBLANK('Competition Data'!D93),\"\",'Competition Data'!D93)","v":604},{"$f":"IF(ISBLANK('Competition Data'!E93),\"\",'Competition Data'!E93)","v":"0"},{"$f":"IF(ISBLANK('Competition Data'!F93),\"\",'Competition Data'!F93)","v":0.01},"BOLEFOOT (Scheduled Utilisation)",{"$f":"IF(ISBLANK('Competition Data'!I93),\"\",'Competition Data'!I93)","v":147.80960264900662}]
["Bolton By BowlandFY27Operational Utilisation",{"$f":"IF(ISBLANK('Competition Data'!A94),\"\",'Competition Data'!A94)","v":"Bolton By Bowland"},{"$f":"IF(ISBLANK('Competition Data'!H94),\"\",'Competition Data'!H94)","v":""},{"$f":"IF(ISBLANK('Competition Data'!B94),\"\",'Competition Data'!B94)","v":"FY27"},{"$f":"IF(ISBLANK('Competition Data'!C94),\"\",'Competition Data'!C94)","v":"Operational Utilisation"},{"$f":"IF(ISBLANK('Competition Data'!G94),\"\",'Competition Data'!G94)","v":58014},{"$f":"IF(ISBLANK('Competition Data'!D94),\"\",'Competition Data'!D94)","v":100},{"$f":"IF(ISBLANK('Competition Data'!E94),\"\",'Competition Data'!E94)","v":"0"},{"$f":"IF(ISBLANK('Competition Data'!F94),\"\",'Competition Data'!F94)","v":2.2999999999999998},"Bolton By Bowland (Operational Utilisation)",{"$f":"IF(ISBLANK('Competition Data'!I94),\"\",'Competition Data'!I94)","v":252.23478260869567}]
["Bolton By BowlandFY28Operational Utilisation",{"$f":"IF(ISBLANK('Competition Data'!A95),\"\",'Competition Data'!A95)","v":"Bolton By Bowland"},{"$f":"IF(ISBLANK('Competition Data'!H95),\"\",'Competition Data'!H95)","v":""},{"$f":"IF(ISBLANK('Competition Data'!B95),\"\",'Competition Data'!B95)","v":"FY28"},{"$f":"IF(ISBLANK('Competition Data'!C95),\"\",'Competition Data'!C95)","v":"Operational Utilisation"},{"$f":"IF(ISBLANK('Competition Data'!G95),\"\",'Competition Data'!G95)","v":58014},{"$f":"IF(ISBLANK('Competition Data'!D95),\"\",'Competition Data'!D95)","v":100},{"$f":"IF(ISBLANK('Competition Data'!E95),\"\",'Competition Data'!E95)","v":"0"},{"$f":"IF(ISBLANK('Competition Data'!F95),\"\",'Competition Data'!F95)","v":2.2999999999999998},"Bolton By Bowland (Operational Utilisation)",{"$f":"IF(ISBLANK('Competition Data'!I95),\"\",'Competition Data'!I95)","v":252.23478260869567}]
["Bolton By BowlandW26/27Variable Availability + Operational Utilisation",{"$f":"IF(ISBLANK('Competition Data'!A96),\"\",'Competition Data'!A96)","v":"Bolton By Bowland"},{"$f":"IF(ISBLANK('Competition Data'!H96),\"\",'Competition Data'!H96)","v":""},{"$f":"IF(ISBLANK('Competition Data'!B96),\"\",'Competition Data'!B96)","v":"W26/27"},{"$f":"IF(ISBLANK('Competition Data'!C96),\"\",'Competition Data'!C96)","v":"Variable Availability + Operational Utilisation"},{"$f":"IF(ISBLANK('Competition Data'!G96),\"\",'Competition Data'!G96)","v":49670},{"$f":"IF(ISBLANK('Competition Data'!D96),\"\",'Competition Data'!D96)","v":48},{"$f":"IF(ISBLANK('Competition Data'!E96),\"\",'Competition Data'!E96)","v":"117"},{"$f":"IF(ISBLANK('Competition Data'!F96),\"\",'Competition Data'!F96)","v":0.35},"Bolton By Bowland (Variable Availability + Operational Utilisation)",{"$f":"IF(ISBLANK('Competition Data'!I96),\"\",'Competition Data'!I96)","v":"N/A"}]
["Bolton By BowlandW26/27Peak Reduction",{"$f":"IF(ISBLANK('Competition Data'!A97),\"\",'Competition Data'!A97)","v":"Bolton By Bowland"},{"$f":"IF(ISBLANK('Competition Data'!H97),\"\",'Competition Data'!H97)","v":""},{"$f":"IF(ISBLANK('Competition Data'!B97),\"\",'Competition Data'!B97)","v":"W26/27"},{"$f":"IF(ISBLANK('Competition Data'!C97),\"\",'Competition Data'!C97)","v":"Peak Reduction"},{"$f":"IF(ISBLANK('Competition Data'!G97),\"\",'Competition Data'!G97)","v":49670},{"$f":"IF(ISBLANK('Competition Data'!D97),\"\",'Competition Data'!D97)","v":3624},{"$f":"IF(ISBLANK('Competition Data'!E97),\"\",'Competition Data'!E97)","v":"0"},{"$f":"IF(ISBLANK('Competition Data'!F97),\"\",'Competition Data'!F97)","v":0.35},"Bolton By Bowland (Peak Reduction)",{"$f":"IF(ISBLANK('Competition Data'!I97),\"\",'Competition Data'!I97)","v":39.159571113213502}]
["Bolton By BowlandW27/28Variable Availability + Operational Utilisation",{"$f":"IF(ISBLANK('Competition Data'!A98),\"\",'Competition Data'!A98)","v":"Bolton By Bowland"},{"$f":"IF(ISBLANK('Competition Data'!H98),\"\",'Competition Data'!H98)","v":""},{"$f":"IF(ISBLANK('Competition Data'!B98),\"\",'Competition Data'!B98)","v":"W27/28"},{"$f":"IF(ISBLANK('Competition Data'!C98),\"\",'Competition Data'!C98)","v":"Variable Availability + Operational Utilisation"},{"$f":"IF(ISBLANK('Competition Data'!G98),\"\",'Competition Data'!G98)","v":49670},{"$f":"IF(ISBLANK('Competition Data'!D98),\"\",'Competition Data'!D98)","v":48},{"$f":"IF(ISBLANK('Competition Data'!E98),\"\",'Competition Data'!E98)","v":"176"},{"$f":"IF(ISBLANK('Competition Data'!F98),\"\",'Competition Data'!F98)","v":0.42},"Bolton By Bowland (Variable Availability + Operational Utilisation)",{"$f":"IF(ISBLANK('Competition Data'!I98),\"\",'Competition Data'!I98)","v":"N/A"}]
["Bolton By BowlandW27/28Peak Reduction",{"$f":"IF(ISBLANK('Competition Data'!A99),\"\",'Competition Data'!A99)","v":"Bolton By Bowland"},{"$f":"IF(ISBLANK('Competition Data'!H99),\"\",'Competition Data'!H99)","v":""},{"$f":"IF(ISBLANK('Competition Data'!B99),\"\",'Competition Data'!B99)","v":"W27/28"},{"$f":"IF(ISBLANK('Competition Data'!C99),\"\",'Competition Data'!C99)","v":"Peak Reduction"},{"$f":"IF(ISBLANK('Competition Data'!G99),\"\",'Competition Data'!G99)","v":49670},{"$f":"IF(ISBLANK('Competition Data'!D99),\"\",'Competition Data'!D99)","v":4392},{"$f":"IF(ISBLANK('Competition Data'!E99),\"\",'Competition Data'!E99)","v":"0"},{"$f":"IF(ISBLANK('Competition Data'!F99),\"\",'Competition Data'!F99)","v":0.42},"Bolton By Bowland (Peak Reduction)",{"$f":"IF(ISBLANK('Competition Data'!I99),\"\",'Competition Data'!I99)","v":26.926663197155001}]
["BRADFORD STW26/27Peak Reduction",{"$f":"IF(ISBLANK('Competition Data'!A100),\"\",'Competition Data'!A100)","v":"BRADFORD ST"},{"$f":"IF(ISBLANK('Competition Data'!H100),\"\",'Competition Data'!H100)","v":""},{"$f":"IF(ISBLANK('Competition Data'!B100),\"\",'Competition Data'!B100)","v":"W26/27"},{"$f":"IF(ISBLANK('Competition Data'!C100),\"\",'Competition Data'!C100)","v":"Peak Reduction"},{"$f":"IF(ISBLANK('Competition Data'!G100),\"\",'Competition Data'!G100)","v":892.77},{"$f":"IF(ISBLANK('Competition Data'!D100),\"\",'Competition Data'!D100)","v":604},{"$f":"IF(ISBLANK('Competition Data'!E100),\"\",'Competition Data'!E100)","v":"0"},{"$f":"IF(ISBLANK('Competition Data'!F100),\"\",'Competition Data'!F100)","v":0.02},"BRADFORD ST (Peak Reduction)",{"$f":"IF(ISBLANK('Competition Data'!I100),\"\",'Competition Data'!I100)","v":73.90480132450331}]
["BRADFORD STW26/27Scheduled Utilisation",{"$f":"IF(ISBLANK('Competition Data'!A101),\"\",'Competition Data'!A101)","v":"BRADFORD ST"},{"$f":"IF(ISBLANK('Competition Data'!H101),\"\",'Competition Data'!H101)","v":""},{"$f":"IF(ISBLANK('Competition Data'!B101),\"\",'Competition Data'!B101)","v":"W26/27"},{"$f":"IF(ISBLANK('Competition Data'!C101),\"\",'Competition Data'!C101)","v":"Scheduled Utilisation"},{"$f":"IF(ISBLANK('Competition Data'!G101),\"\",'Competition Data'!G101)","v":892.77},{"$f":"IF(ISBLANK('Competition Data'!D101),\"\",'Competition Data'!D101)","v":604},{"$f":"IF(ISBLANK('Competition Data'!E101),\"\",'Competition Data'!E101)","v":"0"},{"$f":"IF(ISBLANK('Competition Data'!F101),\"\",'Competition Data'!F101)","v":0.02},"BRADFORD ST (Scheduled Utilisation)",{"$f":"IF(ISBLANK('Competition Data'!I101),\"\",'Competition Data'!I101)","v":73.90480132450331}]
["BRANDLESHOLME RD NW26/27Peak Reduction",{"$f":"IF(ISBLANK('Competition Data'!A102),\"\",'Competition Data'!A102)","v":"BRANDLESHOLME RD N"},{"$f":"IF(ISBLANK('Competition Data'!H102),\"\",'Competition Data'!H102)","v":""},{"$f":"IF(ISBLANK('Competition Data'!B102),\"\",'Competition Data'!B102)","v":"W26/27"},{"$f":"IF(ISBLANK('Competition Data'!C102),\"\",'Competition Data'!C102)","v":"Peak Reduction"},{"$f":"IF(ISBLANK('Competition Data'!G102),\"\",'Competition Data'!G102)","v":892.77},{"$f":"IF(ISBLANK('Competition Data'!D102),\"\",'Competition Data'!D102)","v":604},{"$f":"IF(ISBLANK('Competition Data'!E102),\"\",'Competition Data'!E102)","v":"0"},{"$f":"IF(ISBLANK('Competition Data'!F102),\"\",'Competition Data'!F102)","v":0.02},"BRANDLESHOLME RD N (Peak Reduction)",{"$f":"IF(ISBLANK('Competition Data'!I102),\"\",'Competition Data'!I102)","v":73.90480132450331}]
["BRANDLESHOLME RD NW26/27Scheduled Utilisation",{"$f":"IF(ISBLANK('Competition Data'!A103),\"\",'Competition Data'!A103)","v":"BRANDLESHOLME RD N"},{"$f":"IF(ISBLANK('Competition Data'!H103),\"\",'Competition Data'!H103)","v":""},{"$f":"IF(ISBLANK('Competition Data'!B103),\"\",'Competition Data'!B103)","v":"W26/27"},{"$f":"IF(ISBLANK('Competition Data'!C103),\"\",'Competition Data'!C103)","v":"Scheduled Utilisation"},{"$f":"IF(ISBLANK('Competition Data'!G103),\"\",'Competition Data'!G103)","v":892.77},{"$f":"IF(ISBLANK('Competition Data'!D103),\"\",'Competition Data'!D103)","v":604},{"$f":"IF(ISBLANK('Competition Data'!E103),\"\",'Competition Data'!E103)","v":"0"},{"$f":"IF(ISBLANK('Competition Data'!F103),\"\",'Competition Data'!F103)","v":0.02},"BRANDLESHOLME RD N (Scheduled Utilisation)",{"$f":"IF(ISBLANK('Competition Data'!I103),\"\",'Competition Data'!I103)","v":73.90480132450331}]
["BRIDGEWATER STW26/27Peak Reduction",{"$f":"IF(ISBLANK('Competition Data'!A104),\"\",'Competition Data'!A104)","v":"BRIDGEWATER ST"},{"$f":"IF(ISBLANK('Competition Data'!H104),\"\",'Competition Data'!H104)","v":""},{"$f":"IF(ISBLANK('Competition Data'!B104),\"\",'Competition Data'!B104)","v":"W26/27"},{"$f":"IF(ISBLANK('Competition Data'!C104),\"\",'Competition Data'!C104)","v":"Peak Reduction"},{"$f":"IF(ISBLANK('Competition Data'!G104),\"\",'Competition Data'!G104)","v":892.77},{"$f":"IF(ISBLANK('Competition Data'!D104),\"\",'Competition Data'!D104)","v":604},{"$f":"IF(ISBLANK('Competition Data'!E104),\"\",'Competition Data'!E104)","v":"0"},{"$f":"IF(ISBLANK('Competition Data'!F104),\"\",'Competition Data'!F104)","v":0.01},"BRIDGEWATER ST (Peak Reduction)",{"$f":"IF(ISBLANK('Competition Data'!I104),\"\",'Competition Data'!I104)","v":147.80960264900662}]
["BRIDGEWATER STW26/27Scheduled Utilisation",{"$f":"IF(ISBLANK('Competition Data'!A105),\"\",'Competition Data'!A105)","v":"BRIDGEWATER ST"},{"$f":"IF(ISBLANK('Competition Data'!H105),\"\",'Competition Data'!H105)","v":""},{"$f":"IF(ISBLANK('Competition Data'!B105),\"\",'Competition Data'!B105)","v":"W26/27"},{"$f":"IF(ISBLANK('Competition Data'!C105),\"\",'Competition Data'!C105)","v":"Scheduled Utilisation"},{"$f":"IF(ISBLANK('Competition Data'!G105),\"\",'Competition Data'!G105)","v":892.77},{"$f":"IF(ISBLANK('Competition Data'!D105),\"\",'Competition Data'!D105)","v":604},{"$f":"IF(ISBLANK('Competition Data'!E105),\"\",'Competition Data'!E105)","v":"0"},{"$f":"IF(ISBLANK('Competition Data'!F105),\"\",'Competition Data'!F105)","v":0.01},"BRIDGEWATER ST (Scheduled Utilisation)",{"$f":"IF(ISBLANK('Competition Data'!I105),\"\",'Competition Data'!I105)","v":147.80960264900662}]
["BROADFIELD STW26/27Peak Reduction",{"$f":"IF(ISBLANK('Competition Data'!A106),\"\",'Competition Data'!A106)","v":"BROADFIELD ST"},{"$f":"IF(ISBLANK('Competition Data'!H106),\"\",'Competition Data'!H106)","v":""},{"$f":"IF(ISBLANK('Competition Data'!B106),\"\",'Competition Data'!B106)","v":"W26/27"},{"$f":"IF(ISBLANK('Competition Data'!C106),\"\",'Competition Data'!C106)","v":"Peak Reduction"},{"$f":"IF(ISBLANK('Competition Data'!G106),\"\",'Competition Data'!G106)","v":892.77},{"$f":"IF(ISBLANK('Competition Data'!D106),\"\",'Competition Data'!D106)","v":604},{"$f":"IF(ISBLANK('Competition Data'!E106),\"\",'Competition Data'!E106)","v":"0"},{"$f":"IF(ISBLANK('Competition Data'!F106),\"\",'Competition Data'!F106)","v":0.03},"BROADFIELD ST (Peak Reduction)",{"$f":"IF(ISBLANK('Competition Data'!I106),\"\",'Competition Data'!I106)","v":49.269867549668874}]
["BROADFIELD STW26/27Scheduled Utilisation",{"$f":"IF(ISBLANK('Competition Data'!A107),\"\",'Competition Data'!A107)","v":"BROADFIELD ST"},{"$f":"IF(ISBLANK('Competition Data'!H107),\"\",'Competition Data'!H107)","v":""},{"$f":"IF(ISBLANK('Competition Data'!B107),\"\",'Competition Data'!B107)","v":"W26/27"},{"$f":"IF(ISBLANK('Competition Data'!C107),\"\",'Competition Data'!C107)","v":"Scheduled Utilisation"},{"$f":"IF(ISBLANK('Competition Data'!G107),\"\",'Competition Data'!G107)","v":892.77},{"$f":"IF(ISBLANK('Competition Data'!D107),\"\",'Competition Data'!D107)","v":604},{"$f":"IF(ISBLANK('Competition Data'!E107),\"\",'Competition Data'!E107)","v":"0"},{"$f":"IF(ISBLANK('Competition Data'!F107),\"\",'Competition Data'!F107)","v":0.03},"BROADFIELD ST (Scheduled Utilisation)",{"$f":"IF(ISBLANK('Competition Data'!I107),\"\",'Competition Data'!I107)","v":49.269867549668874}]
["BROOK TERRW26/27Peak Reduction",{"$f":"IF(ISBLANK('Competition Data'!A108),\"\",'Competition Data'!A108)","v":"BROOK TERR"},{"$f":"IF(ISBLANK('Competition Data'!H108),\"\",'Competition Data'!H108)","v":""},{"$f":"IF(ISBLANK('Competition Data'!B108),\"\",'Competition Data'!B108)","v":"W26/27"},{"$f":"IF(ISBLANK('Competition Data'!C108),\"\",'Competition Data'!C108)","v":"Peak Reduction"},{"$f":"IF(ISBLANK('Competition Data'!G108),\"\",'Competition Data'!G108)","v":892.77},{"$f":"IF(ISBLANK('Competition Data'!D108),\"\",'Competition Data'!D108)","v":604},{"$f":"IF(ISBLANK('Competition Data'!E108),\"\",'Competition Data'!E108)","v":"0"},{"$f":"IF(ISBLANK('Competition Data'!F108),\"\",'Competition Data'!F108)","v":0.05},"BROOK TERR (Peak Reduction)",{"$f":"IF(ISBLANK('Competition Data'!I108),\"\",'Competition Data'!I108)","v":29.561920529801323}]
["BROOK TERRW26/27Scheduled Utilisation",{"$f":"IF(ISBLANK('Competition Data'!A109),\"\",'Competition Data'!A109)","v":"BROOK TERR"},{"$f":"IF(ISBLANK('Competition Data'!H109),\"\",'Competition Data'!H109)","v":""},{"$f":"IF(ISBLANK('Competition Data'!B109),\"\",'Competition Data'!B109)","v":"W26/27"},{"$f":"IF(ISBLANK('Competition Data'!C109),\"\",'Competition Data'!C109)","v":"Scheduled Utilisation"},{"$f":"IF(ISBLANK('Competition Data'!G109),\"\",'Competition Data'!G109)","v":892.77},{"$f":"IF(ISBLANK('Competition Data'!D109),\"\",'Competition Data'!D109)","v":604},{"$f":"IF(ISBLANK('Competition Data'!E109),\"\",'Competition Data'!E109)","v":"0"},{"$f":"IF(ISBLANK('Competition Data'!F109),\"\",'Competition Data'!F109)","v":0.05},"BROOK TERR (Scheduled Utilisation)",{"$f":"IF(ISBLANK('Competition Data'!I109),\"\",'Competition Data'!I109)","v":29.561920529801323}]
["BROOKES LNW26/27Peak Reduction",{"$f":"IF(ISBLANK('Competition Data'!A110),\"\",'Competition Data'!A110)","v":"BROOKES LN"},{"$f":"IF(ISBLANK('Competition Data'!H110),\"\",'Competition Data'!H110)","v":""},{"$f":"IF(ISBLANK('Competition Data'!B110),\"\",'Competition Data'!B110)","v":"W26/27"},{"$f":"IF(ISBLANK('Competition Data'!C110),\"\",'Competition Data'!C110)","v":"Peak Reduction"},{"$f":"IF(ISBLANK('Competition Data'!G110),\"\",'Competition Data'!G110)","v":892.77},{"$f":"IF(ISBLANK('Competition Data'!D110),\"\",'Competition Data'!D110)","v":604},{"$f":"IF(ISBLANK('Competition Data'!E110),\"\",'Competition Data'!E110)","v":"0"},{"$f":"IF(ISBLANK('Competition Data'!F110),\"\",'Competition Data'!F110)","v":0.03},"BROOKES LN (Peak Reduction)",{"$f":"IF(ISBLANK('Competition Data'!I110),\"\",'Competition Data'!I110)","v":49.269867549668874}]
["BROOKES LNW26/27Scheduled Utilisation",{"$f":"IF(ISBLANK('Competition Data'!A111),\"\",'Competition Data'!A111)","v":"BROOKES LN"},{"$f":"IF(ISBLANK('Competition Data'!H111),\"\",'Competition Data'!H111)","v":""},{"$f":"IF(ISBLANK('Competition Data'!B111),\"\",'Competition Data'!B111)","v":"W26/27"},{"$f":"IF(ISBLANK('Competition Data'!C111),\"\",'Competition Data'!C111)","v":"Scheduled Utilisation"},{"$f":"IF(ISBLANK('Competition Data'!G111),\"\",'Competition Data'!G111)","v":892.77},{"$f":"IF(ISBLANK('Competition Data'!D111),\"\",'Competition Data'!D111)","v":604},{"$f":"IF(ISBLANK('Competition Data'!E111),\"\",'Competition Data'!E111)","v":"0"},{"$f":"IF(ISBLANK('Competition Data'!F111),\"\",'Competition Data'!F111)","v":0.03},"BROOKES LN (Scheduled Utilisation)",{"$f":"IF(ISBLANK('Competition Data'!I111),\"\",'Competition Data'!I111)","v":49.269867549668874}]
["BROOKFIELD STW26/27Peak Reduction",{"$f":"IF(ISBLANK('Competition Data'!A112),\"\",'Competition Data'!A112)","v":"BROOKFIELD ST"},{"$f":"IF(ISBLANK('Competition Data'!H112),\"\",'Competition Data'!H112)","v":""},{"$f":"IF(ISBLANK('Competition Data'!B112),\"\",'Competition Data'!B112)","v":"W26/27"},{"$f":"IF(ISBLANK('Competition Data'!C112),\"\",'Competition Data'!C112)","v":"Peak Reduction"},{"$f":"IF(ISBLANK('Competition Data'!G112),\"\",'Competition Data'!G112)","v":892.77},{"$f":"IF(ISBLANK('Competition Data'!D112),\"\",'Competition Data'!D112)","v":604},{"$f":"IF(ISBLANK('Competition Data'!E112),\"\",'Competition Data'!E112)","v":"0"},{"$f":"IF(ISBLANK('Competition Data'!F112),\"\",'Competition Data'!F112)","v":0.01},"BROOKFIELD ST (Peak Reduction)",{"$f":"IF(ISBLANK('Competition Data'!I112),\"\",'Competition Data'!I112)","v":147.80960264900662}]
["BROOKFIELD STW26/27Scheduled Utilisation",{"$f":"IF(ISBLANK('Competition Data'!A113),\"\",'Competition Data'!A113)","v":"BROOKFIELD ST"},{"$f":"IF(ISBLANK('Competition Data'!H113),\"\",'Competition Data'!H113)","v":""},{"$f":"IF(ISBLANK('Competition Data'!B113),\"\",'Competition Data'!B113)","v":"W26/27"},{"$f":"IF(ISBLANK('Competition Data'!C113),\"\",'Competition Data'!C113)","v":"Scheduled Utilisation"},{"$f":"IF(ISBLANK('Competition Data'!G113),\"\",'Competition Data'!G113)","v":892.77},{"$f":"IF(ISBLANK('Competition Data'!D113),\"\",'Competition Data'!D113)","v":604},{"$f":"IF(ISBLANK('Competition Data'!E113),\"\",'Competition Data'!E113)","v":"0"},{"$f":"IF(ISBLANK('Competition Data'!F113),\"\",'Competition Data'!F113)","v":0.01},"BROOKFIELD ST (Scheduled Utilisation)",{"$f":"IF(ISBLANK('Competition Data'!I113),\"\",'Competition Data'!I113)","v":147.80960264900662}]
["BROOMFIELD RDW26/27Peak Reduction",{"$f":"IF(ISBLANK('Competition Data'!A114),\"\",'Competition Data'!A114)","v":"BROOMFIELD RD"},{"$f":"IF(ISBLANK('Competition Data'!H114),\"\",'Competition Data'!H114)","v":""},{"$f":"IF(ISBLANK('Competition Data'!B114),\"\",'Competition Data'!B114)","v":"W26/27"},{"$f":"IF(ISBLANK('Competition Data'!C114),\"\",'Competition Data'!C114)","v":"Peak Reduction"},{"$f":"IF(ISBLANK('Competition Data'!G114),\"\",'Competition Data'!G114)","v":892.77},{"$f":"IF(ISBLANK('Competition Data'!D114),\"\",'Competition Data'!D114)","v":604},{"$f":"IF(ISBLANK('Competition Data'!E114),\"\",'Competition Data'!E114)","v":"0"},{"$f":"IF(ISBLANK('Competition Data'!F114),\"\",'Competition Data'!F114)","v":0.03},"BROOMFIELD RD (Peak Reduction)",{"$f":"IF(ISBLANK('Competition Data'!I114),\"\",'Competition Data'!I114)","v":49.269867549668874}]
["BROOMFIELD RDW26/27Scheduled Utilisation",{"$f":"IF(ISBLANK('Competition Data'!A115),\"\",'Competition Data'!A115)","v":"BROOMFIELD RD"},{"$f":"IF(ISBLANK('Competition Data'!H115),\"\",'Competition Data'!H115)","v":""},{"$f":"IF(ISBLANK('Competition Data'!B115),\"\",'Competition Data'!B115)","v":"W26/27"},{"$f":"IF(ISBLANK('Competition Data'!C115),\"\",'Competition Data'!C115)","v":"Scheduled Utilisation"},{"$f":"IF(ISBLANK('Competition Data'!G115),\"\",'Competition Data'!G115)","v":892.77},{"$f":"IF(ISBLANK('Competition Data'!D115),\"\",'Competition Data'!D115)","v":604},{"$f":"IF(ISBLANK('Competition Data'!E115),\"\",'Competition Data'!E115)","v":"0"},{"$f":"IF(ISBLANK('Competition Data'!F115),\"\",'Competition Data'!F115)","v":0.03},"BROOMFIELD RD (Scheduled Utilisation)",{"$f":"IF(ISBLANK('Competition Data'!I115),\"\",'Competition Data'!I115)","v":49.269867549668874}]
["BROWNLEY RDW26/27Peak Reduction",{"$f":"IF(ISBLANK('Competition Data'!A116),\"\",'Competition Data'!A116)","v":"BROWNLEY RD"},{"$f":"IF(ISBLANK('Competition Data'!H116),\"\",'Competition Data'!H116)","v":""},{"$f":"IF(ISBLANK('Competition Data'!B116),\"\",'Competition Data'!B116)","v":"W26/27"},{"$f":"IF(ISBLANK('Competition Data'!C116),\"\",'Competition Data'!C116)","v":"Peak Reduction"},{"$f":"IF(ISBLANK('Competition Data'!G116),\"\",'Competition Data'!G116)","v":892.77},{"$f":"IF(ISBLANK('Competition Data'!D116),\"\",'Competition Data'!D116)","v":604},{"$f":"IF(ISBLANK('Competition Data'!E116),\"\",'Competition Data'!E116)","v":"0"},{"$f":"IF(ISBLANK('Competition Data'!F116),\"\",'Competition Data'!F116)","v":0.1},"BROWNLEY RD (Peak Reduction)",{"$f":"IF(ISBLANK('Competition Data'!I116),\"\",'Competition Data'!I116)","v":14.780960264900662}]
["BROWNLEY RDW26/27Scheduled Utilisation",{"$f":"IF(ISBLANK('Competition Data'!A117),\"\",'Competition Data'!A117)","v":"BROWNLEY RD"},{"$f":"IF(ISBLANK('Competition Data'!H117),\"\",'Competition Data'!H117)","v":""},{"$f":"IF(ISBLANK('Competition Data'!B117),\"\",'Competition Data'!B117)","v":"W26/27"},{"$f":"IF(ISBLANK('Competition Data'!C117),\"\",'Competition Data'!C117)","v":"Scheduled Utilisation"},{"$f":"IF(ISBLANK('Competition Data'!G117),\"\",'Competition Data'!G117)","v":892.77},{"$f":"IF(ISBLANK('Competition Data'!D117),\"\",'Competition Data'!D117)","v":604},{"$f":"IF(ISBLANK('Competition Data'!E117),\"\",'Competition Data'!E117)","v":"0"},{"$f":"IF(ISBLANK('Competition Data'!F117),\"\",'Competition Data'!F117)","v":0.1},"BROWNLEY RD (Scheduled Utilisation)",{"$f":"IF(ISBLANK('Competition Data'!I117),\"\",'Competition Data'!I117)","v":14.780960264900662}]
["BUCK STW26/27Peak Reduction",{"$f":"IF(ISBLANK('Competition Data'!A118),\"\",'Competition Data'!A118)","v":"BUCK ST"},{"$f":"IF(ISBLANK('Competition Data'!H118),\"\",'Competition Data'!H118)","v":""},{"$f":"IF(ISBLANK('Competition Data'!B118),\"\",'Competition Data'!B118)","v":"W26/27"},{"$f":"IF(ISBLANK('Competition Data'!C118),\"\",'Competition Data'!C118)","v":"Peak Reduction"},{"$f":"IF(ISBLANK('Competition Data'!G118),\"\",'Competition Data'!G118)","v":892.77},{"$f":"IF(ISBLANK('Competition Data'!D118),\"\",'Competition Data'!D118)","v":604},{"$f":"IF(ISBLANK('Competition Data'!E118),\"\",'Competition Data'!E118)","v":"0"},{"$f":"IF(ISBLANK('Competition Data'!F118),\"\",'Competition Data'!F118)","v":0.01},"BUCK ST (Peak Reduction)",{"$f":"IF(ISBLANK('Competition Data'!I118),\"\",'Competition Data'!I118)","v":147.80960264900662}]
["BUCK STW26/27Scheduled Utilisation",{"$f":"IF(ISBLANK('Competition Data'!A119),\"\",'Competition Data'!A119)","v":"BUCK ST"},{"$f":"IF(ISBLANK('Competition Data'!H119),\"\",'Competition Data'!H119)","v":""},{"$f":"IF(ISBLANK('Competition Data'!B119),\"\",'Competition Data'!B119)","v":"W26/27"},{"$f":"IF(ISBLANK('Competition Data'!C119),\"\",'Competition Data'!C119)","v":"Scheduled Utilisation"},{"$f":"IF(ISBLANK('Competition Data'!G119),\"\",'Competition Data'!G119)","v":892.77},{"$f":"IF(ISBLANK('Competition Data'!D119),\"\",'Competition Data'!D119)","v":604},{"$f":"IF(ISBLANK('Competition Data'!E119),\"\",'Competition Data'!E119)","v":"0"},{"$f":"IF(ISBLANK('Competition Data'!F119),\"\",'Competition Data'!F119)","v":0.01},"BUCK ST (Scheduled Utilisation)",{"$f":"IF(ISBLANK('Competition Data'!I119),\"\",'Competition Data'!I119)","v":147.80960264900662}]
["BULLS HEAD (WILPSHIRE)W26/27Peak Reduction",{"$f":"IF(ISBLANK('Competition Data'!A120),\"\",'Competition Data'!A120)","v":"BULLS HEAD (WILPSHIRE)"},{"$f":"IF(ISBLANK('Competition Data'!H120),\"\",'Competition Data'!H120)","v":""},{"$f":"IF(ISBLANK('Competition Data'!B120),\"\",'Competition Data'!B120)","v":"W26/27"},{"$f":"IF(ISBLANK('Competition Data'!C120),\"\",'Competition Data'!C120)","v":"Peak Reduction"},{"$f":"IF(ISBLANK('Competition Data'!G120),\"\",'Competition Data'!G120)","v":892.77},{"$f":"IF(ISBLANK('Competition Data'!D120),\"\",'Competition Data'!D120)","v":604},{"$f":"IF(ISBLANK('Competition Data'!E120),\"\",'Competition Data'!E120)","v":"0"},{"$f":"IF(ISBLANK('Competition Data'!F120),\"\",'Competition Data'!F120)","v":0.04},"BULLS HEAD (WILPSHIRE) (Peak Reduction)",{"$f":"IF(ISBLANK('Competition Data'!I120),\"\",'Competition Data'!I120)","v":36.952400662251655}]
["BULLS HEAD (WILPSHIRE)W26/27Scheduled Utilisation",{"$f":"IF(ISBLANK('Competition Data'!A121),\"\",'Competition Data'!A121)","v":"BULLS HEAD (WILPSHIRE)"},{"$f":"IF(ISBLANK('Competition Data'!H121),\"\",'Competition Data'!H121)","v":""},{"$f":"IF(ISBLANK('Competition Data'!B121),\"\",'Competition Data'!B121)","v":"W26/27"},{"$f":"IF(ISBLANK('Competition Data'!C121),\"\",'Competition Data'!C121)","v":"Scheduled Utilisation"},{"$f":"IF(ISBLANK('Competition Data'!G121),\"\",'Competition Data'!G121)","v":892.77},{"$f":"IF(ISBLANK('Competition Data'!D121),\"\",'Competition Data'!D121)","v":604},{"$f":"IF(ISBLANK('Competition Data'!E121),\"\",'Competition Data'!E121)","v":"0"},{"$f":"IF(ISBLANK('Competition Data'!F121),\"\",'Competition Data'!F121)","v":0.04},"BULLS HEAD (WILPSHIRE) (Scheduled Utilisation)",{"$f":"IF(ISBLANK('Competition Data'!I121),\"\",'Competition Data'!I121)","v":36.952400662251655}]
["Burrow BeckS27Variable Availability + Operational Utilisation",{"$f":"IF(ISBLANK('Competition Data'!A122),\"\",'Competition Data'!A122)","v":"Burrow Beck"},{"$f":"IF(ISBLANK('Competition Data'!H122),\"\",'Competition Data'!H122)","v":""},{"$f":"IF(ISBLANK('Competition Data'!B122),\"\",'Competition Data'!B122)","v":"S27"},{"$f":"IF(ISBLANK('Competition Data'!C122),\"\",'Competition Data'!C122)","v":"Variable Availability + Operational Utilisation"},{"$f":"IF(ISBLANK('Competition Data'!G122),\"\",'Competition Data'!G122)","v":101470},{"$f":"IF(ISBLANK('Competition Data'!D122),\"\",'Competition Data'!D122)","v":48},{"$f":"IF(ISBLANK('Competition Data'!E122),\"\",'Competition Data'!E122)","v":"484"},{"$f":"IF(ISBLANK('Competition Data'!F122),\"\",'Competition Data'!F122)","v":4.87},"Burrow Beck (Variable Availability + Operational Utilisation)",{"$f":"IF(ISBLANK('Competition Data'!I122),\"\",'Competition Data'!I122)","v":"N/A"}]
["Burrow BeckS27Peak Reduction",{"$f":"IF(ISBLANK('Competition Data'!A123),\"\",'Competition Data'!A123)","v":"Burrow Beck"},{"$f":"IF(ISBLANK('Competition Data'!H123),\"\",'Competition Data'!H123)","v":""},{"$f":"IF(ISBLANK('Competition Data'!B123),\"\",'Competition Data'!B123)","v":"S27"},{"$f":"IF(ISBLANK('Competition Data'!C123),\"\",'Competition Data'!C123)","v":"Peak Reduction"},{"$f":"IF(ISBLANK('Competition Data'!G123),\"\",'Competition Data'!G123)","v":101470},{"$f":"IF(ISBLANK('Competition Data'!D123),\"\",'Competition Data'!D123)","v":4392},{"$f":"IF(ISBLANK('Competition Data'!E123),\"\",'Competition Data'!E123)","v":"0"},{"$f":"IF(ISBLANK('Competition Data'!F123),\"\",'Competition Data'!F123)","v":4.87},"Burrow Beck (Peak Reduction)",{"$f":"IF(ISBLANK('Competition Data'!I123),\"\",'Competition Data'!I123)","v":4.7440184318697804}]
["Burrow BeckW26/27Variable Availability + Operational Utilisation",{"$f":"IF(ISBLANK('Competition Data'!A124),\"\",'Competition Data'!A124)","v":"Burrow Beck"},{"$f":"IF(ISBLANK('Competition Data'!H124),\"\",'Competition Data'!H124)","v":""},{"$f":"IF(ISBLANK('Competition Data'!B124),\"\",'Competition Data'!B124)","v":"W26/27"},{"$f":"IF(ISBLANK('Competition Data'!C124),\"\",'Competition Data'!C124)","v":"Variable Availability + Operational Utilisation"},{"$f":"IF(ISBLANK('Competition Data'!G124),\"\",'Competition Data'!G124)","v":368793},{"$f":"IF(ISBLANK('Competition Data'!D124),\"\",'Competition Data'!D124)","v":100},{"$f":"IF(ISBLANK('Competition Data'!E124),\"\",'Competition Data'!E124)","v":"1851"},{"$f":"IF(ISBLANK('Competition Data'!F124),\"\",'Competition Data'!F124)","v":11.87},"Burrow Beck (Variable Availability + Operational Utilisation)",{"$f":"IF(ISBLANK('Competition Data'!I124),\"\",'Competition Data'!I124)","v":"N/A"}]
["Burrow BeckW26/27Peak Reduction",{"$f":"IF(ISBLANK('Competition Data'!A125),\"\",'Competition Data'!A125)","v":"Burrow Beck"},{"$f":"IF(ISBLANK('Competition Data'!H125),\"\",'Competition Data'!H125)","v":""},{"$f":"IF(ISBLANK('Competition Data'!B125),\"\",'Competition Data'!B125)","v":"W26/27"},{"$f":"IF(ISBLANK('Competition Data'!C125),\"\",'Competition Data'!C125)","v":"Peak Reduction"},{"$f":"IF(ISBLANK('Competition Data'!G125),\"\",'Competition Data'!G125)","v":368793},{"$f":"IF(ISBLANK('Competition Data'!D125),\"\",'Competition Data'!D125)","v":3624},{"$f":"IF(ISBLANK('Competition Data'!E125),\"\",'Competition Data'!E125)","v":"0"},{"$f":"IF(ISBLANK('Competition Data'!F125),\"\",'Competition Data'!F125)","v":11.87},"Burrow Beck (Peak Reduction)",{"$f":"IF(ISBLANK('Competition Data'!I125),\"\",'Competition Data'!I125)","v":8.5732159096615099}]
["Burrow BeckW27/28Variable Availability + Operational Utilisation",{"$f":"IF(ISBLANK('Competition Data'!A126),\"\",'Competition Data'!A126)","v":"Burrow Beck"},{"$f":"IF(ISBLANK('Competition Data'!H126),\"\",'Competition Data'!H126)","v":""},{"$f":"IF(ISBLANK('Competition Data'!B126),\"\",'Competition Data'!B126)","v":"W27/28"},{"$f":"IF(ISBLANK('Competition Data'!C126),\"\",'Competition Data'!C126)","v":"Variable Availability + Operational Utilisation"},{"$f":"IF(ISBLANK('Competition Data'!G126),\"\",'Competition Data'!G126)","v":267323},{"$f":"IF(ISBLANK('Competition Data'!D126),\"\",'Competition Data'!D126)","v":200},{"$f":"IF(ISBLANK('Competition Data'!E126),\"\",'Competition Data'!E126)","v":"2312"},{"$f":"IF(ISBLANK('Competition Data'!F126),\"\",'Competition Data'!F126)","v":12.83},"Burrow Beck (Variable Availability + Operational Utilisation)",{"$f":"IF(ISBLANK('Competition Data'!I126),\"\",'Competition Data'!I126)","v":"N/A"}]
["Burrow BeckW27/28Peak Reduction",{"$f":"IF(ISBLANK('Competition Data'!A127),\"\",'Competition Data'!A127)","v":"Burrow Beck"},{"$f":"IF(ISBLANK('Competition Data'!H127),\"\",'Competition Data'!H127)","v":""},{"$f":"IF(ISBLANK('Competition Data'!B127),\"\",'Competition Data'!B127)","v":"W27/28"},{"$f":"IF(ISBLANK('Competition Data'!C127),\"\",'Competition Data'!C127)","v":"Peak Reduction"},{"$f":"IF(ISBLANK('Competition Data'!G127),\"\",'Competition Data'!G127)","v":267323},{"$f":"IF(ISBLANK('Competition Data'!D127),\"\",'Competition Data'!D127)","v":4392},{"$f":"IF(ISBLANK('Competition Data'!E127),\"\",'Competition Data'!E127)","v":"0"},{"$f":"IF(ISBLANK('Competition Data'!F127),\"\",'Competition Data'!F127)","v":12.83},"Burrow Beck (Peak Reduction)",{"$f":"IF(ISBLANK('Competition Data'!I127),\"\",'Competition Data'!I127)","v":4.7440290359996995}]
["CAPONTREE-WESTLINTON-Morton Park & Pirelli GroupS27Variable Availability + Operational Utilisation",{"$f":"IF(ISBLANK('Competition Data'!A128),\"\",'Competition Data'!A128)","v":"CAPONTREE-WESTLINTON-Morton Park & Pirelli Group"},{"$f":"IF(ISBLANK('Competition Data'!H128),\"\",'Competition Data'!H128)","v":""},{"$f":"IF(ISBLANK('Competition Data'!B128),\"\",'Competition Data'!B128)","v":"S27"},{"$f":"IF(ISBLANK('Competition Data'!C128),\"\",'Competition Data'!C128)","v":"Variable Availability + Operational Utilisation"},{"$f":"IF(ISBLANK('Competition Data'!G128),\"\",'Competition Data'!G128)","v":70285},{"$f":"IF(ISBLANK('Competition Data'!D128),\"\",'Competition Data'!D128)","v":400},{"$f":"IF(ISBLANK('Competition Data'!E128),\"\",'Competition Data'!E128)","v":"4392"},{"$f":"IF(ISBLANK('Competition Data'!F128),\"\",'Competition Data'!F128)","v":23.05},"CAPONTREE-WESTLINTON-Morton Park & Pirelli Group (Variable Availability + Operational Utilisation)",{"$f":"IF(ISBLANK('Competition Data'!I128),\"\",'Competition Data'!I128)","v":"N/A"}]
["CAPONTREE-WESTLINTON-Morton Park & Pirelli GroupS27Peak Reduction",{"$f":"IF(ISBLANK('Competition Data'!A129),\"\",'Competition Data'!A129)","v":"CAPONTREE-WESTLINTON-Morton Park & Pirelli Group"},{"$f":"IF(ISBLANK('Competition Data'!H129),\"\",'Competition Data'!H129)","v":""},{"$f":"IF(ISBLANK('Competition Data'!B129),\"\",'Competition Data'!B129)","v":"S27"},{"$f":"IF(ISBLANK('Competition Data'!C129),\"\",'Competition Data'!C129)","v":"Peak Reduction"},{"$f":"IF(ISBLANK('Competition Data'!G129),\"\",'Competition Data'!G129)","v":70285},{"$f":"IF(ISBLANK('Competition Data'!D129),\"\",'Competition Data'!D129)","v":4392},{"$f":"IF(ISBLANK('Competition Data'!E129),\"\",'Competition Data'!E129)","v":"0"},{"$f":"IF(ISBLANK('Competition Data'!F129),\"\",'Competition Data'!F129)","v":23.05},"CAPONTREE-WESTLINTON-Morton Park & Pirelli Group (Peak Reduction)",{"$f":"IF(ISBLANK('Competition Data'!I129),\"\",'Competition Data'!I129)","v":0.6942715803531565}]
["CAPONTREE-WESTLINTON-Morton Park & Pirelli GroupW26/27Variable Availability + Operational Utilisation",{"$f":"IF(ISBLANK('Competition Data'!A130),\"\",'Competition Data'!A130)","v":"CAPONTREE-WESTLINTON-Morton Park & Pirelli Group"},{"$f":"IF(ISBLANK('Competition Data'!H130),\"\",'Competition Data'!H130)","v":""},{"$f":"IF(ISBLANK('Competition Data'!B130),\"\",'Competition Data'!B130)","v":"W26/27"},{"$f":"IF(ISBLANK('Competition Data'!C130),\"\",'Competition Data'!C130)","v":"Variable Availability + Operational Utilisation"},{"$f":"IF(ISBLANK('Competition Data'!G130),\"\",'Competition Data'!G130)","v":177436},{"$f":"IF(ISBLANK('Competition Data'!D130),\"\",'Competition Data'!D130)","v":300},{"$f":"IF(ISBLANK('Competition Data'!E130),\"\",'Competition Data'!E130)","v":"3624"},{"$f":"IF(ISBLANK('Competition Data'!F130),\"\",'Competition Data'!F130)","v":32.31},"CAPONTREE-WESTLINTON-Morton Park & Pirelli Group (Variable Availability + Operational Utilisation)",{"$f":"IF(ISBLANK('Competition Data'!I130),\"\",'Competition Data'!I130)","v":"N/A"}]
[{"$f":"CONCATENATE(B131,D131,E131)","v":"CAPONTREE-WESTLINTON-Morton Park & Pirelli GroupW26/27Peak Reduction"},{"$f":"IF(ISBLANK('Competition Data'!A131),\"\",'Competition Data'!A131)","v":"CAPONTREE-WESTLINTON-Morton Park & Pirelli Group"},{"$f":"IF(ISBLANK('Competition Data'!H131),\"\",'Competition Data'!H131)","v":""},{"$f":"IF(ISBLANK('Competition Data'!B131),\"\",'Competition Data'!B131)","v":"W26/27"},{"$f":"IF(ISBLANK('Competition Data'!C131),\"\",'Competition Data'!C131)","v":"Peak Reduction"},{"$f":"IF(ISBLANK('Competition Data'!G131),\"\",'Competition Data'!G131)","v":177436},{"$f":"IF(ISBLANK('Competition Data'!D131),\"\",'Competition Data'!D131)","v":3624},{"$f":"IF(ISBLANK('Competition Data'!E131),\"\",'Competition Data'!E131)","v":"0"},{"$f":"IF(ISBLANK('Competition Data'!F131),\"\",'Competition Data'!F131)","v":32.31},{"$f":"CONCATENATE(B131,\" (\",E131,\")\")","v":"CAPONTREE-WESTLINTON-Morton Park & Pirelli Group (Peak Reduction)"},{"$f":"IF(ISBLANK('Competition Data'!I131),\"\",'Competition Data'!I131)","v":1.5153626943182184}]
["CAPONTREE-WESTLINTON-Morton Park & Pirelli GroupW27/28Variable Availability + Operational Utilisation",{"$f":"IF(ISBLANK('Competition Data'!A132),\"\",'Competition Data'!A132)","v":"CAPONTREE-WESTLINTON-Morton Park & Pirelli Group"},{"$f":"IF(ISBLANK('Competition Data'!H132),\"\",'Competition Data'!H132)","v":""},{"$f":"IF(ISBLANK('Competition Data'!B132),\"\",'Competition Data'!B132)","v":"W27/28"},{"$f":"IF(ISBLANK('Competition Data'!C132),\"\",'Competition Data'!C132)","v":"Variable Availability + Operational Utilisation"},{"$f":"IF(ISBLANK('Competition Data'!G132),\"\",'Competition Data'!G132)","v":107151},{"$f":"IF(ISBLANK('Competition Data'!D132),\"\",'Competition Data'!D132)","v":400},{"$f":"IF(ISBLANK('Competition Data'!E132),\"\",'Competition Data'!E132)","v":"4392"},{"$f":"IF(ISBLANK('Competition Data'!F132),\"\",'Competition Data'!F132)","v":35.14},"CAPONTREE-WESTLINTON-Morton Park & Pirelli Group (Variable Availability + Operational Utilisation)",{"$f":"IF(ISBLANK('Competition Data'!I132),\"\",'Competition Data'!I132)","v":"N/A"}]
["CAPONTREE-WESTLINTON-Morton Park & Pirelli GroupW27/28Peak Reduction",{"$f":"IF(ISBLANK('Competition Data'!A133),\"\",'Competition Data'!A133)","v":"CAPONTREE-WESTLINTON-Morton Park & Pirelli Group"},{"$f":"IF(ISBLANK('Competition Data'!H133),\"\",'Competition Data'!H133)","v":""},{"$f":"IF(ISBLANK('Competition Data'!B133),\"\",'Competition Data'!B133)","v":"W27/28"},{"$f":"IF(ISBLANK('Competition Data'!C133),\"\",'Competition Data'!C133)","v":"Peak Reduction"},{"$f":"IF(ISBLANK('Competition Data'!G133),\"\",'Competition Data'!G133)","v":107151},{"$f":"IF(ISBLANK('Competition Data'!D133),\"\",'Competition Data'!D133)","v":4392},{"$f":"IF(ISBLANK('Competition Data'!E133),\"\",'Competition Data'!E133)","v":"0"},{"$f":"IF(ISBLANK('Competition Data'!F133),\"\",'Competition Data'!F133)","v":35.14},"CAPONTREE-WESTLINTON-Morton Park & Pirelli Group (Peak Reduction)",{"$f":"IF(ISBLANK('Competition Data'!I133),\"\",'Competition Data'!I133)","v":0.69427597961005316}]
["Carlisle North BSPS27Variable Availability + Operational Utilisation",{"$f":"IF(ISBLANK('Competition Data'!A134),\"\",'Competition Data'!A134)","v":"Carlisle North BSP"},{"$f":"IF(ISBLANK('Competition Data'!H134),\"\",'Competition Data'!H134)","v":""},{"$f":"IF(ISBLANK('Competition Data'!B134),\"\",'Competition Data'!B134)","v":"S27"},{"$f":"IF(ISBLANK('Competition Data'!C134),\"\",'Competition Data'!C134)","v":"Variable Availability + Operational Utilisation"},{"$f":"IF(ISBLANK('Competition Data'!G134),\"\",'Competition Data'!G134)","v":96760},{"$f":"IF(ISBLANK('Competition Data'!D134),\"\",'Competition Data'!D134)","v":14},{"$f":"IF(ISBLANK('Competition Data'!E134),\"\",'Competition Data'!E134)","v":"14"},{"$f":"IF(ISBLANK('Competition Data'!F134),\"\",'Competition Data'!F134)","v":2.2999999999999998},"Carlisle North BSP (Variable Availability + Operational Utilisation)",{"$f":"IF(ISBLANK('Competition Data'!I134),\"\",'Competition Data'!I134)","v":"N/A"}]
["Carlisle North BSPS27Peak Reduction",{"$f":"IF(ISBLANK('Competition Data'!A135),\"\",'Competition Data'!A135)","v":"Carlisle North BSP"},{"$f":"IF(ISBLANK('Competition Data'!H135),\"\",'Competition Data'!H135)","v":""},{"$f":"IF(ISBLANK('Competition Data'!B135),\"\",'Competition Data'!B135)","v":"S27"},{"$f":"IF(ISBLANK('Competition Data'!C135),\"\",'Competition Data'!C135)","v":"Peak Reduction"},{"$f":"IF(ISBLANK('Competition Data'!G135),\"\",'Competition Data'!G135)","v":96760},{"$f":"IF(ISBLANK('Competition Data'!D135),\"\",'Competition Data'!D135)","v":4392},{"$f":"IF(ISBLANK('Competition Data'!E135),\"\",'Competition Data'!E135)","v":"0"},{"$f":"IF(ISBLANK('Competition Data'!F135),\"\",'Competition Data'!F135)","v":2.2999999999999998},"Carlisle North BSP (Peak Reduction)",{"$f":"IF(ISBLANK('Competition Data'!I135),\"\",'Competition Data'!I135)","v":9.5786806050526661}]
["CARLTON AVEW26/27Peak Reduction",{"$f":"IF(ISBLANK('Competition Data'!A136),\"\",'Competition Data'!A136)","v":"CARLTON AVE"},{"$f":"IF(ISBLANK('Competition Data'!H136),\"\",'Competition Data'!H136)","v":""},{"$f":"IF(ISBLANK('Competition Data'!B136),\"\",'Competition Data'!B136)","v":"W26/27"},{"$f":"IF(ISBLANK('Competition Data'!C136),\"\",'Competition Data'!C136)","v":"Peak Reduction"},{"$f":"IF(ISBLANK('Competition Data'!G136),\"\",'Competition Data'!G136)","v":892.77},{"$f":"IF(ISBLANK('Competition Data'!D136),\"\",'Competition Data'!D136)","v":604},{"$f":"IF(ISBLANK('Competition Data'!E136),\"\",'Competition Data'!E136)","v":"0"},{"$f":"IF(ISBLANK('Competition Data'!F136),\"\",'Competition Data'!F136)","v":0.04},"CARLTON AVE (Peak Reduction)",{"$f":"IF(ISBLANK('Competition Data'!I136),\"\",'Competition Data'!I136)","v":36.952400662251655}]
["CARLTON AVEW26/27Scheduled Utilisation",{"$f":"IF(ISBLANK('Competition Data'!A137),\"\",'Competition Data'!A137)","v":"CARLTON AVE"},{"$f":"IF(ISBLANK('Competition Data'!H137),\"\",'Competition Data'!H137)","v":""},{"$f":"IF(ISBLANK('Competition Data'!B137),\"\",'Competition Data'!B137)","v":"W26/27"},{"$f":"IF(ISBLANK('Competition Data'!C137),\"\",'Competition Data'!C137)","v":"Scheduled Utilisation"},{"$f":"IF(ISBLANK('Competition Data'!G137),\"\",'Competition Data'!G137)","v":892.77},{"$f":"IF(ISBLANK('Competition Data'!D137),\"\",'Competition Data'!D137)","v":604},{"$f":"IF(ISBLANK('Competition Data'!E137),\"\",'Competition Data'!E137)","v":"0"},{"$f":"IF(ISBLANK('Competition Data'!F137),\"\",'Competition Data'!F137)","v":0.04},"CARLTON AVE (Scheduled Utilisation)",{"$f":"IF(ISBLANK('Competition Data'!I137),\"\",'Competition Data'!I137)","v":36.952400662251655}]
["Catterall WaterworksFY27Operational Utilisation",{"$f":"IF(ISBLANK('Competition Data'!A138),\"\",'Competition Data'!A138)","v":"Catterall Waterworks"},{"$f":"IF(ISBLANK('Competition Data'!H138),\"\",'Competition Data'!H138)","v":""},{"$f":"IF(ISBLANK('Competition Data'!B138),\"\",'Competition Data'!B138)","v":"FY27"},{"$f":"IF(ISBLANK('Competition Data'!C138),\"\",'Competition Data'!C138)","v":"Operational Utilisation"},{"$f":"IF(ISBLANK('Competition Data'!G138),\"\",'Competition Data'!G138)","v":121587},{"$f":"IF(ISBLANK('Competition Data'!D138),\"\",'Competition Data'!D138)","v":100},{"$f":"IF(ISBLANK('Competition Data'!E138),\"\",'Competition Data'!E138)","v":"0"},{"$f":"IF(ISBLANK('Competition Data'!F138),\"\",'Competition Data'!F138)","v":7.5},"Catterall Waterworks (Operational Utilisation)",{"$f":"IF(ISBLANK('Competition Data'!I138),\"\",'Competition Data'!I138)","v":162.11599999999999}]
["Catterall WaterworksFY28Operational Utilisation",{"$f":"IF(ISBLANK('Competition Data'!A139),\"\",'Competition Data'!A139)","v":"Catterall Waterworks"},{"$f":"IF(ISBLANK('Competition Data'!H139),\"\",'Competition Data'!H139)","v":""},{"$f":"IF(ISBLANK('Competition Data'!B139),\"\",'Competition Data'!B139)","v":"FY28"},{"$f":"IF(ISBLANK('Competition Data'!C139),\"\",'Competition Data'!C139)","v":"Operational Utilisation"},{"$f":"IF(ISBLANK('Competition Data'!G139),\"\",'Competition Data'!G139)","v":121587},{"$f":"IF(ISBLANK('Competition Data'!D139),\"\",'Competition Data'!D139)","v":100},{"$f":"IF(ISBLANK('Competition Data'!E139),\"\",'Competition Data'!E139)","v":"0"},{"$f":"IF(ISBLANK('Competition Data'!F139),\"\",'Competition Data'!F139)","v":7.5},"Catterall Waterworks (Operational Utilisation)",{"$f":"IF(ISBLANK('Competition Data'!I139),\"\",'Competition Data'!I139)","v":162.11599999999999}]
["Catterall WaterworksS27Variable Availability + Operational Utilisation",{"$f":"IF(ISBLANK('Competition Data'!A140),\"\",'Competition Data'!A140)","v":"Catterall Waterworks"},{"$f":"IF(ISBLANK('Competition Data'!H140),\"\",'Competition Data'!H140)","v":""},{"$f":"IF(ISBLANK('Competition Data'!B140),\"\",'Competition Data'!B140)","v":"S27"},{"$f":"IF(ISBLANK('Competition Data'!C140),\"\",'Competition Data'!C140)","v":"Variable Availability + Operational Utilisation"},{"$f":"IF(ISBLANK('Competition Data'!G140),\"\",'Competition Data'!G140)","v":11806},{"$f":"IF(ISBLANK('Competition Data'!D140),\"\",'Competition Data'!D140)","v":400},{"$f":"IF(ISBLANK('Competition Data'!E140),\"\",'Competition Data'!E140)","v":"4392"},{"$f":"IF(ISBLANK('Competition Data'!F140),\"\",'Competition Data'!F140)","v":5.09},"Catterall Waterworks (Variable Availability + Operational Utilisation)",{"$f":"IF(ISBLANK('Competition Data'!I140),\"\",'Competition Data'!I140)","v":"N/A"}]
["Catterall WaterworksS27Peak Reduction",{"$f":"IF(ISBLANK('Competition Data'!A141),\"\",'Competition Data'!A141)","v":"Catterall Waterworks"},{"$f":"IF(ISBLANK('Competition Data'!H141),\"\",'Competition Data'!H141)","v":""},{"$f":"IF(ISBLANK('Competition Data'!B141),\"\",'Competition Data'!B141)","v":"S27"},{"$f":"IF(ISBLANK('Competition Data'!C141),\"\",'Competition Data'!C141)","v":"Peak Reduction"},{"$f":"IF(ISBLANK('Competition Data'!G141),\"\",'Competition Data'!G141)","v":11806},{"$f":"IF(ISBLANK('Competition Data'!D141),\"\",'Competition Data'!D141)","v":4392},{"$f":"IF(ISBLANK('Competition Data'!E141),\"\",'Competition Data'!E141)","v":"0"},{"$f":"IF(ISBLANK('Competition Data'!F141),\"\",'Competition Data'!F141)","v":5.09},"Catterall Waterworks (Peak Reduction)",{"$f":"IF(ISBLANK('Competition Data'!I141),\"\",'Competition Data'!I141)","v":0.52810790113118689}]
["Catterall WaterworksW26/27Variable Availability + Operational Utilisation",{"$f":"IF(ISBLANK('Competition Data'!A142),\"\",'Competition Data'!A142)","v":"Catterall Waterworks"},{"$f":"IF(ISBLANK('Competition Data'!H142),\"\",'Competition Data'!H142)","v":""},{"$f":"IF(ISBLANK('Competition Data'!B142),\"\",'Competition Data'!B142)","v":"W26/27"},{"$f":"IF(ISBLANK('Competition Data'!C142),\"\",'Competition Data'!C142)","v":"Variable Availability + Operational Utilisation"},{"$f":"IF(ISBLANK('Competition Data'!G142),\"\",'Competition Data'!G142)","v":26511},{"$f":"IF(ISBLANK('Competition Data'!D142),\"\",'Competition Data'!D142)","v":300},{"$f":"IF(ISBLANK('Competition Data'!E142),\"\",'Competition Data'!E142)","v":"3624"},{"$f":"IF(ISBLANK('Competition Data'!F142),\"\",'Competition Data'!F142)","v":6.3},"Catterall Waterworks (Variable Availability + Operational Utilisation)",{"$f":"IF(ISBLANK('Competition Data'!I142),\"\",'Competition Data'!I142)","v":"N/A"}]
["Catterall WaterworksW26/27Peak Reduction",{"$f":"IF(ISBLANK('Competition Data'!A143),\"\",'Competition Data'!A143)","v":"Catterall Waterworks"},{"$f":"IF(ISBLANK('Competition Data'!H143),\"\",'Competition Data'!H143)","v":""},{"$f":"IF(ISBLANK('Competition Data'!B143),\"\",'Competition Data'!B143)","v":"W26/27"},{"$f":"IF(ISBLANK('Competition Data'!C143),\"\",'Competition Data'!C143)","v":"Peak Reduction"},{"$f":"IF(ISBLANK('Competition Data'!G143),\"\",'Competition Data'!G143)","v":26511},{"$f":"IF(ISBLANK('Competition Data'!D143),\"\",'Competition Data'!D143)","v":3624},{"$f":"IF(ISBLANK('Competition Data'!E143),\"\",'Competition Data'!E143)","v":"0"},{"$f":"IF(ISBLANK('Competition Data'!F143),\"\",'Competition Data'!F143)","v":6.3},"Catterall Waterworks (Peak Reduction)",{"$f":"IF(ISBLANK('Competition Data'!I143),\"\",'Competition Data'!I143)","v":1.1611741826973616}]
["Catterall WaterworksW27/28Variable Availability + Operational Utilisation",{"$f":"IF(ISBLANK('Competition Data'!A144),\"\",'Competition Data'!A144)","v":"Catterall Waterworks"},{"$f":"IF(ISBLANK('Competition Data'!H144),\"\",'Competition Data'!H144)","v":""},{"$f":"IF(ISBLANK('Competition Data'!B144),\"\",'Competition Data'!B144)","v":"W27/28"},{"$f":"IF(ISBLANK('Competition Data'!C144),\"\",'Competition Data'!C144)","v":"Variable Availability + Operational Utilisation"},{"$f":"IF(ISBLANK('Competition Data'!G144),\"\",'Competition Data'!G144)","v":14705},{"$f":"IF(ISBLANK('Competition Data'!D144),\"\",'Competition Data'!D144)","v":400},{"$f":"IF(ISBLANK('Competition Data'!E144),\"\",'Competition Data'!E144)","v":"4392"},{"$f":"IF(ISBLANK('Competition Data'!F144),\"\",'Competition Data'!F144)","v":6.34},"Catterall Waterworks (Variable Availability + Operational Utilisation)",{"$f":"IF(ISBLANK('Competition Data'!I144),\"\",'Competition Data'!I144)","v":"N/A"}]
["Catterall WaterworksW27/28Peak Reduction",{"$f":"IF(ISBLANK('Competition Data'!A145),\"\",'Competition Data'!A145)","v":"Catterall Waterworks"},{"$f":"IF(ISBLANK('Competition Data'!H145),\"\",'Competition Data'!H145)","v":""},{"$f":"IF(ISBLANK('Competition Data'!B145),\"\",'Competition Data'!B145)","v":"W27/28"},{"$f":"IF(ISBLANK('Competition Data'!C145),\"\",'Competition Data'!C145)","v":"Peak Reduction"},{"$f":"IF(ISBLANK('Competition Data'!G145),\"\",'Competition Data'!G145)","v":14705},{"$f":"IF(ISBLANK('Competition Data'!D145),\"\",'Competition Data'!D145)","v":4392},{"$f":"IF(ISBLANK('Competition Data'!E145),\"\",'Competition Data'!E145)","v":"0"},{"$f":"IF(ISBLANK('Competition Data'!F145),\"\",'Competition Data'!F145)","v":6.34},"Catterall Waterworks (Peak Reduction)",{"$f":"IF(ISBLANK('Competition Data'!I145),\"\",'Competition Data'!I145)","v":0.52809668281302968}]
["CEDAR STW26/27Peak Reduction",{"$f":"IF(ISBLANK('Competition Data'!A146),\"\",'Competition Data'!A146)","v":"CEDAR ST"},{"$f":"IF(ISBLANK('Competition Data'!H146),\"\",'Competition Data'!H146)","v":""},{"$f":"IF(ISBLANK('Competition Data'!B146),\"\",'Competition Data'!B146)","v":"W26/27"},{"$f":"IF(ISBLANK('Competition Data'!C146),\"\",'Competition Data'!C146)","v":"Peak Reduction"},{"$f":"IF(ISBLANK('Competition Data'!G146),\"\",'Competition Data'!G146)","v":892.77},{"$f":"IF(ISBLANK('Competition Data'!D146),\"\",'Competition Data'!D146)","v":604},{"$f":"IF(ISBLANK('Competition Data'!E146),\"\",'Competition Data'!E146)","v":"0"},{"$f":"IF(ISBLANK('Competition Data'!F146),\"\",'Competition Data'!F146)","v":0.02},"CEDAR ST (Peak Reduction)",{"$f":"IF(ISBLANK('Competition Data'!I146),\"\",'Competition Data'!I146)","v":73.90480132450331}]
["CEDAR STW26/27Scheduled Utilisation",{"$f":"IF(ISBLANK('Competition Data'!A147),\"\",'Competition Data'!A147)","v":"CEDAR ST"},{"$f":"IF(ISBLANK('Competition Data'!H147),\"\",'Competition Data'!H147)","v":""},{"$f":"IF(ISBLANK('Competition Data'!B147),\"\",'Competition Data'!B147)","v":"W26/27"},{"$f":"IF(ISBLANK('Competition Data'!C147),\"\",'Competition Data'!C147)","v":"Scheduled Utilisation"},{"$f":"IF(ISBLANK('Competition Data'!G147),\"\",'Competition Data'!G147)","v":892.77},{"$f":"IF(ISBLANK('Competition Data'!D147),\"\",'Competition Data'!D147)","v":604},{"$f":"IF(ISBLANK('Competition Data'!E147),\"\",'Competition Data'!E147)","v":"0"},{"$f":"IF(ISBLANK('Competition Data'!F147),\"\",'Competition Data'!F147)","v":0.02},"CEDAR ST (Scheduled Utilisation)",{"$f":"IF(ISBLANK('Competition Data'!I147),\"\",'Competition Data'!I147)","v":73.90480132450331}]
["Cheetham HillW26/27Variable Availability + Operational Utilisation",{"$f":"IF(ISBLANK('Competition Data'!A148),\"\",'Competition Data'!A148)","v":"Cheetham Hill"},{"$f":"IF(ISBLANK('Competition Data'!H148),\"\",'Competition Data'!H148)","v":""},{"$f":"IF(ISBLANK('Competition Data'!B148),\"\",'Competition Data'!B148)","v":"W26/27"},{"$f":"IF(ISBLANK('Competition Data'!C148),\"\",'Competition Data'!C148)","v":"Variable Availability + Operational Utilisation"},{"$f":"IF(ISBLANK('Competition Data'!G148),\"\",'Competition Data'!G148)","v":113287},{"$f":"IF(ISBLANK('Competition Data'!D148),\"\",'Competition Data'!D148)","v":25},{"$f":"IF(ISBLANK('Competition Data'!E148),\"\",'Competition Data'!E148)","v":"25"},{"$f":"IF(ISBLANK('Competition Data'!F148),\"\",'Competition Data'!F148)","v":1.57},"Cheetham Hill (Variable Availability + Operational Utilisation)",{"$f":"IF(ISBLANK('Competition Data'!I148),\"\",'Competition Data'!I148)","v":"N/A"}]
["Cheetham HillW26/27Peak Reduction",{"$f":"IF(ISBLANK('Competition Data'!A149),\"\",'Competition Data'!A149)","v":"Cheetham Hill"},{"$f":"IF(ISBLANK('Competition Data'!H149),\"\",'Competition Data'!H149)","v":""},{"$f":"IF(ISBLANK('Competition Data'!B149),\"\",'Competition Data'!B149)","v":"W26/27"},{"$f":"IF(ISBLANK('Competition Data'!C149),\"\",'Competition Data'!C149)","v":"Peak Reduction"},{"$f":"IF(ISBLANK('Competition Data'!G149),\"\",'Competition Data'!G149)","v":113287},{"$f":"IF(ISBLANK('Competition Data'!D149),\"\",'Competition Data'!D149)","v":3624},{"$f":"IF(ISBLANK('Competition Data'!E149),\"\",'Competition Data'!E149)","v":"0"},{"$f":"IF(ISBLANK('Competition Data'!F149),\"\",'Competition Data'!F149)","v":1.57},"Cheetham Hill (Peak Reduction)",{"$f":"IF(ISBLANK('Competition Data'!I149),\"\",'Competition Data'!I149)","v":19.910961600652406}]
["Cheetham HillW27/28Variable Availability + Operational Utilisation",{"$f":"IF(ISBLANK('Competition Data'!A150),\"\",'Competition Data'!A150)","v":"Cheetham Hill"},{"$f":"IF(ISBLANK('Competition Data'!H150),\"\",'Competition Data'!H150)","v":""},{"$f":"IF(ISBLANK('Competition Data'!B150),\"\",'Competition Data'!B150)","v":"W27/28"},{"$f":"IF(ISBLANK('Competition Data'!C150),\"\",'Competition Data'!C150)","v":"Variable Availability + Operational Utilisation"},{"$f":"IF(ISBLANK('Competition Data'!G150),\"\",'Competition Data'!G150)","v":113287},{"$f":"IF(ISBLANK('Competition Data'!D150),\"\",'Competition Data'!D150)","v":48},{"$f":"IF(ISBLANK('Competition Data'!E150),\"\",'Competition Data'!E150)","v":"207"},{"$f":"IF(ISBLANK('Competition Data'!F150),\"\",'Competition Data'!F150)","v":3.47},"Cheetham Hill (Variable Availability + Operational Utilisation)",{"$f":"IF(ISBLANK('Competition Data'!I150),\"\",'Competition Data'!I150)","v":"N/A"}]
["Cheetham HillW27/28Peak Reduction",{"$f":"IF(ISBLANK('Competition Data'!A151),\"\",'Competition Data'!A151)","v":"Cheetham Hill"},{"$f":"IF(ISBLANK('Competition Data'!H151),\"\",'Competition Data'!H151)","v":""},{"$f":"IF(ISBLANK('Competition Data'!B151),\"\",'Competition Data'!B151)","v":"W27/28"},{"$f":"IF(ISBLANK('Competition Data'!C151),\"\",'Competition Data'!C151)","v":"Peak Reduction"},{"$f":"IF(ISBLANK('Competition Data'!G151),\"\",'Competition Data'!G151)","v":113287},{"$f":"IF(ISBLANK('Competition Data'!D151),\"\",'Competition Data'!D151)","v":4392},{"$f":"IF(ISBLANK('Competition Data'!E151),\"\",'Competition Data'!E151)","v":"0"},{"$f":"IF(ISBLANK('Competition Data'!F151),\"\",'Competition Data'!F151)","v":3.47},"Cheetham Hill (Peak Reduction)",{"$f":"IF(ISBLANK('Competition Data'!I151),\"\",'Competition Data'!I151)","v":7.4334131221030635}]
["CHELSEA RDW26/27Peak Reduction",{"$f":"IF(ISBLANK('Competition Data'!A152),\"\",'Competition Data'!A152)","v":"CHELSEA RD"},{"$f":"IF(ISBLANK('Competition Data'!H152),\"\",'Competition Data'!H152)","v":""},{"$f":"IF(ISBLANK('Competition Data'!B152),\"\",'Competition Data'!B152)","v":"W26/27"},{"$f":"IF(ISBLANK('Competition Data'!C152),\"\",'Competition Data'!C152)","v":"Peak Reduction"},{"$f":"IF(ISBLANK('Competition Data'!G152),\"\",'Competition Data'!G152)","v":892.77},{"$f":"IF(ISBLANK('Competition Data'!D152),\"\",'Competition Data'!D152)","v":604},{"$f":"IF(ISBLANK('Competition Data'!E152),\"\",'Competition Data'!E152)","v":"0"},{"$f":"IF(ISBLANK('Competition Data'!F152),\"\",'Competition Data'!F152)","v":0.09},"CHELSEA RD (Peak Reduction)",{"$f":"IF(ISBLANK('Competition Data'!I152),\"\",'Competition Data'!I152)","v":16.423289183222959}]
["CHELSEA RDW26/27Scheduled Utilisation",{"$f":"IF(ISBLANK('Competition Data'!A153),\"\",'Competition Data'!A153)","v":"CHELSEA RD"},{"$f":"IF(ISBLANK('Competition Data'!H153),\"\",'Competition Data'!H153)","v":""},{"$f":"IF(ISBLANK('Competition Data'!B153),\"\",'Competition Data'!B153)","v":"W26/27"},{"$f":"IF(ISBLANK('Competition Data'!C153),\"\",'Competition Data'!C153)","v":"Scheduled Utilisation"},{"$f":"IF(ISBLANK('Competition Data'!G153),\"\",'Competition Data'!G153)","v":892.77},{"$f":"IF(ISBLANK('Competition Data'!D153),\"\",'Competition Data'!D153)","v":604},{"$f":"IF(ISBLANK('Competition Data'!E153),\"\",'Competition Data'!E153)","v":"0"},{"$f":"IF(ISBLANK('Competition Data'!F153),\"\",'Competition Data'!F153)","v":0.09},"CHELSEA RD (Scheduled Utilisation)",{"$f":"IF(ISBLANK('Competition Data'!I153),\"\",'Competition Data'!I153)","v":16.423289183222959}]
["CHORLEY SOUTHW27/28Peak Reduction",{"$f":"IF(ISBLANK('Competition Data'!A154),\"\",'Competition Data'!A154)","v":"CHORLEY SOUTH"},{"$f":"IF(ISBLANK('Competition Data'!H154),\"\",'Competition Data'!H154)","v":""},{"$f":"IF(ISBLANK('Competition Data'!B154),\"\",'Competition Data'!B154)","v":"W27/28"},{"$f":"IF(ISBLANK('Competition Data'!C154),\"\",'Competition Data'!C154)","v":"Peak Reduction"},{"$f":"IF(ISBLANK('Competition Data'!G154),\"\",'Competition Data'!G154)","v":64727.519999999997},{"$f":"IF(ISBLANK('Competition Data'!D154),\"\",'Competition Data'!D154)","v":1216},{"$f":"IF(ISBLANK('Competition Data'!E154),\"\",'Competition Data'!E154)","v":"0"},{"$f":"IF(ISBLANK('Competition Data'!F154),\"\",'Competition Data'!F154)","v":1},"CHORLEY SOUTH (Peak Reduction)",{"$f":"IF(ISBLANK('Competition Data'!I154),\"\",'Competition Data'!I154)","v":53.229868421052629}]
["CHORLEY SOUTHW27/28Scheduled Utilisation",{"$f":"IF(ISBLANK('Competition Data'!A155),\"\",'Competition Data'!A155)","v":"CHORLEY SOUTH"},{"$f":"IF(ISBLANK('Competition Data'!H155),\"\",'Competition Data'!H155)","v":""},{"$f":"IF(ISBLANK('Competition Data'!B155),\"\",'Competition Data'!B155)","v":"W27/28"},{"$f":"IF(ISBLANK('Competition Data'!C155),\"\",'Competition Data'!C155)","v":"Scheduled Utilisation"},{"$f":"IF(ISBLANK('Competition Data'!G155),\"\",'Competition Data'!G155)","v":64727.519999999997},{"$f":"IF(ISBLANK('Competition Data'!D155),\"\",'Competition Data'!D155)","v":1216},{"$f":"IF(ISBLANK('Competition Data'!E155),\"\",'Competition Data'!E155)","v":"0"},{"$f":"IF(ISBLANK('Competition Data'!F155),\"\",'Competition Data'!F155)","v":1},"CHORLEY SOUTH (Scheduled Utilisation)",{"$f":"IF(ISBLANK('Competition Data'!I155),\"\",'Competition Data'!I155)","v":53.229868421052629}]
["CHORLEY STW26/27Peak Reduction",{"$f":"IF(ISBLANK('Competition Data'!A156),\"\",'Competition Data'!A156)","v":"CHORLEY ST"},{"$f":"IF(ISBLANK('Competition Data'!H156),\"\",'Competition Data'!H156)","v":""},{"$f":"IF(ISBLANK('Competition Data'!B156),\"\",'Competition Data'!B156)","v":"W26/27"},{"$f":"IF(ISBLANK('Competition Data'!C156),\"\",'Competition Data'!C156)","v":"Peak Reduction"},{"$f":"IF(ISBLANK('Competition Data'!G156),\"\",'Competition Data'!G156)","v":892.77},{"$f":"IF(ISBLANK('Competition Data'!D156),\"\",'Competition Data'!D156)","v":604},{"$f":"IF(ISBLANK('Competition Data'!E156),\"\",'Competition Data'!E156)","v":"0"},{"$f":"IF(ISBLANK('Competition Data'!F156),\"\",'Competition Data'!F156)","v":0.03},"CHORLEY ST (Peak Reduction)",{"$f":"IF(ISBLANK('Competition Data'!I156),\"\",'Competition Data'!I156)","v":49.269867549668874}]
["CHORLEY STW26/27Scheduled Utilisation",{"$f":"IF(ISBLANK('Competition Data'!A157),\"\",'Competition Data'!A157)","v":"CHORLEY ST"},{"$f":"IF(ISBLANK('Competition Data'!H157),\"\",'Competition Data'!H157)","v":""},{"$f":"IF(ISBLANK('Competition Data'!B157),\"\",'Competition Data'!B157)","v":"W26/27"},{"$f":"IF(ISBLANK('Competition Data'!C157),\"\",'Competition Data'!C157)","v":"Scheduled Utilisation"},{"$f":"IF(ISBLANK('Competition Data'!G157),\"\",'Competition Data'!G157)","v":892.77},{"$f":"IF(ISBLANK('Competition Data'!D157),\"\",'Competition Data'!D157)","v":604},{"$f":"IF(ISBLANK('Competition Data'!E157),\"\",'Competition Data'!E157)","v":"0"},{"$f":"IF(ISBLANK('Competition Data'!F157),\"\",'Competition Data'!F157)","v":0.03},"CHORLEY ST (Scheduled Utilisation)",{"$f":"IF(ISBLANK('Competition Data'!I157),\"\",'Competition Data'!I157)","v":49.269867549668874}]
["ChurchFY27Operational Utilisation",{"$f":"IF(ISBLANK('Competition Data'!A158),\"\",'Competition Data'!A158)","v":"Church"},{"$f":"IF(ISBLANK('Competition Data'!H158),\"\",'Competition Data'!H158)","v":""},{"$f":"IF(ISBLANK('Competition Data'!B158),\"\",'Competition Data'!B158)","v":"FY27"},{"$f":"IF(ISBLANK('Competition Data'!C158),\"\",'Competition Data'!C158)","v":"Operational Utilisation"},{"$f":"IF(ISBLANK('Competition Data'!G158),\"\",'Competition Data'!G158)","v":246861},{"$f":"IF(ISBLANK('Competition Data'!D158),\"\",'Competition Data'!D158)","v":100},{"$f":"IF(ISBLANK('Competition Data'!E158),\"\",'Competition Data'!E158)","v":"0"},{"$f":"IF(ISBLANK('Competition Data'!F158),\"\",'Competition Data'!F158)","v":5.7},"Church (Operational Utilisation)",{"$f":"IF(ISBLANK('Competition Data'!I158),\"\",'Competition Data'!I158)","v":433.08947368421053}]
["ChurchFY28Operational Utilisation",{"$f":"IF(ISBLANK('Competition Data'!A159),\"\",'Competition Data'!A159)","v":"Church"},{"$f":"IF(ISBLANK('Competition Data'!H159),\"\",'Competition Data'!H159)","v":""},{"$f":"IF(ISBLANK('Competition Data'!B159),\"\",'Competition Data'!B159)","v":"FY28"},{"$f":"IF(ISBLANK('Competition Data'!C159),\"\",'Competition Data'!C159)","v":"Operational Utilisation"},{"$f":"IF(ISBLANK('Competition Data'!G159),\"\",'Competition Data'!G159)","v":246861},{"$f":"IF(ISBLANK('Competition Data'!D159),\"\",'Competition Data'!D159)","v":100},{"$f":"IF(ISBLANK('Competition Data'!E159),\"\",'Competition Data'!E159)","v":"0"},{"$f":"IF(ISBLANK('Competition Data'!F159),\"\",'Competition Data'!F159)","v":5.7},"Church (Operational Utilisation)",{"$f":"IF(ISBLANK('Competition Data'!I159),\"\",'Competition Data'!I159)","v":433.08947368421053}]
["CHURCH HILLW26/27Peak Reduction",{"$f":"IF(ISBLANK('Competition Data'!A160),\"\",'Competition Data'!A160)","v":"CHURCH HILL"},{"$f":"IF(ISBLANK('Competition Data'!H160),\"\",'Competition Data'!H160)","v":""},{"$f":"IF(ISBLANK('Competition Data'!B160),\"\",'Competition Data'!B160)","v":"W26/27"},{"$f":"IF(ISBLANK('Competition Data'!C160),\"\",'Competition Data'!C160)","v":"Peak Reduction"},{"$f":"IF(ISBLANK('Competition Data'!G160),\"\",'Competition Data'!G160)","v":892.77},{"$f":"IF(ISBLANK('Competition Data'!D160),\"\",'Competition Data'!D160)","v":604},{"$f":"IF(ISBLANK('Competition Data'!E160),\"\",'Competition Data'!E160)","v":"0"},{"$f":"IF(ISBLANK('Competition Data'!F160),\"\",'Competition Data'!F160)","v":0.02},"CHURCH HILL (Peak Reduction)",{"$f":"IF(ISBLANK('Competition Data'!I160),\"\",'Competition Data'!I160)","v":73.90480132450331}]
["CHURCH HILLW26/27Scheduled Utilisation",{"$f":"IF(ISBLANK('Competition Data'!A161),\"\",'Competition Data'!A161)","v":"CHURCH HILL"},{"$f":"IF(ISBLANK('Competition Data'!H161),\"\",'Competition Data'!H161)","v":""},{"$f":"IF(ISBLANK('Competition Data'!B161),\"\",'Competition Data'!B161)","v":"W26/27"},{"$f":"IF(ISBLANK('Competition Data'!C161),\"\",'Competition Data'!C161)","v":"Scheduled Utilisation"},{"$f":"IF(ISBLANK('Competition Data'!G161),\"\",'Competition Data'!G161)","v":892.77},{"$f":"IF(ISBLANK('Competition Data'!D161),\"\",'Competition Data'!D161)","v":604},{"$f":"IF(ISBLANK('Competition Data'!E161),\"\",'Competition Data'!E161)","v":"0"},{"$f":"IF(ISBLANK('Competition Data'!F161),\"\",'Competition Data'!F161)","v":0.02},"CHURCH HILL (Scheduled Utilisation)",{"$f":"IF(ISBLANK('Competition Data'!I161),\"\",'Competition Data'!I161)","v":73.90480132450331}]
["ClaughtonFY27Operational Utilisation",{"$f":"IF(ISBLANK('Competition Data'!A162),\"\",'Competition Data'!A162)","v":"Claughton"},{"$f":"IF(ISBLANK('Competition Data'!H162),\"\",'Competition Data'!H162)","v":""},{"$f":"IF(ISBLANK('Competition Data'!B162),\"\",'Competition Data'!B162)","v":"FY27"},{"$f":"IF(ISBLANK('Competition Data'!C162),\"\",'Competition Data'!C162)","v":"Operational Utilisation"},{"$f":"IF(ISBLANK('Competition Data'!G162),\"\",'Competition Data'!G162)","v":107661},{"$f":"IF(ISBLANK('Competition Data'!D162),\"\",'Competition Data'!D162)","v":100},{"$f":"IF(ISBLANK('Competition Data'!E162),\"\",'Competition Data'!E162)","v":"0"},{"$f":"IF(ISBLANK('Competition Data'!F162),\"\",'Competition Data'!F162)","v":2.9},"Claughton (Operational Utilisation)",{"$f":"IF(ISBLANK('Competition Data'!I162),\"\",'Competition Data'!I162)","v":371.2448275862069}]
["ClaughtonFY28Operational Utilisation",{"$f":"IF(ISBLANK('Competition Data'!A163),\"\",'Competition Data'!A163)","v":"Claughton"},{"$f":"IF(ISBLANK('Competition Data'!H163),\"\",'Competition Data'!H163)","v":""},{"$f":"IF(ISBLANK('Competition Data'!B163),\"\",'Competition Data'!B163)","v":"FY28"},{"$f":"IF(ISBLANK('Competition Data'!C163),\"\",'Competition Data'!C163)","v":"Operational Utilisation"},{"$f":"IF(ISBLANK('Competition Data'!G163),\"\",'Competition Data'!G163)","v":107661},{"$f":"IF(ISBLANK('Competition Data'!D163),\"\",'Competition Data'!D163)","v":100},{"$f":"IF(ISBLANK('Competition Data'!E163),\"\",'Competition Data'!E163)","v":"0"},{"$f":"IF(ISBLANK('Competition Data'!F163),\"\",'Competition Data'!F163)","v":2.9},"Claughton (Operational Utilisation)",{"$f":"IF(ISBLANK('Competition Data'!I163),\"\",'Competition Data'!I163)","v":371.2448275862069}]
["CLEVELAND DRW26/27Peak Reduction",{"$f":"IF(ISBLANK('Competition Data'!A164),\"\",'Competition Data'!A164)","v":"CLEVELAND DR"},{"$f":"IF(ISBLANK('Competition Data'!H164),\"\",'Competition Data'!H164)","v":""},{"$f":"IF(ISBLANK('Competition Data'!B164),\"\",'Competition Data'!B164)","v":"W26/27"},{"$f":"IF(ISBLANK('Competition Data'!C164),\"\",'Competition Data'!C164)","v":"Peak Reduction"},{"$f":"IF(ISBLANK('Competition Data'!G164),\"\",'Competition Data'!G164)","v":892.77},{"$f":"IF(ISBLANK('Competition Data'!D164),\"\",'Competition Data'!D164)","v":604},{"$f":"IF(ISBLANK('Competition Data'!E164),\"\",'Competition Data'!E164)","v":"0"},{"$f":"IF(ISBLANK('Competition Data'!F164),\"\",'Competition Data'!F164)","v":0.02},"CLEVELAND DR (Peak Reduction)",{"$f":"IF(ISBLANK('Competition Data'!I164),\"\",'Competition Data'!I164)","v":73.90480132450331}]
["CLEVELAND DRW26/27Scheduled Utilisation",{"$f":"IF(ISBLANK('Competition Data'!A165),\"\",'Competition Data'!A165)","v":"CLEVELAND DR"},{"$f":"IF(ISBLANK('Competition Data'!H165),\"\",'Competition Data'!H165)","v":""},{"$f":"IF(ISBLANK('Competition Data'!B165),\"\",'Competition Data'!B165)","v":"W26/27"},{"$f":"IF(ISBLANK('Competition Data'!C165),\"\",'Competition Data'!C165)","v":"Scheduled Utilisation"},{"$f":"IF(ISBLANK('Competition Data'!G165),\"\",'Competition Data'!G165)","v":892.77},{"$f":"IF(ISBLANK('Competition Data'!D165),\"\",'Competition Data'!D165)","v":604},{"$f":"IF(ISBLANK('Competition Data'!E165),\"\",'Competition Data'!E165)","v":"0"},{"$f":"IF(ISBLANK('Competition Data'!F165),\"\",'Competition Data'!F165)","v":0.02},"CLEVELAND DR (Scheduled Utilisation)",{"$f":"IF(ISBLANK('Competition Data'!I165),\"\",'Competition Data'!I165)","v":73.90480132450331}]
["CLIFFORD STW26/27Peak Reduction",{"$f":"IF(ISBLANK('Competition Data'!A166),\"\",'Competition Data'!A166)","v":"CLIFFORD ST"},{"$f":"IF(ISBLANK('Competition Data'!H166),\"\",'Competition Data'!H166)","v":""},{"$f":"IF(ISBLANK('Competition Data'!B166),\"\",'Competition Data'!B166)","v":"W26/27"},{"$f":"IF(ISBLANK('Competition Data'!C166),\"\",'Competition Data'!C166)","v":"Peak Reduction"},{"$f":"IF(ISBLANK('Competition Data'!G166),\"\",'Competition Data'!G166)","v":892.77},{"$f":"IF(ISBLANK('Competition Data'!D166),\"\",'Competition Data'!D166)","v":604},{"$f":"IF(ISBLANK('Competition Data'!E166),\"\",'Competition Data'!E166)","v":"0"},{"$f":"IF(ISBLANK('Competition Data'!F166),\"\",'Competition Data'!F166)","v":0.05},"CLIFFORD ST (Peak Reduction)",{"$f":"IF(ISBLANK('Competition Data'!I166),\"\",'Competition Data'!I166)","v":29.561920529801323}]
["CLIFFORD STW26/27Scheduled Utilisation",{"$f":"IF(ISBLANK('Competition Data'!A167),\"\",'Competition Data'!A167)","v":"CLIFFORD ST"},{"$f":"IF(ISBLANK('Competition Data'!H167),\"\",'Competition Data'!H167)","v":""},{"$f":"IF(ISBLANK('Competition Data'!B167),\"\",'Competition Data'!B167)","v":"W26/27"},{"$f":"IF(ISBLANK('Competition Data'!C167),\"\",'Competition Data'!C167)","v":"Scheduled Utilisation"},{"$f":"IF(ISBLANK('Competition Data'!G167),\"\",'Competition Data'!G167)","v":892.77},{"$f":"IF(ISBLANK('Competition Data'!D167),\"\",'Competition Data'!D167)","v":604},{"$f":"IF(ISBLANK('Competition Data'!E167),\"\",'Competition Data'!E167)","v":"0"},{"$f":"IF(ISBLANK('Competition Data'!F167),\"\",'Competition Data'!F167)","v":0.05},"CLIFFORD ST (Scheduled Utilisation)",{"$f":"IF(ISBLANK('Competition Data'!I167),\"\",'Competition Data'!I167)","v":29.561920529801323}]
["CLIFTON ARMS (BLACKPOOL)W26/27Peak Reduction",{"$f":"IF(ISBLANK('Competition Data'!A168),\"\",'Competition Data'!A168)","v":"CLIFTON ARMS (BLACKPOOL)"},{"$f":"IF(ISBLANK('Competition Data'!H168),\"\",'Competition Data'!H168)","v":""},{"$f":"IF(ISBLANK('Competition Data'!B168),\"\",'Competition Data'!B168)","v":"W26/27"},{"$f":"IF(ISBLANK('Competition Data'!C168),\"\",'Competition Data'!C168)","v":"Peak Reduction"},{"$f":"IF(ISBLANK('Competition Data'!G168),\"\",'Competition Data'!G168)","v":892.77},{"$f":"IF(ISBLANK('Competition Data'!D168),\"\",'Competition Data'!D168)","v":604},{"$f":"IF(ISBLANK('Competition Data'!E168),\"\",'Competition Data'!E168)","v":"0"},{"$f":"IF(ISBLANK('Competition Data'!F168),\"\",'Competition Data'!F168)","v":0.04},"CLIFTON ARMS (BLACKPOOL) (Peak Reduction)",{"$f":"IF(ISBLANK('Competition Data'!I168),\"\",'Competition Data'!I168)","v":36.952400662251655}]
["CLIFTON ARMS (BLACKPOOL)W26/27Scheduled Utilisation",{"$f":"IF(ISBLANK('Competition Data'!A169),\"\",'Competition Data'!A169)","v":"CLIFTON ARMS (BLACKPOOL)"},{"$f":"IF(ISBLANK('Competition Data'!H169),\"\",'Competition Data'!H169)","v":""},{"$f":"IF(ISBLANK('Competition Data'!B169),\"\",'Competition Data'!B169)","v":"W26/27"},{"$f":"IF(ISBLANK('Competition Data'!C169),\"\",'Competition Data'!C169)","v":"Scheduled Utilisation"},{"$f":"IF(ISBLANK('Competition Data'!G169),\"\",'Competition Data'!G169)","v":892.77},{"$f":"IF(ISBLANK('Competition Data'!D169),\"\",'Competition Data'!D169)","v":604},{"$f":"IF(ISBLANK('Competition Data'!E169),\"\",'Competition Data'!E169)","v":"0"},{"$f":"IF(ISBLANK('Competition Data'!F169),\"\",'Competition Data'!F169)","v":0.04},"CLIFTON ARMS (BLACKPOOL) (Scheduled Utilisation)",{"$f":"IF(ISBLANK('Competition Data'!I169),\"\",'Competition Data'!I169)","v":36.952400662251655}]
["ConistonFY27Operational Utilisation",{"$f":"IF(ISBLANK('Competition Data'!A170),\"\",'Competition Data'!A170)","v":"Coniston"},{"$f":"IF(ISBLANK('Competition Data'!H170),\"\",'Competition Data'!H170)","v":""},{"$f":"IF(ISBLANK('Competition Data'!B170),\"\",'Competition Data'!B170)","v":"FY27"},{"$f":"IF(ISBLANK('Competition Data'!C170),\"\",'Competition Data'!C170)","v":"Operational Utilisation"},{"$f":"IF(ISBLANK('Competition Data'!G170),\"\",'Competition Data'!G170)","v":86580},{"$f":"IF(ISBLANK('Competition Data'!D170),\"\",'Competition Data'!D170)","v":100},{"$f":"IF(ISBLANK('Competition Data'!E170),\"\",'Competition Data'!E170)","v":"0"},{"$f":"IF(ISBLANK('Competition Data'!F170),\"\",'Competition Data'!F170)","v":2.1},"Coniston (Operational Utilisation)",{"$f":"IF(ISBLANK('Competition Data'!I170),\"\",'Competition Data'!I170)","v":412.28571428571422}]
["ConistonFY28Operational Utilisation",{"$f":"IF(ISBLANK('Competition Data'!A171),\"\",'Competition Data'!A171)","v":"Coniston"},{"$f":"IF(ISBLANK('Competition Data'!H171),\"\",'Competition Data'!H171)","v":""},{"$f":"IF(ISBLANK('Competition Data'!B171),\"\",'Competition Data'!B171)","v":"FY28"},{"$f":"IF(ISBLANK('Competition Data'!C171),\"\",'Competition Data'!C171)","v":"Operational Utilisation"},{"$f":"IF(ISBLANK('Competition Data'!G171),\"\",'Competition Data'!G171)","v":86580},{"$f":"IF(ISBLANK('Competition Data'!D171),\"\",'Competition Data'!D171)","v":100},{"$f":"IF(ISBLANK('Competition Data'!E171),\"\",'Competition Data'!E171)","v":"0"},{"$f":"IF(ISBLANK('Competition Data'!F171),\"\",'Competition Data'!F171)","v":2.1},"Coniston (Operational Utilisation)",{"$f":"IF(ISBLANK('Competition Data'!I171),\"\",'Competition Data'!I171)","v":412.28571428571422}]
["ConistonS27Variable Availability + Operational Utilisation",{"$f":"IF(ISBLANK('Competition Data'!A172),\"\",'Competition Data'!A172)","v":"Coniston"},{"$f":"IF(ISBLANK('Competition Data'!H172),\"\",'Competition Data'!H172)","v":""},{"$f":"IF(ISBLANK('Competition Data'!B172),\"\",'Competition Data'!B172)","v":"S27"},{"$f":"IF(ISBLANK('Competition Data'!C172),\"\",'Competition Data'!C172)","v":"Variable Availability + Operational Utilisation"},{"$f":"IF(ISBLANK('Competition Data'!G172),\"\",'Competition Data'!G172)","v":49351},{"$f":"IF(ISBLANK('Competition Data'!D172),\"\",'Competition Data'!D172)","v":100},{"$f":"IF(ISBLANK('Competition Data'!E172),\"\",'Competition Data'!E172)","v":"1222"},{"$f":"IF(ISBLANK('Competition Data'!F172),\"\",'Competition Data'!F172)","v":0.78},"Coniston (Variable Availability + Operational Utilisation)",{"$f":"IF(ISBLANK('Competition Data'!I172),\"\",'Competition Data'!I172)","v":"N/A"}]
["ConistonS27Peak Reduction",{"$f":"IF(ISBLANK('Competition Data'!A173),\"\",'Competition Data'!A173)","v":"Coniston"},{"$f":"IF(ISBLANK('Competition Data'!H173),\"\",'Competition Data'!H173)","v":""},{"$f":"IF(ISBLANK('Competition Data'!B173),\"\",'Competition Data'!B173)","v":"S27"},{"$f":"IF(ISBLANK('Competition Data'!C173),\"\",'Competition Data'!C173)","v":"Peak Reduction"},{"$f":"IF(ISBLANK('Competition Data'!G173),\"\",'Competition Data'!G173)","v":49351},{"$f":"IF(ISBLANK('Competition Data'!D173),\"\",'Competition Data'!D173)","v":4392},{"$f":"IF(ISBLANK('Competition Data'!E173),\"\",'Competition Data'!E173)","v":"0"},{"$f":"IF(ISBLANK('Competition Data'!F173),\"\",'Competition Data'!F173)","v":0.78},"Coniston (Peak Reduction)",{"$f":"IF(ISBLANK('Competition Data'!I173),\"\",'Competition Data'!I173)","v":14.405854467329878}]
["ConistonW26/27Variable Availability + Operational Utilisation",{"$f":"IF(ISBLANK('Competition Data'!A174),\"\",'Competition Data'!A174)","v":"Coniston"},{"$f":"IF(ISBLANK('Competition Data'!H174),\"\",'Competition Data'!H174)","v":""},{"$f":"IF(ISBLANK('Competition Data'!B174),\"\",'Competition Data'!B174)","v":"W26/27"},{"$f":"IF(ISBLANK('Competition Data'!C174),\"\",'Competition Data'!C174)","v":"Variable Availability + Operational Utilisation"},{"$f":"IF(ISBLANK('Competition Data'!G174),\"\",'Competition Data'!G174)","v":133500},{"$f":"IF(ISBLANK('Competition Data'!D174),\"\",'Competition Data'!D174)","v":300},{"$f":"IF(ISBLANK('Competition Data'!E174),\"\",'Competition Data'!E174)","v":"3021"},{"$f":"IF(ISBLANK('Competition Data'!F174),\"\",'Competition Data'!F174)","v":1.25},"Coniston (Variable Availability + Operational Utilisation)",{"$f":"IF(ISBLANK('Competition Data'!I174),\"\",'Competition Data'!I174)","v":"N/A"}]
["ConistonW26/27Peak Reduction",{"$f":"IF(ISBLANK('Competition Data'!A175),\"\",'Competition Data'!A175)","v":"Coniston"},{"$f":"IF(ISBLANK('Competition Data'!H175),\"\",'Competition Data'!H175)","v":""},{"$f":"IF(ISBLANK('Competition Data'!B175),\"\",'Competition Data'!B175)","v":"W26/27"},{"$f":"IF(ISBLANK('Competition Data'!C175),\"\",'Competition Data'!C175)","v":"Peak Reduction"},{"$f":"IF(ISBLANK('Competition Data'!G175),\"\",'Competition Data'!G175)","v":133500},{"$f":"IF(ISBLANK('Competition Data'!D175),\"\",'Competition Data'!D175)","v":3624},{"$f":"IF(ISBLANK('Competition Data'!E175),\"\",'Competition Data'!E175)","v":"0"},{"$f":"IF(ISBLANK('Competition Data'!F175),\"\",'Competition Data'!F175)","v":1.25},"Coniston (Peak Reduction)",{"$f":"IF(ISBLANK('Competition Data'!I175),\"\",'Competition Data'!I175)","v":29.470198675496686}]
["ConistonW27/28Variable Availability + Operational Utilisation",{"$f":"IF(ISBLANK('Competition Data'!A176),\"\",'Competition Data'!A176)","v":"Coniston"},{"$f":"IF(ISBLANK('Competition Data'!H176),\"\",'Competition Data'!H176)","v":""},{"$f":"IF(ISBLANK('Competition Data'!B176),\"\",'Competition Data'!B176)","v":"W27/28"},{"$f":"IF(ISBLANK('Competition Data'!C176),\"\",'Competition Data'!C176)","v":"Variable Availability + Operational Utilisation"},{"$f":"IF(ISBLANK('Competition Data'!G176),\"\",'Competition Data'!G176)","v":84149},{"$f":"IF(ISBLANK('Competition Data'!D176),\"\",'Competition Data'!D176)","v":300},{"$f":"IF(ISBLANK('Competition Data'!E176),\"\",'Competition Data'!E176)","v":"3542"},{"$f":"IF(ISBLANK('Competition Data'!F176),\"\",'Competition Data'!F176)","v":1.33},"Coniston (Variable Availability + Operational Utilisation)",{"$f":"IF(ISBLANK('Competition Data'!I176),\"\",'Competition Data'!I176)","v":"N/A"}]
["ConistonW27/28Peak Reduction",{"$f":"IF(ISBLANK('Competition Data'!A177),\"\",'Competition Data'!A177)","v":"Coniston"},{"$f":"IF(ISBLANK('Competition Data'!H177),\"\",'Competition Data'!H177)","v":""},{"$f":"IF(ISBLANK('Competition Data'!B177),\"\",'Competition Data'!B177)","v":"W27/28"},{"$f":"IF(ISBLANK('Competition Data'!C177),\"\",'Competition Data'!C177)","v":"Peak Reduction"},{"$f":"IF(ISBLANK('Competition Data'!G177),\"\",'Competition Data'!G177)","v":84149},{"$f":"IF(ISBLANK('Competition Data'!D177),\"\",'Competition Data'!D177)","v":4392},{"$f":"IF(ISBLANK('Competition Data'!E177),\"\",'Competition Data'!E177)","v":"0"},{"$f":"IF(ISBLANK('Competition Data'!F177),\"\",'Competition Data'!F177)","v":1.33},"Coniston (Peak Reduction)",{"$f":"IF(ISBLANK('Competition Data'!I177),\"\",'Competition Data'!I177)","v":14.405720585617049}]
["COPLEY NO 1W26/27Peak Reduction",{"$f":"IF(ISBLANK('Competition Data'!A178),\"\",'Competition Data'!A178)","v":"COPLEY NO 1"},{"$f":"IF(ISBLANK('Competition Data'!H178),\"\",'Competition Data'!H178)","v":""},{"$f":"IF(ISBLANK('Competition Data'!B178),\"\",'Competition Data'!B178)","v":"W26/27"},{"$f":"IF(ISBLANK('Competition Data'!C178),\"\",'Competition Data'!C178)","v":"Peak Reduction"},{"$f":"IF(ISBLANK('Competition Data'!G178),\"\",'Competition Data'!G178)","v":892.77},{"$f":"IF(ISBLANK('Competition Data'!D178),\"\",'Competition Data'!D178)","v":604},{"$f":"IF(ISBLANK('Competition Data'!E178),\"\",'Competition Data'!E178)","v":"0"},{"$f":"IF(ISBLANK('Competition Data'!F178),\"\",'Competition Data'!F178)","v":0.01},"COPLEY NO 1 (Peak Reduction)",{"$f":"IF(ISBLANK('Competition Data'!I178),\"\",'Competition Data'!I178)","v":147.80960264900662}]
["COPLEY NO 1W26/27Scheduled Utilisation",{"$f":"IF(ISBLANK('Competition Data'!A179),\"\",'Competition Data'!A179)","v":"COPLEY NO 1"},{"$f":"IF(ISBLANK('Competition Data'!H179),\"\",'Competition Data'!H179)","v":""},{"$f":"IF(ISBLANK('Competition Data'!B179),\"\",'Competition Data'!B179)","v":"W26/27"},{"$f":"IF(ISBLANK('Competition Data'!C179),\"\",'Competition Data'!C179)","v":"Scheduled Utilisation"},{"$f":"IF(ISBLANK('Competition Data'!G179),\"\",'Competition Data'!G179)","v":892.77},{"$f":"IF(ISBLANK('Competition Data'!D179),\"\",'Competition Data'!D179)","v":604},{"$f":"IF(ISBLANK('Competition Data'!E179),\"\",'Competition Data'!E179)","v":"0"},{"$f":"IF(ISBLANK('Competition Data'!F179),\"\",'Competition Data'!F179)","v":0.01},"COPLEY NO 1 (Scheduled Utilisation)",{"$f":"IF(ISBLANK('Competition Data'!I179),\"\",'Competition Data'!I179)","v":147.80960264900662}]
["CROMWELL STW26/27Peak Reduction",{"$f":"IF(ISBLANK('Competition Data'!A180),\"\",'Competition Data'!A180)","v":"CROMWELL ST"},{"$f":"IF(ISBLANK('Competition Data'!H180),\"\",'Competition Data'!H180)","v":""},{"$f":"IF(ISBLANK('Competition Data'!B180),\"\",'Competition Data'!B180)","v":"W26/27"},{"$f":"IF(ISBLANK('Competition Data'!C180),\"\",'Competition Data'!C180)","v":"Peak Reduction"},{"$f":"IF(ISBLANK('Competition Data'!G180),\"\",'Competition Data'!G180)","v":892.77},{"$f":"IF(ISBLANK('Competition Data'!D180),\"\",'Competition Data'!D180)","v":604},{"$f":"IF(ISBLANK('Competition Data'!E180),\"\",'Competition Data'!E180)","v":"0"},{"$f":"IF(ISBLANK('Competition Data'!F180),\"\",'Competition Data'!F180)","v":0.06},"CROMWELL ST (Peak Reduction)",{"$f":"IF(ISBLANK('Competition Data'!I180),\"\",'Competition Data'!I180)","v":24.634933774834437}]
["CROMWELL STW26/27Scheduled Utilisation",{"$f":"IF(ISBLANK('Competition Data'!A181),\"\",'Competition Data'!A181)","v":"CROMWELL ST"},{"$f":"IF(ISBLANK('Competition Data'!H181),\"\",'Competition Data'!H181)","v":""},{"$f":"IF(ISBLANK('Competition Data'!B181),\"\",'Competition Data'!B181)","v":"W26/27"},{"$f":"IF(ISBLANK('Competition Data'!C181),\"\",'Competition Data'!C181)","v":"Scheduled Utilisation"},{"$f":"IF(ISBLANK('Competition Data'!G181),\"\",'Competition Data'!G181)","v":892.77},{"$f":"IF(ISBLANK('Competition Data'!D181),\"\",'Competition Data'!D181)","v":604},{"$f":"IF(ISBLANK('Competition Data'!E181),\"\",'Competition Data'!E181)","v":"0"},{"$f":"IF(ISBLANK('Competition Data'!F181),\"\",'Competition Data'!F181)","v":0.06},"CROMWELL ST (Scheduled Utilisation)",{"$f":"IF(ISBLANK('Competition Data'!I181),\"\",'Competition Data'!I181)","v":24.634933774834437}]
["DIALSTONE LNW26/27Peak Reduction",{"$f":"IF(ISBLANK('Competition Data'!A182),\"\",'Competition Data'!A182)","v":"DIALSTONE LN"},{"$f":"IF(ISBLANK('Competition Data'!H182),\"\",'Competition Data'!H182)","v":""},{"$f":"IF(ISBLANK('Competition Data'!B182),\"\",'Competition Data'!B182)","v":"W26/27"},{"$f":"IF(ISBLANK('Competition Data'!C182),\"\",'Competition Data'!C182)","v":"Peak Reduction"},{"$f":"IF(ISBLANK('Competition Data'!G182),\"\",'Competition Data'!G182)","v":892.77},{"$f":"IF(ISBLANK('Competition Data'!D182),\"\",'Competition Data'!D182)","v":604},{"$f":"IF(ISBLANK('Competition Data'!E182),\"\",'Competition Data'!E182)","v":"0"},{"$f":"IF(ISBLANK('Competition Data'!F182),\"\",'Competition Data'!F182)","v":7.0000000000000007E-2},"DIALSTONE LN (Peak Reduction)",{"$f":"IF(ISBLANK('Competition Data'!I182),\"\",'Competition Data'!I182)","v":21.115657521286657}]
["DIALSTONE LNW26/27Scheduled Utilisation",{"$f":"IF(ISBLANK('Competition Data'!A183),\"\",'Competition Data'!A183)","v":"DIALSTONE LN"},{"$f":"IF(ISBLANK('Competition Data'!H183),\"\",'Competition Data'!H183)","v":""},{"$f":"IF(ISBLANK('Competition Data'!B183),\"\",'Competition Data'!B183)","v":"W26/27"},{"$f":"IF(ISBLANK('Competition Data'!C183),\"\",'Competition Data'!C183)","v":"Scheduled Utilisation"},{"$f":"IF(ISBLANK('Competition Data'!G183),\"\",'Competition Data'!G183)","v":892.77},{"$f":"IF(ISBLANK('Competition Data'!D183),\"\",'Competition Data'!D183)","v":604},{"$f":"IF(ISBLANK('Competition Data'!E183),\"\",'Competition Data'!E183)","v":"0"},{"$f":"IF(ISBLANK('Competition Data'!F183),\"\",'Competition Data'!F183)","v":7.0000000000000007E-2},"DIALSTONE LN (Scheduled Utilisation)",{"$f":"IF(ISBLANK('Competition Data'!I183),\"\",'Competition Data'!I183)","v":21.115657521286657}]
["DIDSBURY-WITHINGTON-FALLOWFIELD GroupW26/27Variable Availability + Operational Utilisation",{"$f":"IF(ISBLANK('Competition Data'!A184),\"\",'Competition Data'!A184)","v":"DIDSBURY-WITHINGTON-FALLOWFIELD Group"},{"$f":"IF(ISBLANK('Competition Data'!H184),\"\",'Competition Data'!H184)","v":""},{"$f":"IF(ISBLANK('Competition Data'!B184),\"\",'Competition Data'!B184)","v":"W26/27"},{"$f":"IF(ISBLANK('Competition Data'!C184),\"\",'Competition Data'!C184)","v":"Variable Availability + Operational Utilisation"},{"$f":"IF(ISBLANK('Competition Data'!G184),\"\",'Competition Data'!G184)","v":49698},{"$f":"IF(ISBLANK('Competition Data'!D184),\"\",'Competition Data'!D184)","v":40},{"$f":"IF(ISBLANK('Competition Data'!E184),\"\",'Competition Data'!E184)","v":"40"},{"$f":"IF(ISBLANK('Competition Data'!F184),\"\",'Competition Data'!F184)","v":3.66},"DIDSBURY-WITHINGTON-FALLOWFIELD Group (Variable Availability + Operational Utilisation)",{"$f":"IF(ISBLANK('Competition Data'!I184),\"\",'Competition Data'!I184)","v":"N/A"}]
["DIDSBURY-WITHINGTON-FALLOWFIELD GroupW26/27Peak Reduction",{"$f":"IF(ISBLANK('Competition Data'!A185),\"\",'Competition Data'!A185)","v":"DIDSBURY-WITHINGTON-FALLOWFIELD Group"},{"$f":"IF(ISBLANK('Competition Data'!H185),\"\",'Competition Data'!H185)","v":""},{"$f":"IF(ISBLANK('Competition Data'!B185),\"\",'Competition Data'!B185)","v":"W26/27"},{"$f":"IF(ISBLANK('Competition Data'!C185),\"\",'Competition Data'!C185)","v":"Peak Reduction"},{"$f":"IF(ISBLANK('Competition Data'!G185),\"\",'Competition Data'!G185)","v":49698},{"$f":"IF(ISBLANK('Competition Data'!D185),\"\",'Competition Data'!D185)","v":3624},{"$f":"IF(ISBLANK('Competition Data'!E185),\"\",'Competition Data'!E185)","v":"0"},{"$f":"IF(ISBLANK('Competition Data'!F185),\"\",'Competition Data'!F185)","v":3.66},"DIDSBURY-WITHINGTON-FALLOWFIELD Group (Peak Reduction)",{"$f":"IF(ISBLANK('Competition Data'!I185),\"\",'Competition Data'!I185)","v":3.746878731950928}]
["DIDSBURY-WITHINGTON-FALLOWFIELD GroupW27/28Variable Availability + Operational Utilisation",{"$f":"IF(ISBLANK('Competition Data'!A186),\"\",'Competition Data'!A186)","v":"DIDSBURY-WITHINGTON-FALLOWFIELD Group"},{"$f":"IF(ISBLANK('Competition Data'!H186),\"\",'Competition Data'!H186)","v":""},{"$f":"IF(ISBLANK('Competition Data'!B186),\"\",'Competition Data'!B186)","v":"W27/28"},{"$f":"IF(ISBLANK('Competition Data'!C186),\"\",'Competition Data'!C186)","v":"Variable Availability + Operational Utilisation"},{"$f":"IF(ISBLANK('Competition Data'!G186),\"\",'Competition Data'!G186)","v":49698},{"$f":"IF(ISBLANK('Competition Data'!D186),\"\",'Competition Data'!D186)","v":48},{"$f":"IF(ISBLANK('Competition Data'!E186),\"\",'Competition Data'!E186)","v":"129"},{"$f":"IF(ISBLANK('Competition Data'!F186),\"\",'Competition Data'!F186)","v":5.69},"DIDSBURY-WITHINGTON-FALLOWFIELD Group (Variable Availability + Operational Utilisation)",{"$f":"IF(ISBLANK('Competition Data'!I186),\"\",'Competition Data'!I186)","v":"N/A"}]
["DIDSBURY-WITHINGTON-FALLOWFIELD GroupW27/28Peak Reduction",{"$f":"IF(ISBLANK('Competition Data'!A187),\"\",'Competition Data'!A187)","v":"DIDSBURY-WITHINGTON-FALLOWFIELD Group"},{"$f":"IF(ISBLANK('Competition Data'!H187),\"\",'Competition Data'!H187)","v":""},{"$f":"IF(ISBLANK('Competition Data'!B187),\"\",'Competition Data'!B187)","v":"W27/28"},{"$f":"IF(ISBLANK('Competition Data'!C187),\"\",'Competition Data'!C187)","v":"Peak Reduction"},{"$f":"IF(ISBLANK('Competition Data'!G187),\"\",'Competition Data'!G187)","v":49698},{"$f":"IF(ISBLANK('Competition Data'!D187),\"\",'Competition Data'!D187)","v":4392},{"$f":"IF(ISBLANK('Competition Data'!E187),\"\",'Competition Data'!E187)","v":"0"},{"$f":"IF(ISBLANK('Competition Data'!F187),\"\",'Competition Data'!F187)","v":5.69},"DIDSBURY-WITHINGTON-FALLOWFIELD Group (Peak Reduction)",{"$f":"IF(ISBLANK('Competition Data'!I187),\"\",'Competition Data'!I187)","v":1.9886772883113888}]
["DORSET STW26/27Peak Reduction",{"$f":"IF(ISBLANK('Competition Data'!A188),\"\",'Competition Data'!A188)","v":"DORSET ST"},{"$f":"IF(ISBLANK('Competition Data'!H188),\"\",'Competition Data'!H188)","v":""},{"$f":"IF(ISBLANK('Competition Data'!B188),\"\",'Competition Data'!B188)","v":"W26/27"},{"$f":"IF(ISBLANK('Competition Data'!C188),\"\",'Competition Data'!C188)","v":"Peak Reduction"},{"$f":"IF(ISBLANK('Competition Data'!G188),\"\",'Competition Data'!G188)","v":892.77},{"$f":"IF(ISBLANK('Competition Data'!D188),\"\",'Competition Data'!D188)","v":604},{"$f":"IF(ISBLANK('Competition Data'!E188),\"\",'Competition Data'!E188)","v":"0"},{"$f":"IF(ISBLANK('Competition Data'!F188),\"\",'Competition Data'!F188)","v":0.02},"DORSET ST (Peak Reduction)",{"$f":"IF(ISBLANK('Competition Data'!I188),\"\",'Competition Data'!I188)","v":73.90480132450331}]
["DORSET STW26/27Scheduled Utilisation",{"$f":"IF(ISBLANK('Competition Data'!A189),\"\",'Competition Data'!A189)","v":"DORSET ST"},{"$f":"IF(ISBLANK('Competition Data'!H189),\"\",'Competition Data'!H189)","v":""},{"$f":"IF(ISBLANK('Competition Data'!B189),\"\",'Competition Data'!B189)","v":"W26/27"},{"$f":"IF(ISBLANK('Competition Data'!C189),\"\",'Competition Data'!C189)","v":"Scheduled Utilisation"},{"$f":"IF(ISBLANK('Competition Data'!G189),\"\",'Competition Data'!G189)","v":892.77},{"$f":"IF(ISBLANK('Competition Data'!D189),\"\",'Competition Data'!D189)","v":604},{"$f":"IF(ISBLANK('Competition Data'!E189),\"\",'Competition Data'!E189)","v":"0"},{"$f":"IF(ISBLANK('Competition Data'!F189),\"\",'Competition Data'!F189)","v":0.02},"DORSET ST (Scheduled Utilisation)",{"$f":"IF(ISBLANK('Competition Data'!I189),\"\",'Competition Data'!I189)","v":73.90480132450331}]
["DumplingtonS27Variable Availability + Operational Utilisation",{"$f":"IF(ISBLANK('Competition Data'!A190),\"\",'Competition Data'!A190)","v":"Dumplington"},{"$f":"IF(ISBLANK('Competition Data'!H190),\"\",'Competition Data'!H190)","v":""},{"$f":"IF(ISBLANK('Competition Data'!B190),\"\",'Competition Data'!B190)","v":"S27"},{"$f":"IF(ISBLANK('Competition Data'!C190),\"\",'Competition Data'!C190)","v":"Variable Availability + Operational Utilisation"},{"$f":"IF(ISBLANK('Competition Data'!G190),\"\",'Competition Data'!G190)","v":28227},{"$f":"IF(ISBLANK('Competition Data'!D190),\"\",'Competition Data'!D190)","v":48},{"$f":"IF(ISBLANK('Competition Data'!E190),\"\",'Competition Data'!E190)","v":"168"},{"$f":"IF(ISBLANK('Competition Data'!F190),\"\",'Competition Data'!F190)","v":2.31},"Dumplington (Variable Availability + Operational Utilisation)",{"$f":"IF(ISBLANK('Competition Data'!I190),\"\",'Competition Data'!I190)","v":"N/A"}]
["DumplingtonS27Peak Reduction",{"$f":"IF(ISBLANK('Competition Data'!A191),\"\",'Competition Data'!A191)","v":"Dumplington"},{"$f":"IF(ISBLANK('Competition Data'!H191),\"\",'Competition Data'!H191)","v":""},{"$f":"IF(ISBLANK('Competition Data'!B191),\"\",'Competition Data'!B191)","v":"S27"},{"$f":"IF(ISBLANK('Competition Data'!C191),\"\",'Competition Data'!C191)","v":"Peak Reduction"},{"$f":"IF(ISBLANK('Competition Data'!G191),\"\",'Competition Data'!G191)","v":28227},{"$f":"IF(ISBLANK('Competition Data'!D191),\"\",'Competition Data'!D191)","v":4392},{"$f":"IF(ISBLANK('Competition Data'!E191),\"\",'Competition Data'!E191)","v":"0"},{"$f":"IF(ISBLANK('Competition Data'!F191),\"\",'Competition Data'!F191)","v":2.31},"Dumplington (Peak Reduction)",{"$f":"IF(ISBLANK('Competition Data'!I191),\"\",'Competition Data'!I191)","v":2.782213233032905}]
["DumplingtonW27/28Variable Availability + Operational Utilisation",{"$f":"IF(ISBLANK('Competition Data'!A192),\"\",'Competition Data'!A192)","v":"Dumplington"},{"$f":"IF(ISBLANK('Competition Data'!H192),\"\",'Competition Data'!H192)","v":""},{"$f":"IF(ISBLANK('Competition Data'!B192),\"\",'Competition Data'!B192)","v":"W27/28"},{"$f":"IF(ISBLANK('Competition Data'!C192),\"\",'Competition Data'!C192)","v":"Variable Availability + Operational Utilisation"},{"$f":"IF(ISBLANK('Competition Data'!G192),\"\",'Competition Data'!G192)","v":17596},{"$f":"IF(ISBLANK('Competition Data'!D192),\"\",'Competition Data'!D192)","v":23},{"$f":"IF(ISBLANK('Competition Data'!E192),\"\",'Competition Data'!E192)","v":"23"},{"$f":"IF(ISBLANK('Competition Data'!F192),\"\",'Competition Data'!F192)","v":1.44},"Dumplington (Variable Availability + Operational Utilisation)",{"$f":"IF(ISBLANK('Competition Data'!I192),\"\",'Competition Data'!I192)","v":"N/A"}]
["DumplingtonW27/28Peak Reduction",{"$f":"IF(ISBLANK('Competition Data'!A193),\"\",'Competition Data'!A193)","v":"Dumplington"},{"$f":"IF(ISBLANK('Competition Data'!H193),\"\",'Competition Data'!H193)","v":""},{"$f":"IF(ISBLANK('Competition Data'!B193),\"\",'Competition Data'!B193)","v":"W27/28"},{"$f":"IF(ISBLANK('Competition Data'!C193),\"\",'Competition Data'!C193)","v":"Peak Reduction"},{"$f":"IF(ISBLANK('Competition Data'!G193),\"\",'Competition Data'!G193)","v":17596},{"$f":"IF(ISBLANK('Competition Data'!D193),\"\",'Competition Data'!D193)","v":4392},{"$f":"IF(ISBLANK('Competition Data'!E193),\"\",'Competition Data'!E193)","v":"0"},{"$f":"IF(ISBLANK('Competition Data'!F193),\"\",'Competition Data'!F193)","v":1.44},"Dumplington (Peak Reduction)",{"$f":"IF(ISBLANK('Competition Data'!I193),\"\",'Competition Data'!I193)","v":2.7822050192268777}]
["DUNKIRK AVEW26/27Peak Reduction",{"$f":"IF(ISBLANK('Competition Data'!A194),\"\",'Competition Data'!A194)","v":"DUNKIRK AVE"},{"$f":"IF(ISBLANK('Competition Data'!H194),\"\",'Competition Data'!H194)","v":""},{"$f":"IF(ISBLANK('Competition Data'!B194),\"\",'Competition Data'!B194)","v":"W26/27"},{"$f":"IF(ISBLANK('Competition Data'!C194),\"\",'Competition Data'!C194)","v":"Peak Reduction"},{"$f":"IF(ISBLANK('Competition Data'!G194),\"\",'Competition Data'!G194)","v":892.77},{"$f":"IF(ISBLANK('Competition Data'!D194),\"\",'Competition Data'!D194)","v":604},{"$f":"IF(ISBLANK('Competition Data'!E194),\"\",'Competition Data'!E194)","v":"0"},{"$f":"IF(ISBLANK('Competition Data'!F194),\"\",'Competition Data'!F194)","v":0.01},"DUNKIRK AVE (Peak Reduction)",{"$f":"IF(ISBLANK('Competition Data'!I194),\"\",'Competition Data'!I194)","v":147.80960264900662}]
[{"$f":"CONCATENATE(B195,D195,E195)","v":"DUNKIRK AVEW26/27Scheduled Utilisation"},{"$f":"IF(ISBLANK('Competition Data'!A195),\"\",'Competition Data'!A195)","v":"DUNKIRK AVE"},{"$f":"IF(ISBLANK('Competition Data'!H195),\"\",'Competition Data'!H195)","v":""},{"$f":"IF(ISBLANK('Competition Data'!B195),\"\",'Competition Data'!B195)","v":"W26/27"},{"$f":"IF(ISBLANK('Competition Data'!C195),\"\",'Competition Data'!C195)","v":"Scheduled Utilisation"},{"$f":"IF(ISBLANK('Competition Data'!G195),\"\",'Competition Data'!G195)","v":892.77},{"$f":"IF(ISBLANK('Competition Data'!D195),\"\",'Competition Data'!D195)","v":604},{"$f":"IF(ISBLANK('Competition Data'!E195),\"\",'Competition Data'!E195)","v":"0"},{"$f":"IF(ISBLANK('Competition Data'!F195),\"\",'Competition Data'!F195)","v":0.01},{"$f":"CONCATENATE(B195,\" (\",E195,\")\")","v":"DUNKIRK AVE (Scheduled Utilisation)"},{"$f":"IF(ISBLANK('Competition Data'!I195),\"\",'Competition Data'!I195)","v":147.80960264900662}]
["EastonS27Variable Availability + Operational Utilisation",{"$f":"IF(ISBLANK('Competition Data'!A196),\"\",'Competition Data'!A196)","v":"Easton"},{"$f":"IF(ISBLANK('Competition Data'!H196),\"\",'Competition Data'!H196)","v":""},{"$f":"IF(ISBLANK('Competition Data'!B196),\"\",'Competition Data'!B196)","v":"S27"},{"$f":"IF(ISBLANK('Competition Data'!C196),\"\",'Competition Data'!C196)","v":"Variable Availability + Operational Utilisation"},{"$f":"IF(ISBLANK('Competition Data'!G196),\"\",'Competition Data'!G196)","v":7266},{"$f":"IF(ISBLANK('Competition Data'!D196),\"\",'Competition Data'!D196)","v":14},{"$f":"IF(ISBLANK('Competition Data'!E196),\"\",'Competition Data'!E196)","v":"14"},{"$f":"IF(ISBLANK('Competition Data'!F196),\"\",'Competition Data'!F196)","v":0.11},"Easton (Variable Availability + Operational Utilisation)",{"$f":"IF(ISBLANK('Competition Data'!I196),\"\",'Competition Data'!I196)","v":"N/A"}]
["EastonS27Peak Reduction",{"$f":"IF(ISBLANK('Competition Data'!A197),\"\",'Competition Data'!A197)","v":"Easton"},{"$f":"IF(ISBLANK('Competition Data'!H197),\"\",'Competition Data'!H197)","v":""},{"$f":"IF(ISBLANK('Competition Data'!B197),\"\",'Competition Data'!B197)","v":"S27"},{"$f":"IF(ISBLANK('Competition Data'!C197),\"\",'Competition Data'!C197)","v":"Peak Reduction"},{"$f":"IF(ISBLANK('Competition Data'!G197),\"\",'Competition Data'!G197)","v":7266},{"$f":"IF(ISBLANK('Competition Data'!D197),\"\",'Competition Data'!D197)","v":4392},{"$f":"IF(ISBLANK('Competition Data'!E197),\"\",'Competition Data'!E197)","v":"0"},{"$f":"IF(ISBLANK('Competition Data'!F197),\"\",'Competition Data'!F197)","v":0.11},"Easton (Peak Reduction)",{"$f":"IF(ISBLANK('Competition Data'!I197),\"\",'Competition Data'!I197)","v":15.039741679085941}]
["EastonW26/27Variable Availability + Operational Utilisation",{"$f":"IF(ISBLANK('Competition Data'!A198),\"\",'Competition Data'!A198)","v":"Easton"},{"$f":"IF(ISBLANK('Competition Data'!H198),\"\",'Competition Data'!H198)","v":""},{"$f":"IF(ISBLANK('Competition Data'!B198),\"\",'Competition Data'!B198)","v":"W26/27"},{"$f":"IF(ISBLANK('Competition Data'!C198),\"\",'Competition Data'!C198)","v":"Variable Availability + Operational Utilisation"},{"$f":"IF(ISBLANK('Competition Data'!G198),\"\",'Competition Data'!G198)","v":31044},{"$f":"IF(ISBLANK('Competition Data'!D198),\"\",'Competition Data'!D198)","v":48},{"$f":"IF(ISBLANK('Competition Data'!E198),\"\",'Competition Data'!E198)","v":"270"},{"$f":"IF(ISBLANK('Competition Data'!F198),\"\",'Competition Data'!F198)","v":0.31},"Easton (Variable Availability + Operational Utilisation)",{"$f":"IF(ISBLANK('Competition Data'!I198),\"\",'Competition Data'!I198)","v":"N/A"}]
["EastonW26/27Peak Reduction",{"$f":"IF(ISBLANK('Competition Data'!A199),\"\",'Competition Data'!A199)","v":"Easton"},{"$f":"IF(ISBLANK('Competition Data'!H199),\"\",'Competition Data'!H199)","v":""},{"$f":"IF(ISBLANK('Competition Data'!B199),\"\",'Competition Data'!B199)","v":"W26/27"},{"$f":"IF(ISBLANK('Competition Data'!C199),\"\",'Competition Data'!C199)","v":"Peak Reduction"},{"$f":"IF(ISBLANK('Competition Data'!G199),\"\",'Competition Data'!G199)","v":31044},{"$f":"IF(ISBLANK('Competition Data'!D199),\"\",'Competition Data'!D199)","v":3624},{"$f":"IF(ISBLANK('Competition Data'!E199),\"\",'Competition Data'!E199)","v":"0"},{"$f":"IF(ISBLANK('Competition Data'!F199),\"\",'Competition Data'!F199)","v":0.31},"Easton (Peak Reduction)",{"$f":"IF(ISBLANK('Competition Data'!I199),\"\",'Competition Data'!I199)","v":27.632984405041658}]
["EastonW27/28Variable Availability + Operational Utilisation",{"$f":"IF(ISBLANK('Competition Data'!A200),\"\",'Competition Data'!A200)","v":"Easton"},{"$f":"IF(ISBLANK('Competition Data'!H200),\"\",'Competition Data'!H200)","v":""},{"$f":"IF(ISBLANK('Competition Data'!B200),\"\",'Competition Data'!B200)","v":"W27/28"},{"$f":"IF(ISBLANK('Competition Data'!C200),\"\",'Competition Data'!C200)","v":"Variable Availability + Operational Utilisation"},{"$f":"IF(ISBLANK('Competition Data'!G200),\"\",'Competition Data'!G200)","v":23778},{"$f":"IF(ISBLANK('Competition Data'!D200),\"\",'Competition Data'!D200)","v":48},{"$f":"IF(ISBLANK('Competition Data'!E200),\"\",'Competition Data'!E200)","v":"358"},{"$f":"IF(ISBLANK('Competition Data'!F200),\"\",'Competition Data'!F200)","v":0.36},"Easton (Variable Availability + Operational Utilisation)",{"$f":"IF(ISBLANK('Competition Data'!I200),\"\",'Competition Data'!I200)","v":"N/A"}]
["EastonW27/28Peak Reduction",{"$f":"IF(ISBLANK('Competition Data'!A201),\"\",'Competition Data'!A201)","v":"Easton"},{"$f":"IF(ISBLANK('Competition Data'!H201),\"\",'Competition Data'!H201)","v":""},{"$f":"IF(ISBLANK('Competition Data'!B201),\"\",'Competition Data'!B201)","v":"W27/28"},{"$f":"IF(ISBLANK('Competition Data'!C201),\"\",'Competition Data'!C201)","v":"Peak Reduction"},{"$f":"IF(ISBLANK('Competition Data'!G201),\"\",'Competition Data'!G201)","v":23778},{"$f":"IF(ISBLANK('Competition Data'!D201),\"\",'Competition Data'!D201)","v":4392},{"$f":"IF(ISBLANK('Competition Data'!E201),\"\",'Competition Data'!E201)","v":"0"},{"$f":"IF(ISBLANK('Competition Data'!F201),\"\",'Competition Data'!F201)","v":0.36},"Easton (Peak Reduction)",{"$f":"IF(ISBLANK('Competition Data'!I201),\"\",'Competition Data'!I201)","v":15.038706739526411}]
["EgremontW26/27Variable Availability + Operational Utilisation",{"$f":"IF(ISBLANK('Competition Data'!A202),\"\",'Competition Data'!A202)","v":"Egremont"},{"$f":"IF(ISBLANK('Competition Data'!H202),\"\",'Competition Data'!H202)","v":""},{"$f":"IF(ISBLANK('Competition Data'!B202),\"\",'Competition Data'!B202)","v":"W26/27"},{"$f":"IF(ISBLANK('Competition Data'!C202),\"\",'Competition Data'!C202)","v":"Variable Availability + Operational Utilisation"},{"$f":"IF(ISBLANK('Competition Data'!G202),\"\",'Competition Data'!G202)","v":47303},{"$f":"IF(ISBLANK('Competition Data'!D202),\"\",'Competition Data'!D202)","v":47},{"$f":"IF(ISBLANK('Competition Data'!E202),\"\",'Competition Data'!E202)","v":"47"},{"$f":"IF(ISBLANK('Competition Data'!F202),\"\",'Competition Data'!F202)","v":1.96},"Egremont (Variable Availability + Operational Utilisation)",{"$f":"IF(ISBLANK('Competition Data'!I202),\"\",'Competition Data'!I202)","v":"N/A"}]
["EgremontW26/27Peak Reduction",{"$f":"IF(ISBLANK('Competition Data'!A203),\"\",'Competition Data'!A203)","v":"Egremont"},{"$f":"IF(ISBLANK('Competition Data'!H203),\"\",'Competition Data'!H203)","v":""},{"$f":"IF(ISBLANK('Competition Data'!B203),\"\",'Competition Data'!B203)","v":"W26/27"},{"$f":"IF(ISBLANK('Competition Data'!C203),\"\",'Competition Data'!C203)","v":"Peak Reduction"},{"$f":"IF(ISBLANK('Competition Data'!G203),\"\",'Competition Data'!G203)","v":47303},{"$f":"IF(ISBLANK('Competition Data'!D203),\"\",'Competition Data'!D203)","v":3624},{"$f":"IF(ISBLANK('Competition Data'!E203),\"\",'Competition Data'!E203)","v":"0"},{"$f":"IF(ISBLANK('Competition Data'!F203),\"\",'Competition Data'!F203)","v":1.96},"Egremont (Peak Reduction)",{"$f":"IF(ISBLANK('Competition Data'!I203),\"\",'Competition Data'!I203)","v":6.6595429562553496}]
["EgremontW27/28Variable Availability + Operational Utilisation",{"$f":"IF(ISBLANK('Competition Data'!A204),\"\",'Competition Data'!A204)","v":"Egremont"},{"$f":"IF(ISBLANK('Competition Data'!H204),\"\",'Competition Data'!H204)","v":""},{"$f":"IF(ISBLANK('Competition Data'!B204),\"\",'Competition Data'!B204)","v":"W27/28"},{"$f":"IF(ISBLANK('Competition Data'!C204),\"\",'Competition Data'!C204)","v":"Variable Availability + Operational Utilisation"},{"$f":"IF(ISBLANK('Competition Data'!G204),\"\",'Competition Data'!G204)","v":47303},{"$f":"IF(ISBLANK('Competition Data'!D204),\"\",'Competition Data'!D204)","v":48},{"$f":"IF(ISBLANK('Competition Data'!E204),\"\",'Competition Data'!E204)","v":"59"},{"$f":"IF(ISBLANK('Competition Data'!F204),\"\",'Competition Data'!F204)","v":2.21},"Egremont (Variable Availability + Operational Utilisation)",{"$f":"IF(ISBLANK('Competition Data'!I204),\"\",'Competition Data'!I204)","v":"N/A"}]
["EgremontW27/28Peak Reduction",{"$f":"IF(ISBLANK('Competition Data'!A205),\"\",'Competition Data'!A205)","v":"Egremont"},{"$f":"IF(ISBLANK('Competition Data'!H205),\"\",'Competition Data'!H205)","v":""},{"$f":"IF(ISBLANK('Competition Data'!B205),\"\",'Competition Data'!B205)","v":"W27/28"},{"$f":"IF(ISBLANK('Competition Data'!C205),\"\",'Competition Data'!C205)","v":"Peak Reduction"},{"$f":"IF(ISBLANK('Competition Data'!G205),\"\",'Competition Data'!G205)","v":47303},{"$f":"IF(ISBLANK('Competition Data'!D205),\"\",'Competition Data'!D205)","v":4392},{"$f":"IF(ISBLANK('Competition Data'!E205),\"\",'Competition Data'!E205)","v":"0"},{"$f":"IF(ISBLANK('Competition Data'!F205),\"\",'Competition Data'!F205)","v":2.21},"Egremont (Peak Reduction)",{"$f":"IF(ISBLANK('Competition Data'!I205),\"\",'Competition Data'!I205)","v":4.8734226771835258}]
["EMPIRE MILLW26/27Peak Reduction",{"$f":"IF(ISBLANK('Competition Data'!A206),\"\",'Competition Data'!A206)","v":"EMPIRE MILL"},{"$f":"IF(ISBLANK('Competition Data'!H206),\"\",'Competition Data'!H206)","v":""},{"$f":"IF(ISBLANK('Competition Data'!B206),\"\",'Competition Data'!B206)","v":"W26/27"},{"$f":"IF(ISBLANK('Competition Data'!C206),\"\",'Competition Data'!C206)","v":"Peak Reduction"},{"$f":"IF(ISBLANK('Competition Data'!G206),\"\",'Competition Data'!G206)","v":892.77},{"$f":"IF(ISBLANK('Competition Data'!D206),\"\",'Competition Data'!D206)","v":604},{"$f":"IF(ISBLANK('Competition Data'!E206),\"\",'Competition Data'!E206)","v":"0"},{"$f":"IF(ISBLANK('Competition Data'!F206),\"\",'Competition Data'!F206)","v":0.04},"EMPIRE MILL (Peak Reduction)",{"$f":"IF(ISBLANK('Competition Data'!I206),\"\",'Competition Data'!I206)","v":36.952400662251655}]
["EMPIRE MILLW26/27Scheduled Utilisation",{"$f":"IF(ISBLANK('Competition Data'!A207),\"\",'Competition Data'!A207)","v":"EMPIRE MILL"},{"$f":"IF(ISBLANK('Competition Data'!H207),\"\",'Competition Data'!H207)","v":""},{"$f":"IF(ISBLANK('Competition Data'!B207),\"\",'Competition Data'!B207)","v":"W26/27"},{"$f":"IF(ISBLANK('Competition Data'!C207),\"\",'Competition Data'!C207)","v":"Scheduled Utilisation"},{"$f":"IF(ISBLANK('Competition Data'!G207),\"\",'Competition Data'!G207)","v":892.77},{"$f":"IF(ISBLANK('Competition Data'!D207),\"\",'Competition Data'!D207)","v":604},{"$f":"IF(ISBLANK('Competition Data'!E207),\"\",'Competition Data'!E207)","v":"0"},{"$f":"IF(ISBLANK('Competition Data'!F207),\"\",'Competition Data'!F207)","v":0.04},"EMPIRE MILL (Scheduled Utilisation)",{"$f":"IF(ISBLANK('Competition Data'!I207),\"\",'Competition Data'!I207)","v":36.952400662251655}]
["ESKRICK STW26/27Peak Reduction",{"$f":"IF(ISBLANK('Competition Data'!A208),\"\",'Competition Data'!A208)","v":"ESKRICK ST"},{"$f":"IF(ISBLANK('Competition Data'!H208),\"\",'Competition Data'!H208)","v":""},{"$f":"IF(ISBLANK('Competition Data'!B208),\"\",'Competition Data'!B208)","v":"W26/27"},{"$f":"IF(ISBLANK('Competition Data'!C208),\"\",'Competition Data'!C208)","v":"Peak Reduction"},{"$f":"IF(ISBLANK('Competition Data'!G208),\"\",'Competition Data'!G208)","v":892.77},{"$f":"IF(ISBLANK('Competition Data'!D208),\"\",'Competition Data'!D208)","v":604},{"$f":"IF(ISBLANK('Competition Data'!E208),\"\",'Competition Data'!E208)","v":"0"},{"$f":"IF(ISBLANK('Competition Data'!F208),\"\",'Competition Data'!F208)","v":0.01},"ESKRICK ST (Peak Reduction)",{"$f":"IF(ISBLANK('Competition Data'!I208),\"\",'Competition Data'!I208)","v":147.80960264900662}]
["ESKRICK STW26/27Scheduled Utilisation",{"$f":"IF(ISBLANK('Competition Data'!A209),\"\",'Competition Data'!A209)","v":"ESKRICK ST"},{"$f":"IF(ISBLANK('Competition Data'!H209),\"\",'Competition Data'!H209)","v":""},{"$f":"IF(ISBLANK('Competition Data'!B209),\"\",'Competition Data'!B209)","v":"W26/27"},{"$f":"IF(ISBLANK('Competition Data'!C209),\"\",'Competition Data'!C209)","v":"Scheduled Utilisation"},{"$f":"IF(ISBLANK('Competition Data'!G209),\"\",'Competition Data'!G209)","v":892.77},{"$f":"IF(ISBLANK('Competition Data'!D209),\"\",'Competition Data'!D209)","v":604},{"$f":"IF(ISBLANK('Competition Data'!E209),\"\",'Competition Data'!E209)","v":"0"},{"$f":"IF(ISBLANK('Competition Data'!F209),\"\",'Competition Data'!F209)","v":0.01},"ESKRICK ST (Scheduled Utilisation)",{"$f":"IF(ISBLANK('Competition Data'!I209),\"\",'Competition Data'!I209)","v":147.80960264900662}]
["FAIRSNAPE DRW26/27Peak Reduction",{"$f":"IF(ISBLANK('Competition Data'!A210),\"\",'Competition Data'!A210)","v":"FAIRSNAPE DR"},{"$f":"IF(ISBLANK('Competition Data'!H210),\"\",'Competition Data'!H210)","v":""},{"$f":"IF(ISBLANK('Competition Data'!B210),\"\",'Competition Data'!B210)","v":"W26/27"},{"$f":"IF(ISBLANK('Competition Data'!C210),\"\",'Competition Data'!C210)","v":"Peak Reduction"},{"$f":"IF(ISBLANK('Competition Data'!G210),\"\",'Competition Data'!G210)","v":892.77},{"$f":"IF(ISBLANK('Competition Data'!D210),\"\",'Competition Data'!D210)","v":604},{"$f":"IF(ISBLANK('Competition Data'!E210),\"\",'Competition Data'!E210)","v":"0"},{"$f":"IF(ISBLANK('Competition Data'!F210),\"\",'Competition Data'!F210)","v":0.01},"FAIRSNAPE DR (Peak Reduction)",{"$f":"IF(ISBLANK('Competition Data'!I210),\"\",'Competition Data'!I210)","v":147.80960264900662}]
["FAIRSNAPE DRW26/27Scheduled Utilisation",{"$f":"IF(ISBLANK('Competition Data'!A211),\"\",'Competition Data'!A211)","v":"FAIRSNAPE DR"},{"$f":"IF(ISBLANK('Competition Data'!H211),\"\",'Competition Data'!H211)","v":""},{"$f":"IF(ISBLANK('Competition Data'!B211),\"\",'Competition Data'!B211)","v":"W26/27"},{"$f":"IF(ISBLANK('Competition Data'!C211),\"\",'Competition Data'!C211)","v":"Scheduled Utilisation"},{"$f":"IF(ISBLANK('Competition Data'!G211),\"\",'Competition Data'!G211)","v":892.77},{"$f":"IF(ISBLANK('Competition Data'!D211),\"\",'Competition Data'!D211)","v":604},{"$f":"IF(ISBLANK('Competition Data'!E211),\"\",'Competition Data'!E211)","v":"0"},{"$f":"IF(ISBLANK('Competition Data'!F211),\"\",'Competition Data'!F211)","v":0.01},"FAIRSNAPE DR (Scheduled Utilisation)",{"$f":"IF(ISBLANK('Competition Data'!I211),\"\",'Competition Data'!I211)","v":147.80960264900662}]
["FallowfieldW27/28Variable Availability + Operational Utilisation",{"$f":"IF(ISBLANK('Competition Data'!A212),\"\",'Competition Data'!A212)","v":"Fallowfield"},{"$f":"IF(ISBLANK('Competition Data'!H212),\"\",'Competition Data'!H212)","v":""},{"$f":"IF(ISBLANK('Competition Data'!B212),\"\",'Competition Data'!B212)","v":"W27/28"},{"$f":"IF(ISBLANK('Competition Data'!C212),\"\",'Competition Data'!C212)","v":"Variable Availability + Operational Utilisation"},{"$f":"IF(ISBLANK('Competition Data'!G212),\"\",'Competition Data'!G212)","v":110850},{"$f":"IF(ISBLANK('Competition Data'!D212),\"\",'Competition Data'!D212)","v":48},{"$f":"IF(ISBLANK('Competition Data'!E212),\"\",'Competition Data'!E212)","v":"78"},{"$f":"IF(ISBLANK('Competition Data'!F212),\"\",'Competition Data'!F212)","v":1.97},"Fallowfield (Variable Availability + Operational Utilisation)",{"$f":"IF(ISBLANK('Competition Data'!I212),\"\",'Competition Data'!I212)","v":"N/A"}]
["FallowfieldW27/28Peak Reduction",{"$f":"IF(ISBLANK('Competition Data'!A213),\"\",'Competition Data'!A213)","v":"Fallowfield"},{"$f":"IF(ISBLANK('Competition Data'!H213),\"\",'Competition Data'!H213)","v":""},{"$f":"IF(ISBLANK('Competition Data'!B213),\"\",'Competition Data'!B213)","v":"W27/28"},{"$f":"IF(ISBLANK('Competition Data'!C213),\"\",'Competition Data'!C213)","v":"Peak Reduction"},{"$f":"IF(ISBLANK('Competition Data'!G213),\"\",'Competition Data'!G213)","v":110850},{"$f":"IF(ISBLANK('Competition Data'!D213),\"\",'Competition Data'!D213)","v":4392},{"$f":"IF(ISBLANK('Competition Data'!E213),\"\",'Competition Data'!E213)","v":"0"},{"$f":"IF(ISBLANK('Competition Data'!F213),\"\",'Competition Data'!F213)","v":1.97},"Fallowfield (Peak Reduction)",{"$f":"IF(ISBLANK('Competition Data'!I213),\"\",'Competition Data'!I213)","v":12.811711186929628}]
["FAR MOORW26/27Peak Reduction",{"$f":"IF(ISBLANK('Competition Data'!A214),\"\",'Competition Data'!A214)","v":"FAR MOOR"},{"$f":"IF(ISBLANK('Competition Data'!H214),\"\",'Competition Data'!H214)","v":""},{"$f":"IF(ISBLANK('Competition Data'!B214),\"\",'Competition Data'!B214)","v":"W26/27"},{"$f":"IF(ISBLANK('Competition Data'!C214),\"\",'Competition Data'!C214)","v":"Peak Reduction"},{"$f":"IF(ISBLANK('Competition Data'!G214),\"\",'Competition Data'!G214)","v":892.77},{"$f":"IF(ISBLANK('Competition Data'!D214),\"\",'Competition Data'!D214)","v":604},{"$f":"IF(ISBLANK('Competition Data'!E214),\"\",'Competition Data'!E214)","v":"0"},{"$f":"IF(ISBLANK('Competition Data'!F214),\"\",'Competition Data'!F214)","v":0.02},"FAR MOOR (Peak Reduction)",{"$f":"IF(ISBLANK('Competition Data'!I214),\"\",'Competition Data'!I214)","v":73.90480132450331}]
["FAR MOORW26/27Scheduled Utilisation",{"$f":"IF(ISBLANK('Competition Data'!A215),\"\",'Competition Data'!A215)","v":"FAR MOOR"},{"$f":"IF(ISBLANK('Competition Data'!H215),\"\",'Competition Data'!H215)","v":""},{"$f":"IF(ISBLANK('Competition Data'!B215),\"\",'Competition Data'!B215)","v":"W26/27"},{"$f":"IF(ISBLANK('Competition Data'!C215),\"\",'Competition Data'!C215)","v":"Scheduled Utilisation"},{"$f":"IF(ISBLANK('Competition Data'!G215),\"\",'Competition Data'!G215)","v":892.77},{"$f":"IF(ISBLANK('Competition Data'!D215),\"\",'Competition Data'!D215)","v":604},{"$f":"IF(ISBLANK('Competition Data'!E215),\"\",'Competition Data'!E215)","v":"0"},{"$f":"IF(ISBLANK('Competition Data'!F215),\"\",'Competition Data'!F215)","v":0.02},"FAR MOOR (Scheduled Utilisation)",{"$f":"IF(ISBLANK('Competition Data'!I215),\"\",'Competition Data'!I215)","v":73.90480132450331}]
["Flat LaneFY27Operational Utilisation",{"$f":"IF(ISBLANK('Competition Data'!A216),\"\",'Competition Data'!A216)","v":"Flat Lane"},{"$f":"IF(ISBLANK('Competition Data'!H216),\"\",'Competition Data'!H216)","v":""},{"$f":"IF(ISBLANK('Competition Data'!B216),\"\",'Competition Data'!B216)","v":"FY27"},{"$f":"IF(ISBLANK('Competition Data'!C216),\"\",'Competition Data'!C216)","v":"Operational Utilisation"},{"$f":"IF(ISBLANK('Competition Data'!G216),\"\",'Competition Data'!G216)","v":122798},{"$f":"IF(ISBLANK('Competition Data'!D216),\"\",'Competition Data'!D216)","v":100},{"$f":"IF(ISBLANK('Competition Data'!E216),\"\",'Competition Data'!E216)","v":"0"},{"$f":"IF(ISBLANK('Competition Data'!F216),\"\",'Competition Data'!F216)","v":4.0999999999999996},"Flat Lane (Operational Utilisation)",{"$f":"IF(ISBLANK('Competition Data'!I216),\"\",'Competition Data'!I216)","v":299.50731707317078}]
["Flat LaneFY28Operational Utilisation",{"$f":"IF(ISBLANK('Competition Data'!A217),\"\",'Competition Data'!A217)","v":"Flat Lane"},{"$f":"IF(ISBLANK('Competition Data'!H217),\"\",'Competition Data'!H217)","v":""},{"$f":"IF(ISBLANK('Competition Data'!B217),\"\",'Competition Data'!B217)","v":"FY28"},{"$f":"IF(ISBLANK('Competition Data'!C217),\"\",'Competition Data'!C217)","v":"Operational Utilisation"},{"$f":"IF(ISBLANK('Competition Data'!G217),\"\",'Competition Data'!G217)","v":122798},{"$f":"IF(ISBLANK('Competition Data'!D217),\"\",'Competition Data'!D217)","v":100},{"$f":"IF(ISBLANK('Competition Data'!E217),\"\",'Competition Data'!E217)","v":"0"},{"$f":"IF(ISBLANK('Competition Data'!F217),\"\",'Competition Data'!F217)","v":4.0999999999999996},"Flat Lane (Operational Utilisation)",{"$f":"IF(ISBLANK('Competition Data'!I217),\"\",'Competition Data'!I217)","v":299.50731707317078}]
["FLEET STW26/27Peak Reduction",{"$f":"IF(ISBLANK('Competition Data'!A218),\"\",'Competition Data'!A218)","v":"FLEET ST"},{"$f":"IF(ISBLANK('Competition Data'!H218),\"\",'Competition Data'!H218)","v":""},{"$f":"IF(ISBLANK('Competition Data'!B218),\"\",'Competition Data'!B218)","v":"W26/27"},{"$f":"IF(ISBLANK('Competition Data'!C218),\"\",'Competition Data'!C218)","v":"Peak Reduction"},{"$f":"IF(ISBLANK('Competition Data'!G218),\"\",'Competition Data'!G218)","v":892.77},{"$f":"IF(ISBLANK('Competition Data'!D218),\"\",'Competition Data'!D218)","v":604},{"$f":"IF(ISBLANK('Competition Data'!E218),\"\",'Competition Data'!E218)","v":"0"},{"$f":"IF(ISBLANK('Competition Data'!F218),\"\",'Competition Data'!F218)","v":0.01},"FLEET ST (Peak Reduction)",{"$f":"IF(ISBLANK('Competition Data'!I218),\"\",'Competition Data'!I218)","v":147.80960264900662}]
["FLEET STW26/27Scheduled Utilisation",{"$f":"IF(ISBLANK('Competition Data'!A219),\"\",'Competition Data'!A219)","v":"FLEET ST"},{"$f":"IF(ISBLANK('Competition Data'!H219),\"\",'Competition Data'!H219)","v":""},{"$f":"IF(ISBLANK('Competition Data'!B219),\"\",'Competition Data'!B219)","v":"W26/27"},{"$f":"IF(ISBLANK('Competition Data'!C219),\"\",'Competition Data'!C219)","v":"Scheduled Utilisation"},{"$f":"IF(ISBLANK('Competition Data'!G219),\"\",'Competition Data'!G219)","v":892.77},{"$f":"IF(ISBLANK('Competition Data'!D219),\"\",'Competition Data'!D219)","v":604},{"$f":"IF(ISBLANK('Competition Data'!E219),\"\",'Competition Data'!E219)","v":"0"},{"$f":"IF(ISBLANK('Competition Data'!F219),\"\",'Competition Data'!F219)","v":0.01},"FLEET ST (Scheduled Utilisation)",{"$f":"IF(ISBLANK('Competition Data'!I219),\"\",'Competition Data'!I219)","v":147.80960264900662}]
["Frederick RdW27/28Variable Availability + Operational Utilisation",{"$f":"IF(ISBLANK('Competition Data'!A220),\"\",'Competition Data'!A220)","v":"Frederick Rd"},{"$f":"IF(ISBLANK('Competition Data'!H220),\"\",'Competition Data'!H220)","v":""},{"$f":"IF(ISBLANK('Competition Data'!B220),\"\",'Competition Data'!B220)","v":"W27/28"},{"$f":"IF(ISBLANK('Competition Data'!C220),\"\",'Competition Data'!C220)","v":"Variable Availability + Operational Utilisation"},{"$f":"IF(ISBLANK('Competition Data'!G220),\"\",'Competition Data'!G220)","v":100119},{"$f":"IF(ISBLANK('Competition Data'!D220),\"\",'Competition Data'!D220)","v":48},{"$f":"IF(ISBLANK('Competition Data'!E220),\"\",'Competition Data'!E220)","v":"239"},{"$f":"IF(ISBLANK('Competition Data'!F220),\"\",'Competition Data'!F220)","v":2.3199999999999998},"Frederick Rd (Variable Availability + Operational Utilisation)",{"$f":"IF(ISBLANK('Competition Data'!I220),\"\",'Competition Data'!I220)","v":"N/A"}]
["Frederick RdW27/28Peak Reduction",{"$f":"IF(ISBLANK('Competition Data'!A221),\"\",'Competition Data'!A221)","v":"Frederick Rd"},{"$f":"IF(ISBLANK('Competition Data'!H221),\"\",'Competition Data'!H221)","v":""},{"$f":"IF(ISBLANK('Competition Data'!B221),\"\",'Competition Data'!B221)","v":"W27/28"},{"$f":"IF(ISBLANK('Competition Data'!C221),\"\",'Competition Data'!C221)","v":"Peak Reduction"},{"$f":"IF(ISBLANK('Competition Data'!G221),\"\",'Competition Data'!G221)","v":100119},{"$f":"IF(ISBLANK('Competition Data'!D221),\"\",'Competition Data'!D221)","v":4392},{"$f":"IF(ISBLANK('Competition Data'!E221),\"\",'Competition Data'!E221)","v":"0"},{"$f":"IF(ISBLANK('Competition Data'!F221),\"\",'Competition Data'!F221)","v":2.3199999999999998},"Frederick Rd (Peak Reduction)",{"$f":"IF(ISBLANK('Competition Data'!I221),\"\",'Competition Data'!I221)","v":9.8257607876389681}]
["Frederick Rd BSPS27Variable Availability + Operational Utilisation",{"$f":"IF(ISBLANK('Competition Data'!A222),\"\",'Competition Data'!A222)","v":"Frederick Rd BSP"},{"$f":"IF(ISBLANK('Competition Data'!H222),\"\",'Competition Data'!H222)","v":""},{"$f":"IF(ISBLANK('Competition Data'!B222),\"\",'Competition Data'!B222)","v":"S27"},{"$f":"IF(ISBLANK('Competition Data'!C222),\"\",'Competition Data'!C222)","v":"Variable Availability + Operational Utilisation"},{"$f":"IF(ISBLANK('Competition Data'!G222),\"\",'Competition Data'!G222)","v":48699},{"$f":"IF(ISBLANK('Competition Data'!D222),\"\",'Competition Data'!D222)","v":45},{"$f":"IF(ISBLANK('Competition Data'!E222),\"\",'Competition Data'!E222)","v":"45"},{"$f":"IF(ISBLANK('Competition Data'!F222),\"\",'Competition Data'!F222)","v":7.23},"Frederick Rd BSP (Variable Availability + Operational Utilisation)",{"$f":"IF(ISBLANK('Competition Data'!I222),\"\",'Competition Data'!I222)","v":"N/A"}]
["Frederick Rd BSPS27Peak Reduction",{"$f":"IF(ISBLANK('Competition Data'!A223),\"\",'Competition Data'!A223)","v":"Frederick Rd BSP"},{"$f":"IF(ISBLANK('Competition Data'!H223),\"\",'Competition Data'!H223)","v":""},{"$f":"IF(ISBLANK('Competition Data'!B223),\"\",'Competition Data'!B223)","v":"S27"},{"$f":"IF(ISBLANK('Competition Data'!C223),\"\",'Competition Data'!C223)","v":"Peak Reduction"},{"$f":"IF(ISBLANK('Competition Data'!G223),\"\",'Competition Data'!G223)","v":48699},{"$f":"IF(ISBLANK('Competition Data'!D223),\"\",'Competition Data'!D223)","v":4392},{"$f":"IF(ISBLANK('Competition Data'!E223),\"\",'Competition Data'!E223)","v":"0"},{"$f":"IF(ISBLANK('Competition Data'!F223),\"\",'Competition Data'!F223)","v":7.23},"Frederick Rd BSP (Peak Reduction)",{"$f":"IF(ISBLANK('Competition Data'!I223),\"\",'Competition Data'!I223)","v":1.5336258304423733}]
["Frederick Rd BSPW26/27Variable Availability + Operational Utilisation",{"$f":"IF(ISBLANK('Competition Data'!A224),\"\",'Competition Data'!A224)","v":"Frederick Rd BSP"},{"$f":"IF(ISBLANK('Competition Data'!H224),\"\",'Competition Data'!H224)","v":""},{"$f":"IF(ISBLANK('Competition Data'!B224),\"\",'Competition Data'!B224)","v":"W26/27"},{"$f":"IF(ISBLANK('Competition Data'!C224),\"\",'Competition Data'!C224)","v":"Variable Availability + Operational Utilisation"},{"$f":"IF(ISBLANK('Competition Data'!G224),\"\",'Competition Data'!G224)","v":386765},{"$f":"IF(ISBLANK('Competition Data'!D224),\"\",'Competition Data'!D224)","v":48},{"$f":"IF(ISBLANK('Competition Data'!E224),\"\",'Competition Data'!E224)","v":"944"},{"$f":"IF(ISBLANK('Competition Data'!F224),\"\",'Competition Data'!F224)","v":32.61},"Frederick Rd BSP (Variable Availability + Operational Utilisation)",{"$f":"IF(ISBLANK('Competition Data'!I224),\"\",'Competition Data'!I224)","v":"N/A"}]
["Frederick Rd BSPW26/27Peak Reduction",{"$f":"IF(ISBLANK('Competition Data'!A225),\"\",'Competition Data'!A225)","v":"Frederick Rd BSP"},{"$f":"IF(ISBLANK('Competition Data'!H225),\"\",'Competition Data'!H225)","v":""},{"$f":"IF(ISBLANK('Competition Data'!B225),\"\",'Competition Data'!B225)","v":"W26/27"},{"$f":"IF(ISBLANK('Competition Data'!C225),\"\",'Competition Data'!C225)","v":"Peak Reduction"},{"$f":"IF(ISBLANK('Competition Data'!G225),\"\",'Competition Data'!G225)","v":386765},{"$f":"IF(ISBLANK('Competition Data'!D225),\"\",'Competition Data'!D225)","v":3624},{"$f":"IF(ISBLANK('Competition Data'!E225),\"\",'Competition Data'!E225)","v":"0"},{"$f":"IF(ISBLANK('Competition Data'!F225),\"\",'Competition Data'!F225)","v":32.61},"Frederick Rd BSP (Peak Reduction)",{"$f":"IF(ISBLANK('Competition Data'!I225),\"\",'Competition Data'!I225)","v":3.2727149339339157}]
["Frederick Rd BSPW27/28Variable Availability + Operational Utilisation",{"$f":"IF(ISBLANK('Competition Data'!A226),\"\",'Competition Data'!A226)","v":"Frederick Rd BSP"},{"$f":"IF(ISBLANK('Competition Data'!H226),\"\",'Competition Data'!H226)","v":""},{"$f":"IF(ISBLANK('Competition Data'!B226),\"\",'Competition Data'!B226)","v":"W27/28"},{"$f":"IF(ISBLANK('Competition Data'!C226),\"\",'Competition Data'!C226)","v":"Variable Availability + Operational Utilisation"},{"$f":"IF(ISBLANK('Competition Data'!G226),\"\",'Competition Data'!G226)","v":338066},{"$f":"IF(ISBLANK('Competition Data'!D226),\"\",'Competition Data'!D226)","v":100},{"$f":"IF(ISBLANK('Competition Data'!E226),\"\",'Competition Data'!E226)","v":"1796"},{"$f":"IF(ISBLANK('Competition Data'!F226),\"\",'Competition Data'!F226)","v":50.19},"Frederick Rd BSP (Variable Availability + Operational Utilisation)",{"$f":"IF(ISBLANK('Competition Data'!I226),\"\",'Competition Data'!I226)","v":"N/A"}]
["Frederick Rd BSPW27/28Peak Reduction",{"$f":"IF(ISBLANK('Competition Data'!A227),\"\",'Competition Data'!A227)","v":"Frederick Rd BSP"},{"$f":"IF(ISBLANK('Competition Data'!H227),\"\",'Competition Data'!H227)","v":""},{"$f":"IF(ISBLANK('Competition Data'!B227),\"\",'Competition Data'!B227)","v":"W27/28"},{"$f":"IF(ISBLANK('Competition Data'!C227),\"\",'Competition Data'!C227)","v":"Peak Reduction"},{"$f":"IF(ISBLANK('Competition Data'!G227),\"\",'Competition Data'!G227)","v":338066},{"$f":"IF(ISBLANK('Competition Data'!D227),\"\",'Competition Data'!D227)","v":4392},{"$f":"IF(ISBLANK('Competition Data'!E227),\"\",'Competition Data'!E227)","v":"0"},{"$f":"IF(ISBLANK('Competition Data'!F227),\"\",'Competition Data'!F227)","v":50.19},"Frederick Rd BSP (Peak Reduction)",{"$f":"IF(ISBLANK('Competition Data'!I227),\"\",'Competition Data'!I227)","v":1.5336348469622358}]
["FULSTONE MEWSW26/27Peak Reduction",{"$f":"IF(ISBLANK('Competition Data'!A228),\"\",'Competition Data'!A228)","v":"FULSTONE MEWS"},{"$f":"IF(ISBLANK('Competition Data'!H228),\"\",'Competition Data'!H228)","v":""},{"$f":"IF(ISBLANK('Competition Data'!B228),\"\",'Competition Data'!B228)","v":"W26/27"},{"$f":"IF(ISBLANK('Competition Data'!C228),\"\",'Competition Data'!C228)","v":"Peak Reduction"},{"$f":"IF(ISBLANK('Competition Data'!G228),\"\",'Competition Data'!G228)","v":892.77},{"$f":"IF(ISBLANK('Competition Data'!D228),\"\",'Competition Data'!D228)","v":604},{"$f":"IF(ISBLANK('Competition Data'!E228),\"\",'Competition Data'!E228)","v":"0"},{"$f":"IF(ISBLANK('Competition Data'!F228),\"\",'Competition Data'!F228)","v":0.04},"FULSTONE MEWS (Peak Reduction)",{"$f":"IF(ISBLANK('Competition Data'!I228),\"\",'Competition Data'!I228)","v":36.952400662251655}]
["FULSTONE MEWSW26/27Scheduled Utilisation",{"$f":"IF(ISBLANK('Competition Data'!A229),\"\",'Competition Data'!A229)","v":"FULSTONE MEWS"},{"$f":"IF(ISBLANK('Competition Data'!H229),\"\",'Competition Data'!H229)","v":""},{"$f":"IF(ISBLANK('Competition Data'!B229),\"\",'Competition Data'!B229)","v":"W26/27"},{"$f":"IF(ISBLANK('Competition Data'!C229),\"\",'Competition Data'!C229)","v":"Scheduled Utilisation"},{"$f":"IF(ISBLANK('Competition Data'!G229),\"\",'Competition Data'!G229)","v":892.77},{"$f":"IF(ISBLANK('Competition Data'!D229),\"\",'Competition Data'!D229)","v":604},{"$f":"IF(ISBLANK('Competition Data'!E229),\"\",'Competition Data'!E229)","v":"0"},{"$f":"IF(ISBLANK('Competition Data'!F229),\"\",'Competition Data'!F229)","v":0.04},"FULSTONE MEWS (Scheduled Utilisation)",{"$f":"IF(ISBLANK('Competition Data'!I229),\"\",'Competition Data'!I229)","v":36.952400662251655}]
["GillsrowFY27Operational Utilisation",{"$f":"IF(ISBLANK('Competition Data'!A230),\"\",'Competition Data'!A230)","v":"Gillsrow"},{"$f":"IF(ISBLANK('Competition Data'!H230),\"\",'Competition Data'!H230)","v":""},{"$f":"IF(ISBLANK('Competition Data'!B230),\"\",'Competition Data'!B230)","v":"FY27"},{"$f":"IF(ISBLANK('Competition Data'!C230),\"\",'Competition Data'!C230)","v":"Operational Utilisation"},{"$f":"IF(ISBLANK('Competition Data'!G230),\"\",'Competition Data'!G230)","v":98910},{"$f":"IF(ISBLANK('Competition Data'!D230),\"\",'Competition Data'!D230)","v":100},{"$f":"IF(ISBLANK('Competition Data'!E230),\"\",'Competition Data'!E230)","v":"0"},{"$f":"IF(ISBLANK('Competition Data'!F230),\"\",'Competition Data'!F230)","v":3.4},"Gillsrow (Operational Utilisation)",{"$f":"IF(ISBLANK('Competition Data'!I230),\"\",'Competition Data'!I230)","v":290.91176470588238}]
["GillsrowFY28Operational Utilisation",{"$f":"IF(ISBLANK('Competition Data'!A231),\"\",'Competition Data'!A231)","v":"Gillsrow"},{"$f":"IF(ISBLANK('Competition Data'!H231),\"\",'Competition Data'!H231)","v":""},{"$f":"IF(ISBLANK('Competition Data'!B231),\"\",'Competition Data'!B231)","v":"FY28"},{"$f":"IF(ISBLANK('Competition Data'!C231),\"\",'Competition Data'!C231)","v":"Operational Utilisation"},{"$f":"IF(ISBLANK('Competition Data'!G231),\"\",'Competition Data'!G231)","v":98910},{"$f":"IF(ISBLANK('Competition Data'!D231),\"\",'Competition Data'!D231)","v":100},{"$f":"IF(ISBLANK('Competition Data'!E231),\"\",'Competition Data'!E231)","v":"0"},{"$f":"IF(ISBLANK('Competition Data'!F231),\"\",'Competition Data'!F231)","v":3.4},"Gillsrow (Operational Utilisation)",{"$f":"IF(ISBLANK('Competition Data'!I231),\"\",'Competition Data'!I231)","v":290.91176470588238}]
["GIRLS GRAMMAR SCHOOLW26/27Peak Reduction",{"$f":"IF(ISBLANK('Competition Data'!A232),\"\",'Competition Data'!A232)","v":"GIRLS GRAMMAR SCHOOL"},{"$f":"IF(ISBLANK('Competition Data'!H232),\"\",'Competition Data'!H232)","v":""},{"$f":"IF(ISBLANK('Competition Data'!B232),\"\",'Competition Data'!B232)","v":"W26/27"},{"$f":"IF(ISBLANK('Competition Data'!C232),\"\",'Competition Data'!C232)","v":"Peak Reduction"},{"$f":"IF(ISBLANK('Competition Data'!G232),\"\",'Competition Data'!G232)","v":892.77},{"$f":"IF(ISBLANK('Competition Data'!D232),\"\",'Competition Data'!D232)","v":604},{"$f":"IF(ISBLANK('Competition Data'!E232),\"\",'Competition Data'!E232)","v":"0"},{"$f":"IF(ISBLANK('Competition Data'!F232),\"\",'Competition Data'!F232)","v":0.01},"GIRLS GRAMMAR SCHOOL (Peak Reduction)",{"$f":"IF(ISBLANK('Competition Data'!I232),\"\",'Competition Data'!I232)","v":147.80960264900662}]
["GIRLS GRAMMAR SCHOOLW26/27Scheduled Utilisation",{"$f":"IF(ISBLANK('Competition Data'!A233),\"\",'Competition Data'!A233)","v":"GIRLS GRAMMAR SCHOOL"},{"$f":"IF(ISBLANK('Competition Data'!H233),\"\",'Competition Data'!H233)","v":""},{"$f":"IF(ISBLANK('Competition Data'!B233),\"\",'Competition Data'!B233)","v":"W26/27"},{"$f":"IF(ISBLANK('Competition Data'!C233),\"\",'Competition Data'!C233)","v":"Scheduled Utilisation"},{"$f":"IF(ISBLANK('Competition Data'!G233),\"\",'Competition Data'!G233)","v":892.77},{"$f":"IF(ISBLANK('Competition Data'!D233),\"\",'Competition Data'!D233)","v":604},{"$f":"IF(ISBLANK('Competition Data'!E233),\"\",'Competition Data'!E233)","v":"0"},{"$f":"IF(ISBLANK('Competition Data'!F233),\"\",'Competition Data'!F233)","v":0.01},"GIRLS GRAMMAR SCHOOL (Scheduled Utilisation)",{"$f":"IF(ISBLANK('Competition Data'!I233),\"\",'Competition Data'!I233)","v":147.80960264900662}]
["GLENMOOR RDW26/27Peak Reduction",{"$f":"IF(ISBLANK('Competition Data'!A234),\"\",'Competition Data'!A234)","v":"GLENMOOR RD"},{"$f":"IF(ISBLANK('Competition Data'!H234),\"\",'Competition Data'!H234)","v":""},{"$f":"IF(ISBLANK('Competition Data'!B234),\"\",'Competition Data'!B234)","v":"W26/27"},{"$f":"IF(ISBLANK('Competition Data'!C234),\"\",'Competition Data'!C234)","v":"Peak Reduction"},{"$f":"IF(ISBLANK('Competition Data'!G234),\"\",'Competition Data'!G234)","v":892.77},{"$f":"IF(ISBLANK('Competition Data'!D234),\"\",'Competition Data'!D234)","v":604},{"$f":"IF(ISBLANK('Competition Data'!E234),\"\",'Competition Data'!E234)","v":"0"},{"$f":"IF(ISBLANK('Competition Data'!F234),\"\",'Competition Data'!F234)","v":0.02},"GLENMOOR RD (Peak Reduction)",{"$f":"IF(ISBLANK('Competition Data'!I234),\"\",'Competition Data'!I234)","v":73.90480132450331}]
["GLENMOOR RDW26/27Scheduled Utilisation",{"$f":"IF(ISBLANK('Competition Data'!A235),\"\",'Competition Data'!A235)","v":"GLENMOOR RD"},{"$f":"IF(ISBLANK('Competition Data'!H235),\"\",'Competition Data'!H235)","v":""},{"$f":"IF(ISBLANK('Competition Data'!B235),\"\",'Competition Data'!B235)","v":"W26/27"},{"$f":"IF(ISBLANK('Competition Data'!C235),\"\",'Competition Data'!C235)","v":"Scheduled Utilisation"},{"$f":"IF(ISBLANK('Competition Data'!G235),\"\",'Competition Data'!G235)","v":892.77},{"$f":"IF(ISBLANK('Competition Data'!D235),\"\",'Competition Data'!D235)","v":604},{"$f":"IF(ISBLANK('Competition Data'!E235),\"\",'Competition Data'!E235)","v":"0"},{"$f":"IF(ISBLANK('Competition Data'!F235),\"\",'Competition Data'!F235)","v":0.02},"GLENMOOR RD (Scheduled Utilisation)",{"$f":"IF(ISBLANK('Competition Data'!I235),\"\",'Competition Data'!I235)","v":73.90480132450331}]
["GOLDSMITH RDW26/27Peak Reduction",{"$f":"IF(ISBLANK('Competition Data'!A236),\"\",'Competition Data'!A236)","v":"GOLDSMITH RD"},{"$f":"IF(ISBLANK('Competition Data'!H236),\"\",'Competition Data'!H236)","v":""},{"$f":"IF(ISBLANK('Competition Data'!B236),\"\",'Competition Data'!B236)","v":"W26/27"},{"$f":"IF(ISBLANK('Competition Data'!C236),\"\",'Competition Data'!C236)","v":"Peak Reduction"},{"$f":"IF(ISBLANK('Competition Data'!G236),\"\",'Competition Data'!G236)","v":892.77},{"$f":"IF(ISBLANK('Competition Data'!D236),\"\",'Competition Data'!D236)","v":604},{"$f":"IF(ISBLANK('Competition Data'!E236),\"\",'Competition Data'!E236)","v":"0"},{"$f":"IF(ISBLANK('Competition Data'!F236),\"\",'Competition Data'!F236)","v":0.02},"GOLDSMITH RD (Peak Reduction)",{"$f":"IF(ISBLANK('Competition Data'!I236),\"\",'Competition Data'!I236)","v":73.90480132450331}]
["GOLDSMITH RDW26/27Scheduled Utilisation",{"$f":"IF(ISBLANK('Competition Data'!A237),\"\",'Competition Data'!A237)","v":"GOLDSMITH RD"},{"$f":"IF(ISBLANK('Competition Data'!H237),\"\",'Competition Data'!H237)","v":""},{"$f":"IF(ISBLANK('Competition Data'!B237),\"\",'Competition Data'!B237)","v":"W26/27"},{"$f":"IF(ISBLANK('Competition Data'!C237),\"\",'Competition Data'!C237)","v":"Scheduled Utilisation"},{"$f":"IF(ISBLANK('Competition Data'!G237),\"\",'Competition Data'!G237)","v":892.77},{"$f":"IF(ISBLANK('Competition Data'!D237),\"\",'Competition Data'!D237)","v":604},{"$f":"IF(ISBLANK('Competition Data'!E237),\"\",'Competition Data'!E237)","v":"0"},{"$f":"IF(ISBLANK('Competition Data'!F237),\"\",'Competition Data'!F237)","v":0.02},"GOLDSMITH RD (Scheduled Utilisation)",{"$f":"IF(ISBLANK('Competition Data'!I237),\"\",'Competition Data'!I237)","v":73.90480132450331}]
["GOODSHAW AVEW26/27Peak Reduction",{"$f":"IF(ISBLANK('Competition Data'!A238),\"\",'Competition Data'!A238)","v":"GOODSHAW AVE"},{"$f":"IF(ISBLANK('Competition Data'!H238),\"\",'Competition Data'!H238)","v":""},{"$f":"IF(ISBLANK('Competition Data'!B238),\"\",'Competition Data'!B238)","v":"W26/27"},{"$f":"IF(ISBLANK('Competition Data'!C238),\"\",'Competition Data'!C238)","v":"Peak Reduction"},{"$f":"IF(ISBLANK('Competition Data'!G238),\"\",'Competition Data'!G238)","v":892.77},{"$f":"IF(ISBLANK('Competition Data'!D238),\"\",'Competition Data'!D238)","v":604},{"$f":"IF(ISBLANK('Competition Data'!E238),\"\",'Competition Data'!E238)","v":"0"},{"$f":"IF(ISBLANK('Competition Data'!F238),\"\",'Competition Data'!F238)","v":0.02},"GOODSHAW AVE (Peak Reduction)",{"$f":"IF(ISBLANK('Competition Data'!I238),\"\",'Competition Data'!I238)","v":73.90480132450331}]
["GOODSHAW AVEW26/27Scheduled Utilisation",{"$f":"IF(ISBLANK('Competition Data'!A239),\"\",'Competition Data'!A239)","v":"GOODSHAW AVE"},{"$f":"IF(ISBLANK('Competition Data'!H239),\"\",'Competition Data'!H239)","v":""},{"$f":"IF(ISBLANK('Competition Data'!B239),\"\",'Competition Data'!B239)","v":"W26/27"},{"$f":"IF(ISBLANK('Competition Data'!C239),\"\",'Competition Data'!C239)","v":"Scheduled Utilisation"},{"$f":"IF(ISBLANK('Competition Data'!G239),\"\",'Competition Data'!G239)","v":892.77},{"$f":"IF(ISBLANK('Competition Data'!D239),\"\",'Competition Data'!D239)","v":604},{"$f":"IF(ISBLANK('Competition Data'!E239),\"\",'Competition Data'!E239)","v":"0"},{"$f":"IF(ISBLANK('Competition Data'!F239),\"\",'Competition Data'!F239)","v":0.02},"GOODSHAW AVE (Scheduled Utilisation)",{"$f":"IF(ISBLANK('Competition Data'!I239),\"\",'Competition Data'!I239)","v":73.90480132450331}]
["GRANGE PARK RDW26/27Peak Reduction",{"$f":"IF(ISBLANK('Competition Data'!A240),\"\",'Competition Data'!A240)","v":"GRANGE PARK RD"},{"$f":"IF(ISBLANK('Competition Data'!H240),\"\",'Competition Data'!H240)","v":""},{"$f":"IF(ISBLANK('Competition Data'!B240),\"\",'Competition Data'!B240)","v":"W26/27"},{"$f":"IF(ISBLANK('Competition Data'!C240),\"\",'Competition Data'!C240)","v":"Peak Reduction"},{"$f":"IF(ISBLANK('Competition Data'!G240),\"\",'Competition Data'!G240)","v":892.77},{"$f":"IF(ISBLANK('Competition Data'!D240),\"\",'Competition Data'!D240)","v":604},{"$f":"IF(ISBLANK('Competition Data'!E240),\"\",'Competition Data'!E240)","v":"0"},{"$f":"IF(ISBLANK('Competition Data'!F240),\"\",'Competition Data'!F240)","v":0.01},"GRANGE PARK RD (Peak Reduction)",{"$f":"IF(ISBLANK('Competition Data'!I240),\"\",'Competition Data'!I240)","v":147.80960264900662}]
["GRANGE PARK RDW26/27Scheduled Utilisation",{"$f":"IF(ISBLANK('Competition Data'!A241),\"\",'Competition Data'!A241)","v":"GRANGE PARK RD"},{"$f":"IF(ISBLANK('Competition Data'!H241),\"\",'Competition Data'!H241)","v":""},{"$f":"IF(ISBLANK('Competition Data'!B241),\"\",'Competition Data'!B241)","v":"W26/27"},{"$f":"IF(ISBLANK('Competition Data'!C241),\"\",'Competition Data'!C241)","v":"Scheduled Utilisation"},{"$f":"IF(ISBLANK('Competition Data'!G241),\"\",'Competition Data'!G241)","v":892.77},{"$f":"IF(ISBLANK('Competition Data'!D241),\"\",'Competition Data'!D241)","v":604},{"$f":"IF(ISBLANK('Competition Data'!E241),\"\",'Competition Data'!E241)","v":"0"},{"$f":"IF(ISBLANK('Competition Data'!F241),\"\",'Competition Data'!F241)","v":0.01},"GRANGE PARK RD (Scheduled Utilisation)",{"$f":"IF(ISBLANK('Competition Data'!I241),\"\",'Competition Data'!I241)","v":147.80960264900662}]
["GRASSCROFT CLOUGHW26/27Peak Reduction",{"$f":"IF(ISBLANK('Competition Data'!A242),\"\",'Competition Data'!A242)","v":"GRASSCROFT CLOUGH"},{"$f":"IF(ISBLANK('Competition Data'!H242),\"\",'Competition Data'!H242)","v":""},{"$f":"IF(ISBLANK('Competition Data'!B242),\"\",'Competition Data'!B242)","v":"W26/27"},{"$f":"IF(ISBLANK('Competition Data'!C242),\"\",'Competition Data'!C242)","v":"Peak Reduction"},{"$f":"IF(ISBLANK('Competition Data'!G242),\"\",'Competition Data'!G242)","v":892.77},{"$f":"IF(ISBLANK('Competition Data'!D242),\"\",'Competition Data'!D242)","v":604},{"$f":"IF(ISBLANK('Competition Data'!E242),\"\",'Competition Data'!E242)","v":"0"},{"$f":"IF(ISBLANK('Competition Data'!F242),\"\",'Competition Data'!F242)","v":7.0000000000000007E-2},"GRASSCROFT CLOUGH (Peak Reduction)",{"$f":"IF(ISBLANK('Competition Data'!I242),\"\",'Competition Data'!I242)","v":21.115657521286657}]
["GRASSCROFT CLOUGHW26/27Scheduled Utilisation",{"$f":"IF(ISBLANK('Competition Data'!A243),\"\",'Competition Data'!A243)","v":"GRASSCROFT CLOUGH"},{"$f":"IF(ISBLANK('Competition Data'!H243),\"\",'Competition Data'!H243)","v":""},{"$f":"IF(ISBLANK('Competition Data'!B243),\"\",'Competition Data'!B243)","v":"W26/27"},{"$f":"IF(ISBLANK('Competition Data'!C243),\"\",'Competition Data'!C243)","v":"Scheduled Utilisation"},{"$f":"IF(ISBLANK('Competition Data'!G243),\"\",'Competition Data'!G243)","v":892.77},{"$f":"IF(ISBLANK('Competition Data'!D243),\"\",'Competition Data'!D243)","v":604},{"$f":"IF(ISBLANK('Competition Data'!E243),\"\",'Competition Data'!E243)","v":"0"},{"$f":"IF(ISBLANK('Competition Data'!F243),\"\",'Competition Data'!F243)","v":7.0000000000000007E-2},"GRASSCROFT CLOUGH (Scheduled Utilisation)",{"$f":"IF(ISBLANK('Competition Data'!I243),\"\",'Competition Data'!I243)","v":21.115657521286657}]
["GRAYMARSH DRW26/27Peak Reduction",{"$f":"IF(ISBLANK('Competition Data'!A244),\"\",'Competition Data'!A244)","v":"GRAYMARSH DR"},{"$f":"IF(ISBLANK('Competition Data'!H244),\"\",'Competition Data'!H244)","v":""},{"$f":"IF(ISBLANK('Competition Data'!B244),\"\",'Competition Data'!B244)","v":"W26/27"},{"$f":"IF(ISBLANK('Competition Data'!C244),\"\",'Competition Data'!C244)","v":"Peak Reduction"},{"$f":"IF(ISBLANK('Competition Data'!G244),\"\",'Competition Data'!G244)","v":892.77},{"$f":"IF(ISBLANK('Competition Data'!D244),\"\",'Competition Data'!D244)","v":604},{"$f":"IF(ISBLANK('Competition Data'!E244),\"\",'Competition Data'!E244)","v":"0"},{"$f":"IF(ISBLANK('Competition Data'!F244),\"\",'Competition Data'!F244)","v":0.04},"GRAYMARSH DR (Peak Reduction)",{"$f":"IF(ISBLANK('Competition Data'!I244),\"\",'Competition Data'!I244)","v":36.952400662251655}]
["GRAYMARSH DRW26/27Scheduled Utilisation",{"$f":"IF(ISBLANK('Competition Data'!A245),\"\",'Competition Data'!A245)","v":"GRAYMARSH DR"},{"$f":"IF(ISBLANK('Competition Data'!H245),\"\",'Competition Data'!H245)","v":""},{"$f":"IF(ISBLANK('Competition Data'!B245),\"\",'Competition Data'!B245)","v":"W26/27"},{"$f":"IF(ISBLANK('Competition Data'!C245),\"\",'Competition Data'!C245)","v":"Scheduled Utilisation"},{"$f":"IF(ISBLANK('Competition Data'!G245),\"\",'Competition Data'!G245)","v":892.77},{"$f":"IF(ISBLANK('Competition Data'!D245),\"\",'Competition Data'!D245)","v":604},{"$f":"IF(ISBLANK('Competition Data'!E245),\"\",'Competition Data'!E245)","v":"0"},{"$f":"IF(ISBLANK('Competition Data'!F245),\"\",'Competition Data'!F245)","v":0.04},"GRAYMARSH DR (Scheduled Utilisation)",{"$f":"IF(ISBLANK('Competition Data'!I245),\"\",'Competition Data'!I245)","v":36.952400662251655}]
["Green St T12 & T13W27/28Variable Availability + Operational Utilisation",{"$f":"IF(ISBLANK('Competition Data'!A246),\"\",'Competition Data'!A246)","v":"Green St T12 & T13"},{"$f":"IF(ISBLANK('Competition Data'!H246),\"\",'Competition Data'!H246)","v":""},{"$f":"IF(ISBLANK('Competition Data'!B246),\"\",'Competition Data'!B246)","v":"W27/28"},{"$f":"IF(ISBLANK('Competition Data'!C246),\"\",'Competition Data'!C246)","v":"Variable Availability + Operational Utilisation"},{"$f":"IF(ISBLANK('Competition Data'!G246),\"\",'Competition Data'!G246)","v":62915},{"$f":"IF(ISBLANK('Competition Data'!D246),\"\",'Competition Data'!D246)","v":18},{"$f":"IF(ISBLANK('Competition Data'!E246),\"\",'Competition Data'!E246)","v":"18"},{"$f":"IF(ISBLANK('Competition Data'!F246),\"\",'Competition Data'!F246)","v":1.1200000000000001},"Green St T12 & T13 (Variable Availability + Operational Utilisation)",{"$f":"IF(ISBLANK('Competition Data'!I246),\"\",'Competition Data'!I246)","v":"N/A"}]
["Green St T12 & T13W27/28Peak Reduction",{"$f":"IF(ISBLANK('Competition Data'!A247),\"\",'Competition Data'!A247)","v":"Green St T12 & T13"},{"$f":"IF(ISBLANK('Competition Data'!H247),\"\",'Competition Data'!H247)","v":""},{"$f":"IF(ISBLANK('Competition Data'!B247),\"\",'Competition Data'!B247)","v":"W27/28"},{"$f":"IF(ISBLANK('Competition Data'!C247),\"\",'Competition Data'!C247)","v":"Peak Reduction"},{"$f":"IF(ISBLANK('Competition Data'!G247),\"\",'Competition Data'!G247)","v":62915},{"$f":"IF(ISBLANK('Competition Data'!D247),\"\",'Competition Data'!D247)","v":4392},{"$f":"IF(ISBLANK('Competition Data'!E247),\"\",'Competition Data'!E247)","v":"0"},{"$f":"IF(ISBLANK('Competition Data'!F247),\"\",'Competition Data'!F247)","v":1.1200000000000001},"Green St T12 & T13 (Peak Reduction)",{"$f":"IF(ISBLANK('Competition Data'!I247),\"\",'Competition Data'!I247)","v":12.790097254748892}]
["GREENACRES RDW26/27Peak Reduction",{"$f":"IF(ISBLANK('Competition Data'!A248),\"\",'Competition Data'!A248)","v":"GREENACRES RD"},{"$f":"IF(ISBLANK('Competition Data'!H248),\"\",'Competition Data'!H248)","v":""},{"$f":"IF(ISBLANK('Competition Data'!B248),\"\",'Competition Data'!B248)","v":"W26/27"},{"$f":"IF(ISBLANK('Competition Data'!C248),\"\",'Competition Data'!C248)","v":"Peak Reduction"},{"$f":"IF(ISBLANK('Competition Data'!G248),\"\",'Competition Data'!G248)","v":892.77},{"$f":"IF(ISBLANK('Competition Data'!D248),\"\",'Competition Data'!D248)","v":604},{"$f":"IF(ISBLANK('Competition Data'!E248),\"\",'Competition Data'!E248)","v":"0"},{"$f":"IF(ISBLANK('Competition Data'!F248),\"\",'Competition Data'!F248)","v":0.01},"GREENACRES RD (Peak Reduction)",{"$f":"IF(ISBLANK('Competition Data'!I248),\"\",'Competition Data'!I248)","v":147.80960264900662}]
["GREENACRES RDW26/27Scheduled Utilisation",{"$f":"IF(ISBLANK('Competition Data'!A249),\"\",'Competition Data'!A249)","v":"GREENACRES RD"},{"$f":"IF(ISBLANK('Competition Data'!H249),\"\",'Competition Data'!H249)","v":""},{"$f":"IF(ISBLANK('Competition Data'!B249),\"\",'Competition Data'!B249)","v":"W26/27"},{"$f":"IF(ISBLANK('Competition Data'!C249),\"\",'Competition Data'!C249)","v":"Scheduled Utilisation"},{"$f":"IF(ISBLANK('Competition Data'!G249),\"\",'Competition Data'!G249)","v":892.77},{"$f":"IF(ISBLANK('Competition Data'!D249),\"\",'Competition Data'!D249)","v":604},{"$f":"IF(ISBLANK('Competition Data'!E249),\"\",'Competition Data'!E249)","v":"0"},{"$f":"IF(ISBLANK('Competition Data'!F249),\"\",'Competition Data'!F249)","v":0.01},"GREENACRES RD (Scheduled Utilisation)",{"$f":"IF(ISBLANK('Competition Data'!I249),\"\",'Competition Data'!I249)","v":147.80960264900662}]
["GREENBROOK ST BURYW26/27Peak Reduction",{"$f":"IF(ISBLANK('Competition Data'!A250),\"\",'Competition Data'!A250)","v":"GREENBROOK ST BURY"},{"$f":"IF(ISBLANK('Competition Data'!H250),\"\",'Competition Data'!H250)","v":""},{"$f":"IF(ISBLANK('Competition Data'!B250),\"\",'Competition Data'!B250)","v":"W26/27"},{"$f":"IF(ISBLANK('Competition Data'!C250),\"\",'Competition Data'!C250)","v":"Peak Reduction"},{"$f":"IF(ISBLANK('Competition Data'!G250),\"\",'Competition Data'!G250)","v":892.77},{"$f":"IF(ISBLANK('Competition Data'!D250),\"\",'Competition Data'!D250)","v":604},{"$f":"IF(ISBLANK('Competition Data'!E250),\"\",'Competition Data'!E250)","v":"0"},{"$f":"IF(ISBLANK('Competition Data'!F250),\"\",'Competition Data'!F250)","v":0.05},"GREENBROOK ST BURY (Peak Reduction)",{"$f":"IF(ISBLANK('Competition Data'!I250),\"\",'Competition Data'!I250)","v":29.561920529801323}]
["GREENBROOK ST BURYW26/27Scheduled Utilisation",{"$f":"IF(ISBLANK('Competition Data'!A251),\"\",'Competition Data'!A251)","v":"GREENBROOK ST BURY"},{"$f":"IF(ISBLANK('Competition Data'!H251),\"\",'Competition Data'!H251)","v":""},{"$f":"IF(ISBLANK('Competition Data'!B251),\"\",'Competition Data'!B251)","v":"W26/27"},{"$f":"IF(ISBLANK('Competition Data'!C251),\"\",'Competition Data'!C251)","v":"Scheduled Utilisation"},{"$f":"IF(ISBLANK('Competition Data'!G251),\"\",'Competition Data'!G251)","v":892.77},{"$f":"IF(ISBLANK('Competition Data'!D251),\"\",'Competition Data'!D251)","v":604},{"$f":"IF(ISBLANK('Competition Data'!E251),\"\",'Competition Data'!E251)","v":"0"},{"$f":"IF(ISBLANK('Competition Data'!F251),\"\",'Competition Data'!F251)","v":0.05},"GREENBROOK ST BURY (Scheduled Utilisation)",{"$f":"IF(ISBLANK('Competition Data'!I251),\"\",'Competition Data'!I251)","v":29.561920529801323}]
["GREENWOOD HSW26/27Peak Reduction",{"$f":"IF(ISBLANK('Competition Data'!A252),\"\",'Competition Data'!A252)","v":"GREENWOOD HS"},{"$f":"IF(ISBLANK('Competition Data'!H252),\"\",'Competition Data'!H252)","v":""},{"$f":"IF(ISBLANK('Competition Data'!B252),\"\",'Competition Data'!B252)","v":"W26/27"},{"$f":"IF(ISBLANK('Competition Data'!C252),\"\",'Competition Data'!C252)","v":"Peak Reduction"},{"$f":"IF(ISBLANK('Competition Data'!G252),\"\",'Competition Data'!G252)","v":892.77},{"$f":"IF(ISBLANK('Competition Data'!D252),\"\",'Competition Data'!D252)","v":604},{"$f":"IF(ISBLANK('Competition Data'!E252),\"\",'Competition Data'!E252)","v":"0"},{"$f":"IF(ISBLANK('Competition Data'!F252),\"\",'Competition Data'!F252)","v":0.01},"GREENWOOD HS (Peak Reduction)",{"$f":"IF(ISBLANK('Competition Data'!I252),\"\",'Competition Data'!I252)","v":147.80960264900662}]
["GREENWOOD HSW26/27Scheduled Utilisation",{"$f":"IF(ISBLANK('Competition Data'!A253),\"\",'Competition Data'!A253)","v":"GREENWOOD HS"},{"$f":"IF(ISBLANK('Competition Data'!H253),\"\",'Competition Data'!H253)","v":""},{"$f":"IF(ISBLANK('Competition Data'!B253),\"\",'Competition Data'!B253)","v":"W26/27"},{"$f":"IF(ISBLANK('Competition Data'!C253),\"\",'Competition Data'!C253)","v":"Scheduled Utilisation"},{"$f":"IF(ISBLANK('Competition Data'!G253),\"\",'Competition Data'!G253)","v":892.77},{"$f":"IF(ISBLANK('Competition Data'!D253),\"\",'Competition Data'!D253)","v":604},{"$f":"IF(ISBLANK('Competition Data'!E253),\"\",'Competition Data'!E253)","v":"0"},{"$f":"IF(ISBLANK('Competition Data'!F253),\"\",'Competition Data'!F253)","v":0.01},"GREENWOOD HS (Scheduled Utilisation)",{"$f":"IF(ISBLANK('Competition Data'!I253),\"\",'Competition Data'!I253)","v":147.80960264900662}]
["HALL CROSSW27/28Peak Reduction",{"$f":"IF(ISBLANK('Competition Data'!A254),\"\",'Competition Data'!A254)","v":"HALL CROSS"},{"$f":"IF(ISBLANK('Competition Data'!H254),\"\",'Competition Data'!H254)","v":""},{"$f":"IF(ISBLANK('Competition Data'!B254),\"\",'Competition Data'!B254)","v":"W27/28"},{"$f":"IF(ISBLANK('Competition Data'!C254),\"\",'Competition Data'!C254)","v":"Peak Reduction"},{"$f":"IF(ISBLANK('Competition Data'!G254),\"\",'Competition Data'!G254)","v":64727.519999999997},{"$f":"IF(ISBLANK('Competition Data'!D254),\"\",'Competition Data'!D254)","v":1216},{"$f":"IF(ISBLANK('Competition Data'!E254),\"\",'Competition Data'!E254)","v":"0"},{"$f":"IF(ISBLANK('Competition Data'!F254),\"\",'Competition Data'!F254)","v":1},"HALL CROSS (Peak Reduction)",{"$f":"IF(ISBLANK('Competition Data'!I254),\"\",'Competition Data'!I254)","v":53.229868421052629}]
["HALL CROSSW27/28Scheduled Utilisation",{"$f":"IF(ISBLANK('Competition Data'!A255),\"\",'Competition Data'!A255)","v":"HALL CROSS"},{"$f":"IF(ISBLANK('Competition Data'!H255),\"\",'Competition Data'!H255)","v":""},{"$f":"IF(ISBLANK('Competition Data'!B255),\"\",'Competition Data'!B255)","v":"W27/28"},{"$f":"IF(ISBLANK('Competition Data'!C255),\"\",'Competition Data'!C255)","v":"Scheduled Utilisation"},{"$f":"IF(ISBLANK('Competition Data'!G255),\"\",'Competition Data'!G255)","v":64727.519999999997},{"$f":"IF(ISBLANK('Competition Data'!D255),\"\",'Competition Data'!D255)","v":1216},{"$f":"IF(ISBLANK('Competition Data'!E255),\"\",'Competition Data'!E255)","v":"0"},{"$f":"IF(ISBLANK('Competition Data'!F255),\"\",'Competition Data'!F255)","v":1},"HALL CROSS (Scheduled Utilisation)",{"$f":"IF(ISBLANK('Competition Data'!I255),\"\",'Competition Data'!I255)","v":53.229868421052629}]
["HattersleyW26/27Variable Availability + Operational Utilisation",{"$f":"IF(ISBLANK('Competition Data'!A256),\"\",'Competition Data'!A256)","v":"Hattersley"},{"$f":"IF(ISBLANK('Competition Data'!H256),\"\",'Competition Data'!H256)","v":""},{"$f":"IF(ISBLANK('Competition Data'!B256),\"\",'Competition Data'!B256)","v":"W26/27"},{"$f":"IF(ISBLANK('Competition Data'!C256),\"\",'Competition Data'!C256)","v":"Variable Availability + Operational Utilisation"},{"$f":"IF(ISBLANK('Competition Data'!G256),\"\",'Competition Data'!G256)","v":45657},{"$f":"IF(ISBLANK('Competition Data'!D256),\"\",'Competition Data'!D256)","v":48},{"$f":"IF(ISBLANK('Competition Data'!E256),\"\",'Competition Data'!E256)","v":"100"},{"$f":"IF(ISBLANK('Competition Data'!F256),\"\",'Competition Data'!F256)","v":2.2599999999999998},"Hattersley (Variable Availability + Operational Utilisation)",{"$f":"IF(ISBLANK('Competition Data'!I256),\"\",'Competition Data'!I256)","v":"N/A"}]
["HattersleyW26/27Peak Reduction",{"$f":"IF(ISBLANK('Competition Data'!A257),\"\",'Competition Data'!A257)","v":"Hattersley"},{"$f":"IF(ISBLANK('Competition Data'!H257),\"\",'Competition Data'!H257)","v":""},{"$f":"IF(ISBLANK('Competition Data'!B257),\"\",'Competition Data'!B257)","v":"W26/27"},{"$f":"IF(ISBLANK('Competition Data'!C257),\"\",'Competition Data'!C257)","v":"Peak Reduction"},{"$f":"IF(ISBLANK('Competition Data'!G257),\"\",'Competition Data'!G257)","v":45657},{"$f":"IF(ISBLANK('Competition Data'!D257),\"\",'Competition Data'!D257)","v":3624},{"$f":"IF(ISBLANK('Competition Data'!E257),\"\",'Competition Data'!E257)","v":"0"},{"$f":"IF(ISBLANK('Competition Data'!F257),\"\",'Competition Data'!F257)","v":2.2599999999999998},"Hattersley (Peak Reduction)",{"$f":"IF(ISBLANK('Competition Data'!I257),\"\",'Competition Data'!I257)","v":5.5745619175994854}]
["HattersleyW27/28Variable Availability + Operational Utilisation",{"$f":"IF(ISBLANK('Competition Data'!A258),\"\",'Competition Data'!A258)","v":"Hattersley"},{"$f":"IF(ISBLANK('Competition Data'!H258),\"\",'Competition Data'!H258)","v":""},{"$f":"IF(ISBLANK('Competition Data'!B258),\"\",'Competition Data'!B258)","v":"W27/28"},{"$f":"IF(ISBLANK('Competition Data'!C258),\"\",'Competition Data'!C258)","v":"Variable Availability + Operational Utilisation"},{"$f":"IF(ISBLANK('Competition Data'!G258),\"\",'Competition Data'!G258)","v":45657},{"$f":"IF(ISBLANK('Competition Data'!D258),\"\",'Competition Data'!D258)","v":48},{"$f":"IF(ISBLANK('Competition Data'!E258),\"\",'Competition Data'!E258)","v":"238"},{"$f":"IF(ISBLANK('Competition Data'!F258),\"\",'Competition Data'!F258)","v":3.35},"Hattersley (Variable Availability + Operational Utilisation)",{"$f":"IF(ISBLANK('Competition Data'!I258),\"\",'Competition Data'!I258)","v":"N/A"}]
[{"$f":"CONCATENATE(B259,D259,E259)","v":"HattersleyW27/28Peak Reduction"},{"$f":"IF(ISBLANK('Competition Data'!A259),\"\",'Competition Data'!A259)","v":"Hattersley"},{"$f":"IF(ISBLANK('Competition Data'!H259),\"\",'Competition Data'!H259)","v":""},{"$f":"IF(ISBLANK('Competition Data'!B259),\"\",'Competition Data'!B259)","v":"W27/28"},{"$f":"IF(ISBLANK('Competition Data'!C259),\"\",'Competition Data'!C259)","v":"Peak Reduction"},{"$f":"IF(ISBLANK('Competition Data'!G259),\"\",'Competition Data'!G259)","v":45657},{"$f":"IF(ISBLANK('Competition Data'!D259),\"\",'Competition Data'!D259)","v":4392},{"$f":"IF(ISBLANK('Competition Data'!E259),\"\",'Competition Data'!E259)","v":"0"},{"$f":"IF(ISBLANK('Competition Data'!F259),\"\",'Competition Data'!F259)","v":3.35},{"$f":"CONCATENATE(B259,\" (\",E259,\")\")","v":"Hattersley (Peak Reduction)"},{"$f":"IF(ISBLANK('Competition Data'!I259),\"\",'Competition Data'!I259)","v":3.1031318815757278}]
["HAWKSLEY TERRW26/27Peak Reduction",{"$f":"IF(ISBLANK('Competition Data'!A260),\"\",'Competition Data'!A260)","v":"HAWKSLEY TERR"},{"$f":"IF(ISBLANK('Competition Data'!H260),\"\",'Competition Data'!H260)","v":""},{"$f":"IF(ISBLANK('Competition Data'!B260),\"\",'Competition Data'!B260)","v":"W26/27"},{"$f":"IF(ISBLANK('Competition Data'!C260),\"\",'Competition Data'!C260)","v":"Peak Reduction"},{"$f":"IF(ISBLANK('Competition Data'!G260),\"\",'Competition Data'!G260)","v":892.77},{"$f":"IF(ISBLANK('Competition Data'!D260),\"\",'Competition Data'!D260)","v":604},{"$f":"IF(ISBLANK('Competition Data'!E260),\"\",'Competition Data'!E260)","v":"0"},{"$f":"IF(ISBLANK('Competition Data'!F260),\"\",'Competition Data'!F260)","v":0.03},"HAWKSLEY TERR (Peak Reduction)",{"$f":"IF(ISBLANK('Competition Data'!I260),\"\",'Competition Data'!I260)","v":49.269867549668874}]
["HAWKSLEY TERRW26/27Scheduled Utilisation",{"$f":"IF(ISBLANK('Competition Data'!A261),\"\",'Competition Data'!A261)","v":"HAWKSLEY TERR"},{"$f":"IF(ISBLANK('Competition Data'!H261),\"\",'Competition Data'!H261)","v":""},{"$f":"IF(ISBLANK('Competition Data'!B261),\"\",'Competition Data'!B261)","v":"W26/27"},{"$f":"IF(ISBLANK('Competition Data'!C261),\"\",'Competition Data'!C261)","v":"Scheduled Utilisation"},{"$f":"IF(ISBLANK('Competition Data'!G261),\"\",'Competition Data'!G261)","v":892.77},{"$f":"IF(ISBLANK('Competition Data'!D261),\"\",'Competition Data'!D261)","v":604},{"$f":"IF(ISBLANK('Competition Data'!E261),\"\",'Competition Data'!E261)","v":"0"},{"$f":"IF(ISBLANK('Competition Data'!F261),\"\",'Competition Data'!F261)","v":0.03},"HAWKSLEY TERR (Scheduled Utilisation)",{"$f":"IF(ISBLANK('Competition Data'!I261),\"\",'Competition Data'!I261)","v":49.269867549668874}]
["HAWTHORNE AVEW26/27Peak Reduction",{"$f":"IF(ISBLANK('Competition Data'!A262),\"\",'Competition Data'!A262)","v":"HAWTHORNE AVE"},{"$f":"IF(ISBLANK('Competition Data'!H262),\"\",'Competition Data'!H262)","v":""},{"$f":"IF(ISBLANK('Competition Data'!B262),\"\",'Competition Data'!B262)","v":"W26/27"},{"$f":"IF(ISBLANK('Competition Data'!C262),\"\",'Competition Data'!C262)","v":"Peak Reduction"},{"$f":"IF(ISBLANK('Competition Data'!G262),\"\",'Competition Data'!G262)","v":892.77},{"$f":"IF(ISBLANK('Competition Data'!D262),\"\",'Competition Data'!D262)","v":604},{"$f":"IF(ISBLANK('Competition Data'!E262),\"\",'Competition Data'!E262)","v":"0"},{"$f":"IF(ISBLANK('Competition Data'!F262),\"\",'Competition Data'!F262)","v":0.02},"HAWTHORNE AVE (Peak Reduction)",{"$f":"IF(ISBLANK('Competition Data'!I262),\"\",'Competition Data'!I262)","v":73.90480132450331}]
["HAWTHORNE AVEW26/27Scheduled Utilisation",{"$f":"IF(ISBLANK('Competition Data'!A263),\"\",'Competition Data'!A263)","v":"HAWTHORNE AVE"},{"$f":"IF(ISBLANK('Competition Data'!H263),\"\",'Competition Data'!H263)","v":""},{"$f":"IF(ISBLANK('Competition Data'!B263),\"\",'Competition Data'!B263)","v":"W26/27"},{"$f":"IF(ISBLANK('Competition Data'!C263),\"\",'Competition Data'!C263)","v":"Scheduled Utilisation"},{"$f":"IF(ISBLANK('Competition Data'!G263),\"\",'Competition Data'!G263)","v":892.77},{"$f":"IF(ISBLANK('Competition Data'!D263),\"\",'Competition Data'!D263)","v":604},{"$f":"IF(ISBLANK('Competition Data'!E263),\"\",'Competition Data'!E263)","v":"0"},{"$f":"IF(ISBLANK('Competition Data'!F263),\"\",'Competition Data'!F263)","v":0.02},"HAWTHORNE AVE (Scheduled Utilisation)",{"$f":"IF(ISBLANK('Competition Data'!I263),\"\",'Competition Data'!I263)","v":73.90480132450331}]
["HAYNES STW26/27Peak Reduction",{"$f":"IF(ISBLANK('Competition Data'!A264),\"\",'Competition Data'!A264)","v":"HAYNES ST"},{"$f":"IF(ISBLANK('Competition Data'!H264),\"\",'Competition Data'!H264)","v":""},{"$f":"IF(ISBLANK('Competition Data'!B264),\"\",'Competition Data'!B264)","v":"W26/27"},{"$f":"IF(ISBLANK('Competition Data'!C264),\"\",'Competition Data'!C264)","v":"Peak Reduction"},{"$f":"IF(ISBLANK('Competition Data'!G264),\"\",'Competition Data'!G264)","v":892.77},{"$f":"IF(ISBLANK('Competition Data'!D264),\"\",'Competition Data'!D264)","v":604},{"$f":"IF(ISBLANK('Competition Data'!E264),\"\",'Competition Data'!E264)","v":"0"},{"$f":"IF(ISBLANK('Competition Data'!F264),\"\",'Competition Data'!F264)","v":0.02},"HAYNES ST (Peak Reduction)",{"$f":"IF(ISBLANK('Competition Data'!I264),\"\",'Competition Data'!I264)","v":73.90480132450331}]
["HAYNES STW26/27Scheduled Utilisation",{"$f":"IF(ISBLANK('Competition Data'!A265),\"\",'Competition Data'!A265)","v":"HAYNES ST"},{"$f":"IF(ISBLANK('Competition Data'!H265),\"\",'Competition Data'!H265)","v":""},{"$f":"IF(ISBLANK('Competition Data'!B265),\"\",'Competition Data'!B265)","v":"W26/27"},{"$f":"IF(ISBLANK('Competition Data'!C265),\"\",'Competition Data'!C265)","v":"Scheduled Utilisation"},{"$f":"IF(ISBLANK('Competition Data'!G265),\"\",'Competition Data'!G265)","v":892.77},{"$f":"IF(ISBLANK('Competition Data'!D265),\"\",'Competition Data'!D265)","v":604},{"$f":"IF(ISBLANK('Competition Data'!E265),\"\",'Competition Data'!E265)","v":"0"},{"$f":"IF(ISBLANK('Competition Data'!F265),\"\",'Competition Data'!F265)","v":0.02},"HAYNES ST (Scheduled Utilisation)",{"$f":"IF(ISBLANK('Competition Data'!I265),\"\",'Competition Data'!I265)","v":73.90480132450331}]
["HEALEYS CORNERW26/27Peak Reduction",{"$f":"IF(ISBLANK('Competition Data'!A266),\"\",'Competition Data'!A266)","v":"HEALEYS CORNER"},{"$f":"IF(ISBLANK('Competition Data'!H266),\"\",'Competition Data'!H266)","v":""},{"$f":"IF(ISBLANK('Competition Data'!B266),\"\",'Competition Data'!B266)","v":"W26/27"},{"$f":"IF(ISBLANK('Competition Data'!C266),\"\",'Competition Data'!C266)","v":"Peak Reduction"},{"$f":"IF(ISBLANK('Competition Data'!G266),\"\",'Competition Data'!G266)","v":892.77},{"$f":"IF(ISBLANK('Competition Data'!D266),\"\",'Competition Data'!D266)","v":604},{"$f":"IF(ISBLANK('Competition Data'!E266),\"\",'Competition Data'!E266)","v":"0"},{"$f":"IF(ISBLANK('Competition Data'!F266),\"\",'Competition Data'!F266)","v":0.02},"HEALEYS CORNER (Peak Reduction)",{"$f":"IF(ISBLANK('Competition Data'!I266),\"\",'Competition Data'!I266)","v":73.90480132450331}]
["HEALEYS CORNERW26/27Scheduled Utilisation",{"$f":"IF(ISBLANK('Competition Data'!A267),\"\",'Competition Data'!A267)","v":"HEALEYS CORNER"},{"$f":"IF(ISBLANK('Competition Data'!H267),\"\",'Competition Data'!H267)","v":""},{"$f":"IF(ISBLANK('Competition Data'!B267),\"\",'Competition Data'!B267)","v":"W26/27"},{"$f":"IF(ISBLANK('Competition Data'!C267),\"\",'Competition Data'!C267)","v":"Scheduled Utilisation"},{"$f":"IF(ISBLANK('Competition Data'!G267),\"\",'Competition Data'!G267)","v":892.77},{"$f":"IF(ISBLANK('Competition Data'!D267),\"\",'Competition Data'!D267)","v":604},{"$f":"IF(ISBLANK('Competition Data'!E267),\"\",'Competition Data'!E267)","v":"0"},{"$f":"IF(ISBLANK('Competition Data'!F267),\"\",'Competition Data'!F267)","v":0.02},"HEALEYS CORNER (Scheduled Utilisation)",{"$f":"IF(ISBLANK('Competition Data'!I267),\"\",'Competition Data'!I267)","v":73.90480132450331}]
["Helwith BridgeFY27Operational Utilisation",{"$f":"IF(ISBLANK('Competition Data'!A268),\"\",'Competition Data'!A268)","v":"Helwith Bridge"},{"$f":"IF(ISBLANK('Competition Data'!H268),\"\",'Competition Data'!H268)","v":""},{"$f":"IF(ISBLANK('Competition Data'!B268),\"\",'Competition Data'!B268)","v":"FY27"},{"$f":"IF(ISBLANK('Competition Data'!C268),\"\",'Competition Data'!C268)","v":"Operational Utilisation"},{"$f":"IF(ISBLANK('Competition Data'!G268),\"\",'Competition Data'!G268)","v":46180},{"$f":"IF(ISBLANK('Competition Data'!D268),\"\",'Competition Data'!D268)","v":100},{"$f":"IF(ISBLANK('Competition Data'!E268),\"\",'Competition Data'!E268)","v":"0"},{"$f":"IF(ISBLANK('Competition Data'!F268),\"\",'Competition Data'!F268)","v":3.6},"Helwith Bridge (Operational Utilisation)",{"$f":"IF(ISBLANK('Competition Data'!I268),\"\",'Competition Data'!I268)","v":128.27777777777777}]
["Helwith BridgeFY28Operational Utilisation",{"$f":"IF(ISBLANK('Competition Data'!A269),\"\",'Competition Data'!A269)","v":"Helwith Bridge"},{"$f":"IF(ISBLANK('Competition Data'!H269),\"\",'Competition Data'!H269)","v":""},{"$f":"IF(ISBLANK('Competition Data'!B269),\"\",'Competition Data'!B269)","v":"FY28"},{"$f":"IF(ISBLANK('Competition Data'!C269),\"\",'Competition Data'!C269)","v":"Operational Utilisation"},{"$f":"IF(ISBLANK('Competition Data'!G269),\"\",'Competition Data'!G269)","v":46180},{"$f":"IF(ISBLANK('Competition Data'!D269),\"\",'Competition Data'!D269)","v":100},{"$f":"IF(ISBLANK('Competition Data'!E269),\"\",'Competition Data'!E269)","v":"0"},{"$f":"IF(ISBLANK('Competition Data'!F269),\"\",'Competition Data'!F269)","v":3.6},"Helwith Bridge (Operational Utilisation)",{"$f":"IF(ISBLANK('Competition Data'!I269),\"\",'Competition Data'!I269)","v":128.27777777777777}]
["HEMSWORTH RDW26/27Peak Reduction",{"$f":"IF(ISBLANK('Competition Data'!A270),\"\",'Competition Data'!A270)","v":"HEMSWORTH RD"},{"$f":"IF(ISBLANK('Competition Data'!H270),\"\",'Competition Data'!H270)","v":""},{"$f":"IF(ISBLANK('Competition Data'!B270),\"\",'Competition Data'!B270)","v":"W26/27"},{"$f":"IF(ISBLANK('Competition Data'!C270),\"\",'Competition Data'!C270)","v":"Peak Reduction"},{"$f":"IF(ISBLANK('Competition Data'!G270),\"\",'Competition Data'!G270)","v":892.77},{"$f":"IF(ISBLANK('Competition Data'!D270),\"\",'Competition Data'!D270)","v":604},{"$f":"IF(ISBLANK('Competition Data'!E270),\"\",'Competition Data'!E270)","v":"0"},{"$f":"IF(ISBLANK('Competition Data'!F270),\"\",'Competition Data'!F270)","v":0.02},"HEMSWORTH RD (Peak Reduction)",{"$f":"IF(ISBLANK('Competition Data'!I270),\"\",'Competition Data'!I270)","v":73.90480132450331}]
["HEMSWORTH RDW26/27Scheduled Utilisation",{"$f":"IF(ISBLANK('Competition Data'!A271),\"\",'Competition Data'!A271)","v":"HEMSWORTH RD"},{"$f":"IF(ISBLANK('Competition Data'!H271),\"\",'Competition Data'!H271)","v":""},{"$f":"IF(ISBLANK('Competition Data'!B271),\"\",'Competition Data'!B271)","v":"W26/27"},{"$f":"IF(ISBLANK('Competition Data'!C271),\"\",'Competition Data'!C271)","v":"Scheduled Utilisation"},{"$f":"IF(ISBLANK('Competition Data'!G271),\"\",'Competition Data'!G271)","v":892.77},{"$f":"IF(ISBLANK('Competition Data'!D271),\"\",'Competition Data'!D271)","v":604},{"$f":"IF(ISBLANK('Competition Data'!E271),\"\",'Competition Data'!E271)","v":"0"},{"$f":"IF(ISBLANK('Competition Data'!F271),\"\",'Competition Data'!F271)","v":0.02},"HEMSWORTH RD (Scheduled Utilisation)",{"$f":"IF(ISBLANK('Competition Data'!I271),\"\",'Competition Data'!I271)","v":73.90480132450331}]
["HIGHER WALTONW27/28Peak Reduction",{"$f":"IF(ISBLANK('Competition Data'!A272),\"\",'Competition Data'!A272)","v":"HIGHER WALTON"},{"$f":"IF(ISBLANK('Competition Data'!H272),\"\",'Competition Data'!H272)","v":""},{"$f":"IF(ISBLANK('Competition Data'!B272),\"\",'Competition Data'!B272)","v":"W27/28"},{"$f":"IF(ISBLANK('Competition Data'!C272),\"\",'Competition Data'!C272)","v":"Peak Reduction"},{"$f":"IF(ISBLANK('Competition Data'!G272),\"\",'Competition Data'!G272)","v":64727.519999999997},{"$f":"IF(ISBLANK('Competition Data'!D272),\"\",'Competition Data'!D272)","v":1216},{"$f":"IF(ISBLANK('Competition Data'!E272),\"\",'Competition Data'!E272)","v":"0"},{"$f":"IF(ISBLANK('Competition Data'!F272),\"\",'Competition Data'!F272)","v":1},"HIGHER WALTON (Peak Reduction)",{"$f":"IF(ISBLANK('Competition Data'!I272),\"\",'Competition Data'!I272)","v":53.229868421052629}]
["HIGHER WALTONW27/28Scheduled Utilisation",{"$f":"IF(ISBLANK('Competition Data'!A273),\"\",'Competition Data'!A273)","v":"HIGHER WALTON"},{"$f":"IF(ISBLANK('Competition Data'!H273),\"\",'Competition Data'!H273)","v":""},{"$f":"IF(ISBLANK('Competition Data'!B273),\"\",'Competition Data'!B273)","v":"W27/28"},{"$f":"IF(ISBLANK('Competition Data'!C273),\"\",'Competition Data'!C273)","v":"Scheduled Utilisation"},{"$f":"IF(ISBLANK('Competition Data'!G273),\"\",'Competition Data'!G273)","v":64727.519999999997},{"$f":"IF(ISBLANK('Competition Data'!D273),\"\",'Competition Data'!D273)","v":1216},{"$f":"IF(ISBLANK('Competition Data'!E273),\"\",'Competition Data'!E273)","v":"0"},{"$f":"IF(ISBLANK('Competition Data'!F273),\"\",'Competition Data'!F273)","v":1},"HIGHER WALTON (Scheduled Utilisation)",{"$f":"IF(ISBLANK('Competition Data'!I273),\"\",'Competition Data'!I273)","v":53.229868421052629}]
["HIGHFIELD AVE (RR 28)W26/27Peak Reduction",{"$f":"IF(ISBLANK('Competition Data'!A274),\"\",'Competition Data'!A274)","v":"HIGHFIELD AVE (RR 28)"},{"$f":"IF(ISBLANK('Competition Data'!H274),\"\",'Competition Data'!H274)","v":""},{"$f":"IF(ISBLANK('Competition Data'!B274),\"\",'Competition Data'!B274)","v":"W26/27"},{"$f":"IF(ISBLANK('Competition Data'!C274),\"\",'Competition Data'!C274)","v":"Peak Reduction"},{"$f":"IF(ISBLANK('Competition Data'!G274),\"\",'Competition Data'!G274)","v":892.77},{"$f":"IF(ISBLANK('Competition Data'!D274),\"\",'Competition Data'!D274)","v":604},{"$f":"IF(ISBLANK('Competition Data'!E274),\"\",'Competition Data'!E274)","v":"0"},{"$f":"IF(ISBLANK('Competition Data'!F274),\"\",'Competition Data'!F274)","v":0.03},"HIGHFIELD AVE (RR 28) (Peak Reduction)",{"$f":"IF(ISBLANK('Competition Data'!I274),\"\",'Competition Data'!I274)","v":49.269867549668874}]
["HIGHFIELD AVE (RR 28)W26/27Scheduled Utilisation",{"$f":"IF(ISBLANK('Competition Data'!A275),\"\",'Competition Data'!A275)","v":"HIGHFIELD AVE (RR 28)"},{"$f":"IF(ISBLANK('Competition Data'!H275),\"\",'Competition Data'!H275)","v":""},{"$f":"IF(ISBLANK('Competition Data'!B275),\"\",'Competition Data'!B275)","v":"W26/27"},{"$f":"IF(ISBLANK('Competition Data'!C275),\"\",'Competition Data'!C275)","v":"Scheduled Utilisation"},{"$f":"IF(ISBLANK('Competition Data'!G275),\"\",'Competition Data'!G275)","v":892.77},{"$f":"IF(ISBLANK('Competition Data'!D275),\"\",'Competition Data'!D275)","v":604},{"$f":"IF(ISBLANK('Competition Data'!E275),\"\",'Competition Data'!E275)","v":"0"},{"$f":"IF(ISBLANK('Competition Data'!F275),\"\",'Competition Data'!F275)","v":0.03},"HIGHFIELD AVE (RR 28) (Scheduled Utilisation)",{"$f":"IF(ISBLANK('Competition Data'!I275),\"\",'Competition Data'!I275)","v":49.269867549668874}]
["HUNT RDW26/27Peak Reduction",{"$f":"IF(ISBLANK('Competition Data'!A276),\"\",'Competition Data'!A276)","v":"HUNT RD"},{"$f":"IF(ISBLANK('Competition Data'!H276),\"\",'Competition Data'!H276)","v":""},{"$f":"IF(ISBLANK('Competition Data'!B276),\"\",'Competition Data'!B276)","v":"W26/27"},{"$f":"IF(ISBLANK('Competition Data'!C276),\"\",'Competition Data'!C276)","v":"Peak Reduction"},{"$f":"IF(ISBLANK('Competition Data'!G276),\"\",'Competition Data'!G276)","v":892.77},{"$f":"IF(ISBLANK('Competition Data'!D276),\"\",'Competition Data'!D276)","v":604},{"$f":"IF(ISBLANK('Competition Data'!E276),\"\",'Competition Data'!E276)","v":"0"},{"$f":"IF(ISBLANK('Competition Data'!F276),\"\",'Competition Data'!F276)","v":0.03},"HUNT RD (Peak Reduction)",{"$f":"IF(ISBLANK('Competition Data'!I276),\"\",'Competition Data'!I276)","v":49.269867549668874}]
["HUNT RDW26/27Scheduled Utilisation",{"$f":"IF(ISBLANK('Competition Data'!A277),\"\",'Competition Data'!A277)","v":"HUNT RD"},{"$f":"IF(ISBLANK('Competition Data'!H277),\"\",'Competition Data'!H277)","v":""},{"$f":"IF(ISBLANK('Competition Data'!B277),\"\",'Competition Data'!B277)","v":"W26/27"},{"$f":"IF(ISBLANK('Competition Data'!C277),\"\",'Competition Data'!C277)","v":"Scheduled Utilisation"},{"$f":"IF(ISBLANK('Competition Data'!G277),\"\",'Competition Data'!G277)","v":892.77},{"$f":"IF(ISBLANK('Competition Data'!D277),\"\",'Competition Data'!D277)","v":604},{"$f":"IF(ISBLANK('Competition Data'!E277),\"\",'Competition Data'!E277)","v":"0"},{"$f":"IF(ISBLANK('Competition Data'!F277),\"\",'Competition Data'!F277)","v":0.03},"HUNT RD (Scheduled Utilisation)",{"$f":"IF(ISBLANK('Competition Data'!I277),\"\",'Competition Data'!I277)","v":49.269867549668874}]
["HUNTERS RDW26/27Peak Reduction",{"$f":"IF(ISBLANK('Competition Data'!A278),\"\",'Competition Data'!A278)","v":"HUNTERS RD"},{"$f":"IF(ISBLANK('Competition Data'!H278),\"\",'Competition Data'!H278)","v":""},{"$f":"IF(ISBLANK('Competition Data'!B278),\"\",'Competition Data'!B278)","v":"W26/27"},{"$f":"IF(ISBLANK('Competition Data'!C278),\"\",'Competition Data'!C278)","v":"Peak Reduction"},{"$f":"IF(ISBLANK('Competition Data'!G278),\"\",'Competition Data'!G278)","v":892.77},{"$f":"IF(ISBLANK('Competition Data'!D278),\"\",'Competition Data'!D278)","v":604},{"$f":"IF(ISBLANK('Competition Data'!E278),\"\",'Competition Data'!E278)","v":"0"},{"$f":"IF(ISBLANK('Competition Data'!F278),\"\",'Competition Data'!F278)","v":0.02},"HUNTERS RD (Peak Reduction)",{"$f":"IF(ISBLANK('Competition Data'!I278),\"\",'Competition Data'!I278)","v":73.90480132450331}]
["HUNTERS RDW26/27Scheduled Utilisation",{"$f":"IF(ISBLANK('Competition Data'!A279),\"\",'Competition Data'!A279)","v":"HUNTERS RD"},{"$f":"IF(ISBLANK('Competition Data'!H279),\"\",'Competition Data'!H279)","v":""},{"$f":"IF(ISBLANK('Competition Data'!B279),\"\",'Competition Data'!B279)","v":"W26/27"},{"$f":"IF(ISBLANK('Competition Data'!C279),\"\",'Competition Data'!C279)","v":"Scheduled Utilisation"},{"$f":"IF(ISBLANK('Competition Data'!G279),\"\",'Competition Data'!G279)","v":892.77},{"$f":"IF(ISBLANK('Competition Data'!D279),\"\",'Competition Data'!D279)","v":604},{"$f":"IF(ISBLANK('Competition Data'!E279),\"\",'Competition Data'!E279)","v":"0"},{"$f":"IF(ISBLANK('Competition Data'!F279),\"\",'Competition Data'!F279)","v":0.02},"HUNTERS RD (Scheduled Utilisation)",{"$f":"IF(ISBLANK('Competition Data'!I279),\"\",'Competition Data'!I279)","v":73.90480132450331}]
["ILFORD STW26/27Peak Reduction",{"$f":"IF(ISBLANK('Competition Data'!A280),\"\",'Competition Data'!A280)","v":"ILFORD ST"},{"$f":"IF(ISBLANK('Competition Data'!H280),\"\",'Competition Data'!H280)","v":""},{"$f":"IF(ISBLANK('Competition Data'!B280),\"\",'Competition Data'!B280)","v":"W26/27"},{"$f":"IF(ISBLANK('Competition Data'!C280),\"\",'Competition Data'!C280)","v":"Peak Reduction"},{"$f":"IF(ISBLANK('Competition Data'!G280),\"\",'Competition Data'!G280)","v":892.77},{"$f":"IF(ISBLANK('Competition Data'!D280),\"\",'Competition Data'!D280)","v":604},{"$f":"IF(ISBLANK('Competition Data'!E280),\"\",'Competition Data'!E280)","v":"0"},{"$f":"IF(ISBLANK('Competition Data'!F280),\"\",'Competition Data'!F280)","v":0.06},"ILFORD ST (Peak Reduction)",{"$f":"IF(ISBLANK('Competition Data'!I280),\"\",'Competition Data'!I280)","v":24.634933774834437}]
["ILFORD STW26/27Scheduled Utilisation",{"$f":"IF(ISBLANK('Competition Data'!A281),\"\",'Competition Data'!A281)","v":"ILFORD ST"},{"$f":"IF(ISBLANK('Competition Data'!H281),\"\",'Competition Data'!H281)","v":""},{"$f":"IF(ISBLANK('Competition Data'!B281),\"\",'Competition Data'!B281)","v":"W26/27"},{"$f":"IF(ISBLANK('Competition Data'!C281),\"\",'Competition Data'!C281)","v":"Scheduled Utilisation"},{"$f":"IF(ISBLANK('Competition Data'!G281),\"\",'Competition Data'!G281)","v":892.77},{"$f":"IF(ISBLANK('Competition Data'!D281),\"\",'Competition Data'!D281)","v":604},{"$f":"IF(ISBLANK('Competition Data'!E281),\"\",'Competition Data'!E281)","v":"0"},{"$f":"IF(ISBLANK('Competition Data'!F281),\"\",'Competition Data'!F281)","v":0.06},"ILFORD ST (Scheduled Utilisation)",{"$f":"IF(ISBLANK('Competition Data'!I281),\"\",'Competition Data'!I281)","v":24.634933774834437}]
["INCLINE RDW26/27Peak Reduction",{"$f":"IF(ISBLANK('Competition Data'!A282),\"\",'Competition Data'!A282)","v":"INCLINE RD"},{"$f":"IF(ISBLANK('Competition Data'!H282),\"\",'Competition Data'!H282)","v":""},{"$f":"IF(ISBLANK('Competition Data'!B282),\"\",'Competition Data'!B282)","v":"W26/27"},{"$f":"IF(ISBLANK('Competition Data'!C282),\"\",'Competition Data'!C282)","v":"Peak Reduction"},{"$f":"IF(ISBLANK('Competition Data'!G282),\"\",'Competition Data'!G282)","v":892.77},{"$f":"IF(ISBLANK('Competition Data'!D282),\"\",'Competition Data'!D282)","v":604},{"$f":"IF(ISBLANK('Competition Data'!E282),\"\",'Competition Data'!E282)","v":"0"},{"$f":"IF(ISBLANK('Competition Data'!F282),\"\",'Competition Data'!F282)","v":0.01},"INCLINE RD (Peak Reduction)",{"$f":"IF(ISBLANK('Competition Data'!I282),\"\",'Competition Data'!I282)","v":147.80960264900662}]
["INCLINE RDW26/27Scheduled Utilisation",{"$f":"IF(ISBLANK('Competition Data'!A283),\"\",'Competition Data'!A283)","v":"INCLINE RD"},{"$f":"IF(ISBLANK('Competition Data'!H283),\"\",'Competition Data'!H283)","v":""},{"$f":"IF(ISBLANK('Competition Data'!B283),\"\",'Competition Data'!B283)","v":"W26/27"},{"$f":"IF(ISBLANK('Competition Data'!C283),\"\",'Competition Data'!C283)","v":"Scheduled Utilisation"},{"$f":"IF(ISBLANK('Competition Data'!G283),\"\",'Competition Data'!G283)","v":892.77},{"$f":"IF(ISBLANK('Competition Data'!D283),\"\",'Competition Data'!D283)","v":604},{"$f":"IF(ISBLANK('Competition Data'!E283),\"\",'Competition Data'!E283)","v":"0"},{"$f":"IF(ISBLANK('Competition Data'!F283),\"\",'Competition Data'!F283)","v":0.01},"INCLINE RD (Scheduled Utilisation)",{"$f":"IF(ISBLANK('Competition Data'!I283),\"\",'Competition Data'!I283)","v":147.80960264900662}]
["IngletonFY27Operational Utilisation",{"$f":"IF(ISBLANK('Competition Data'!A284),\"\",'Competition Data'!A284)","v":"Ingleton"},{"$f":"IF(ISBLANK('Competition Data'!H284),\"\",'Competition Data'!H284)","v":""},{"$f":"IF(ISBLANK('Competition Data'!B284),\"\",'Competition Data'!B284)","v":"FY27"},{"$f":"IF(ISBLANK('Competition Data'!C284),\"\",'Competition Data'!C284)","v":"Operational Utilisation"},{"$f":"IF(ISBLANK('Competition Data'!G284),\"\",'Competition Data'!G284)","v":76838},{"$f":"IF(ISBLANK('Competition Data'!D284),\"\",'Competition Data'!D284)","v":100},{"$f":"IF(ISBLANK('Competition Data'!E284),\"\",'Competition Data'!E284)","v":"0"},{"$f":"IF(ISBLANK('Competition Data'!F284),\"\",'Competition Data'!F284)","v":2.2000000000000002},"Ingleton (Operational Utilisation)",{"$f":"IF(ISBLANK('Competition Data'!I284),\"\",'Competition Data'!I284)","v":349.26363636363635}]
["IngletonFY28Operational Utilisation",{"$f":"IF(ISBLANK('Competition Data'!A285),\"\",'Competition Data'!A285)","v":"Ingleton"},{"$f":"IF(ISBLANK('Competition Data'!H285),\"\",'Competition Data'!H285)","v":""},{"$f":"IF(ISBLANK('Competition Data'!B285),\"\",'Competition Data'!B285)","v":"FY28"},{"$f":"IF(ISBLANK('Competition Data'!C285),\"\",'Competition Data'!C285)","v":"Operational Utilisation"},{"$f":"IF(ISBLANK('Competition Data'!G285),\"\",'Competition Data'!G285)","v":76838},{"$f":"IF(ISBLANK('Competition Data'!D285),\"\",'Competition Data'!D285)","v":100},{"$f":"IF(ISBLANK('Competition Data'!E285),\"\",'Competition Data'!E285)","v":"0"},{"$f":"IF(ISBLANK('Competition Data'!F285),\"\",'Competition Data'!F285)","v":2.2000000000000002},"Ingleton (Operational Utilisation)",{"$f":"IF(ISBLANK('Competition Data'!I285),\"\",'Competition Data'!I285)","v":349.26363636363635}]
["JOHNS AVEW26/27Peak Reduction",{"$f":"IF(ISBLANK('Competition Data'!A286),\"\",'Competition Data'!A286)","v":"JOHNS AVE"},{"$f":"IF(ISBLANK('Competition Data'!H286),\"\",'Competition Data'!H286)","v":""},{"$f":"IF(ISBLANK('Competition Data'!B286),\"\",'Competition Data'!B286)","v":"W26/27"},{"$f":"IF(ISBLANK('Competition Data'!C286),\"\",'Competition Data'!C286)","v":"Peak Reduction"},{"$f":"IF(ISBLANK('Competition Data'!G286),\"\",'Competition Data'!G286)","v":892.77},{"$f":"IF(ISBLANK('Competition Data'!D286),\"\",'Competition Data'!D286)","v":604},{"$f":"IF(ISBLANK('Competition Data'!E286),\"\",'Competition Data'!E286)","v":"0"},{"$f":"IF(ISBLANK('Competition Data'!F286),\"\",'Competition Data'!F286)","v":0.06},"JOHNS AVE (Peak Reduction)",{"$f":"IF(ISBLANK('Competition Data'!I286),\"\",'Competition Data'!I286)","v":24.634933774834437}]
["JOHNS AVEW26/27Scheduled Utilisation",{"$f":"IF(ISBLANK('Competition Data'!A287),\"\",'Competition Data'!A287)","v":"JOHNS AVE"},{"$f":"IF(ISBLANK('Competition Data'!H287),\"\",'Competition Data'!H287)","v":""},{"$f":"IF(ISBLANK('Competition Data'!B287),\"\",'Competition Data'!B287)","v":"W26/27"},{"$f":"IF(ISBLANK('Competition Data'!C287),\"\",'Competition Data'!C287)","v":"Scheduled Utilisation"},{"$f":"IF(ISBLANK('Competition Data'!G287),\"\",'Competition Data'!G287)","v":892.77},{"$f":"IF(ISBLANK('Competition Data'!D287),\"\",'Competition Data'!D287)","v":604},{"$f":"IF(ISBLANK('Competition Data'!E287),\"\",'Competition Data'!E287)","v":"0"},{"$f":"IF(ISBLANK('Competition Data'!F287),\"\",'Competition Data'!F287)","v":0.06},"JOHNS AVE (Scheduled Utilisation)",{"$f":"IF(ISBLANK('Competition Data'!I287),\"\",'Competition Data'!I287)","v":24.634933774834437}]
["KendalW26/27Variable Availability + Operational Utilisation",{"$f":"IF(ISBLANK('Competition Data'!A288),\"\",'Competition Data'!A288)","v":"Kendal"},{"$f":"IF(ISBLANK('Competition Data'!H288),\"\",'Competition Data'!H288)","v":""},{"$f":"IF(ISBLANK('Competition Data'!B288),\"\",'Competition Data'!B288)","v":"W26/27"},{"$f":"IF(ISBLANK('Competition Data'!C288),\"\",'Competition Data'!C288)","v":"Variable Availability + Operational Utilisation"},{"$f":"IF(ISBLANK('Competition Data'!G288),\"\",'Competition Data'!G288)","v":41493},{"$f":"IF(ISBLANK('Competition Data'!D288),\"\",'Competition Data'!D288)","v":13},{"$f":"IF(ISBLANK('Competition Data'!E288),\"\",'Competition Data'!E288)","v":"13"},{"$f":"IF(ISBLANK('Competition Data'!F288),\"\",'Competition Data'!F288)","v":1.75},"Kendal (Variable Availability + Operational Utilisation)",{"$f":"IF(ISBLANK('Competition Data'!I288),\"\",'Competition Data'!I288)","v":"N/A"}]
["KendalW26/27Peak Reduction",{"$f":"IF(ISBLANK('Competition Data'!A289),\"\",'Competition Data'!A289)","v":"Kendal"},{"$f":"IF(ISBLANK('Competition Data'!H289),\"\",'Competition Data'!H289)","v":""},{"$f":"IF(ISBLANK('Competition Data'!B289),\"\",'Competition Data'!B289)","v":"W26/27"},{"$f":"IF(ISBLANK('Competition Data'!C289),\"\",'Competition Data'!C289)","v":"Peak Reduction"},{"$f":"IF(ISBLANK('Competition Data'!G289),\"\",'Competition Data'!G289)","v":41493},{"$f":"IF(ISBLANK('Competition Data'!D289),\"\",'Competition Data'!D289)","v":3624},{"$f":"IF(ISBLANK('Competition Data'!E289),\"\",'Competition Data'!E289)","v":"0"},{"$f":"IF(ISBLANK('Competition Data'!F289),\"\",'Competition Data'!F289)","v":1.75},"Kendal (Peak Reduction)",{"$f":"IF(ISBLANK('Competition Data'!I289),\"\",'Competition Data'!I289)","v":6.5425733207190158}]
["KendalW27/28Variable Availability + Operational Utilisation",{"$f":"IF(ISBLANK('Competition Data'!A290),\"\",'Competition Data'!A290)","v":"Kendal"},{"$f":"IF(ISBLANK('Competition Data'!H290),\"\",'Competition Data'!H290)","v":""},{"$f":"IF(ISBLANK('Competition Data'!B290),\"\",'Competition Data'!B290)","v":"W27/28"},{"$f":"IF(ISBLANK('Competition Data'!C290),\"\",'Competition Data'!C290)","v":"Variable Availability + Operational Utilisation"},{"$f":"IF(ISBLANK('Competition Data'!G290),\"\",'Competition Data'!G290)","v":41493},{"$f":"IF(ISBLANK('Competition Data'!D290),\"\",'Competition Data'!D290)","v":23},{"$f":"IF(ISBLANK('Competition Data'!E290),\"\",'Competition Data'!E290)","v":"23"},{"$f":"IF(ISBLANK('Competition Data'!F290),\"\",'Competition Data'!F290)","v":2.27},"Kendal (Variable Availability + Operational Utilisation)",{"$f":"IF(ISBLANK('Competition Data'!I290),\"\",'Competition Data'!I290)","v":"N/A"}]
["KendalW27/28Peak Reduction",{"$f":"IF(ISBLANK('Competition Data'!A291),\"\",'Competition Data'!A291)","v":"Kendal"},{"$f":"IF(ISBLANK('Competition Data'!H291),\"\",'Competition Data'!H291)","v":""},{"$f":"IF(ISBLANK('Competition Data'!B291),\"\",'Competition Data'!B291)","v":"W27/28"},{"$f":"IF(ISBLANK('Competition Data'!C291),\"\",'Competition Data'!C291)","v":"Peak Reduction"},{"$f":"IF(ISBLANK('Competition Data'!G291),\"\",'Competition Data'!G291)","v":41493},{"$f":"IF(ISBLANK('Competition Data'!D291),\"\",'Competition Data'!D291)","v":4392},{"$f":"IF(ISBLANK('Competition Data'!E291),\"\",'Competition Data'!E291)","v":"0"},{"$f":"IF(ISBLANK('Competition Data'!F291),\"\",'Competition Data'!F291)","v":2.27},"Kendal (Peak Reduction)",{"$f":"IF(ISBLANK('Competition Data'!I291),\"\",'Competition Data'!I291)","v":4.1618521460725546}]
["KENDAL DRW26/27Peak Reduction",{"$f":"IF(ISBLANK('Competition Data'!A292),\"\",'Competition Data'!A292)","v":"KENDAL DR"},{"$f":"IF(ISBLANK('Competition Data'!H292),\"\",'Competition Data'!H292)","v":""},{"$f":"IF(ISBLANK('Competition Data'!B292),\"\",'Competition Data'!B292)","v":"W26/27"},{"$f":"IF(ISBLANK('Competition Data'!C292),\"\",'Competition Data'!C292)","v":"Peak Reduction"},{"$f":"IF(ISBLANK('Competition Data'!G292),\"\",'Competition Data'!G292)","v":892.77},{"$f":"IF(ISBLANK('Competition Data'!D292),\"\",'Competition Data'!D292)","v":604},{"$f":"IF(ISBLANK('Competition Data'!E292),\"\",'Competition Data'!E292)","v":"0"},{"$f":"IF(ISBLANK('Competition Data'!F292),\"\",'Competition Data'!F292)","v":0.02},"KENDAL DR (Peak Reduction)",{"$f":"IF(ISBLANK('Competition Data'!I292),\"\",'Competition Data'!I292)","v":73.90480132450331}]
["KENDAL DRW26/27Scheduled Utilisation",{"$f":"IF(ISBLANK('Competition Data'!A293),\"\",'Competition Data'!A293)","v":"KENDAL DR"},{"$f":"IF(ISBLANK('Competition Data'!H293),\"\",'Competition Data'!H293)","v":""},{"$f":"IF(ISBLANK('Competition Data'!B293),\"\",'Competition Data'!B293)","v":"W26/27"},{"$f":"IF(ISBLANK('Competition Data'!C293),\"\",'Competition Data'!C293)","v":"Scheduled Utilisation"},{"$f":"IF(ISBLANK('Competition Data'!G293),\"\",'Competition Data'!G293)","v":892.77},{"$f":"IF(ISBLANK('Competition Data'!D293),\"\",'Competition Data'!D293)","v":604},{"$f":"IF(ISBLANK('Competition Data'!E293),\"\",'Competition Data'!E293)","v":"0"},{"$f":"IF(ISBLANK('Competition Data'!F293),\"\",'Competition Data'!F293)","v":0.02},"KENDAL DR (Scheduled Utilisation)",{"$f":"IF(ISBLANK('Competition Data'!I293),\"\",'Competition Data'!I293)","v":73.90480132450331}]
["KINGSLEA RDW26/27Peak Reduction",{"$f":"IF(ISBLANK('Competition Data'!A294),\"\",'Competition Data'!A294)","v":"KINGSLEA RD"},{"$f":"IF(ISBLANK('Competition Data'!H294),\"\",'Competition Data'!H294)","v":""},{"$f":"IF(ISBLANK('Competition Data'!B294),\"\",'Competition Data'!B294)","v":"W26/27"},{"$f":"IF(ISBLANK('Competition Data'!C294),\"\",'Competition Data'!C294)","v":"Peak Reduction"},{"$f":"IF(ISBLANK('Competition Data'!G294),\"\",'Competition Data'!G294)","v":892.77},{"$f":"IF(ISBLANK('Competition Data'!D294),\"\",'Competition Data'!D294)","v":604},{"$f":"IF(ISBLANK('Competition Data'!E294),\"\",'Competition Data'!E294)","v":"0"},{"$f":"IF(ISBLANK('Competition Data'!F294),\"\",'Competition Data'!F294)","v":0.03},"KINGSLEA RD (Peak Reduction)",{"$f":"IF(ISBLANK('Competition Data'!I294),\"\",'Competition Data'!I294)","v":49.269867549668874}]
["KINGSLEA RDW26/27Scheduled Utilisation",{"$f":"IF(ISBLANK('Competition Data'!A295),\"\",'Competition Data'!A295)","v":"KINGSLEA RD"},{"$f":"IF(ISBLANK('Competition Data'!H295),\"\",'Competition Data'!H295)","v":""},{"$f":"IF(ISBLANK('Competition Data'!B295),\"\",'Competition Data'!B295)","v":"W26/27"},{"$f":"IF(ISBLANK('Competition Data'!C295),\"\",'Competition Data'!C295)","v":"Scheduled Utilisation"},{"$f":"IF(ISBLANK('Competition Data'!G295),\"\",'Competition Data'!G295)","v":892.77},{"$f":"IF(ISBLANK('Competition Data'!D295),\"\",'Competition Data'!D295)","v":604},{"$f":"IF(ISBLANK('Competition Data'!E295),\"\",'Competition Data'!E295)","v":"0"},{"$f":"IF(ISBLANK('Competition Data'!F295),\"\",'Competition Data'!F295)","v":0.03},"KINGSLEA RD (Scheduled Utilisation)",{"$f":"IF(ISBLANK('Competition Data'!I295),\"\",'Competition Data'!I295)","v":49.269867549668874}]
["KINGSTON AVE_LANCASHIREW26/27Peak Reduction",{"$f":"IF(ISBLANK('Competition Data'!A296),\"\",'Competition Data'!A296)","v":"KINGSTON AVE_LANCASHIRE"},{"$f":"IF(ISBLANK('Competition Data'!H296),\"\",'Competition Data'!H296)","v":""},{"$f":"IF(ISBLANK('Competition Data'!B296),\"\",'Competition Data'!B296)","v":"W26/27"},{"$f":"IF(ISBLANK('Competition Data'!C296),\"\",'Competition Data'!C296)","v":"Peak Reduction"},{"$f":"IF(ISBLANK('Competition Data'!G296),\"\",'Competition Data'!G296)","v":892.77},{"$f":"IF(ISBLANK('Competition Data'!D296),\"\",'Competition Data'!D296)","v":604},{"$f":"IF(ISBLANK('Competition Data'!E296),\"\",'Competition Data'!E296)","v":"0"},{"$f":"IF(ISBLANK('Competition Data'!F296),\"\",'Competition Data'!F296)","v":0.04},"KINGSTON AVE_LANCASHIRE (Peak Reduction)",{"$f":"IF(ISBLANK('Competition Data'!I296),\"\",'Competition Data'!I296)","v":36.952400662251655}]
["KINGSTON AVE_LANCASHIREW26/27Scheduled Utilisation",{"$f":"IF(ISBLANK('Competition Data'!A297),\"\",'Competition Data'!A297)","v":"KINGSTON AVE_LANCASHIRE"},{"$f":"IF(ISBLANK('Competition Data'!H297),\"\",'Competition Data'!H297)","v":""},{"$f":"IF(ISBLANK('Competition Data'!B297),\"\",'Competition Data'!B297)","v":"W26/27"},{"$f":"IF(ISBLANK('Competition Data'!C297),\"\",'Competition Data'!C297)","v":"Scheduled Utilisation"},{"$f":"IF(ISBLANK('Competition Data'!G297),\"\",'Competition Data'!G297)","v":892.77},{"$f":"IF(ISBLANK('Competition Data'!D297),\"\",'Competition Data'!D297)","v":604},{"$f":"IF(ISBLANK('Competition Data'!E297),\"\",'Competition Data'!E297)","v":"0"},{"$f":"IF(ISBLANK('Competition Data'!F297),\"\",'Competition Data'!F297)","v":0.04},"KINGSTON AVE_LANCASHIRE (Scheduled Utilisation)",{"$f":"IF(ISBLANK('Competition Data'!I297),\"\",'Competition Data'!I297)","v":36.952400662251655}]
["KINGSTON AVE_MANCHESTERW26/27Peak Reduction",{"$f":"IF(ISBLANK('Competition Data'!A298),\"\",'Competition Data'!A298)","v":"KINGSTON AVE_MANCHESTER"},{"$f":"IF(ISBLANK('Competition Data'!H298),\"\",'Competition Data'!H298)","v":""},{"$f":"IF(ISBLANK('Competition Data'!B298),\"\",'Competition Data'!B298)","v":"W26/27"},{"$f":"IF(ISBLANK('Competition Data'!C298),\"\",'Competition Data'!C298)","v":"Peak Reduction"},{"$f":"IF(ISBLANK('Competition Data'!G298),\"\",'Competition Data'!G298)","v":892.77},{"$f":"IF(ISBLANK('Competition Data'!D298),\"\",'Competition Data'!D298)","v":604},{"$f":"IF(ISBLANK('Competition Data'!E298),\"\",'Competition Data'!E298)","v":"0"},{"$f":"IF(ISBLANK('Competition Data'!F298),\"\",'Competition Data'!F298)","v":0.03},"KINGSTON AVE_MANCHESTER (Peak Reduction)",{"$f":"IF(ISBLANK('Competition Data'!I298),\"\",'Competition Data'!I298)","v":49.269867549668874}]
["KINGSTON AVE_MANCHESTERW26/27Scheduled Utilisation",{"$f":"IF(ISBLANK('Competition Data'!A299),\"\",'Competition Data'!A299)","v":"KINGSTON AVE_MANCHESTER"},{"$f":"IF(ISBLANK('Competition Data'!H299),\"\",'Competition Data'!H299)","v":""},{"$f":"IF(ISBLANK('Competition Data'!B299),\"\",'Competition Data'!B299)","v":"W26/27"},{"$f":"IF(ISBLANK('Competition Data'!C299),\"\",'Competition Data'!C299)","v":"Scheduled Utilisation"},{"$f":"IF(ISBLANK('Competition Data'!G299),\"\",'Competition Data'!G299)","v":892.77},{"$f":"IF(ISBLANK('Competition Data'!D299),\"\",'Competition Data'!D299)","v":604},{"$f":"IF(ISBLANK('Competition Data'!E299),\"\",'Competition Data'!E299)","v":"0"},{"$f":"IF(ISBLANK('Competition Data'!F299),\"\",'Competition Data'!F299)","v":0.03},"KINGSTON AVE_MANCHESTER (Scheduled Utilisation)",{"$f":"IF(ISBLANK('Competition Data'!I299),\"\",'Competition Data'!I299)","v":49.269867549668874}]
["KIRKMAN CLW26/27Peak Reduction",{"$f":"IF(ISBLANK('Competition Data'!A300),\"\",'Competition Data'!A300)","v":"KIRKMAN CL"},{"$f":"IF(ISBLANK('Competition Data'!H300),\"\",'Competition Data'!H300)","v":""},{"$f":"IF(ISBLANK('Competition Data'!B300),\"\",'Competition Data'!B300)","v":"W26/27"},{"$f":"IF(ISBLANK('Competition Data'!C300),\"\",'Competition Data'!C300)","v":"Peak Reduction"},{"$f":"IF(ISBLANK('Competition Data'!G300),\"\",'Competition Data'!G300)","v":892.77},{"$f":"IF(ISBLANK('Competition Data'!D300),\"\",'Competition Data'!D300)","v":604},{"$f":"IF(ISBLANK('Competition Data'!E300),\"\",'Competition Data'!E300)","v":"0"},{"$f":"IF(ISBLANK('Competition Data'!F300),\"\",'Competition Data'!F300)","v":0.03},"KIRKMAN CL (Peak Reduction)",{"$f":"IF(ISBLANK('Competition Data'!I300),\"\",'Competition Data'!I300)","v":49.269867549668874}]
["KIRKMAN CLW26/27Scheduled Utilisation",{"$f":"IF(ISBLANK('Competition Data'!A301),\"\",'Competition Data'!A301)","v":"KIRKMAN CL"},{"$f":"IF(ISBLANK('Competition Data'!H301),\"\",'Competition Data'!H301)","v":""},{"$f":"IF(ISBLANK('Competition Data'!B301),\"\",'Competition Data'!B301)","v":"W26/27"},{"$f":"IF(ISBLANK('Competition Data'!C301),\"\",'Competition Data'!C301)","v":"Scheduled Utilisation"},{"$f":"IF(ISBLANK('Competition Data'!G301),\"\",'Competition Data'!G301)","v":892.77},{"$f":"IF(ISBLANK('Competition Data'!D301),\"\",'Competition Data'!D301)","v":604},{"$f":"IF(ISBLANK('Competition Data'!E301),\"\",'Competition Data'!E301)","v":"0"},{"$f":"IF(ISBLANK('Competition Data'!F301),\"\",'Competition Data'!F301)","v":0.03},"KIRKMAN CL (Scheduled Utilisation)",{"$f":"IF(ISBLANK('Competition Data'!I301),\"\",'Competition Data'!I301)","v":49.269867549668874}]
["LANCASTER PRIMARYW27/28Peak Reduction",{"$f":"IF(ISBLANK('Competition Data'!A302),\"\",'Competition Data'!A302)","v":"LANCASTER PRIMARY"},{"$f":"IF(ISBLANK('Competition Data'!H302),\"\",'Competition Data'!H302)","v":""},{"$f":"IF(ISBLANK('Competition Data'!B302),\"\",'Competition Data'!B302)","v":"W27/28"},{"$f":"IF(ISBLANK('Competition Data'!C302),\"\",'Competition Data'!C302)","v":"Peak Reduction"},{"$f":"IF(ISBLANK('Competition Data'!G302),\"\",'Competition Data'!G302)","v":64727.519999999997},{"$f":"IF(ISBLANK('Competition Data'!D302),\"\",'Competition Data'!D302)","v":1216},{"$f":"IF(ISBLANK('Competition Data'!E302),\"\",'Competition Data'!E302)","v":"0"},{"$f":"IF(ISBLANK('Competition Data'!F302),\"\",'Competition Data'!F302)","v":1},"LANCASTER PRIMARY (Peak Reduction)",{"$f":"IF(ISBLANK('Competition Data'!I302),\"\",'Competition Data'!I302)","v":53.229868421052629}]
["LANCASTER PRIMARYW27/28Scheduled Utilisation",{"$f":"IF(ISBLANK('Competition Data'!A303),\"\",'Competition Data'!A303)","v":"LANCASTER PRIMARY"},{"$f":"IF(ISBLANK('Competition Data'!H303),\"\",'Competition Data'!H303)","v":""},{"$f":"IF(ISBLANK('Competition Data'!B303),\"\",'Competition Data'!B303)","v":"W27/28"},{"$f":"IF(ISBLANK('Competition Data'!C303),\"\",'Competition Data'!C303)","v":"Scheduled Utilisation"},{"$f":"IF(ISBLANK('Competition Data'!G303),\"\",'Competition Data'!G303)","v":64727.519999999997},{"$f":"IF(ISBLANK('Competition Data'!D303),\"\",'Competition Data'!D303)","v":1216},{"$f":"IF(ISBLANK('Competition Data'!E303),\"\",'Competition Data'!E303)","v":"0"},{"$f":"IF(ISBLANK('Competition Data'!F303),\"\",'Competition Data'!F303)","v":1},"LANCASTER PRIMARY (Scheduled Utilisation)",{"$f":"IF(ISBLANK('Competition Data'!I303),\"\",'Competition Data'!I303)","v":53.229868421052629}]
["LANGLEYW26/27Peak Reduction",{"$f":"IF(ISBLANK('Competition Data'!A304),\"\",'Competition Data'!A304)","v":"LANGLEY"},{"$f":"IF(ISBLANK('Competition Data'!H304),\"\",'Competition Data'!H304)","v":""},{"$f":"IF(ISBLANK('Competition Data'!B304),\"\",'Competition Data'!B304)","v":"W26/27"},{"$f":"IF(ISBLANK('Competition Data'!C304),\"\",'Competition Data'!C304)","v":"Peak Reduction"},{"$f":"IF(ISBLANK('Competition Data'!G304),\"\",'Competition Data'!G304)","v":892.77},{"$f":"IF(ISBLANK('Competition Data'!D304),\"\",'Competition Data'!D304)","v":604},{"$f":"IF(ISBLANK('Competition Data'!E304),\"\",'Competition Data'!E304)","v":"0"},{"$f":"IF(ISBLANK('Competition Data'!F304),\"\",'Competition Data'!F304)","v":0.03},"LANGLEY (Peak Reduction)",{"$f":"IF(ISBLANK('Competition Data'!I304),\"\",'Competition Data'!I304)","v":49.269867549668874}]
["LANGLEYW26/27Scheduled Utilisation",{"$f":"IF(ISBLANK('Competition Data'!A305),\"\",'Competition Data'!A305)","v":"LANGLEY"},{"$f":"IF(ISBLANK('Competition Data'!H305),\"\",'Competition Data'!H305)","v":""},{"$f":"IF(ISBLANK('Competition Data'!B305),\"\",'Competition Data'!B305)","v":"W26/27"},{"$f":"IF(ISBLANK('Competition Data'!C305),\"\",'Competition Data'!C305)","v":"Scheduled Utilisation"},{"$f":"IF(ISBLANK('Competition Data'!G305),\"\",'Competition Data'!G305)","v":892.77},{"$f":"IF(ISBLANK('Competition Data'!D305),\"\",'Competition Data'!D305)","v":604},{"$f":"IF(ISBLANK('Competition Data'!E305),\"\",'Competition Data'!E305)","v":"0"},{"$f":"IF(ISBLANK('Competition Data'!F305),\"\",'Competition Data'!F305)","v":0.03},"LANGLEY (Scheduled Utilisation)",{"$f":"IF(ISBLANK('Competition Data'!I305),\"\",'Competition Data'!I305)","v":49.269867549668874}]
["LEYLAND RDW26/27Peak Reduction",{"$f":"IF(ISBLANK('Competition Data'!A306),\"\",'Competition Data'!A306)","v":"LEYLAND RD"},{"$f":"IF(ISBLANK('Competition Data'!H306),\"\",'Competition Data'!H306)","v":""},{"$f":"IF(ISBLANK('Competition Data'!B306),\"\",'Competition Data'!B306)","v":"W26/27"},{"$f":"IF(ISBLANK('Competition Data'!C306),\"\",'Competition Data'!C306)","v":"Peak Reduction"},{"$f":"IF(ISBLANK('Competition Data'!G306),\"\",'Competition Data'!G306)","v":892.77},{"$f":"IF(ISBLANK('Competition Data'!D306),\"\",'Competition Data'!D306)","v":604},{"$f":"IF(ISBLANK('Competition Data'!E306),\"\",'Competition Data'!E306)","v":"0"},{"$f":"IF(ISBLANK('Competition Data'!F306),\"\",'Competition Data'!F306)","v":0.01},"LEYLAND RD (Peak Reduction)",{"$f":"IF(ISBLANK('Competition Data'!I306),\"\",'Competition Data'!I306)","v":147.80960264900662}]
["LEYLAND RDW26/27Scheduled Utilisation",{"$f":"IF(ISBLANK('Competition Data'!A307),\"\",'Competition Data'!A307)","v":"LEYLAND RD"},{"$f":"IF(ISBLANK('Competition Data'!H307),\"\",'Competition Data'!H307)","v":""},{"$f":"IF(ISBLANK('Competition Data'!B307),\"\",'Competition Data'!B307)","v":"W26/27"},{"$f":"IF(ISBLANK('Competition Data'!C307),\"\",'Competition Data'!C307)","v":"Scheduled Utilisation"},{"$f":"IF(ISBLANK('Competition Data'!G307),\"\",'Competition Data'!G307)","v":892.77},{"$f":"IF(ISBLANK('Competition Data'!D307),\"\",'Competition Data'!D307)","v":604},{"$f":"IF(ISBLANK('Competition Data'!E307),\"\",'Competition Data'!E307)","v":"0"},{"$f":"IF(ISBLANK('Competition Data'!F307),\"\",'Competition Data'!F307)","v":0.01},"LEYLAND RD (Scheduled Utilisation)",{"$f":"IF(ISBLANK('Competition Data'!I307),\"\",'Competition Data'!I307)","v":147.80960264900662}]
["LINCOLN CLW26/27Peak Reduction",{"$f":"IF(ISBLANK('Competition Data'!A308),\"\",'Competition Data'!A308)","v":"LINCOLN CL"},{"$f":"IF(ISBLANK('Competition Data'!H308),\"\",'Competition Data'!H308)","v":""},{"$f":"IF(ISBLANK('Competition Data'!B308),\"\",'Competition Data'!B308)","v":"W26/27"},{"$f":"IF(ISBLANK('Competition Data'!C308),\"\",'Competition Data'!C308)","v":"Peak Reduction"},{"$f":"IF(ISBLANK('Competition Data'!G308),\"\",'Competition Data'!G308)","v":892.77},{"$f":"IF(ISBLANK('Competition Data'!D308),\"\",'Competition Data'!D308)","v":604},{"$f":"IF(ISBLANK('Competition Data'!E308),\"\",'Competition Data'!E308)","v":"0"},{"$f":"IF(ISBLANK('Competition Data'!F308),\"\",'Competition Data'!F308)","v":0.01},"LINCOLN CL (Peak Reduction)",{"$f":"IF(ISBLANK('Competition Data'!I308),\"\",'Competition Data'!I308)","v":147.80960264900662}]
["LINCOLN CLW26/27Scheduled Utilisation",{"$f":"IF(ISBLANK('Competition Data'!A309),\"\",'Competition Data'!A309)","v":"LINCOLN CL"},{"$f":"IF(ISBLANK('Competition Data'!H309),\"\",'Competition Data'!H309)","v":""},{"$f":"IF(ISBLANK('Competition Data'!B309),\"\",'Competition Data'!B309)","v":"W26/27"},{"$f":"IF(ISBLANK('Competition Data'!C309),\"\",'Competition Data'!C309)","v":"Scheduled Utilisation"},{"$f":"IF(ISBLANK('Competition Data'!G309),\"\",'Competition Data'!G309)","v":892.77},{"$f":"IF(ISBLANK('Competition Data'!D309),\"\",'Competition Data'!D309)","v":604},{"$f":"IF(ISBLANK('Competition Data'!E309),\"\",'Competition Data'!E309)","v":"0"},{"$f":"IF(ISBLANK('Competition Data'!F309),\"\",'Competition Data'!F309)","v":0.01},"LINCOLN CL (Scheduled Utilisation)",{"$f":"IF(ISBLANK('Competition Data'!I309),\"\",'Competition Data'!I309)","v":147.80960264900662}]
["LongsightW26/27Variable Availability + Operational Utilisation",{"$f":"IF(ISBLANK('Competition Data'!A310),\"\",'Competition Data'!A310)","v":"Longsight"},{"$f":"IF(ISBLANK('Competition Data'!H310),\"\",'Competition Data'!H310)","v":""},{"$f":"IF(ISBLANK('Competition Data'!B310),\"\",'Competition Data'!B310)","v":"W26/27"},{"$f":"IF(ISBLANK('Competition Data'!C310),\"\",'Competition Data'!C310)","v":"Variable Availability + Operational Utilisation"},{"$f":"IF(ISBLANK('Competition Data'!G310),\"\",'Competition Data'!G310)","v":97032},{"$f":"IF(ISBLANK('Competition Data'!D310),\"\",'Competition Data'!D310)","v":39},{"$f":"IF(ISBLANK('Competition Data'!E310),\"\",'Competition Data'!E310)","v":"39"},{"$f":"IF(ISBLANK('Competition Data'!F310),\"\",'Competition Data'!F310)","v":1.63},"Longsight (Variable Availability + Operational Utilisation)",{"$f":"IF(ISBLANK('Competition Data'!I310),\"\",'Competition Data'!I310)","v":"N/A"}]
["LongsightW26/27Peak Reduction",{"$f":"IF(ISBLANK('Competition Data'!A311),\"\",'Competition Data'!A311)","v":"Longsight"},{"$f":"IF(ISBLANK('Competition Data'!H311),\"\",'Competition Data'!H311)","v":""},{"$f":"IF(ISBLANK('Competition Data'!B311),\"\",'Competition Data'!B311)","v":"W26/27"},{"$f":"IF(ISBLANK('Competition Data'!C311),\"\",'Competition Data'!C311)","v":"Peak Reduction"},{"$f":"IF(ISBLANK('Competition Data'!G311),\"\",'Competition Data'!G311)","v":97032},{"$f":"IF(ISBLANK('Competition Data'!D311),\"\",'Competition Data'!D311)","v":3624},{"$f":"IF(ISBLANK('Competition Data'!E311),\"\",'Competition Data'!E311)","v":"0"},{"$f":"IF(ISBLANK('Competition Data'!F311),\"\",'Competition Data'!F311)","v":1.63},"Longsight (Peak Reduction)",{"$f":"IF(ISBLANK('Competition Data'!I311),\"\",'Competition Data'!I311)","v":16.426278795758339}]
["LongsightW27/28Variable Availability + Operational Utilisation",{"$f":"IF(ISBLANK('Competition Data'!A312),\"\",'Competition Data'!A312)","v":"Longsight"},{"$f":"IF(ISBLANK('Competition Data'!H312),\"\",'Competition Data'!H312)","v":""},{"$f":"IF(ISBLANK('Competition Data'!B312),\"\",'Competition Data'!B312)","v":"W27/28"},{"$f":"IF(ISBLANK('Competition Data'!C312),\"\",'Competition Data'!C312)","v":"Variable Availability + Operational Utilisation"},{"$f":"IF(ISBLANK('Competition Data'!G312),\"\",'Competition Data'!G312)","v":97032},{"$f":"IF(ISBLANK('Competition Data'!D312),\"\",'Competition Data'!D312)","v":48},{"$f":"IF(ISBLANK('Competition Data'!E312),\"\",'Competition Data'!E312)","v":"92"},{"$f":"IF(ISBLANK('Competition Data'!F312),\"\",'Competition Data'!F312)","v":2.19},"Longsight (Variable Availability + Operational Utilisation)",{"$f":"IF(ISBLANK('Competition Data'!I312),\"\",'Competition Data'!I312)","v":"N/A"}]
["LongsightW27/28Peak Reduction",{"$f":"IF(ISBLANK('Competition Data'!A313),\"\",'Competition Data'!A313)","v":"Longsight"},{"$f":"IF(ISBLANK('Competition Data'!H313),\"\",'Competition Data'!H313)","v":""},{"$f":"IF(ISBLANK('Competition Data'!B313),\"\",'Competition Data'!B313)","v":"W27/28"},{"$f":"IF(ISBLANK('Competition Data'!C313),\"\",'Competition Data'!C313)","v":"Peak Reduction"},{"$f":"IF(ISBLANK('Competition Data'!G313),\"\",'Competition Data'!G313)","v":97032},{"$f":"IF(ISBLANK('Competition Data'!D313),\"\",'Competition Data'!D313)","v":4392},{"$f":"IF(ISBLANK('Competition Data'!E313),\"\",'Competition Data'!E313)","v":"0"},{"$f":"IF(ISBLANK('Competition Data'!F313),\"\",'Competition Data'!F313)","v":2.19},"Longsight (Peak Reduction)",{"$f":"IF(ISBLANK('Competition Data'!I313),\"\",'Competition Data'!I313)","v":10.088080445143099}]
["Longsight BSPS27Variable Availability + Operational Utilisation",{"$f":"IF(ISBLANK('Competition Data'!A314),\"\",'Competition Data'!A314)","v":"Longsight BSP"},{"$f":"IF(ISBLANK('Competition Data'!H314),\"\",'Competition Data'!H314)","v":""},{"$f":"IF(ISBLANK('Competition Data'!B314),\"\",'Competition Data'!B314)","v":"S27"},{"$f":"IF(ISBLANK('Competition Data'!C314),\"\",'Competition Data'!C314)","v":"Variable Availability + Operational Utilisation"},{"$f":"IF(ISBLANK('Competition Data'!G314),\"\",'Competition Data'!G314)","v":26112},{"$f":"IF(ISBLANK('Competition Data'!D314),\"\",'Competition Data'!D314)","v":48},{"$f":"IF(ISBLANK('Competition Data'!E314),\"\",'Competition Data'!E314)","v":"109"},{"$f":"IF(ISBLANK('Competition Data'!F314),\"\",'Competition Data'!F314)","v":11.71},"Longsight BSP (Variable Availability + Operational Utilisation)",{"$f":"IF(ISBLANK('Competition Data'!I314),\"\",'Competition Data'!I314)","v":"N/A"}]
["Longsight BSPS27Peak Reduction",{"$f":"IF(ISBLANK('Competition Data'!A315),\"\",'Competition Data'!A315)","v":"Longsight BSP"},{"$f":"IF(ISBLANK('Competition Data'!H315),\"\",'Competition Data'!H315)","v":""},{"$f":"IF(ISBLANK('Competition Data'!B315),\"\",'Competition Data'!B315)","v":"S27"},{"$f":"IF(ISBLANK('Competition Data'!C315),\"\",'Competition Data'!C315)","v":"Peak Reduction"},{"$f":"IF(ISBLANK('Competition Data'!G315),\"\",'Competition Data'!G315)","v":26112},{"$f":"IF(ISBLANK('Competition Data'!D315),\"\",'Competition Data'!D315)","v":4392},{"$f":"IF(ISBLANK('Competition Data'!E315),\"\",'Competition Data'!E315)","v":"0"},{"$f":"IF(ISBLANK('Competition Data'!F315),\"\",'Competition Data'!F315)","v":11.71},"Longsight BSP (Peak Reduction)",{"$f":"IF(ISBLANK('Competition Data'!I315),\"\",'Competition Data'!I315)","v":0.50771607098691973}]
["Longsight BSPW26/27Variable Availability + Operational Utilisation",{"$f":"IF(ISBLANK('Competition Data'!A316),\"\",'Competition Data'!A316)","v":"Longsight BSP"},{"$f":"IF(ISBLANK('Competition Data'!H316),\"\",'Competition Data'!H316)","v":""},{"$f":"IF(ISBLANK('Competition Data'!B316),\"\",'Competition Data'!B316)","v":"W26/27"},{"$f":"IF(ISBLANK('Competition Data'!C316),\"\",'Competition Data'!C316)","v":"Variable Availability + Operational Utilisation"},{"$f":"IF(ISBLANK('Competition Data'!G316),\"\",'Competition Data'!G316)","v":78313},{"$f":"IF(ISBLANK('Competition Data'!D316),\"\",'Competition Data'!D316)","v":48},{"$f":"IF(ISBLANK('Competition Data'!E316),\"\",'Competition Data'!E316)","v":"311"},{"$f":"IF(ISBLANK('Competition Data'!F316),\"\",'Competition Data'!F316)","v":11.45},"Longsight BSP (Variable Availability + Operational Utilisation)",{"$f":"IF(ISBLANK('Competition Data'!I316),\"\",'Competition Data'!I316)","v":"N/A"}]
["Longsight BSPW26/27Peak Reduction",{"$f":"IF(ISBLANK('Competition Data'!A317),\"\",'Competition Data'!A317)","v":"Longsight BSP"},{"$f":"IF(ISBLANK('Competition Data'!H317),\"\",'Competition Data'!H317)","v":""},{"$f":"IF(ISBLANK('Competition Data'!B317),\"\",'Competition Data'!B317)","v":"W26/27"},{"$f":"IF(ISBLANK('Competition Data'!C317),\"\",'Competition Data'!C317)","v":"Peak Reduction"},{"$f":"IF(ISBLANK('Competition Data'!G317),\"\",'Competition Data'!G317)","v":78313},{"$f":"IF(ISBLANK('Competition Data'!D317),\"\",'Competition Data'!D317)","v":3624},{"$f":"IF(ISBLANK('Competition Data'!E317),\"\",'Competition Data'!E317)","v":"0"},{"$f":"IF(ISBLANK('Competition Data'!F317),\"\",'Competition Data'!F317)","v":11.45},"Longsight BSP (Peak Reduction)",{"$f":"IF(ISBLANK('Competition Data'!I317),\"\",'Competition Data'!I317)","v":1.887296721516913}]
["Longsight BSPW27/28Variable Availability + Operational Utilisation",{"$f":"IF(ISBLANK('Competition Data'!A318),\"\",'Competition Data'!A318)","v":"Longsight BSP"},{"$f":"IF(ISBLANK('Competition Data'!H318),\"\",'Competition Data'!H318)","v":""},{"$f":"IF(ISBLANK('Competition Data'!B318),\"\",'Competition Data'!B318)","v":"W27/28"},{"$f":"IF(ISBLANK('Competition Data'!C318),\"\",'Competition Data'!C318)","v":"Variable Availability + Operational Utilisation"},{"$f":"IF(ISBLANK('Competition Data'!G318),\"\",'Competition Data'!G318)","v":52201},{"$f":"IF(ISBLANK('Competition Data'!D318),\"\",'Competition Data'!D318)","v":100},{"$f":"IF(ISBLANK('Competition Data'!E318),\"\",'Competition Data'!E318)","v":"1513"},{"$f":"IF(ISBLANK('Competition Data'!F318),\"\",'Competition Data'!F318)","v":23.41},"Longsight BSP (Variable Availability + Operational Utilisation)",{"$f":"IF(ISBLANK('Competition Data'!I318),\"\",'Competition Data'!I318)","v":"N/A"}]
["Longsight BSPW27/28Peak Reduction",{"$f":"IF(ISBLANK('Competition Data'!A319),\"\",'Competition Data'!A319)","v":"Longsight BSP"},{"$f":"IF(ISBLANK('Competition Data'!H319),\"\",'Competition Data'!H319)","v":""},{"$f":"IF(ISBLANK('Competition Data'!B319),\"\",'Competition Data'!B319)","v":"W27/28"},{"$f":"IF(ISBLANK('Competition Data'!C319),\"\",'Competition Data'!C319)","v":"Peak Reduction"},{"$f":"IF(ISBLANK('Competition Data'!G319),\"\",'Competition Data'!G319)","v":52201},{"$f":"IF(ISBLANK('Competition Data'!D319),\"\",'Competition Data'!D319)","v":4392},{"$f":"IF(ISBLANK('Competition Data'!E319),\"\",'Competition Data'!E319)","v":"0"},{"$f":"IF(ISBLANK('Competition Data'!F319),\"\",'Competition Data'!F319)","v":23.41},"Longsight BSP (Peak Reduction)",{"$f":"IF(ISBLANK('Competition Data'!I319),\"\",'Competition Data'!I319)","v":0.50770925195824179}]
["LYONS FOLDW26/27Peak Reduction",{"$f":"IF(ISBLANK('Competition Data'!A320),\"\",'Competition Data'!A320)","v":"LYONS FOLD"},{"$f":"IF(ISBLANK('Competition Data'!H320),\"\",'Competition Data'!H320)","v":""},{"$f":"IF(ISBLANK('Competition Data'!B320),\"\",'Competition Data'!B320)","v":"W26/27"},{"$f":"IF(ISBLANK('Competition Data'!C320),\"\",'Competition Data'!C320)","v":"Peak Reduction"},{"$f":"IF(ISBLANK('Competition Data'!G320),\"\",'Competition Data'!G320)","v":892.77},{"$f":"IF(ISBLANK('Competition Data'!D320),\"\",'Competition Data'!D320)","v":604},{"$f":"IF(ISBLANK('Competition Data'!E320),\"\",'Competition Data'!E320)","v":"0"},{"$f":"IF(ISBLANK('Competition Data'!F320),\"\",'Competition Data'!F320)","v":0.02},"LYONS FOLD (Peak Reduction)",{"$f":"IF(ISBLANK('Competition Data'!I320),\"\",'Competition Data'!I320)","v":73.90480132450331}]
["LYONS FOLDW26/27Scheduled Utilisation",{"$f":"IF(ISBLANK('Competition Data'!A321),\"\",'Competition Data'!A321)","v":"LYONS FOLD"},{"$f":"IF(ISBLANK('Competition Data'!H321),\"\",'Competition Data'!H321)","v":""},{"$f":"IF(ISBLANK('Competition Data'!B321),\"\",'Competition Data'!B321)","v":"W26/27"},{"$f":"IF(ISBLANK('Competition Data'!C321),\"\",'Competition Data'!C321)","v":"Scheduled Utilisation"},{"$f":"IF(ISBLANK('Competition Data'!G321),\"\",'Competition Data'!G321)","v":892.77},{"$f":"IF(ISBLANK('Competition Data'!D321),\"\",'Competition Data'!D321)","v":604},{"$f":"IF(ISBLANK('Competition Data'!E321),\"\",'Competition Data'!E321)","v":"0"},{"$f":"IF(ISBLANK('Competition Data'!F321),\"\",'Competition Data'!F321)","v":0.02},"LYONS FOLD (Scheduled Utilisation)",{"$f":"IF(ISBLANK('Competition Data'!I321),\"\",'Competition Data'!I321)","v":73.90480132450331}]
["MAFEKING STW26/27Peak Reduction",{"$f":"IF(ISBLANK('Competition Data'!A322),\"\",'Competition Data'!A322)","v":"MAFEKING ST"},{"$f":"IF(ISBLANK('Competition Data'!H322),\"\",'Competition Data'!H322)","v":""},{"$f":"IF(ISBLANK('Competition Data'!B322),\"\",'Competition Data'!B322)","v":"W26/27"},{"$f":"IF(ISBLANK('Competition Data'!C322),\"\",'Competition Data'!C322)","v":"Peak Reduction"},{"$f":"IF(ISBLANK('Competition Data'!G322),\"\",'Competition Data'!G322)","v":892.77},{"$f":"IF(ISBLANK('Competition Data'!D322),\"\",'Competition Data'!D322)","v":604},{"$f":"IF(ISBLANK('Competition Data'!E322),\"\",'Competition Data'!E322)","v":"0"},{"$f":"IF(ISBLANK('Competition Data'!F322),\"\",'Competition Data'!F322)","v":0.01},"MAFEKING ST (Peak Reduction)",{"$f":"IF(ISBLANK('Competition Data'!I322),\"\",'Competition Data'!I322)","v":147.80960264900662}]
[{"$f":"CONCATENATE(B323,D323,E323)","v":"MAFEKING STW26/27Scheduled Utilisation"},{"$f":"IF(ISBLANK('Competition Data'!A323),\"\",'Competition Data'!A323)","v":"MAFEKING ST"},{"$f":"IF(ISBLANK('Competition Data'!H323),\"\",'Competition Data'!H323)","v":""},{"$f":"IF(ISBLANK('Competition Data'!B323),\"\",'Competition Data'!B323)","v":"W26/27"},{"$f":"IF(ISBLANK('Competition Data'!C323),\"\",'Competition Data'!C323)","v":"Scheduled Utilisation"},{"$f":"IF(ISBLANK('Competition Data'!G323),\"\",'Competition Data'!G323)","v":892.77},{"$f":"IF(ISBLANK('Competition Data'!D323),\"\",'Competition Data'!D323)","v":604},{"$f":"IF(ISBLANK('Competition Data'!E323),\"\",'Competition Data'!E323)","v":"0"},{"$f":"IF(ISBLANK('Competition Data'!F323),\"\",'Competition Data'!F323)","v":0.01},{"$f":"CONCATENATE(B323,\" (\",E323,\")\")","v":"MAFEKING ST (Scheduled Utilisation)"},{"$f":"IF(ISBLANK('Competition Data'!I323),\"\",'Competition Data'!I323)","v":147.80960264900662}]
["MAPLE RDW26/27Peak Reduction",{"$f":"IF(ISBLANK('Competition Data'!A324),\"\",'Competition Data'!A324)","v":"MAPLE RD"},{"$f":"IF(ISBLANK('Competition Data'!H324),\"\",'Competition Data'!H324)","v":""},{"$f":"IF(ISBLANK('Competition Data'!B324),\"\",'Competition Data'!B324)","v":"W26/27"},{"$f":"IF(ISBLANK('Competition Data'!C324),\"\",'Competition Data'!C324)","v":"Peak Reduction"},{"$f":"IF(ISBLANK('Competition Data'!G324),\"\",'Competition Data'!G324)","v":892.77},{"$f":"IF(ISBLANK('Competition Data'!D324),\"\",'Competition Data'!D324)","v":604},{"$f":"IF(ISBLANK('Competition Data'!E324),\"\",'Competition Data'!E324)","v":"0"},{"$f":"IF(ISBLANK('Competition Data'!F324),\"\",'Competition Data'!F324)","v":0.05},"MAPLE RD (Peak Reduction)",{"$f":"IF(ISBLANK('Competition Data'!I324),\"\",'Competition Data'!I324)","v":29.561920529801323}]
["MAPLE RDW26/27Scheduled Utilisation",{"$f":"IF(ISBLANK('Competition Data'!A325),\"\",'Competition Data'!A325)","v":"MAPLE RD"},{"$f":"IF(ISBLANK('Competition Data'!H325),\"\",'Competition Data'!H325)","v":""},{"$f":"IF(ISBLANK('Competition Data'!B325),\"\",'Competition Data'!B325)","v":"W26/27"},{"$f":"IF(ISBLANK('Competition Data'!C325),\"\",'Competition Data'!C325)","v":"Scheduled Utilisation"},{"$f":"IF(ISBLANK('Competition Data'!G325),\"\",'Competition Data'!G325)","v":892.77},{"$f":"IF(ISBLANK('Competition Data'!D325),\"\",'Competition Data'!D325)","v":604},{"$f":"IF(ISBLANK('Competition Data'!E325),\"\",'Competition Data'!E325)","v":"0"},{"$f":"IF(ISBLANK('Competition Data'!F325),\"\",'Competition Data'!F325)","v":0.05},"MAPLE RD (Scheduled Utilisation)",{"$f":"IF(ISBLANK('Competition Data'!I325),\"\",'Competition Data'!I325)","v":29.561920529801323}]
["MARLBOROUGH RD ENG WKSW26/27Peak Reduction",{"$f":"IF(ISBLANK('Competition Data'!A326),\"\",'Competition Data'!A326)","v":"MARLBOROUGH RD ENG WKS"},{"$f":"IF(ISBLANK('Competition Data'!H326),\"\",'Competition Data'!H326)","v":""},{"$f":"IF(ISBLANK('Competition Data'!B326),\"\",'Competition Data'!B326)","v":"W26/27"},{"$f":"IF(ISBLANK('Competition Data'!C326),\"\",'Competition Data'!C326)","v":"Peak Reduction"},{"$f":"IF(ISBLANK('Competition Data'!G326),\"\",'Competition Data'!G326)","v":892.77},{"$f":"IF(ISBLANK('Competition Data'!D326),\"\",'Competition Data'!D326)","v":604},{"$f":"IF(ISBLANK('Competition Data'!E326),\"\",'Competition Data'!E326)","v":"0"},{"$f":"IF(ISBLANK('Competition Data'!F326),\"\",'Competition Data'!F326)","v":0.01},"MARLBOROUGH RD ENG WKS (Peak Reduction)",{"$f":"IF(ISBLANK('Competition Data'!I326),\"\",'Competition Data'!I326)","v":147.80960264900662}]
["MARLBOROUGH RD ENG WKSW26/27Scheduled Utilisation",{"$f":"IF(ISBLANK('Competition Data'!A327),\"\",'Competition Data'!A327)","v":"MARLBOROUGH RD ENG WKS"},{"$f":"IF(ISBLANK('Competition Data'!H327),\"\",'Competition Data'!H327)","v":""},{"$f":"IF(ISBLANK('Competition Data'!B327),\"\",'Competition Data'!B327)","v":"W26/27"},{"$f":"IF(ISBLANK('Competition Data'!C327),\"\",'Competition Data'!C327)","v":"Scheduled Utilisation"},{"$f":"IF(ISBLANK('Competition Data'!G327),\"\",'Competition Data'!G327)","v":892.77},{"$f":"IF(ISBLANK('Competition Data'!D327),\"\",'Competition Data'!D327)","v":604},{"$f":"IF(ISBLANK('Competition Data'!E327),\"\",'Competition Data'!E327)","v":"0"},{"$f":"IF(ISBLANK('Competition Data'!F327),\"\",'Competition Data'!F327)","v":0.01},"MARLBOROUGH RD ENG WKS (Scheduled Utilisation)",{"$f":"IF(ISBLANK('Competition Data'!I327),\"\",'Competition Data'!I327)","v":147.80960264900662}]
["MarpleFY27Operational Utilisation",{"$f":"IF(ISBLANK('Competition Data'!A328),\"\",'Competition Data'!A328)","v":"Marple"},{"$f":"IF(ISBLANK('Competition Data'!H328),\"\",'Competition Data'!H328)","v":""},{"$f":"IF(ISBLANK('Competition Data'!B328),\"\",'Competition Data'!B328)","v":"FY27"},{"$f":"IF(ISBLANK('Competition Data'!C328),\"\",'Competition Data'!C328)","v":"Operational Utilisation"},{"$f":"IF(ISBLANK('Competition Data'!G328),\"\",'Competition Data'!G328)","v":216368.01},{"$f":"IF(ISBLANK('Competition Data'!D328),\"\",'Competition Data'!D328)","v":100},{"$f":"IF(ISBLANK('Competition Data'!E328),\"\",'Competition Data'!E328)","v":"0"},{"$f":"IF(ISBLANK('Competition Data'!F328),\"\",'Competition Data'!F328)","v":4.7},"Marple (Operational Utilisation)",{"$f":"IF(ISBLANK('Competition Data'!I328),\"\",'Competition Data'!I328)","v":460.35746808510635}]
["MarpleFY28Operational Utilisation",{"$f":"IF(ISBLANK('Competition Data'!A329),\"\",'Competition Data'!A329)","v":"Marple"},{"$f":"IF(ISBLANK('Competition Data'!H329),\"\",'Competition Data'!H329)","v":""},{"$f":"IF(ISBLANK('Competition Data'!B329),\"\",'Competition Data'!B329)","v":"FY28"},{"$f":"IF(ISBLANK('Competition Data'!C329),\"\",'Competition Data'!C329)","v":"Operational Utilisation"},{"$f":"IF(ISBLANK('Competition Data'!G329),\"\",'Competition Data'!G329)","v":216368.01},{"$f":"IF(ISBLANK('Competition Data'!D329),\"\",'Competition Data'!D329)","v":100},{"$f":"IF(ISBLANK('Competition Data'!E329),\"\",'Competition Data'!E329)","v":"0"},{"$f":"IF(ISBLANK('Competition Data'!F329),\"\",'Competition Data'!F329)","v":4.7},"Marple (Operational Utilisation)",{"$f":"IF(ISBLANK('Competition Data'!I329),\"\",'Competition Data'!I329)","v":460.35746808510635}]
["MAY STW26/27Peak Reduction",{"$f":"IF(ISBLANK('Competition Data'!A330),\"\",'Competition Data'!A330)","v":"MAY ST"},{"$f":"IF(ISBLANK('Competition Data'!H330),\"\",'Competition Data'!H330)","v":""},{"$f":"IF(ISBLANK('Competition Data'!B330),\"\",'Competition Data'!B330)","v":"W26/27"},{"$f":"IF(ISBLANK('Competition Data'!C330),\"\",'Competition Data'!C330)","v":"Peak Reduction"},{"$f":"IF(ISBLANK('Competition Data'!G330),\"\",'Competition Data'!G330)","v":892.77},{"$f":"IF(ISBLANK('Competition Data'!D330),\"\",'Competition Data'!D330)","v":604},{"$f":"IF(ISBLANK('Competition Data'!E330),\"\",'Competition Data'!E330)","v":"0"},{"$f":"IF(ISBLANK('Competition Data'!F330),\"\",'Competition Data'!F330)","v":0.02},"MAY ST (Peak Reduction)",{"$f":"IF(ISBLANK('Competition Data'!I330),\"\",'Competition Data'!I330)","v":73.90480132450331}]
["MAY STW26/27Scheduled Utilisation",{"$f":"IF(ISBLANK('Competition Data'!A331),\"\",'Competition Data'!A331)","v":"MAY ST"},{"$f":"IF(ISBLANK('Competition Data'!H331),\"\",'Competition Data'!H331)","v":""},{"$f":"IF(ISBLANK('Competition Data'!B331),\"\",'Competition Data'!B331)","v":"W26/27"},{"$f":"IF(ISBLANK('Competition Data'!C331),\"\",'Competition Data'!C331)","v":"Scheduled Utilisation"},{"$f":"IF(ISBLANK('Competition Data'!G331),\"\",'Competition Data'!G331)","v":892.77},{"$f":"IF(ISBLANK('Competition Data'!D331),\"\",'Competition Data'!D331)","v":604},{"$f":"IF(ISBLANK('Competition Data'!E331),\"\",'Competition Data'!E331)","v":"0"},{"$f":"IF(ISBLANK('Competition Data'!F331),\"\",'Competition Data'!F331)","v":0.02},"MAY ST (Scheduled Utilisation)",{"$f":"IF(ISBLANK('Competition Data'!I331),\"\",'Competition Data'!I331)","v":73.90480132450331}]
["MAYORLOWE AVEW26/27Peak Reduction",{"$f":"IF(ISBLANK('Competition Data'!A332),\"\",'Competition Data'!A332)","v":"MAYORLOWE AVE"},{"$f":"IF(ISBLANK('Competition Data'!H332),\"\",'Competition Data'!H332)","v":""},{"$f":"IF(ISBLANK('Competition Data'!B332),\"\",'Competition Data'!B332)","v":"W26/27"},{"$f":"IF(ISBLANK('Competition Data'!C332),\"\",'Competition Data'!C332)","v":"Peak Reduction"},{"$f":"IF(ISBLANK('Competition Data'!G332),\"\",'Competition Data'!G332)","v":892.77},{"$f":"IF(ISBLANK('Competition Data'!D332),\"\",'Competition Data'!D332)","v":604},{"$f":"IF(ISBLANK('Competition Data'!E332),\"\",'Competition Data'!E332)","v":"0"},{"$f":"IF(ISBLANK('Competition Data'!F332),\"\",'Competition Data'!F332)","v":0.04},"MAYORLOWE AVE (Peak Reduction)",{"$f":"IF(ISBLANK('Competition Data'!I332),\"\",'Competition Data'!I332)","v":36.952400662251655}]
["MAYORLOWE AVEW26/27Scheduled Utilisation",{"$f":"IF(ISBLANK('Competition Data'!A333),\"\",'Competition Data'!A333)","v":"MAYORLOWE AVE"},{"$f":"IF(ISBLANK('Competition Data'!H333),\"\",'Competition Data'!H333)","v":""},{"$f":"IF(ISBLANK('Competition Data'!B333),\"\",'Competition Data'!B333)","v":"W26/27"},{"$f":"IF(ISBLANK('Competition Data'!C333),\"\",'Competition Data'!C333)","v":"Scheduled Utilisation"},{"$f":"IF(ISBLANK('Competition Data'!G333),\"\",'Competition Data'!G333)","v":892.77},{"$f":"IF(ISBLANK('Competition Data'!D333),\"\",'Competition Data'!D333)","v":604},{"$f":"IF(ISBLANK('Competition Data'!E333),\"\",'Competition Data'!E333)","v":"0"},{"$f":"IF(ISBLANK('Competition Data'!F333),\"\",'Competition Data'!F333)","v":0.04},"MAYORLOWE AVE (Scheduled Utilisation)",{"$f":"IF(ISBLANK('Competition Data'!I333),\"\",'Competition Data'!I333)","v":36.952400662251655}]
["MellingFY27Operational Utilisation",{"$f":"IF(ISBLANK('Competition Data'!A334),\"\",'Competition Data'!A334)","v":"Melling"},{"$f":"IF(ISBLANK('Competition Data'!H334),\"\",'Competition Data'!H334)","v":""},{"$f":"IF(ISBLANK('Competition Data'!B334),\"\",'Competition Data'!B334)","v":"FY27"},{"$f":"IF(ISBLANK('Competition Data'!C334),\"\",'Competition Data'!C334)","v":"Operational Utilisation"},{"$f":"IF(ISBLANK('Competition Data'!G334),\"\",'Competition Data'!G334)","v":66049.759999999995},{"$f":"IF(ISBLANK('Competition Data'!D334),\"\",'Competition Data'!D334)","v":100},{"$f":"IF(ISBLANK('Competition Data'!E334),\"\",'Competition Data'!E334)","v":"0"},{"$f":"IF(ISBLANK('Competition Data'!F334),\"\",'Competition Data'!F334)","v":2.2999999999999998},"Melling (Operational Utilisation)",{"$f":"IF(ISBLANK('Competition Data'!I334),\"\",'Competition Data'!I334)","v":287.17286956521735}]
["MellingFY28Operational Utilisation",{"$f":"IF(ISBLANK('Competition Data'!A335),\"\",'Competition Data'!A335)","v":"Melling"},{"$f":"IF(ISBLANK('Competition Data'!H335),\"\",'Competition Data'!H335)","v":""},{"$f":"IF(ISBLANK('Competition Data'!B335),\"\",'Competition Data'!B335)","v":"FY28"},{"$f":"IF(ISBLANK('Competition Data'!C335),\"\",'Competition Data'!C335)","v":"Operational Utilisation"},{"$f":"IF(ISBLANK('Competition Data'!G335),\"\",'Competition Data'!G335)","v":66049.759999999995},{"$f":"IF(ISBLANK('Competition Data'!D335),\"\",'Competition Data'!D335)","v":100},{"$f":"IF(ISBLANK('Competition Data'!E335),\"\",'Competition Data'!E335)","v":"0"},{"$f":"IF(ISBLANK('Competition Data'!F335),\"\",'Competition Data'!F335)","v":2.2999999999999998},"Melling (Operational Utilisation)",{"$f":"IF(ISBLANK('Competition Data'!I335),\"\",'Competition Data'!I335)","v":287.17286956521735}]
["MIDDLETON OLD RDW26/27Peak Reduction",{"$f":"IF(ISBLANK('Competition Data'!A336),\"\",'Competition Data'!A336)","v":"MIDDLETON OLD RD"},{"$f":"IF(ISBLANK('Competition Data'!H336),\"\",'Competition Data'!H336)","v":""},{"$f":"IF(ISBLANK('Competition Data'!B336),\"\",'Competition Data'!B336)","v":"W26/27"},{"$f":"IF(ISBLANK('Competition Data'!C336),\"\",'Competition Data'!C336)","v":"Peak Reduction"},{"$f":"IF(ISBLANK('Competition Data'!G336),\"\",'Competition Data'!G336)","v":892.77},{"$f":"IF(ISBLANK('Competition Data'!D336),\"\",'Competition Data'!D336)","v":604},{"$f":"IF(ISBLANK('Competition Data'!E336),\"\",'Competition Data'!E336)","v":"0"},{"$f":"IF(ISBLANK('Competition Data'!F336),\"\",'Competition Data'!F336)","v":0.06},"MIDDLETON OLD RD (Peak Reduction)",{"$f":"IF(ISBLANK('Competition Data'!I336),\"\",'Competition Data'!I336)","v":24.634933774834437}]
["MIDDLETON OLD RDW26/27Scheduled Utilisation",{"$f":"IF(ISBLANK('Competition Data'!A337),\"\",'Competition Data'!A337)","v":"MIDDLETON OLD RD"},{"$f":"IF(ISBLANK('Competition Data'!H337),\"\",'Competition Data'!H337)","v":""},{"$f":"IF(ISBLANK('Competition Data'!B337),\"\",'Competition Data'!B337)","v":"W26/27"},{"$f":"IF(ISBLANK('Competition Data'!C337),\"\",'Competition Data'!C337)","v":"Scheduled Utilisation"},{"$f":"IF(ISBLANK('Competition Data'!G337),\"\",'Competition Data'!G337)","v":892.77},{"$f":"IF(ISBLANK('Competition Data'!D337),\"\",'Competition Data'!D337)","v":604},{"$f":"IF(ISBLANK('Competition Data'!E337),\"\",'Competition Data'!E337)","v":"0"},{"$f":"IF(ISBLANK('Competition Data'!F337),\"\",'Competition Data'!F337)","v":0.06},"MIDDLETON OLD RD (Scheduled Utilisation)",{"$f":"IF(ISBLANK('Competition Data'!I337),\"\",'Competition Data'!I337)","v":24.634933774834437}]
["MIDWAY HOTELW26/27Peak Reduction",{"$f":"IF(ISBLANK('Competition Data'!A338),\"\",'Competition Data'!A338)","v":"MIDWAY HOTEL"},{"$f":"IF(ISBLANK('Competition Data'!H338),\"\",'Competition Data'!H338)","v":""},{"$f":"IF(ISBLANK('Competition Data'!B338),\"\",'Competition Data'!B338)","v":"W26/27"},{"$f":"IF(ISBLANK('Competition Data'!C338),\"\",'Competition Data'!C338)","v":"Peak Reduction"},{"$f":"IF(ISBLANK('Competition Data'!G338),\"\",'Competition Data'!G338)","v":892.77},{"$f":"IF(ISBLANK('Competition Data'!D338),\"\",'Competition Data'!D338)","v":604},{"$f":"IF(ISBLANK('Competition Data'!E338),\"\",'Competition Data'!E338)","v":"0"},{"$f":"IF(ISBLANK('Competition Data'!F338),\"\",'Competition Data'!F338)","v":0.05},"MIDWAY HOTEL (Peak Reduction)",{"$f":"IF(ISBLANK('Competition Data'!I338),\"\",'Competition Data'!I338)","v":29.561920529801323}]
["MIDWAY HOTELW26/27Scheduled Utilisation",{"$f":"IF(ISBLANK('Competition Data'!A339),\"\",'Competition Data'!A339)","v":"MIDWAY HOTEL"},{"$f":"IF(ISBLANK('Competition Data'!H339),\"\",'Competition Data'!H339)","v":""},{"$f":"IF(ISBLANK('Competition Data'!B339),\"\",'Competition Data'!B339)","v":"W26/27"},{"$f":"IF(ISBLANK('Competition Data'!C339),\"\",'Competition Data'!C339)","v":"Scheduled Utilisation"},{"$f":"IF(ISBLANK('Competition Data'!G339),\"\",'Competition Data'!G339)","v":892.77},{"$f":"IF(ISBLANK('Competition Data'!D339),\"\",'Competition Data'!D339)","v":604},{"$f":"IF(ISBLANK('Competition Data'!E339),\"\",'Competition Data'!E339)","v":"0"},{"$f":"IF(ISBLANK('Competition Data'!F339),\"\",'Competition Data'!F339)","v":0.05},"MIDWAY HOTEL (Scheduled Utilisation)",{"$f":"IF(ISBLANK('Competition Data'!I339),\"\",'Competition Data'!I339)","v":29.561920529801323}]
["MILL STW26/27Peak Reduction",{"$f":"IF(ISBLANK('Competition Data'!A340),\"\",'Competition Data'!A340)","v":"MILL ST"},{"$f":"IF(ISBLANK('Competition Data'!H340),\"\",'Competition Data'!H340)","v":""},{"$f":"IF(ISBLANK('Competition Data'!B340),\"\",'Competition Data'!B340)","v":"W26/27"},{"$f":"IF(ISBLANK('Competition Data'!C340),\"\",'Competition Data'!C340)","v":"Peak Reduction"},{"$f":"IF(ISBLANK('Competition Data'!G340),\"\",'Competition Data'!G340)","v":892.77},{"$f":"IF(ISBLANK('Competition Data'!D340),\"\",'Competition Data'!D340)","v":604},{"$f":"IF(ISBLANK('Competition Data'!E340),\"\",'Competition Data'!E340)","v":"0"},{"$f":"IF(ISBLANK('Competition Data'!F340),\"\",'Competition Data'!F340)","v":0.03},"MILL ST (Peak Reduction)",{"$f":"IF(ISBLANK('Competition Data'!I340),\"\",'Competition Data'!I340)","v":49.269867549668874}]
["MILL STW26/27Scheduled Utilisation",{"$f":"IF(ISBLANK('Competition Data'!A341),\"\",'Competition Data'!A341)","v":"MILL ST"},{"$f":"IF(ISBLANK('Competition Data'!H341),\"\",'Competition Data'!H341)","v":""},{"$f":"IF(ISBLANK('Competition Data'!B341),\"\",'Competition Data'!B341)","v":"W26/27"},{"$f":"IF(ISBLANK('Competition Data'!C341),\"\",'Competition Data'!C341)","v":"Scheduled Utilisation"},{"$f":"IF(ISBLANK('Competition Data'!G341),\"\",'Competition Data'!G341)","v":892.77},{"$f":"IF(ISBLANK('Competition Data'!D341),\"\",'Competition Data'!D341)","v":604},{"$f":"IF(ISBLANK('Competition Data'!E341),\"\",'Competition Data'!E341)","v":"0"},{"$f":"IF(ISBLANK('Competition Data'!F341),\"\",'Competition Data'!F341)","v":0.03},"MILL ST (Scheduled Utilisation)",{"$f":"IF(ISBLANK('Competition Data'!I341),\"\",'Competition Data'!I341)","v":49.269867549668874}]
["MILTON GRW26/27Peak Reduction",{"$f":"IF(ISBLANK('Competition Data'!A342),\"\",'Competition Data'!A342)","v":"MILTON GR"},{"$f":"IF(ISBLANK('Competition Data'!H342),\"\",'Competition Data'!H342)","v":""},{"$f":"IF(ISBLANK('Competition Data'!B342),\"\",'Competition Data'!B342)","v":"W26/27"},{"$f":"IF(ISBLANK('Competition Data'!C342),\"\",'Competition Data'!C342)","v":"Peak Reduction"},{"$f":"IF(ISBLANK('Competition Data'!G342),\"\",'Competition Data'!G342)","v":892.77},{"$f":"IF(ISBLANK('Competition Data'!D342),\"\",'Competition Data'!D342)","v":604},{"$f":"IF(ISBLANK('Competition Data'!E342),\"\",'Competition Data'!E342)","v":"0"},{"$f":"IF(ISBLANK('Competition Data'!F342),\"\",'Competition Data'!F342)","v":0.01},"MILTON GR (Peak Reduction)",{"$f":"IF(ISBLANK('Competition Data'!I342),\"\",'Competition Data'!I342)","v":147.80960264900662}]
["MILTON GRW26/27Scheduled Utilisation",{"$f":"IF(ISBLANK('Competition Data'!A343),\"\",'Competition Data'!A343)","v":"MILTON GR"},{"$f":"IF(ISBLANK('Competition Data'!H343),\"\",'Competition Data'!H343)","v":""},{"$f":"IF(ISBLANK('Competition Data'!B343),\"\",'Competition Data'!B343)","v":"W26/27"},{"$f":"IF(ISBLANK('Competition Data'!C343),\"\",'Competition Data'!C343)","v":"Scheduled Utilisation"},{"$f":"IF(ISBLANK('Competition Data'!G343),\"\",'Competition Data'!G343)","v":892.77},{"$f":"IF(ISBLANK('Competition Data'!D343),\"\",'Competition Data'!D343)","v":604},{"$f":"IF(ISBLANK('Competition Data'!E343),\"\",'Competition Data'!E343)","v":"0"},{"$f":"IF(ISBLANK('Competition Data'!F343),\"\",'Competition Data'!F343)","v":0.01},"MILTON GR (Scheduled Utilisation)",{"$f":"IF(ISBLANK('Competition Data'!I343),\"\",'Competition Data'!I343)","v":147.80960264900662}]
["MintsfeetS27Variable Availability + Operational Utilisation",{"$f":"IF(ISBLANK('Competition Data'!A344),\"\",'Competition Data'!A344)","v":"Mintsfeet"},{"$f":"IF(ISBLANK('Competition Data'!H344),\"\",'Competition Data'!H344)","v":""},{"$f":"IF(ISBLANK('Competition Data'!B344),\"\",'Competition Data'!B344)","v":"S27"},{"$f":"IF(ISBLANK('Competition Data'!C344),\"\",'Competition Data'!C344)","v":"Variable Availability + Operational Utilisation"},{"$f":"IF(ISBLANK('Competition Data'!G344),\"\",'Competition Data'!G344)","v":47646},{"$f":"IF(ISBLANK('Competition Data'!D344),\"\",'Competition Data'!D344)","v":48},{"$f":"IF(ISBLANK('Competition Data'!E344),\"\",'Competition Data'!E344)","v":"165"},{"$f":"IF(ISBLANK('Competition Data'!F344),\"\",'Competition Data'!F344)","v":4.38},"Mintsfeet (Variable Availability + Operational Utilisation)",{"$f":"IF(ISBLANK('Competition Data'!I344),\"\",'Competition Data'!I344)","v":"N/A"}]
["MintsfeetS27Peak Reduction",{"$f":"IF(ISBLANK('Competition Data'!A345),\"\",'Competition Data'!A345)","v":"Mintsfeet"},{"$f":"IF(ISBLANK('Competition Data'!H345),\"\",'Competition Data'!H345)","v":""},{"$f":"IF(ISBLANK('Competition Data'!B345),\"\",'Competition Data'!B345)","v":"S27"},{"$f":"IF(ISBLANK('Competition Data'!C345),\"\",'Competition Data'!C345)","v":"Peak Reduction"},{"$f":"IF(ISBLANK('Competition Data'!G345),\"\",'Competition Data'!G345)","v":47646},{"$f":"IF(ISBLANK('Competition Data'!D345),\"\",'Competition Data'!D345)","v":4392},{"$f":"IF(ISBLANK('Competition Data'!E345),\"\",'Competition Data'!E345)","v":"0"},{"$f":"IF(ISBLANK('Competition Data'!F345),\"\",'Competition Data'!F345)","v":4.38},"Mintsfeet (Peak Reduction)",{"$f":"IF(ISBLANK('Competition Data'!I345),\"\",'Competition Data'!I345)","v":2.4767946702597503}]
["MintsfeetW26/27Variable Availability + Operational Utilisation",{"$f":"IF(ISBLANK('Competition Data'!A346),\"\",'Competition Data'!A346)","v":"Mintsfeet"},{"$f":"IF(ISBLANK('Competition Data'!H346),\"\",'Competition Data'!H346)","v":""},{"$f":"IF(ISBLANK('Competition Data'!B346),\"\",'Competition Data'!B346)","v":"W26/27"},{"$f":"IF(ISBLANK('Competition Data'!C346),\"\",'Competition Data'!C346)","v":"Variable Availability + Operational Utilisation"},{"$f":"IF(ISBLANK('Competition Data'!G346),\"\",'Competition Data'!G346)","v":131517},{"$f":"IF(ISBLANK('Competition Data'!D346),\"\",'Competition Data'!D346)","v":48},{"$f":"IF(ISBLANK('Competition Data'!E346),\"\",'Competition Data'!E346)","v":"873"},{"$f":"IF(ISBLANK('Competition Data'!F346),\"\",'Competition Data'!F346)","v":7.28},"Mintsfeet (Variable Availability + Operational Utilisation)",{"$f":"IF(ISBLANK('Competition Data'!I346),\"\",'Competition Data'!I346)","v":"N/A"}]
["MintsfeetW26/27Peak Reduction",{"$f":"IF(ISBLANK('Competition Data'!A347),\"\",'Competition Data'!A347)","v":"Mintsfeet"},{"$f":"IF(ISBLANK('Competition Data'!H347),\"\",'Competition Data'!H347)","v":""},{"$f":"IF(ISBLANK('Competition Data'!B347),\"\",'Competition Data'!B347)","v":"W26/27"},{"$f":"IF(ISBLANK('Competition Data'!C347),\"\",'Competition Data'!C347)","v":"Peak Reduction"},{"$f":"IF(ISBLANK('Competition Data'!G347),\"\",'Competition Data'!G347)","v":131517},{"$f":"IF(ISBLANK('Competition Data'!D347),\"\",'Competition Data'!D347)","v":3624},{"$f":"IF(ISBLANK('Competition Data'!E347),\"\",'Competition Data'!E347)","v":"0"},{"$f":"IF(ISBLANK('Competition Data'!F347),\"\",'Competition Data'!F347)","v":7.28},"Mintsfeet (Peak Reduction)",{"$f":"IF(ISBLANK('Competition Data'!I347),\"\",'Competition Data'!I347)","v":4.9849674332290226}]
["MintsfeetW27/28Variable Availability + Operational Utilisation",{"$f":"IF(ISBLANK('Competition Data'!A348),\"\",'Competition Data'!A348)","v":"Mintsfeet"},{"$f":"IF(ISBLANK('Competition Data'!H348),\"\",'Competition Data'!H348)","v":""},{"$f":"IF(ISBLANK('Competition Data'!B348),\"\",'Competition Data'!B348)","v":"W27/28"},{"$f":"IF(ISBLANK('Competition Data'!C348),\"\",'Competition Data'!C348)","v":"Variable Availability + Operational Utilisation"},{"$f":"IF(ISBLANK('Competition Data'!G348),\"\",'Competition Data'!G348)","v":83871},{"$f":"IF(ISBLANK('Competition Data'!D348),\"\",'Competition Data'!D348)","v":100},{"$f":"IF(ISBLANK('Competition Data'!E348),\"\",'Competition Data'!E348)","v":"1047"},{"$f":"IF(ISBLANK('Competition Data'!F348),\"\",'Competition Data'!F348)","v":7.71},"Mintsfeet (Variable Availability + Operational Utilisation)",{"$f":"IF(ISBLANK('Competition Data'!I348),\"\",'Competition Data'!I348)","v":"N/A"}]
["MintsfeetW27/28Peak Reduction",{"$f":"IF(ISBLANK('Competition Data'!A349),\"\",'Competition Data'!A349)","v":"Mintsfeet"},{"$f":"IF(ISBLANK('Competition Data'!H349),\"\",'Competition Data'!H349)","v":""},{"$f":"IF(ISBLANK('Competition Data'!B349),\"\",'Competition Data'!B349)","v":"W27/28"},{"$f":"IF(ISBLANK('Competition Data'!C349),\"\",'Competition Data'!C349)","v":"Peak Reduction"},{"$f":"IF(ISBLANK('Competition Data'!G349),\"\",'Competition Data'!G349)","v":83871},{"$f":"IF(ISBLANK('Competition Data'!D349),\"\",'Competition Data'!D349)","v":4392},{"$f":"IF(ISBLANK('Competition Data'!E349),\"\",'Competition Data'!E349)","v":"0"},{"$f":"IF(ISBLANK('Competition Data'!F349),\"\",'Competition Data'!F349)","v":7.71},"Mintsfeet (Peak Reduction)",{"$f":"IF(ISBLANK('Competition Data'!I349),\"\",'Competition Data'!I349)","v":2.476823797070018}]
["MoorsideW27/28Variable Availability + Operational Utilisation",{"$f":"IF(ISBLANK('Competition Data'!A350),\"\",'Competition Data'!A350)","v":"Moorside"},{"$f":"IF(ISBLANK('Competition Data'!H350),\"\",'Competition Data'!H350)","v":""},{"$f":"IF(ISBLANK('Competition Data'!B350),\"\",'Competition Data'!B350)","v":"W27/28"},{"$f":"IF(ISBLANK('Competition Data'!C350),\"\",'Competition Data'!C350)","v":"Variable Availability + Operational Utilisation"},{"$f":"IF(ISBLANK('Competition Data'!G350),\"\",'Competition Data'!G350)","v":47303},{"$f":"IF(ISBLANK('Competition Data'!D350),\"\",'Competition Data'!D350)","v":19},{"$f":"IF(ISBLANK('Competition Data'!E350),\"\",'Competition Data'!E350)","v":"19"},{"$f":"IF(ISBLANK('Competition Data'!F350),\"\",'Competition Data'!F350)","v":1.2},"Moorside (Variable Availability + Operational Utilisation)",{"$f":"IF(ISBLANK('Competition Data'!I350),\"\",'Competition Data'!I350)","v":"N/A"}]
["MoorsideW27/28Peak Reduction",{"$f":"IF(ISBLANK('Competition Data'!A351),\"\",'Competition Data'!A351)","v":"Moorside"},{"$f":"IF(ISBLANK('Competition Data'!H351),\"\",'Competition Data'!H351)","v":""},{"$f":"IF(ISBLANK('Competition Data'!B351),\"\",'Competition Data'!B351)","v":"W27/28"},{"$f":"IF(ISBLANK('Competition Data'!C351),\"\",'Competition Data'!C351)","v":"Peak Reduction"},{"$f":"IF(ISBLANK('Competition Data'!G351),\"\",'Competition Data'!G351)","v":47303},{"$f":"IF(ISBLANK('Competition Data'!D351),\"\",'Competition Data'!D351)","v":4392},{"$f":"IF(ISBLANK('Competition Data'!E351),\"\",'Competition Data'!E351)","v":"0"},{"$f":"IF(ISBLANK('Competition Data'!F351),\"\",'Competition Data'!F351)","v":1.2},"Moorside (Peak Reduction)",{"$f":"IF(ISBLANK('Competition Data'!I351),\"\",'Competition Data'!I351)","v":8.9752200971463285}]
["MOSS LN SWINTONW26/27Peak Reduction",{"$f":"IF(ISBLANK('Competition Data'!A352),\"\",'Competition Data'!A352)","v":"MOSS LN SWINTON"},{"$f":"IF(ISBLANK('Competition Data'!H352),\"\",'Competition Data'!H352)","v":""},{"$f":"IF(ISBLANK('Competition Data'!B352),\"\",'Competition Data'!B352)","v":"W26/27"},{"$f":"IF(ISBLANK('Competition Data'!C352),\"\",'Competition Data'!C352)","v":"Peak Reduction"},{"$f":"IF(ISBLANK('Competition Data'!G352),\"\",'Competition Data'!G352)","v":892.77},{"$f":"IF(ISBLANK('Competition Data'!D352),\"\",'Competition Data'!D352)","v":604},{"$f":"IF(ISBLANK('Competition Data'!E352),\"\",'Competition Data'!E352)","v":"0"},{"$f":"IF(ISBLANK('Competition Data'!F352),\"\",'Competition Data'!F352)","v":0.03},"MOSS LN SWINTON (Peak Reduction)",{"$f":"IF(ISBLANK('Competition Data'!I352),\"\",'Competition Data'!I352)","v":49.269867549668874}]
["MOSS LN SWINTONW26/27Scheduled Utilisation",{"$f":"IF(ISBLANK('Competition Data'!A353),\"\",'Competition Data'!A353)","v":"MOSS LN SWINTON"},{"$f":"IF(ISBLANK('Competition Data'!H353),\"\",'Competition Data'!H353)","v":""},{"$f":"IF(ISBLANK('Competition Data'!B353),\"\",'Competition Data'!B353)","v":"W26/27"},{"$f":"IF(ISBLANK('Competition Data'!C353),\"\",'Competition Data'!C353)","v":"Scheduled Utilisation"},{"$f":"IF(ISBLANK('Competition Data'!G353),\"\",'Competition Data'!G353)","v":892.77},{"$f":"IF(ISBLANK('Competition Data'!D353),\"\",'Competition Data'!D353)","v":604},{"$f":"IF(ISBLANK('Competition Data'!E353),\"\",'Competition Data'!E353)","v":"0"},{"$f":"IF(ISBLANK('Competition Data'!F353),\"\",'Competition Data'!F353)","v":0.03},"MOSS LN SWINTON (Scheduled Utilisation)",{"$f":"IF(ISBLANK('Competition Data'!I353),\"\",'Competition Data'!I353)","v":49.269867549668874}]
["Moss Side (Leyland) & Seven StarsW26/27Variable Availability + Operational Utilisation",{"$f":"IF(ISBLANK('Competition Data'!A354),\"\",'Competition Data'!A354)","v":"Moss Side (Leyland) & Seven Stars"},{"$f":"IF(ISBLANK('Competition Data'!H354),\"\",'Competition Data'!H354)","v":""},{"$f":"IF(ISBLANK('Competition Data'!B354),\"\",'Competition Data'!B354)","v":"W26/27"},{"$f":"IF(ISBLANK('Competition Data'!C354),\"\",'Competition Data'!C354)","v":"Variable Availability + Operational Utilisation"},{"$f":"IF(ISBLANK('Competition Data'!G354),\"\",'Competition Data'!G354)","v":79598},{"$f":"IF(ISBLANK('Competition Data'!D354),\"\",'Competition Data'!D354)","v":48},{"$f":"IF(ISBLANK('Competition Data'!E354),\"\",'Competition Data'!E354)","v":"218"},{"$f":"IF(ISBLANK('Competition Data'!F354),\"\",'Competition Data'!F354)","v":2.71},"Moss Side (Leyland) & Seven Stars (Variable Availability + Operational Utilisation)",{"$f":"IF(ISBLANK('Competition Data'!I354),\"\",'Competition Data'!I354)","v":"N/A"}]
["Moss Side (Leyland) & Seven StarsW26/27Peak Reduction",{"$f":"IF(ISBLANK('Competition Data'!A355),\"\",'Competition Data'!A355)","v":"Moss Side (Leyland) & Seven Stars"},{"$f":"IF(ISBLANK('Competition Data'!H355),\"\",'Competition Data'!H355)","v":""},{"$f":"IF(ISBLANK('Competition Data'!B355),\"\",'Competition Data'!B355)","v":"W26/27"},{"$f":"IF(ISBLANK('Competition Data'!C355),\"\",'Competition Data'!C355)","v":"Peak Reduction"},{"$f":"IF(ISBLANK('Competition Data'!G355),\"\",'Competition Data'!G355)","v":79598},{"$f":"IF(ISBLANK('Competition Data'!D355),\"\",'Competition Data'!D355)","v":3624},{"$f":"IF(ISBLANK('Competition Data'!E355),\"\",'Competition Data'!E355)","v":"0"},{"$f":"IF(ISBLANK('Competition Data'!F355),\"\",'Competition Data'!F355)","v":2.71},"Moss Side (Leyland) & Seven Stars (Peak Reduction)",{"$f":"IF(ISBLANK('Competition Data'!I355),\"\",'Competition Data'!I355)","v":8.104844293476047}]
["Moss Side (Leyland) & Seven StarsW27/28Variable Availability + Operational Utilisation",{"$f":"IF(ISBLANK('Competition Data'!A356),\"\",'Competition Data'!A356)","v":"Moss Side (Leyland) & Seven Stars"},{"$f":"IF(ISBLANK('Competition Data'!H356),\"\",'Competition Data'!H356)","v":""},{"$f":"IF(ISBLANK('Competition Data'!B356),\"\",'Competition Data'!B356)","v":"W27/28"},{"$f":"IF(ISBLANK('Competition Data'!C356),\"\",'Competition Data'!C356)","v":"Variable Availability + Operational Utilisation"},{"$f":"IF(ISBLANK('Competition Data'!G356),\"\",'Competition Data'!G356)","v":79598},{"$f":"IF(ISBLANK('Competition Data'!D356),\"\",'Competition Data'!D356)","v":48},{"$f":"IF(ISBLANK('Competition Data'!E356),\"\",'Competition Data'!E356)","v":"417"},{"$f":"IF(ISBLANK('Competition Data'!F356),\"\",'Competition Data'!F356)","v":2.0099999999999998},"Moss Side (Leyland) & Seven Stars (Variable Availability + Operational Utilisation)",{"$f":"IF(ISBLANK('Competition Data'!I356),\"\",'Competition Data'!I356)","v":"N/A"}]
["Moss Side (Leyland) & Seven StarsW27/28Peak Reduction",{"$f":"IF(ISBLANK('Competition Data'!A357),\"\",'Competition Data'!A357)","v":"Moss Side (Leyland) & Seven Stars"},{"$f":"IF(ISBLANK('Competition Data'!H357),\"\",'Competition Data'!H357)","v":""},{"$f":"IF(ISBLANK('Competition Data'!B357),\"\",'Competition Data'!B357)","v":"W27/28"},{"$f":"IF(ISBLANK('Competition Data'!C357),\"\",'Competition Data'!C357)","v":"Peak Reduction"},{"$f":"IF(ISBLANK('Competition Data'!G357),\"\",'Competition Data'!G357)","v":79598},{"$f":"IF(ISBLANK('Competition Data'!D357),\"\",'Competition Data'!D357)","v":4392},{"$f":"IF(ISBLANK('Competition Data'!E357),\"\",'Competition Data'!E357)","v":"0"},{"$f":"IF(ISBLANK('Competition Data'!F357),\"\",'Competition Data'!F357)","v":2.0099999999999998},"Moss Side (Leyland) & Seven Stars (Peak Reduction)",{"$f":"IF(ISBLANK('Competition Data'!I357),\"\",'Competition Data'!I357)","v":9.0166199965563809}]
["MOSS STW26/27Peak Reduction",{"$f":"IF(ISBLANK('Competition Data'!A358),\"\",'Competition Data'!A358)","v":"MOSS ST"},{"$f":"IF(ISBLANK('Competition Data'!H358),\"\",'Competition Data'!H358)","v":""},{"$f":"IF(ISBLANK('Competition Data'!B358),\"\",'Competition Data'!B358)","v":"W26/27"},{"$f":"IF(ISBLANK('Competition Data'!C358),\"\",'Competition Data'!C358)","v":"Peak Reduction"},{"$f":"IF(ISBLANK('Competition Data'!G358),\"\",'Competition Data'!G358)","v":892.77},{"$f":"IF(ISBLANK('Competition Data'!D358),\"\",'Competition Data'!D358)","v":604},{"$f":"IF(ISBLANK('Competition Data'!E358),\"\",'Competition Data'!E358)","v":"0"},{"$f":"IF(ISBLANK('Competition Data'!F358),\"\",'Competition Data'!F358)","v":0.06},"MOSS ST (Peak Reduction)",{"$f":"IF(ISBLANK('Competition Data'!I358),\"\",'Competition Data'!I358)","v":24.634933774834437}]
["MOSS STW26/27Scheduled Utilisation",{"$f":"IF(ISBLANK('Competition Data'!A359),\"\",'Competition Data'!A359)","v":"MOSS ST"},{"$f":"IF(ISBLANK('Competition Data'!H359),\"\",'Competition Data'!H359)","v":""},{"$f":"IF(ISBLANK('Competition Data'!B359),\"\",'Competition Data'!B359)","v":"W26/27"},{"$f":"IF(ISBLANK('Competition Data'!C359),\"\",'Competition Data'!C359)","v":"Scheduled Utilisation"},{"$f":"IF(ISBLANK('Competition Data'!G359),\"\",'Competition Data'!G359)","v":892.77},{"$f":"IF(ISBLANK('Competition Data'!D359),\"\",'Competition Data'!D359)","v":604},{"$f":"IF(ISBLANK('Competition Data'!E359),\"\",'Competition Data'!E359)","v":"0"},{"$f":"IF(ISBLANK('Competition Data'!F359),\"\",'Competition Data'!F359)","v":0.06},"MOSS ST (Scheduled Utilisation)",{"$f":"IF(ISBLANK('Competition Data'!I359),\"\",'Competition Data'!I359)","v":24.634933774834437}]
["Newbiggin on LuneFY27Operational Utilisation",{"$f":"IF(ISBLANK('Competition Data'!A360),\"\",'Competition Data'!A360)","v":"Newbiggin on Lune"},{"$f":"IF(ISBLANK('Competition Data'!H360),\"\",'Competition Data'!H360)","v":""},{"$f":"IF(ISBLANK('Competition Data'!B360),\"\",'Competition Data'!B360)","v":"FY27"},{"$f":"IF(ISBLANK('Competition Data'!C360),\"\",'Competition Data'!C360)","v":"Operational Utilisation"},{"$f":"IF(ISBLANK('Competition Data'!G360),\"\",'Competition Data'!G360)","v":38363.9},{"$f":"IF(ISBLANK('Competition Data'!D360),\"\",'Competition Data'!D360)","v":100},{"$f":"IF(ISBLANK('Competition Data'!E360),\"\",'Competition Data'!E360)","v":"0"},{"$f":"IF(ISBLANK('Competition Data'!F360),\"\",'Competition Data'!F360)","v":0.9},"Newbiggin on Lune (Operational Utilisation)",{"$f":"IF(ISBLANK('Competition Data'!I360),\"\",'Competition Data'!I360)","v":426.26555555555558}]
["Newbiggin on LuneFY28Operational Utilisation",{"$f":"IF(ISBLANK('Competition Data'!A361),\"\",'Competition Data'!A361)","v":"Newbiggin on Lune"},{"$f":"IF(ISBLANK('Competition Data'!H361),\"\",'Competition Data'!H361)","v":""},{"$f":"IF(ISBLANK('Competition Data'!B361),\"\",'Competition Data'!B361)","v":"FY28"},{"$f":"IF(ISBLANK('Competition Data'!C361),\"\",'Competition Data'!C361)","v":"Operational Utilisation"},{"$f":"IF(ISBLANK('Competition Data'!G361),\"\",'Competition Data'!G361)","v":38363.9},{"$f":"IF(ISBLANK('Competition Data'!D361),\"\",'Competition Data'!D361)","v":100},{"$f":"IF(ISBLANK('Competition Data'!E361),\"\",'Competition Data'!E361)","v":"0"},{"$f":"IF(ISBLANK('Competition Data'!F361),\"\",'Competition Data'!F361)","v":0.9},"Newbiggin on Lune (Operational Utilisation)",{"$f":"IF(ISBLANK('Competition Data'!I361),\"\",'Competition Data'!I361)","v":426.26555555555558}]
["NewbyFY27Operational Utilisation",{"$f":"IF(ISBLANK('Competition Data'!A362),\"\",'Competition Data'!A362)","v":"Newby"},{"$f":"IF(ISBLANK('Competition Data'!H362),\"\",'Competition Data'!H362)","v":""},{"$f":"IF(ISBLANK('Competition Data'!B362),\"\",'Competition Data'!B362)","v":"FY27"},{"$f":"IF(ISBLANK('Competition Data'!C362),\"\",'Competition Data'!C362)","v":"Operational Utilisation"},{"$f":"IF(ISBLANK('Competition Data'!G362),\"\",'Competition Data'!G362)","v":136888.13},{"$f":"IF(ISBLANK('Competition Data'!D362),\"\",'Competition Data'!D362)","v":100},{"$f":"IF(ISBLANK('Competition Data'!E362),\"\",'Competition Data'!E362)","v":"0"},{"$f":"IF(ISBLANK('Competition Data'!F362),\"\",'Competition Data'!F362)","v":5.3},"Newby (Operational Utilisation)",{"$f":"IF(ISBLANK('Competition Data'!I362),\"\",'Competition Data'!I362)","v":258.27949056603774}]
["NewbyFY28Operational Utilisation",{"$f":"IF(ISBLANK('Competition Data'!A363),\"\",'Competition Data'!A363)","v":"Newby"},{"$f":"IF(ISBLANK('Competition Data'!H363),\"\",'Competition Data'!H363)","v":""},{"$f":"IF(ISBLANK('Competition Data'!B363),\"\",'Competition Data'!B363)","v":"FY28"},{"$f":"IF(ISBLANK('Competition Data'!C363),\"\",'Competition Data'!C363)","v":"Operational Utilisation"},{"$f":"IF(ISBLANK('Competition Data'!G363),\"\",'Competition Data'!G363)","v":136888.13},{"$f":"IF(ISBLANK('Competition Data'!D363),\"\",'Competition Data'!D363)","v":100},{"$f":"IF(ISBLANK('Competition Data'!E363),\"\",'Competition Data'!E363)","v":"0"},{"$f":"IF(ISBLANK('Competition Data'!F363),\"\",'Competition Data'!F363)","v":5.3},"Newby (Operational Utilisation)",{"$f":"IF(ISBLANK('Competition Data'!I363),\"\",'Competition Data'!I363)","v":258.27949056603774}]
["NewtonS27Variable Availability + Operational Utilisation",{"$f":"IF(ISBLANK('Competition Data'!A364),\"\",'Competition Data'!A364)","v":"Newton"},{"$f":"IF(ISBLANK('Competition Data'!H364),\"\",'Competition Data'!H364)","v":""},{"$f":"IF(ISBLANK('Competition Data'!B364),\"\",'Competition Data'!B364)","v":"S27"},{"$f":"IF(ISBLANK('Competition Data'!C364),\"\",'Competition Data'!C364)","v":"Variable Availability + Operational Utilisation"},{"$f":"IF(ISBLANK('Competition Data'!G364),\"\",'Competition Data'!G364)","v":22694},{"$f":"IF(ISBLANK('Competition Data'!D364),\"\",'Competition Data'!D364)","v":200},{"$f":"IF(ISBLANK('Competition Data'!E364),\"\",'Competition Data'!E364)","v":"2358"},{"$f":"IF(ISBLANK('Competition Data'!F364),\"\",'Competition Data'!F364)","v":9.24},"Newton (Variable Availability + Operational Utilisation)",{"$f":"IF(ISBLANK('Competition Data'!I364),\"\",'Competition Data'!I364)","v":"N/A"}]
["NewtonS27Peak Reduction",{"$f":"IF(ISBLANK('Competition Data'!A365),\"\",'Competition Data'!A365)","v":"Newton"},{"$f":"IF(ISBLANK('Competition Data'!H365),\"\",'Competition Data'!H365)","v":""},{"$f":"IF(ISBLANK('Competition Data'!B365),\"\",'Competition Data'!B365)","v":"S27"},{"$f":"IF(ISBLANK('Competition Data'!C365),\"\",'Competition Data'!C365)","v":"Peak Reduction"},{"$f":"IF(ISBLANK('Competition Data'!G365),\"\",'Competition Data'!G365)","v":22694},{"$f":"IF(ISBLANK('Competition Data'!D365),\"\",'Competition Data'!D365)","v":4392},{"$f":"IF(ISBLANK('Competition Data'!E365),\"\",'Competition Data'!E365)","v":"0"},{"$f":"IF(ISBLANK('Competition Data'!F365),\"\",'Competition Data'!F365)","v":9.24},"Newton (Peak Reduction)",{"$f":"IF(ISBLANK('Competition Data'!I365),\"\",'Competition Data'!I365)","v":0.5592123419992272}]
["NewtonW26/27Variable Availability + Operational Utilisation",{"$f":"IF(ISBLANK('Competition Data'!A366),\"\",'Competition Data'!A366)","v":"Newton"},{"$f":"IF(ISBLANK('Competition Data'!H366),\"\",'Competition Data'!H366)","v":""},{"$f":"IF(ISBLANK('Competition Data'!B366),\"\",'Competition Data'!B366)","v":"W26/27"},{"$f":"IF(ISBLANK('Competition Data'!C366),\"\",'Competition Data'!C366)","v":"Variable Availability + Operational Utilisation"},{"$f":"IF(ISBLANK('Competition Data'!G366),\"\",'Competition Data'!G366)","v":47303},{"$f":"IF(ISBLANK('Competition Data'!D366),\"\",'Competition Data'!D366)","v":200},{"$f":"IF(ISBLANK('Competition Data'!E366),\"\",'Competition Data'!E366)","v":"2104"},{"$f":"IF(ISBLANK('Competition Data'!F366),\"\",'Competition Data'!F366)","v":9.85},"Newton (Variable Availability + Operational Utilisation)",{"$f":"IF(ISBLANK('Competition Data'!I366),\"\",'Competition Data'!I366)","v":"N/A"}]
["NewtonW26/27Peak Reduction",{"$f":"IF(ISBLANK('Competition Data'!A367),\"\",'Competition Data'!A367)","v":"Newton"},{"$f":"IF(ISBLANK('Competition Data'!H367),\"\",'Competition Data'!H367)","v":""},{"$f":"IF(ISBLANK('Competition Data'!B367),\"\",'Competition Data'!B367)","v":"W26/27"},{"$f":"IF(ISBLANK('Competition Data'!C367),\"\",'Competition Data'!C367)","v":"Peak Reduction"},{"$f":"IF(ISBLANK('Competition Data'!G367),\"\",'Competition Data'!G367)","v":47303},{"$f":"IF(ISBLANK('Competition Data'!D367),\"\",'Competition Data'!D367)","v":3624},{"$f":"IF(ISBLANK('Competition Data'!E367),\"\",'Competition Data'!E367)","v":"0"},{"$f":"IF(ISBLANK('Competition Data'!F367),\"\",'Competition Data'!F367)","v":9.85},"Newton (Peak Reduction)",{"$f":"IF(ISBLANK('Competition Data'!I367),\"\",'Competition Data'!I367)","v":1.3251476339350747}]
["NewtonW27/28Variable Availability + Operational Utilisation",{"$f":"IF(ISBLANK('Competition Data'!A368),\"\",'Competition Data'!A368)","v":"Newton"},{"$f":"IF(ISBLANK('Competition Data'!H368),\"\",'Competition Data'!H368)","v":""},{"$f":"IF(ISBLANK('Competition Data'!B368),\"\",'Competition Data'!B368)","v":"W27/28"},{"$f":"IF(ISBLANK('Competition Data'!C368),\"\",'Competition Data'!C368)","v":"Variable Availability + Operational Utilisation"},{"$f":"IF(ISBLANK('Competition Data'!G368),\"\",'Competition Data'!G368)","v":24609},{"$f":"IF(ISBLANK('Competition Data'!D368),\"\",'Competition Data'!D368)","v":200},{"$f":"IF(ISBLANK('Competition Data'!E368),\"\",'Competition Data'!E368)","v":"2536"},{"$f":"IF(ISBLANK('Competition Data'!F368),\"\",'Competition Data'!F368)","v":10.02},"Newton (Variable Availability + Operational Utilisation)",{"$f":"IF(ISBLANK('Competition Data'!I368),\"\",'Competition Data'!I368)","v":"N/A"}]
["NewtonW27/28Peak Reduction",{"$f":"IF(ISBLANK('Competition Data'!A369),\"\",'Competition Data'!A369)","v":"Newton"},{"$f":"IF(ISBLANK('Competition Data'!H369),\"\",'Competition Data'!H369)","v":""},{"$f":"IF(ISBLANK('Competition Data'!B369),\"\",'Competition Data'!B369)","v":"W27/28"},{"$f":"IF(ISBLANK('Competition Data'!C369),\"\",'Competition Data'!C369)","v":"Peak Reduction"},{"$f":"IF(ISBLANK('Competition Data'!G369),\"\",'Competition Data'!G369)","v":24609},{"$f":"IF(ISBLANK('Competition Data'!D369),\"\",'Competition Data'!D369)","v":4392},{"$f":"IF(ISBLANK('Competition Data'!E369),\"\",'Competition Data'!E369)","v":"0"},{"$f":"IF(ISBLANK('Competition Data'!F369),\"\",'Competition Data'!F369)","v":10.02},"Newton (Peak Reduction)",{"$f":"IF(ISBLANK('Competition Data'!I369),\"\",'Competition Data'!I369)","v":0.55919581601823676}]
["Newtongate T11 & T12W26/27Variable Availability + Operational Utilisation",{"$f":"IF(ISBLANK('Competition Data'!A370),\"\",'Competition Data'!A370)","v":"Newtongate T11 & T12"},{"$f":"IF(ISBLANK('Competition Data'!H370),\"\",'Competition Data'!H370)","v":""},{"$f":"IF(ISBLANK('Competition Data'!B370),\"\",'Competition Data'!B370)","v":"W26/27"},{"$f":"IF(ISBLANK('Competition Data'!C370),\"\",'Competition Data'!C370)","v":"Variable Availability + Operational Utilisation"},{"$f":"IF(ISBLANK('Competition Data'!G370),\"\",'Competition Data'!G370)","v":50315},{"$f":"IF(ISBLANK('Competition Data'!D370),\"\",'Competition Data'!D370)","v":48},{"$f":"IF(ISBLANK('Competition Data'!E370),\"\",'Competition Data'!E370)","v":"130"},{"$f":"IF(ISBLANK('Competition Data'!F370),\"\",'Competition Data'!F370)","v":2.19},"Newtongate T11 & T12 (Variable Availability + Operational Utilisation)",{"$f":"IF(ISBLANK('Competition Data'!I370),\"\",'Competition Data'!I370)","v":"N/A"}]
["Newtongate T11 & T12W26/27Peak Reduction",{"$f":"IF(ISBLANK('Competition Data'!A371),\"\",'Competition Data'!A371)","v":"Newtongate T11 & T12"},{"$f":"IF(ISBLANK('Competition Data'!H371),\"\",'Competition Data'!H371)","v":""},{"$f":"IF(ISBLANK('Competition Data'!B371),\"\",'Competition Data'!B371)","v":"W26/27"},{"$f":"IF(ISBLANK('Competition Data'!C371),\"\",'Competition Data'!C371)","v":"Peak Reduction"},{"$f":"IF(ISBLANK('Competition Data'!G371),\"\",'Competition Data'!G371)","v":50315},{"$f":"IF(ISBLANK('Competition Data'!D371),\"\",'Competition Data'!D371)","v":3624},{"$f":"IF(ISBLANK('Competition Data'!E371),\"\",'Competition Data'!E371)","v":"0"},{"$f":"IF(ISBLANK('Competition Data'!F371),\"\",'Competition Data'!F371)","v":2.19},"Newtongate T11 & T12 (Peak Reduction)",{"$f":"IF(ISBLANK('Competition Data'!I371),\"\",'Competition Data'!I371)","v":6.3396484119064178}]
["Newtongate T11 & T12W27/28Variable Availability + Operational Utilisation",{"$f":"IF(ISBLANK('Competition Data'!A372),\"\",'Competition Data'!A372)","v":"Newtongate T11 & T12"},{"$f":"IF(ISBLANK('Competition Data'!H372),\"\",'Competition Data'!H372)","v":""},{"$f":"IF(ISBLANK('Competition Data'!B372),\"\",'Competition Data'!B372)","v":"W27/28"},{"$f":"IF(ISBLANK('Competition Data'!C372),\"\",'Competition Data'!C372)","v":"Variable Availability + Operational Utilisation"},{"$f":"IF(ISBLANK('Competition Data'!G372),\"\",'Competition Data'!G372)","v":50315},{"$f":"IF(ISBLANK('Competition Data'!D372),\"\",'Competition Data'!D372)","v":48},{"$f":"IF(ISBLANK('Competition Data'!E372),\"\",'Competition Data'!E372)","v":"202"},{"$f":"IF(ISBLANK('Competition Data'!F372),\"\",'Competition Data'!F372)","v":2.61},"Newtongate T11 & T12 (Variable Availability + Operational Utilisation)",{"$f":"IF(ISBLANK('Competition Data'!I372),\"\",'Competition Data'!I372)","v":"N/A"}]
["Newtongate T11 & T12W27/28Peak Reduction",{"$f":"IF(ISBLANK('Competition Data'!A373),\"\",'Competition Data'!A373)","v":"Newtongate T11 & T12"},{"$f":"IF(ISBLANK('Competition Data'!H373),\"\",'Competition Data'!H373)","v":""},{"$f":"IF(ISBLANK('Competition Data'!B373),\"\",'Competition Data'!B373)","v":"W27/28"},{"$f":"IF(ISBLANK('Competition Data'!C373),\"\",'Competition Data'!C373)","v":"Peak Reduction"},{"$f":"IF(ISBLANK('Competition Data'!G373),\"\",'Competition Data'!G373)","v":50315},{"$f":"IF(ISBLANK('Competition Data'!D373),\"\",'Competition Data'!D373)","v":4392},{"$f":"IF(ISBLANK('Competition Data'!E373),\"\",'Competition Data'!E373)","v":"0"},{"$f":"IF(ISBLANK('Competition Data'!F373),\"\",'Competition Data'!F373)","v":2.61},"Newtongate T11 & T12 (Peak Reduction)",{"$f":"IF(ISBLANK('Competition Data'!I373),\"\",'Competition Data'!I373)","v":4.3892936652499497}]
["Newtongate T13S27Variable Availability + Operational Utilisation",{"$f":"IF(ISBLANK('Competition Data'!A374),\"\",'Competition Data'!A374)","v":"Newtongate T13"},{"$f":"IF(ISBLANK('Competition Data'!H374),\"\",'Competition Data'!H374)","v":""},{"$f":"IF(ISBLANK('Competition Data'!B374),\"\",'Competition Data'!B374)","v":"S27"},{"$f":"IF(ISBLANK('Competition Data'!C374),\"\",'Competition Data'!C374)","v":"Variable Availability + Operational Utilisation"},{"$f":"IF(ISBLANK('Competition Data'!G374),\"\",'Competition Data'!G374)","v":15091},{"$f":"IF(ISBLANK('Competition Data'!D374),\"\",'Competition Data'!D374)","v":48},{"$f":"IF(ISBLANK('Competition Data'!E374),\"\",'Competition Data'!E374)","v":"129"},{"$f":"IF(ISBLANK('Competition Data'!F374),\"\",'Competition Data'!F374)","v":2.09},"Newtongate T13 (Variable Availability + Operational Utilisation)",{"$f":"IF(ISBLANK('Competition Data'!I374),\"\",'Competition Data'!I374)","v":"N/A"}]
["Newtongate T13S27Peak Reduction",{"$f":"IF(ISBLANK('Competition Data'!A375),\"\",'Competition Data'!A375)","v":"Newtongate T13"},{"$f":"IF(ISBLANK('Competition Data'!H375),\"\",'Competition Data'!H375)","v":""},{"$f":"IF(ISBLANK('Competition Data'!B375),\"\",'Competition Data'!B375)","v":"S27"},{"$f":"IF(ISBLANK('Competition Data'!C375),\"\",'Competition Data'!C375)","v":"Peak Reduction"},{"$f":"IF(ISBLANK('Competition Data'!G375),\"\",'Competition Data'!G375)","v":15091},{"$f":"IF(ISBLANK('Competition Data'!D375),\"\",'Competition Data'!D375)","v":4392},{"$f":"IF(ISBLANK('Competition Data'!E375),\"\",'Competition Data'!E375)","v":"0"},{"$f":"IF(ISBLANK('Competition Data'!F375),\"\",'Competition Data'!F375)","v":2.09},"Newtongate T13 (Peak Reduction)",{"$f":"IF(ISBLANK('Competition Data'!I375),\"\",'Competition Data'!I375)","v":1.6440287255645325}]
["Newtongate T13W26/27Variable Availability + Operational Utilisation",{"$f":"IF(ISBLANK('Competition Data'!A376),\"\",'Competition Data'!A376)","v":"Newtongate T13"},{"$f":"IF(ISBLANK('Competition Data'!H376),\"\",'Competition Data'!H376)","v":""},{"$f":"IF(ISBLANK('Competition Data'!B376),\"\",'Competition Data'!B376)","v":"W26/27"},{"$f":"IF(ISBLANK('Competition Data'!C376),\"\",'Competition Data'!C376)","v":"Variable Availability + Operational Utilisation"},{"$f":"IF(ISBLANK('Competition Data'!G376),\"\",'Competition Data'!G376)","v":44261},{"$f":"IF(ISBLANK('Competition Data'!D376),\"\",'Competition Data'!D376)","v":100},{"$f":"IF(ISBLANK('Competition Data'!E376),\"\",'Competition Data'!E376)","v":"1409"},{"$f":"IF(ISBLANK('Competition Data'!F376),\"\",'Competition Data'!F376)","v":3.81},"Newtongate T13 (Variable Availability + Operational Utilisation)",{"$f":"IF(ISBLANK('Competition Data'!I376),\"\",'Competition Data'!I376)","v":"N/A"}]
["Newtongate T13W26/27Peak Reduction",{"$f":"IF(ISBLANK('Competition Data'!A377),\"\",'Competition Data'!A377)","v":"Newtongate T13"},{"$f":"IF(ISBLANK('Competition Data'!H377),\"\",'Competition Data'!H377)","v":""},{"$f":"IF(ISBLANK('Competition Data'!B377),\"\",'Competition Data'!B377)","v":"W26/27"},{"$f":"IF(ISBLANK('Competition Data'!C377),\"\",'Competition Data'!C377)","v":"Peak Reduction"},{"$f":"IF(ISBLANK('Competition Data'!G377),\"\",'Competition Data'!G377)","v":44261},{"$f":"IF(ISBLANK('Competition Data'!D377),\"\",'Competition Data'!D377)","v":3624},{"$f":"IF(ISBLANK('Competition Data'!E377),\"\",'Competition Data'!E377)","v":"0"},{"$f":"IF(ISBLANK('Competition Data'!F377),\"\",'Competition Data'!F377)","v":3.81},"Newtongate T13 (Peak Reduction)",{"$f":"IF(ISBLANK('Competition Data'!I377),\"\",'Competition Data'!I377)","v":3.2055906091208799}]
["Newtongate T13W27/28Variable Availability + Operational Utilisation",{"$f":"IF(ISBLANK('Competition Data'!A378),\"\",'Competition Data'!A378)","v":"Newtongate T13"},{"$f":"IF(ISBLANK('Competition Data'!H378),\"\",'Competition Data'!H378)","v":""},{"$f":"IF(ISBLANK('Competition Data'!B378),\"\",'Competition Data'!B378)","v":"W27/28"},{"$f":"IF(ISBLANK('Competition Data'!C378),\"\",'Competition Data'!C378)","v":"Variable Availability + Operational Utilisation"},{"$f":"IF(ISBLANK('Competition Data'!G378),\"\",'Competition Data'!G378)","v":29170},{"$f":"IF(ISBLANK('Competition Data'!D378),\"\",'Competition Data'!D378)","v":100},{"$f":"IF(ISBLANK('Competition Data'!E378),\"\",'Competition Data'!E378)","v":"1557"},{"$f":"IF(ISBLANK('Competition Data'!F378),\"\",'Competition Data'!F378)","v":4.04},"Newtongate T13 (Variable Availability + Operational Utilisation)",{"$f":"IF(ISBLANK('Competition Data'!I378),\"\",'Competition Data'!I378)","v":"N/A"}]
["Newtongate T13W27/28Peak Reduction",{"$f":"IF(ISBLANK('Competition Data'!A379),\"\",'Competition Data'!A379)","v":"Newtongate T13"},{"$f":"IF(ISBLANK('Competition Data'!H379),\"\",'Competition Data'!H379)","v":""},{"$f":"IF(ISBLANK('Competition Data'!B379),\"\",'Competition Data'!B379)","v":"W27/28"},{"$f":"IF(ISBLANK('Competition Data'!C379),\"\",'Competition Data'!C379)","v":"Peak Reduction"},{"$f":"IF(ISBLANK('Competition Data'!G379),\"\",'Competition Data'!G379)","v":29170},{"$f":"IF(ISBLANK('Competition Data'!D379),\"\",'Competition Data'!D379)","v":4392},{"$f":"IF(ISBLANK('Competition Data'!E379),\"\",'Competition Data'!E379)","v":"0"},{"$f":"IF(ISBLANK('Competition Data'!F379),\"\",'Competition Data'!F379)","v":4.04},"Newtongate T13 (Peak Reduction)",{"$f":"IF(ISBLANK('Competition Data'!I379),\"\",'Competition Data'!I379)","v":1.6439656260708038}]
["NORBURY STW26/27Peak Reduction",{"$f":"IF(ISBLANK('Competition Data'!A380),\"\",'Competition Data'!A380)","v":"NORBURY ST"},{"$f":"IF(ISBLANK('Competition Data'!H380),\"\",'Competition Data'!H380)","v":""},{"$f":"IF(ISBLANK('Competition Data'!B380),\"\",'Competition Data'!B380)","v":"W26/27"},{"$f":"IF(ISBLANK('Competition Data'!C380),\"\",'Competition Data'!C380)","v":"Peak Reduction"},{"$f":"IF(ISBLANK('Competition Data'!G380),\"\",'Competition Data'!G380)","v":892.77},{"$f":"IF(ISBLANK('Competition Data'!D380),\"\",'Competition Data'!D380)","v":604},{"$f":"IF(ISBLANK('Competition Data'!E380),\"\",'Competition Data'!E380)","v":"0"},{"$f":"IF(ISBLANK('Competition Data'!F380),\"\",'Competition Data'!F380)","v":0.01},"NORBURY ST (Peak Reduction)",{"$f":"IF(ISBLANK('Competition Data'!I380),\"\",'Competition Data'!I380)","v":147.80960264900662}]
["NORBURY STW26/27Scheduled Utilisation",{"$f":"IF(ISBLANK('Competition Data'!A381),\"\",'Competition Data'!A381)","v":"NORBURY ST"},{"$f":"IF(ISBLANK('Competition Data'!H381),\"\",'Competition Data'!H381)","v":""},{"$f":"IF(ISBLANK('Competition Data'!B381),\"\",'Competition Data'!B381)","v":"W26/27"},{"$f":"IF(ISBLANK('Competition Data'!C381),\"\",'Competition Data'!C381)","v":"Scheduled Utilisation"},{"$f":"IF(ISBLANK('Competition Data'!G381),\"\",'Competition Data'!G381)","v":892.77},{"$f":"IF(ISBLANK('Competition Data'!D381),\"\",'Competition Data'!D381)","v":604},{"$f":"IF(ISBLANK('Competition Data'!E381),\"\",'Competition Data'!E381)","v":"0"},{"$f":"IF(ISBLANK('Competition Data'!F381),\"\",'Competition Data'!F381)","v":0.01},"NORBURY ST (Scheduled Utilisation)",{"$f":"IF(ISBLANK('Competition Data'!I381),\"\",'Competition Data'!I381)","v":147.80960264900662}]
["NORTH SCALEW26/27Peak Reduction",{"$f":"IF(ISBLANK('Competition Data'!A382),\"\",'Competition Data'!A382)","v":"NORTH SCALE"},{"$f":"IF(ISBLANK('Competition Data'!H382),\"\",'Competition Data'!H382)","v":""},{"$f":"IF(ISBLANK('Competition Data'!B382),\"\",'Competition Data'!B382)","v":"W26/27"},{"$f":"IF(ISBLANK('Competition Data'!C382),\"\",'Competition Data'!C382)","v":"Peak Reduction"},{"$f":"IF(ISBLANK('Competition Data'!G382),\"\",'Competition Data'!G382)","v":892.77},{"$f":"IF(ISBLANK('Competition Data'!D382),\"\",'Competition Data'!D382)","v":604},{"$f":"IF(ISBLANK('Competition Data'!E382),\"\",'Competition Data'!E382)","v":"0"},{"$f":"IF(ISBLANK('Competition Data'!F382),\"\",'Competition Data'!F382)","v":0.04},"NORTH SCALE (Peak Reduction)",{"$f":"IF(ISBLANK('Competition Data'!I382),\"\",'Competition Data'!I382)","v":36.952400662251655}]
["NORTH SCALEW26/27Scheduled Utilisation",{"$f":"IF(ISBLANK('Competition Data'!A383),\"\",'Competition Data'!A383)","v":"NORTH SCALE"},{"$f":"IF(ISBLANK('Competition Data'!H383),\"\",'Competition Data'!H383)","v":""},{"$f":"IF(ISBLANK('Competition Data'!B383),\"\",'Competition Data'!B383)","v":"W26/27"},{"$f":"IF(ISBLANK('Competition Data'!C383),\"\",'Competition Data'!C383)","v":"Scheduled Utilisation"},{"$f":"IF(ISBLANK('Competition Data'!G383),\"\",'Competition Data'!G383)","v":892.77},{"$f":"IF(ISBLANK('Competition Data'!D383),\"\",'Competition Data'!D383)","v":604},{"$f":"IF(ISBLANK('Competition Data'!E383),\"\",'Competition Data'!E383)","v":"0"},{"$f":"IF(ISBLANK('Competition Data'!F383),\"\",'Competition Data'!F383)","v":0.04},"NORTH SCALE (Scheduled Utilisation)",{"$f":"IF(ISBLANK('Competition Data'!I383),\"\",'Competition Data'!I383)","v":36.952400662251655}]
["NUTHURST RD 193W26/27Peak Reduction",{"$f":"IF(ISBLANK('Competition Data'!A384),\"\",'Competition Data'!A384)","v":"NUTHURST RD 193"},{"$f":"IF(ISBLANK('Competition Data'!H384),\"\",'Competition Data'!H384)","v":""},{"$f":"IF(ISBLANK('Competition Data'!B384),\"\",'Competition Data'!B384)","v":"W26/27"},{"$f":"IF(ISBLANK('Competition Data'!C384),\"\",'Competition Data'!C384)","v":"Peak Reduction"},{"$f":"IF(ISBLANK('Competition Data'!G384),\"\",'Competition Data'!G384)","v":892.77},{"$f":"IF(ISBLANK('Competition Data'!D384),\"\",'Competition Data'!D384)","v":604},{"$f":"IF(ISBLANK('Competition Data'!E384),\"\",'Competition Data'!E384)","v":"0"},{"$f":"IF(ISBLANK('Competition Data'!F384),\"\",'Competition Data'!F384)","v":0.06},"NUTHURST RD 193 (Peak Reduction)",{"$f":"IF(ISBLANK('Competition Data'!I384),\"\",'Competition Data'!I384)","v":24.634933774834437}]
["NUTHURST RD 193W26/27Scheduled Utilisation",{"$f":"IF(ISBLANK('Competition Data'!A385),\"\",'Competition Data'!A385)","v":"NUTHURST RD 193"},{"$f":"IF(ISBLANK('Competition Data'!H385),\"\",'Competition Data'!H385)","v":""},{"$f":"IF(ISBLANK('Competition Data'!B385),\"\",'Competition Data'!B385)","v":"W26/27"},{"$f":"IF(ISBLANK('Competition Data'!C385),\"\",'Competition Data'!C385)","v":"Scheduled Utilisation"},{"$f":"IF(ISBLANK('Competition Data'!G385),\"\",'Competition Data'!G385)","v":892.77},{"$f":"IF(ISBLANK('Competition Data'!D385),\"\",'Competition Data'!D385)","v":604},{"$f":"IF(ISBLANK('Competition Data'!E385),\"\",'Competition Data'!E385)","v":"0"},{"$f":"IF(ISBLANK('Competition Data'!F385),\"\",'Competition Data'!F385)","v":0.06},"NUTHURST RD 193 (Scheduled Utilisation)",{"$f":"IF(ISBLANK('Competition Data'!I385),\"\",'Competition Data'!I385)","v":24.634933774834437}]
["OLD HALL LN WORSLEYW26/27Peak Reduction",{"$f":"IF(ISBLANK('Competition Data'!A386),\"\",'Competition Data'!A386)","v":"OLD HALL LN WORSLEY"},{"$f":"IF(ISBLANK('Competition Data'!H386),\"\",'Competition Data'!H386)","v":""},{"$f":"IF(ISBLANK('Competition Data'!B386),\"\",'Competition Data'!B386)","v":"W26/27"},{"$f":"IF(ISBLANK('Competition Data'!C386),\"\",'Competition Data'!C386)","v":"Peak Reduction"},{"$f":"IF(ISBLANK('Competition Data'!G386),\"\",'Competition Data'!G386)","v":892.77},{"$f":"IF(ISBLANK('Competition Data'!D386),\"\",'Competition Data'!D386)","v":604},{"$f":"IF(ISBLANK('Competition Data'!E386),\"\",'Competition Data'!E386)","v":"0"},{"$f":"IF(ISBLANK('Competition Data'!F386),\"\",'Competition Data'!F386)","v":0.01},"OLD HALL LN WORSLEY (Peak Reduction)",{"$f":"IF(ISBLANK('Competition Data'!I386),\"\",'Competition Data'!I386)","v":147.80960264900662}]
[{"$f":"CONCATENATE(B387,D387,E387)","v":"OLD HALL LN WORSLEYW26/27Scheduled Utilisation"},{"$f":"IF(ISBLANK('Competition Data'!A387),\"\",'Competition Data'!A387)","v":"OLD HALL LN WORSLEY"},{"$f":"IF(ISBLANK('Competition Data'!H387),\"\",'Competition Data'!H387)","v":""},{"$f":"IF(ISBLANK('Competition Data'!B387),\"\",'Competition Data'!B387)","v":"W26/27"},{"$f":"IF(ISBLANK('Competition Data'!C387),\"\",'Competition Data'!C387)","v":"Scheduled Utilisation"},{"$f":"IF(ISBLANK('Competition Data'!G387),\"\",'Competition Data'!G387)","v":892.77},{"$f":"IF(ISBLANK('Competition Data'!D387),\"\",'Competition Data'!D387)","v":604},{"$f":"IF(ISBLANK('Competition Data'!E387),\"\",'Competition Data'!E387)","v":"0"},{"$f":"IF(ISBLANK('Competition Data'!F387),\"\",'Competition Data'!F387)","v":0.01},{"$f":"CONCATENATE(B387,\" (\",E387,\")\")","v":"OLD HALL LN WORSLEY (Scheduled Utilisation)"},{"$f":"IF(ISBLANK('Competition Data'!I387),\"\",'Competition Data'!I387)","v":147.80960264900662}]
["OPENSHAWW27/28Peak Reduction",{"$f":"IF(ISBLANK('Competition Data'!A388),\"\",'Competition Data'!A388)","v":"OPENSHAW"},{"$f":"IF(ISBLANK('Competition Data'!H388),\"\",'Competition Data'!H388)","v":""},{"$f":"IF(ISBLANK('Competition Data'!B388),\"\",'Competition Data'!B388)","v":"W27/28"},{"$f":"IF(ISBLANK('Competition Data'!C388),\"\",'Competition Data'!C388)","v":"Peak Reduction"},{"$f":"IF(ISBLANK('Competition Data'!G388),\"\",'Competition Data'!G388)","v":64727.519999999997},{"$f":"IF(ISBLANK('Competition Data'!D388),\"\",'Competition Data'!D388)","v":1216},{"$f":"IF(ISBLANK('Competition Data'!E388),\"\",'Competition Data'!E388)","v":"0"},{"$f":"IF(ISBLANK('Competition Data'!F388),\"\",'Competition Data'!F388)","v":1},"OPENSHAW (Peak Reduction)",{"$f":"IF(ISBLANK('Competition Data'!I388),\"\",'Competition Data'!I388)","v":53.229868421052629}]
["OPENSHAWW27/28Scheduled Utilisation",{"$f":"IF(ISBLANK('Competition Data'!A389),\"\",'Competition Data'!A389)","v":"OPENSHAW"},{"$f":"IF(ISBLANK('Competition Data'!H389),\"\",'Competition Data'!H389)","v":""},{"$f":"IF(ISBLANK('Competition Data'!B389),\"\",'Competition Data'!B389)","v":"W27/28"},{"$f":"IF(ISBLANK('Competition Data'!C389),\"\",'Competition Data'!C389)","v":"Scheduled Utilisation"},{"$f":"IF(ISBLANK('Competition Data'!G389),\"\",'Competition Data'!G389)","v":64727.519999999997},{"$f":"IF(ISBLANK('Competition Data'!D389),\"\",'Competition Data'!D389)","v":1216},{"$f":"IF(ISBLANK('Competition Data'!E389),\"\",'Competition Data'!E389)","v":"0"},{"$f":"IF(ISBLANK('Competition Data'!F389),\"\",'Competition Data'!F389)","v":1},"OPENSHAW (Scheduled Utilisation)",{"$f":"IF(ISBLANK('Competition Data'!I389),\"\",'Competition Data'!I389)","v":53.229868421052629}]
["PARKEND RDW26/27Peak Reduction",{"$f":"IF(ISBLANK('Competition Data'!A390),\"\",'Competition Data'!A390)","v":"PARKEND RD"},{"$f":"IF(ISBLANK('Competition Data'!H390),\"\",'Competition Data'!H390)","v":""},{"$f":"IF(ISBLANK('Competition Data'!B390),\"\",'Competition Data'!B390)","v":"W26/27"},{"$f":"IF(ISBLANK('Competition Data'!C390),\"\",'Competition Data'!C390)","v":"Peak Reduction"},{"$f":"IF(ISBLANK('Competition Data'!G390),\"\",'Competition Data'!G390)","v":892.77},{"$f":"IF(ISBLANK('Competition Data'!D390),\"\",'Competition Data'!D390)","v":604},{"$f":"IF(ISBLANK('Competition Data'!E390),\"\",'Competition Data'!E390)","v":"0"},{"$f":"IF(ISBLANK('Competition Data'!F390),\"\",'Competition Data'!F390)","v":0.01},"PARKEND RD (Peak Reduction)",{"$f":"IF(ISBLANK('Competition Data'!I390),\"\",'Competition Data'!I390)","v":147.80960264900662}]
["PARKEND RDW26/27Scheduled Utilisation",{"$f":"IF(ISBLANK('Competition Data'!A391),\"\",'Competition Data'!A391)","v":"PARKEND RD"},{"$f":"IF(ISBLANK('Competition Data'!H391),\"\",'Competition Data'!H391)","v":""},{"$f":"IF(ISBLANK('Competition Data'!B391),\"\",'Competition Data'!B391)","v":"W26/27"},{"$f":"IF(ISBLANK('Competition Data'!C391),\"\",'Competition Data'!C391)","v":"Scheduled Utilisation"},{"$f":"IF(ISBLANK('Competition Data'!G391),\"\",'Competition Data'!G391)","v":892.77},{"$f":"IF(ISBLANK('Competition Data'!D391),\"\",'Competition Data'!D391)","v":604},{"$f":"IF(ISBLANK('Competition Data'!E391),\"\",'Competition Data'!E391)","v":"0"},{"$f":"IF(ISBLANK('Competition Data'!F391),\"\",'Competition Data'!F391)","v":0.01},"PARKEND RD (Scheduled Utilisation)",{"$f":"IF(ISBLANK('Competition Data'!I391),\"\",'Competition Data'!I391)","v":147.80960264900662}]
["Peel BSPW27/28Variable Availability + Operational Utilisation",{"$f":"IF(ISBLANK('Competition Data'!A392),\"\",'Competition Data'!A392)","v":"Peel BSP"},{"$f":"IF(ISBLANK('Competition Data'!H392),\"\",'Competition Data'!H392)","v":""},{"$f":"IF(ISBLANK('Competition Data'!B392),\"\",'Competition Data'!B392)","v":"W27/28"},{"$f":"IF(ISBLANK('Competition Data'!C392),\"\",'Competition Data'!C392)","v":"Variable Availability + Operational Utilisation"},{"$f":"IF(ISBLANK('Competition Data'!G392),\"\",'Competition Data'!G392)","v":221956},{"$f":"IF(ISBLANK('Competition Data'!D392),\"\",'Competition Data'!D392)","v":12},{"$f":"IF(ISBLANK('Competition Data'!E392),\"\",'Competition Data'!E392)","v":"12"},{"$f":"IF(ISBLANK('Competition Data'!F392),\"\",'Competition Data'!F392)","v":1.96},"Peel BSP (Variable Availability + Operational Utilisation)",{"$f":"IF(ISBLANK('Competition Data'!I392),\"\",'Competition Data'!I392)","v":"N/A"}]
["Peel BSPW27/28Peak Reduction",{"$f":"IF(ISBLANK('Competition Data'!A393),\"\",'Competition Data'!A393)","v":"Peel BSP"},{"$f":"IF(ISBLANK('Competition Data'!H393),\"\",'Competition Data'!H393)","v":""},{"$f":"IF(ISBLANK('Competition Data'!B393),\"\",'Competition Data'!B393)","v":"W27/28"},{"$f":"IF(ISBLANK('Competition Data'!C393),\"\",'Competition Data'!C393)","v":"Peak Reduction"},{"$f":"IF(ISBLANK('Competition Data'!G393),\"\",'Competition Data'!G393)","v":221956},{"$f":"IF(ISBLANK('Competition Data'!D393),\"\",'Competition Data'!D393)","v":4392},{"$f":"IF(ISBLANK('Competition Data'!E393),\"\",'Competition Data'!E393)","v":"0"},{"$f":"IF(ISBLANK('Competition Data'!F393),\"\",'Competition Data'!F393)","v":1.96},"Peel BSP (Peak Reduction)",{"$f":"IF(ISBLANK('Competition Data'!I393),\"\",'Competition Data'!I393)","v":25.783892792089514}]
["Peel StW27/28Variable Availability + Operational Utilisation",{"$f":"IF(ISBLANK('Competition Data'!A394),\"\",'Competition Data'!A394)","v":"Peel St"},{"$f":"IF(ISBLANK('Competition Data'!H394),\"\",'Competition Data'!H394)","v":""},{"$f":"IF(ISBLANK('Competition Data'!B394),\"\",'Competition Data'!B394)","v":"W27/28"},{"$f":"IF(ISBLANK('Competition Data'!C394),\"\",'Competition Data'!C394)","v":"Variable Availability + Operational Utilisation"},{"$f":"IF(ISBLANK('Competition Data'!G394),\"\",'Competition Data'!G394)","v":44020},{"$f":"IF(ISBLANK('Competition Data'!D394),\"\",'Competition Data'!D394)","v":15},{"$f":"IF(ISBLANK('Competition Data'!E394),\"\",'Competition Data'!E394)","v":"15"},{"$f":"IF(ISBLANK('Competition Data'!F394),\"\",'Competition Data'!F394)","v":0.42},"Peel St (Variable Availability + Operational Utilisation)",{"$f":"IF(ISBLANK('Competition Data'!I394),\"\",'Competition Data'!I394)","v":"N/A"}]
["Peel StW27/28Peak Reduction",{"$f":"IF(ISBLANK('Competition Data'!A395),\"\",'Competition Data'!A395)","v":"Peel St"},{"$f":"IF(ISBLANK('Competition Data'!H395),\"\",'Competition Data'!H395)","v":""},{"$f":"IF(ISBLANK('Competition Data'!B395),\"\",'Competition Data'!B395)","v":"W27/28"},{"$f":"IF(ISBLANK('Competition Data'!C395),\"\",'Competition Data'!C395)","v":"Peak Reduction"},{"$f":"IF(ISBLANK('Competition Data'!G395),\"\",'Competition Data'!G395)","v":44020},{"$f":"IF(ISBLANK('Competition Data'!D395),\"\",'Competition Data'!D395)","v":4392},{"$f":"IF(ISBLANK('Competition Data'!E395),\"\",'Competition Data'!E395)","v":"0"},{"$f":"IF(ISBLANK('Competition Data'!F395),\"\",'Competition Data'!F395)","v":0.42},"Peel St (Peak Reduction)",{"$f":"IF(ISBLANK('Competition Data'!I395),\"\",'Competition Data'!I395)","v":23.863734929308702}]
["Phillips LaneW26/27Variable Availability + Operational Utilisation",{"$f":"IF(ISBLANK('Competition Data'!A396),\"\",'Competition Data'!A396)","v":"Phillips Lane"},{"$f":"IF(ISBLANK('Competition Data'!H396),\"\",'Competition Data'!H396)","v":""},{"$f":"IF(ISBLANK('Competition Data'!B396),\"\",'Competition Data'!B396)","v":"W26/27"},{"$f":"IF(ISBLANK('Competition Data'!C396),\"\",'Competition Data'!C396)","v":"Variable Availability + Operational Utilisation"},{"$f":"IF(ISBLANK('Competition Data'!G396),\"\",'Competition Data'!G396)","v":128396},{"$f":"IF(ISBLANK('Competition Data'!D396),\"\",'Competition Data'!D396)","v":34},{"$f":"IF(ISBLANK('Competition Data'!E396),\"\",'Competition Data'!E396)","v":"34"},{"$f":"IF(ISBLANK('Competition Data'!F396),\"\",'Competition Data'!F396)","v":0.71},"Phillips Lane (Variable Availability + Operational Utilisation)",{"$f":"IF(ISBLANK('Competition Data'!I396),\"\",'Competition Data'!I396)","v":"N/A"}]
["Phillips LaneW26/27Peak Reduction",{"$f":"IF(ISBLANK('Competition Data'!A397),\"\",'Competition Data'!A397)","v":"Phillips Lane"},{"$f":"IF(ISBLANK('Competition Data'!H397),\"\",'Competition Data'!H397)","v":""},{"$f":"IF(ISBLANK('Competition Data'!B397),\"\",'Competition Data'!B397)","v":"W26/27"},{"$f":"IF(ISBLANK('Competition Data'!C397),\"\",'Competition Data'!C397)","v":"Peak Reduction"},{"$f":"IF(ISBLANK('Competition Data'!G397),\"\",'Competition Data'!G397)","v":128396},{"$f":"IF(ISBLANK('Competition Data'!D397),\"\",'Competition Data'!D397)","v":3624},{"$f":"IF(ISBLANK('Competition Data'!E397),\"\",'Competition Data'!E397)","v":"0"},{"$f":"IF(ISBLANK('Competition Data'!F397),\"\",'Competition Data'!F397)","v":0.71},"Phillips Lane (Peak Reduction)",{"$f":"IF(ISBLANK('Competition Data'!I397),\"\",'Competition Data'!I397)","v":49.900506793520506}]
["Phillips LaneW27/28Variable Availability + Operational Utilisation",{"$f":"IF(ISBLANK('Competition Data'!A398),\"\",'Competition Data'!A398)","v":"Phillips Lane"},{"$f":"IF(ISBLANK('Competition Data'!H398),\"\",'Competition Data'!H398)","v":""},{"$f":"IF(ISBLANK('Competition Data'!B398),\"\",'Competition Data'!B398)","v":"W27/28"},{"$f":"IF(ISBLANK('Competition Data'!C398),\"\",'Competition Data'!C398)","v":"Variable Availability + Operational Utilisation"},{"$f":"IF(ISBLANK('Competition Data'!G398),\"\",'Competition Data'!G398)","v":128396},{"$f":"IF(ISBLANK('Competition Data'!D398),\"\",'Competition Data'!D398)","v":48},{"$f":"IF(ISBLANK('Competition Data'!E398),\"\",'Competition Data'!E398)","v":"52"},{"$f":"IF(ISBLANK('Competition Data'!F398),\"\",'Competition Data'!F398)","v":0.83},"Phillips Lane (Variable Availability + Operational Utilisation)",{"$f":"IF(ISBLANK('Competition Data'!I398),\"\",'Competition Data'!I398)","v":"N/A"}]
["Phillips LaneW27/28Peak Reduction",{"$f":"IF(ISBLANK('Competition Data'!A399),\"\",'Competition Data'!A399)","v":"Phillips Lane"},{"$f":"IF(ISBLANK('Competition Data'!H399),\"\",'Competition Data'!H399)","v":""},{"$f":"IF(ISBLANK('Competition Data'!B399),\"\",'Competition Data'!B399)","v":"W27/28"},{"$f":"IF(ISBLANK('Competition Data'!C399),\"\",'Competition Data'!C399)","v":"Peak Reduction"},{"$f":"IF(ISBLANK('Competition Data'!G399),\"\",'Competition Data'!G399)","v":128396},{"$f":"IF(ISBLANK('Competition Data'!D399),\"\",'Competition Data'!D399)","v":4392},{"$f":"IF(ISBLANK('Competition Data'!E399),\"\",'Competition Data'!E399)","v":"0"},{"$f":"IF(ISBLANK('Competition Data'!F399),\"\",'Competition Data'!F399)","v":0.83},"Phillips Lane (Peak Reduction)",{"$f":"IF(ISBLANK('Competition Data'!I399),\"\",'Competition Data'!I399)","v":35.221761362389451}]
["PICKMERE RDW26/27Peak Reduction",{"$f":"IF(ISBLANK('Competition Data'!A400),\"\",'Competition Data'!A400)","v":"PICKMERE RD"},{"$f":"IF(ISBLANK('Competition Data'!H400),\"\",'Competition Data'!H400)","v":""},{"$f":"IF(ISBLANK('Competition Data'!B400),\"\",'Competition Data'!B400)","v":"W26/27"},{"$f":"IF(ISBLANK('Competition Data'!C400),\"\",'Competition Data'!C400)","v":"Peak Reduction"},{"$f":"IF(ISBLANK('Competition Data'!G400),\"\",'Competition Data'!G400)","v":892.77},{"$f":"IF(ISBLANK('Competition Data'!D400),\"\",'Competition Data'!D400)","v":604},{"$f":"IF(ISBLANK('Competition Data'!E400),\"\",'Competition Data'!E400)","v":"0"},{"$f":"IF(ISBLANK('Competition Data'!F400),\"\",'Competition Data'!F400)","v":0.01},"PICKMERE RD (Peak Reduction)",{"$f":"IF(ISBLANK('Competition Data'!I400),\"\",'Competition Data'!I400)","v":147.80960264900662}]
["PICKMERE RDW26/27Scheduled Utilisation",{"$f":"IF(ISBLANK('Competition Data'!A401),\"\",'Competition Data'!A401)","v":"PICKMERE RD"},{"$f":"IF(ISBLANK('Competition Data'!H401),\"\",'Competition Data'!H401)","v":""},{"$f":"IF(ISBLANK('Competition Data'!B401),\"\",'Competition Data'!B401)","v":"W26/27"},{"$f":"IF(ISBLANK('Competition Data'!C401),\"\",'Competition Data'!C401)","v":"Scheduled Utilisation"},{"$f":"IF(ISBLANK('Competition Data'!G401),\"\",'Competition Data'!G401)","v":892.77},{"$f":"IF(ISBLANK('Competition Data'!D401),\"\",'Competition Data'!D401)","v":604},{"$f":"IF(ISBLANK('Competition Data'!E401),\"\",'Competition Data'!E401)","v":"0"},{"$f":"IF(ISBLANK('Competition Data'!F401),\"\",'Competition Data'!F401)","v":0.01},"PICKMERE RD (Scheduled Utilisation)",{"$f":"IF(ISBLANK('Competition Data'!I401),\"\",'Competition Data'!I401)","v":147.80960264900662}]
["PILLING LNW26/27Peak Reduction",{"$f":"IF(ISBLANK('Competition Data'!A402),\"\",'Competition Data'!A402)","v":"PILLING LN"},{"$f":"IF(ISBLANK('Competition Data'!H402),\"\",'Competition Data'!H402)","v":""},{"$f":"IF(ISBLANK('Competition Data'!B402),\"\",'Competition Data'!B402)","v":"W26/27"},{"$f":"IF(ISBLANK('Competition Data'!C402),\"\",'Competition Data'!C402)","v":"Peak Reduction"},{"$f":"IF(ISBLANK('Competition Data'!G402),\"\",'Competition Data'!G402)","v":892.77},{"$f":"IF(ISBLANK('Competition Data'!D402),\"\",'Competition Data'!D402)","v":604},{"$f":"IF(ISBLANK('Competition Data'!E402),\"\",'Competition Data'!E402)","v":"0"},{"$f":"IF(ISBLANK('Competition Data'!F402),\"\",'Competition Data'!F402)","v":0.02},"PILLING LN (Peak Reduction)",{"$f":"IF(ISBLANK('Competition Data'!I402),\"\",'Competition Data'!I402)","v":73.90480132450331}]
["PILLING LNW26/27Scheduled Utilisation",{"$f":"IF(ISBLANK('Competition Data'!A403),\"\",'Competition Data'!A403)","v":"PILLING LN"},{"$f":"IF(ISBLANK('Competition Data'!H403),\"\",'Competition Data'!H403)","v":""},{"$f":"IF(ISBLANK('Competition Data'!B403),\"\",'Competition Data'!B403)","v":"W26/27"},{"$f":"IF(ISBLANK('Competition Data'!C403),\"\",'Competition Data'!C403)","v":"Scheduled Utilisation"},{"$f":"IF(ISBLANK('Competition Data'!G403),\"\",'Competition Data'!G403)","v":892.77},{"$f":"IF(ISBLANK('Competition Data'!D403),\"\",'Competition Data'!D403)","v":604},{"$f":"IF(ISBLANK('Competition Data'!E403),\"\",'Competition Data'!E403)","v":"0"},{"$f":"IF(ISBLANK('Competition Data'!F403),\"\",'Competition Data'!F403)","v":0.02},"PILLING LN (Scheduled Utilisation)",{"$f":"IF(ISBLANK('Competition Data'!I403),\"\",'Competition Data'!I403)","v":73.90480132450331}]
["PIMHOLE RDW26/27Peak Reduction",{"$f":"IF(ISBLANK('Competition Data'!A404),\"\",'Competition Data'!A404)","v":"PIMHOLE RD"},{"$f":"IF(ISBLANK('Competition Data'!H404),\"\",'Competition Data'!H404)","v":""},{"$f":"IF(ISBLANK('Competition Data'!B404),\"\",'Competition Data'!B404)","v":"W26/27"},{"$f":"IF(ISBLANK('Competition Data'!C404),\"\",'Competition Data'!C404)","v":"Peak Reduction"},{"$f":"IF(ISBLANK('Competition Data'!G404),\"\",'Competition Data'!G404)","v":892.77},{"$f":"IF(ISBLANK('Competition Data'!D404),\"\",'Competition Data'!D404)","v":604},{"$f":"IF(ISBLANK('Competition Data'!E404),\"\",'Competition Data'!E404)","v":"0"},{"$f":"IF(ISBLANK('Competition Data'!F404),\"\",'Competition Data'!F404)","v":0.01},"PIMHOLE RD (Peak Reduction)",{"$f":"IF(ISBLANK('Competition Data'!I404),\"\",'Competition Data'!I404)","v":147.80960264900662}]
["PIMHOLE RDW26/27Scheduled Utilisation",{"$f":"IF(ISBLANK('Competition Data'!A405),\"\",'Competition Data'!A405)","v":"PIMHOLE RD"},{"$f":"IF(ISBLANK('Competition Data'!H405),\"\",'Competition Data'!H405)","v":""},{"$f":"IF(ISBLANK('Competition Data'!B405),\"\",'Competition Data'!B405)","v":"W26/27"},{"$f":"IF(ISBLANK('Competition Data'!C405),\"\",'Competition Data'!C405)","v":"Scheduled Utilisation"},{"$f":"IF(ISBLANK('Competition Data'!G405),\"\",'Competition Data'!G405)","v":892.77},{"$f":"IF(ISBLANK('Competition Data'!D405),\"\",'Competition Data'!D405)","v":604},{"$f":"IF(ISBLANK('Competition Data'!E405),\"\",'Competition Data'!E405)","v":"0"},{"$f":"IF(ISBLANK('Competition Data'!F405),\"\",'Competition Data'!F405)","v":0.01},"PIMHOLE RD (Scheduled Utilisation)",{"$f":"IF(ISBLANK('Competition Data'!I405),\"\",'Competition Data'!I405)","v":147.80960264900662}]
["PINEWOOD RDW26/27Peak Reduction",{"$f":"IF(ISBLANK('Competition Data'!A406),\"\",'Competition Data'!A406)","v":"PINEWOOD RD"},{"$f":"IF(ISBLANK('Competition Data'!H406),\"\",'Competition Data'!H406)","v":""},{"$f":"IF(ISBLANK('Competition Data'!B406),\"\",'Competition Data'!B406)","v":"W26/27"},{"$f":"IF(ISBLANK('Competition Data'!C406),\"\",'Competition Data'!C406)","v":"Peak Reduction"},{"$f":"IF(ISBLANK('Competition Data'!G406),\"\",'Competition Data'!G406)","v":892.77},{"$f":"IF(ISBLANK('Competition Data'!D406),\"\",'Competition Data'!D406)","v":604},{"$f":"IF(ISBLANK('Competition Data'!E406),\"\",'Competition Data'!E406)","v":"0"},{"$f":"IF(ISBLANK('Competition Data'!F406),\"\",'Competition Data'!F406)","v":0.05},"PINEWOOD RD (Peak Reduction)",{"$f":"IF(ISBLANK('Competition Data'!I406),\"\",'Competition Data'!I406)","v":29.561920529801323}]
["PINEWOOD RDW26/27Scheduled Utilisation",{"$f":"IF(ISBLANK('Competition Data'!A407),\"\",'Competition Data'!A407)","v":"PINEWOOD RD"},{"$f":"IF(ISBLANK('Competition Data'!H407),\"\",'Competition Data'!H407)","v":""},{"$f":"IF(ISBLANK('Competition Data'!B407),\"\",'Competition Data'!B407)","v":"W26/27"},{"$f":"IF(ISBLANK('Competition Data'!C407),\"\",'Competition Data'!C407)","v":"Scheduled Utilisation"},{"$f":"IF(ISBLANK('Competition Data'!G407),\"\",'Competition Data'!G407)","v":892.77},{"$f":"IF(ISBLANK('Competition Data'!D407),\"\",'Competition Data'!D407)","v":604},{"$f":"IF(ISBLANK('Competition Data'!E407),\"\",'Competition Data'!E407)","v":"0"},{"$f":"IF(ISBLANK('Competition Data'!F407),\"\",'Competition Data'!F407)","v":0.05},"PINEWOOD RD (Scheduled Utilisation)",{"$f":"IF(ISBLANK('Competition Data'!I407),\"\",'Competition Data'!I407)","v":29.561920529801323}]
["PIPPIT LNW26/27Peak Reduction",{"$f":"IF(ISBLANK('Competition Data'!A408),\"\",'Competition Data'!A408)","v":"PIPPIT LN"},{"$f":"IF(ISBLANK('Competition Data'!H408),\"\",'Competition Data'!H408)","v":""},{"$f":"IF(ISBLANK('Competition Data'!B408),\"\",'Competition Data'!B408)","v":"W26/27"},{"$f":"IF(ISBLANK('Competition Data'!C408),\"\",'Competition Data'!C408)","v":"Peak Reduction"},{"$f":"IF(ISBLANK('Competition Data'!G408),\"\",'Competition Data'!G408)","v":892.77},{"$f":"IF(ISBLANK('Competition Data'!D408),\"\",'Competition Data'!D408)","v":604},{"$f":"IF(ISBLANK('Competition Data'!E408),\"\",'Competition Data'!E408)","v":"0"},{"$f":"IF(ISBLANK('Competition Data'!F408),\"\",'Competition Data'!F408)","v":0.04},"PIPPIT LN (Peak Reduction)",{"$f":"IF(ISBLANK('Competition Data'!I408),\"\",'Competition Data'!I408)","v":36.952400662251655}]
["PIPPIT LNW26/27Scheduled Utilisation",{"$f":"IF(ISBLANK('Competition Data'!A409),\"\",'Competition Data'!A409)","v":"PIPPIT LN"},{"$f":"IF(ISBLANK('Competition Data'!H409),\"\",'Competition Data'!H409)","v":""},{"$f":"IF(ISBLANK('Competition Data'!B409),\"\",'Competition Data'!B409)","v":"W26/27"},{"$f":"IF(ISBLANK('Competition Data'!C409),\"\",'Competition Data'!C409)","v":"Scheduled Utilisation"},{"$f":"IF(ISBLANK('Competition Data'!G409),\"\",'Competition Data'!G409)","v":892.77},{"$f":"IF(ISBLANK('Competition Data'!D409),\"\",'Competition Data'!D409)","v":604},{"$f":"IF(ISBLANK('Competition Data'!E409),\"\",'Competition Data'!E409)","v":"0"},{"$f":"IF(ISBLANK('Competition Data'!F409),\"\",'Competition Data'!F409)","v":0.04},"PIPPIT LN (Scheduled Utilisation)",{"$f":"IF(ISBLANK('Competition Data'!I409),\"\",'Competition Data'!I409)","v":36.952400662251655}]
["PITT STW26/27Peak Reduction",{"$f":"IF(ISBLANK('Competition Data'!A410),\"\",'Competition Data'!A410)","v":"PITT ST"},{"$f":"IF(ISBLANK('Competition Data'!H410),\"\",'Competition Data'!H410)","v":""},{"$f":"IF(ISBLANK('Competition Data'!B410),\"\",'Competition Data'!B410)","v":"W26/27"},{"$f":"IF(ISBLANK('Competition Data'!C410),\"\",'Competition Data'!C410)","v":"Peak Reduction"},{"$f":"IF(ISBLANK('Competition Data'!G410),\"\",'Competition Data'!G410)","v":892.77},{"$f":"IF(ISBLANK('Competition Data'!D410),\"\",'Competition Data'!D410)","v":604},{"$f":"IF(ISBLANK('Competition Data'!E410),\"\",'Competition Data'!E410)","v":"0"},{"$f":"IF(ISBLANK('Competition Data'!F410),\"\",'Competition Data'!F410)","v":0.03},"PITT ST (Peak Reduction)",{"$f":"IF(ISBLANK('Competition Data'!I410),\"\",'Competition Data'!I410)","v":49.269867549668874}]
["PITT STW26/27Scheduled Utilisation",{"$f":"IF(ISBLANK('Competition Data'!A411),\"\",'Competition Data'!A411)","v":"PITT ST"},{"$f":"IF(ISBLANK('Competition Data'!H411),\"\",'Competition Data'!H411)","v":""},{"$f":"IF(ISBLANK('Competition Data'!B411),\"\",'Competition Data'!B411)","v":"W26/27"},{"$f":"IF(ISBLANK('Competition Data'!C411),\"\",'Competition Data'!C411)","v":"Scheduled Utilisation"},{"$f":"IF(ISBLANK('Competition Data'!G411),\"\",'Competition Data'!G411)","v":892.77},{"$f":"IF(ISBLANK('Competition Data'!D411),\"\",'Competition Data'!D411)","v":604},{"$f":"IF(ISBLANK('Competition Data'!E411),\"\",'Competition Data'!E411)","v":"0"},{"$f":"IF(ISBLANK('Competition Data'!F411),\"\",'Competition Data'!F411)","v":0.03},"PITT ST (Scheduled Utilisation)",{"$f":"IF(ISBLANK('Competition Data'!I411),\"\",'Competition Data'!I411)","v":49.269867549668874}]
["PLATT LN HOLY TRINITYW26/27Peak Reduction",{"$f":"IF(ISBLANK('Competition Data'!A412),\"\",'Competition Data'!A412)","v":"PLATT LN HOLY TRINITY"},{"$f":"IF(ISBLANK('Competition Data'!H412),\"\",'Competition Data'!H412)","v":""},{"$f":"IF(ISBLANK('Competition Data'!B412),\"\",'Competition Data'!B412)","v":"W26/27"},{"$f":"IF(ISBLANK('Competition Data'!C412),\"\",'Competition Data'!C412)","v":"Peak Reduction"},{"$f":"IF(ISBLANK('Competition Data'!G412),\"\",'Competition Data'!G412)","v":892.77},{"$f":"IF(ISBLANK('Competition Data'!D412),\"\",'Competition Data'!D412)","v":604},{"$f":"IF(ISBLANK('Competition Data'!E412),\"\",'Competition Data'!E412)","v":"0"},{"$f":"IF(ISBLANK('Competition Data'!F412),\"\",'Competition Data'!F412)","v":0.01},"PLATT LN HOLY TRINITY (Peak Reduction)",{"$f":"IF(ISBLANK('Competition Data'!I412),\"\",'Competition Data'!I412)","v":147.80960264900662}]
["PLATT LN HOLY TRINITYW26/27Scheduled Utilisation",{"$f":"IF(ISBLANK('Competition Data'!A413),\"\",'Competition Data'!A413)","v":"PLATT LN HOLY TRINITY"},{"$f":"IF(ISBLANK('Competition Data'!H413),\"\",'Competition Data'!H413)","v":""},{"$f":"IF(ISBLANK('Competition Data'!B413),\"\",'Competition Data'!B413)","v":"W26/27"},{"$f":"IF(ISBLANK('Competition Data'!C413),\"\",'Competition Data'!C413)","v":"Scheduled Utilisation"},{"$f":"IF(ISBLANK('Competition Data'!G413),\"\",'Competition Data'!G413)","v":892.77},{"$f":"IF(ISBLANK('Competition Data'!D413),\"\",'Competition Data'!D413)","v":604},{"$f":"IF(ISBLANK('Competition Data'!E413),\"\",'Competition Data'!E413)","v":"0"},{"$f":"IF(ISBLANK('Competition Data'!F413),\"\",'Competition Data'!F413)","v":0.01},"PLATT LN HOLY TRINITY (Scheduled Utilisation)",{"$f":"IF(ISBLANK('Competition Data'!I413),\"\",'Competition Data'!I413)","v":147.80960264900662}]
["POPE LNW26/27Peak Reduction",{"$f":"IF(ISBLANK('Competition Data'!A414),\"\",'Competition Data'!A414)","v":"POPE LN"},{"$f":"IF(ISBLANK('Competition Data'!H414),\"\",'Competition Data'!H414)","v":""},{"$f":"IF(ISBLANK('Competition Data'!B414),\"\",'Competition Data'!B414)","v":"W26/27"},{"$f":"IF(ISBLANK('Competition Data'!C414),\"\",'Competition Data'!C414)","v":"Peak Reduction"},{"$f":"IF(ISBLANK('Competition Data'!G414),\"\",'Competition Data'!G414)","v":892.77},{"$f":"IF(ISBLANK('Competition Data'!D414),\"\",'Competition Data'!D414)","v":604},{"$f":"IF(ISBLANK('Competition Data'!E414),\"\",'Competition Data'!E414)","v":"0"},{"$f":"IF(ISBLANK('Competition Data'!F414),\"\",'Competition Data'!F414)","v":0.09},"POPE LN (Peak Reduction)",{"$f":"IF(ISBLANK('Competition Data'!I414),\"\",'Competition Data'!I414)","v":16.423289183222959}]
["POPE LNW26/27Scheduled Utilisation",{"$f":"IF(ISBLANK('Competition Data'!A415),\"\",'Competition Data'!A415)","v":"POPE LN"},{"$f":"IF(ISBLANK('Competition Data'!H415),\"\",'Competition Data'!H415)","v":""},{"$f":"IF(ISBLANK('Competition Data'!B415),\"\",'Competition Data'!B415)","v":"W26/27"},{"$f":"IF(ISBLANK('Competition Data'!C415),\"\",'Competition Data'!C415)","v":"Scheduled Utilisation"},{"$f":"IF(ISBLANK('Competition Data'!G415),\"\",'Competition Data'!G415)","v":892.77},{"$f":"IF(ISBLANK('Competition Data'!D415),\"\",'Competition Data'!D415)","v":604},{"$f":"IF(ISBLANK('Competition Data'!E415),\"\",'Competition Data'!E415)","v":"0"},{"$f":"IF(ISBLANK('Competition Data'!F415),\"\",'Competition Data'!F415)","v":0.09},"POPE LN (Scheduled Utilisation)",{"$f":"IF(ISBLANK('Competition Data'!I415),\"\",'Competition Data'!I415)","v":16.423289183222959}]
["Queens ParkW26/27Variable Availability + Operational Utilisation",{"$f":"IF(ISBLANK('Competition Data'!A416),\"\",'Competition Data'!A416)","v":"Queens Park"},{"$f":"IF(ISBLANK('Competition Data'!H416),\"\",'Competition Data'!H416)","v":""},{"$f":"IF(ISBLANK('Competition Data'!B416),\"\",'Competition Data'!B416)","v":"W26/27"},{"$f":"IF(ISBLANK('Competition Data'!C416),\"\",'Competition Data'!C416)","v":"Variable Availability + Operational Utilisation"},{"$f":"IF(ISBLANK('Competition Data'!G416),\"\",'Competition Data'!G416)","v":113624},{"$f":"IF(ISBLANK('Competition Data'!D416),\"\",'Competition Data'!D416)","v":48},{"$f":"IF(ISBLANK('Competition Data'!E416),\"\",'Competition Data'!E416)","v":"425"},{"$f":"IF(ISBLANK('Competition Data'!F416),\"\",'Competition Data'!F416)","v":5.12},"Queens Park (Variable Availability + Operational Utilisation)",{"$f":"IF(ISBLANK('Competition Data'!I416),\"\",'Competition Data'!I416)","v":"N/A"}]
["Queens ParkW26/27Peak Reduction",{"$f":"IF(ISBLANK('Competition Data'!A417),\"\",'Competition Data'!A417)","v":"Queens Park"},{"$f":"IF(ISBLANK('Competition Data'!H417),\"\",'Competition Data'!H417)","v":""},{"$f":"IF(ISBLANK('Competition Data'!B417),\"\",'Competition Data'!B417)","v":"W26/27"},{"$f":"IF(ISBLANK('Competition Data'!C417),\"\",'Competition Data'!C417)","v":"Peak Reduction"},{"$f":"IF(ISBLANK('Competition Data'!G417),\"\",'Competition Data'!G417)","v":113624},{"$f":"IF(ISBLANK('Competition Data'!D417),\"\",'Competition Data'!D417)","v":3624},{"$f":"IF(ISBLANK('Competition Data'!E417),\"\",'Competition Data'!E417)","v":"0"},{"$f":"IF(ISBLANK('Competition Data'!F417),\"\",'Competition Data'!F417)","v":5.12},"Queens Park (Peak Reduction)",{"$f":"IF(ISBLANK('Competition Data'!I417),\"\",'Competition Data'!I417)","v":6.1236720474613682}]
["QUEENSWAY (WARTON)W26/27Peak Reduction",{"$f":"IF(ISBLANK('Competition Data'!A418),\"\",'Competition Data'!A418)","v":"QUEENSWAY (WARTON)"},{"$f":"IF(ISBLANK('Competition Data'!H418),\"\",'Competition Data'!H418)","v":""},{"$f":"IF(ISBLANK('Competition Data'!B418),\"\",'Competition Data'!B418)","v":"W26/27"},{"$f":"IF(ISBLANK('Competition Data'!C418),\"\",'Competition Data'!C418)","v":"Peak Reduction"},{"$f":"IF(ISBLANK('Competition Data'!G418),\"\",'Competition Data'!G418)","v":892.77},{"$f":"IF(ISBLANK('Competition Data'!D418),\"\",'Competition Data'!D418)","v":604},{"$f":"IF(ISBLANK('Competition Data'!E418),\"\",'Competition Data'!E418)","v":"0"},{"$f":"IF(ISBLANK('Competition Data'!F418),\"\",'Competition Data'!F418)","v":0.02},"QUEENSWAY (WARTON) (Peak Reduction)",{"$f":"IF(ISBLANK('Competition Data'!I418),\"\",'Competition Data'!I418)","v":73.90480132450331}]
["QUEENSWAY (WARTON)W26/27Scheduled Utilisation",{"$f":"IF(ISBLANK('Competition Data'!A419),\"\",'Competition Data'!A419)","v":"QUEENSWAY (WARTON)"},{"$f":"IF(ISBLANK('Competition Data'!H419),\"\",'Competition Data'!H419)","v":""},{"$f":"IF(ISBLANK('Competition Data'!B419),\"\",'Competition Data'!B419)","v":"W26/27"},{"$f":"IF(ISBLANK('Competition Data'!C419),\"\",'Competition Data'!C419)","v":"Scheduled Utilisation"},{"$f":"IF(ISBLANK('Competition Data'!G419),\"\",'Competition Data'!G419)","v":892.77},{"$f":"IF(ISBLANK('Competition Data'!D419),\"\",'Competition Data'!D419)","v":604},{"$f":"IF(ISBLANK('Competition Data'!E419),\"\",'Competition Data'!E419)","v":"0"},{"$f":"IF(ISBLANK('Competition Data'!F419),\"\",'Competition Data'!F419)","v":0.02},"QUEENSWAY (WARTON) (Scheduled Utilisation)",{"$f":"IF(ISBLANK('Competition Data'!I419),\"\",'Competition Data'!I419)","v":73.90480132450331}]
["REDESMERE DRW26/27Peak Reduction",{"$f":"IF(ISBLANK('Competition Data'!A420),\"\",'Competition Data'!A420)","v":"REDESMERE DR"},{"$f":"IF(ISBLANK('Competition Data'!H420),\"\",'Competition Data'!H420)","v":""},{"$f":"IF(ISBLANK('Competition Data'!B420),\"\",'Competition Data'!B420)","v":"W26/27"},{"$f":"IF(ISBLANK('Competition Data'!C420),\"\",'Competition Data'!C420)","v":"Peak Reduction"},{"$f":"IF(ISBLANK('Competition Data'!G420),\"\",'Competition Data'!G420)","v":892.77},{"$f":"IF(ISBLANK('Competition Data'!D420),\"\",'Competition Data'!D420)","v":604},{"$f":"IF(ISBLANK('Competition Data'!E420),\"\",'Competition Data'!E420)","v":"0"},{"$f":"IF(ISBLANK('Competition Data'!F420),\"\",'Competition Data'!F420)","v":0.01},"REDESMERE DR (Peak Reduction)",{"$f":"IF(ISBLANK('Competition Data'!I420),\"\",'Competition Data'!I420)","v":147.80960264900662}]
["REDESMERE DRW26/27Scheduled Utilisation",{"$f":"IF(ISBLANK('Competition Data'!A421),\"\",'Competition Data'!A421)","v":"REDESMERE DR"},{"$f":"IF(ISBLANK('Competition Data'!H421),\"\",'Competition Data'!H421)","v":""},{"$f":"IF(ISBLANK('Competition Data'!B421),\"\",'Competition Data'!B421)","v":"W26/27"},{"$f":"IF(ISBLANK('Competition Data'!C421),\"\",'Competition Data'!C421)","v":"Scheduled Utilisation"},{"$f":"IF(ISBLANK('Competition Data'!G421),\"\",'Competition Data'!G421)","v":892.77},{"$f":"IF(ISBLANK('Competition Data'!D421),\"\",'Competition Data'!D421)","v":604},{"$f":"IF(ISBLANK('Competition Data'!E421),\"\",'Competition Data'!E421)","v":"0"},{"$f":"IF(ISBLANK('Competition Data'!F421),\"\",'Competition Data'!F421)","v":0.01},"REDESMERE DR (Scheduled Utilisation)",{"$f":"IF(ISBLANK('Competition Data'!I421),\"\",'Competition Data'!I421)","v":147.80960264900662}]
["RIBBLESDALEW27/28Peak Reduction",{"$f":"IF(ISBLANK('Competition Data'!A422),\"\",'Competition Data'!A422)","v":"RIBBLESDALE"},{"$f":"IF(ISBLANK('Competition Data'!H422),\"\",'Competition Data'!H422)","v":""},{"$f":"IF(ISBLANK('Competition Data'!B422),\"\",'Competition Data'!B422)","v":"W27/28"},{"$f":"IF(ISBLANK('Competition Data'!C422),\"\",'Competition Data'!C422)","v":"Peak Reduction"},{"$f":"IF(ISBLANK('Competition Data'!G422),\"\",'Competition Data'!G422)","v":64727.519999999997},{"$f":"IF(ISBLANK('Competition Data'!D422),\"\",'Competition Data'!D422)","v":1216},{"$f":"IF(ISBLANK('Competition Data'!E422),\"\",'Competition Data'!E422)","v":"0"},{"$f":"IF(ISBLANK('Competition Data'!F422),\"\",'Competition Data'!F422)","v":1},"RIBBLESDALE (Peak Reduction)",{"$f":"IF(ISBLANK('Competition Data'!I422),\"\",'Competition Data'!I422)","v":53.229868421052629}]
["RIBBLESDALEW27/28Scheduled Utilisation",{"$f":"IF(ISBLANK('Competition Data'!A423),\"\",'Competition Data'!A423)","v":"RIBBLESDALE"},{"$f":"IF(ISBLANK('Competition Data'!H423),\"\",'Competition Data'!H423)","v":""},{"$f":"IF(ISBLANK('Competition Data'!B423),\"\",'Competition Data'!B423)","v":"W27/28"},{"$f":"IF(ISBLANK('Competition Data'!C423),\"\",'Competition Data'!C423)","v":"Scheduled Utilisation"},{"$f":"IF(ISBLANK('Competition Data'!G423),\"\",'Competition Data'!G423)","v":64727.519999999997},{"$f":"IF(ISBLANK('Competition Data'!D423),\"\",'Competition Data'!D423)","v":1216},{"$f":"IF(ISBLANK('Competition Data'!E423),\"\",'Competition Data'!E423)","v":"0"},{"$f":"IF(ISBLANK('Competition Data'!F423),\"\",'Competition Data'!F423)","v":1},"RIBBLESDALE (Scheduled Utilisation)",{"$f":"IF(ISBLANK('Competition Data'!I423),\"\",'Competition Data'!I423)","v":53.229868421052629}]
["RisleyW26/27Variable Availability + Operational Utilisation",{"$f":"IF(ISBLANK('Competition Data'!A424),\"\",'Competition Data'!A424)","v":"Risley"},{"$f":"IF(ISBLANK('Competition Data'!H424),\"\",'Competition Data'!H424)","v":""},{"$f":"IF(ISBLANK('Competition Data'!B424),\"\",'Competition Data'!B424)","v":"W26/27"},{"$f":"IF(ISBLANK('Competition Data'!C424),\"\",'Competition Data'!C424)","v":"Variable Availability + Operational Utilisation"},{"$f":"IF(ISBLANK('Competition Data'!G424),\"\",'Competition Data'!G424)","v":15060},{"$f":"IF(ISBLANK('Competition Data'!D424),\"\",'Competition Data'!D424)","v":48},{"$f":"IF(ISBLANK('Competition Data'!E424),\"\",'Competition Data'!E424)","v":"316"},{"$f":"IF(ISBLANK('Competition Data'!F424),\"\",'Competition Data'!F424)","v":4.3499999999999996},"Risley (Variable Availability + Operational Utilisation)",{"$f":"IF(ISBLANK('Competition Data'!I424),\"\",'Competition Data'!I424)","v":"N/A"}]
["RisleyW26/27Peak Reduction",{"$f":"IF(ISBLANK('Competition Data'!A425),\"\",'Competition Data'!A425)","v":"Risley"},{"$f":"IF(ISBLANK('Competition Data'!H425),\"\",'Competition Data'!H425)","v":""},{"$f":"IF(ISBLANK('Competition Data'!B425),\"\",'Competition Data'!B425)","v":"W26/27"},{"$f":"IF(ISBLANK('Competition Data'!C425),\"\",'Competition Data'!C425)","v":"Peak Reduction"},{"$f":"IF(ISBLANK('Competition Data'!G425),\"\",'Competition Data'!G425)","v":15060},{"$f":"IF(ISBLANK('Competition Data'!D425),\"\",'Competition Data'!D425)","v":3624},{"$f":"IF(ISBLANK('Competition Data'!E425),\"\",'Competition Data'!E425)","v":"0"},{"$f":"IF(ISBLANK('Competition Data'!F425),\"\",'Competition Data'!F425)","v":4.3499999999999996},"Risley (Peak Reduction)",{"$f":"IF(ISBLANK('Competition Data'!I425),\"\",'Competition Data'!I425)","v":0.95531704346502255}]
["RisleyW27/28Variable Availability + Operational Utilisation",{"$f":"IF(ISBLANK('Competition Data'!A426),\"\",'Competition Data'!A426)","v":"Risley"},{"$f":"IF(ISBLANK('Competition Data'!H426),\"\",'Competition Data'!H426)","v":""},{"$f":"IF(ISBLANK('Competition Data'!B426),\"\",'Competition Data'!B426)","v":"W27/28"},{"$f":"IF(ISBLANK('Competition Data'!C426),\"\",'Competition Data'!C426)","v":"Variable Availability + Operational Utilisation"},{"$f":"IF(ISBLANK('Competition Data'!G426),\"\",'Competition Data'!G426)","v":15060},{"$f":"IF(ISBLANK('Competition Data'!D426),\"\",'Competition Data'!D426)","v":48},{"$f":"IF(ISBLANK('Competition Data'!E426),\"\",'Competition Data'!E426)","v":"361"},{"$f":"IF(ISBLANK('Competition Data'!F426),\"\",'Competition Data'!F426)","v":4.6399999999999997},"Risley (Variable Availability + Operational Utilisation)",{"$f":"IF(ISBLANK('Competition Data'!I426),\"\",'Competition Data'!I426)","v":"N/A"}]
["RisleyW27/28Peak Reduction",{"$f":"IF(ISBLANK('Competition Data'!A427),\"\",'Competition Data'!A427)","v":"Risley"},{"$f":"IF(ISBLANK('Competition Data'!H427),\"\",'Competition Data'!H427)","v":""},{"$f":"IF(ISBLANK('Competition Data'!B427),\"\",'Competition Data'!B427)","v":"W27/28"},{"$f":"IF(ISBLANK('Competition Data'!C427),\"\",'Competition Data'!C427)","v":"Peak Reduction"},{"$f":"IF(ISBLANK('Competition Data'!G427),\"\",'Competition Data'!G427)","v":15060},{"$f":"IF(ISBLANK('Competition Data'!D427),\"\",'Competition Data'!D427)","v":4392},{"$f":"IF(ISBLANK('Competition Data'!E427),\"\",'Competition Data'!E427)","v":"0"},{"$f":"IF(ISBLANK('Competition Data'!F427),\"\",'Competition Data'!F427)","v":4.6399999999999997},"Risley (Peak Reduction)",{"$f":"IF(ISBLANK('Competition Data'!I427),\"\",'Competition Data'!I427)","v":0.73900037686075004}]
["RomileyW26/27Variable Availability + Operational Utilisation",{"$f":"IF(ISBLANK('Competition Data'!A428),\"\",'Competition Data'!A428)","v":"Romiley"},{"$f":"IF(ISBLANK('Competition Data'!H428),\"\",'Competition Data'!H428)","v":""},{"$f":"IF(ISBLANK('Competition Data'!B428),\"\",'Competition Data'!B428)","v":"W26/27"},{"$f":"IF(ISBLANK('Competition Data'!C428),\"\",'Competition Data'!C428)","v":"Variable Availability + Operational Utilisation"},{"$f":"IF(ISBLANK('Competition Data'!G428),\"\",'Competition Data'!G428)","v":47303},{"$f":"IF(ISBLANK('Competition Data'!D428),\"\",'Competition Data'!D428)","v":48},{"$f":"IF(ISBLANK('Competition Data'!E428),\"\",'Competition Data'!E428)","v":"67"},{"$f":"IF(ISBLANK('Competition Data'!F428),\"\",'Competition Data'!F428)","v":2.23},"Romiley (Variable Availability + Operational Utilisation)",{"$f":"IF(ISBLANK('Competition Data'!I428),\"\",'Competition Data'!I428)","v":"N/A"}]
["RomileyW26/27Peak Reduction",{"$f":"IF(ISBLANK('Competition Data'!A429),\"\",'Competition Data'!A429)","v":"Romiley"},{"$f":"IF(ISBLANK('Competition Data'!H429),\"\",'Competition Data'!H429)","v":""},{"$f":"IF(ISBLANK('Competition Data'!B429),\"\",'Competition Data'!B429)","v":"W26/27"},{"$f":"IF(ISBLANK('Competition Data'!C429),\"\",'Competition Data'!C429)","v":"Peak Reduction"},{"$f":"IF(ISBLANK('Competition Data'!G429),\"\",'Competition Data'!G429)","v":47303},{"$f":"IF(ISBLANK('Competition Data'!D429),\"\",'Competition Data'!D429)","v":3624},{"$f":"IF(ISBLANK('Competition Data'!E429),\"\",'Competition Data'!E429)","v":"0"},{"$f":"IF(ISBLANK('Competition Data'!F429),\"\",'Competition Data'!F429)","v":2.23},"Romiley (Peak Reduction)",{"$f":"IF(ISBLANK('Competition Data'!I429),\"\",'Competition Data'!I429)","v":5.8532305803858682}]
["RomileyW27/28Variable Availability + Operational Utilisation",{"$f":"IF(ISBLANK('Competition Data'!A430),\"\",'Competition Data'!A430)","v":"Romiley"},{"$f":"IF(ISBLANK('Competition Data'!H430),\"\",'Competition Data'!H430)","v":""},{"$f":"IF(ISBLANK('Competition Data'!B430),\"\",'Competition Data'!B430)","v":"W27/28"},{"$f":"IF(ISBLANK('Competition Data'!C430),\"\",'Competition Data'!C430)","v":"Variable Availability + Operational Utilisation"},{"$f":"IF(ISBLANK('Competition Data'!G430),\"\",'Competition Data'!G430)","v":47303},{"$f":"IF(ISBLANK('Competition Data'!D430),\"\",'Competition Data'!D430)","v":48},{"$f":"IF(ISBLANK('Competition Data'!E430),\"\",'Competition Data'!E430)","v":"79"},{"$f":"IF(ISBLANK('Competition Data'!F430),\"\",'Competition Data'!F430)","v":2.46},"Romiley (Variable Availability + Operational Utilisation)",{"$f":"IF(ISBLANK('Competition Data'!I430),\"\",'Competition Data'!I430)","v":"N/A"}]
["RomileyW27/28Peak Reduction",{"$f":"IF(ISBLANK('Competition Data'!A431),\"\",'Competition Data'!A431)","v":"Romiley"},{"$f":"IF(ISBLANK('Competition Data'!H431),\"\",'Competition Data'!H431)","v":""},{"$f":"IF(ISBLANK('Competition Data'!B431),\"\",'Competition Data'!B431)","v":"W27/28"},{"$f":"IF(ISBLANK('Competition Data'!C431),\"\",'Competition Data'!C431)","v":"Peak Reduction"},{"$f":"IF(ISBLANK('Competition Data'!G431),\"\",'Competition Data'!G431)","v":47303},{"$f":"IF(ISBLANK('Competition Data'!D431),\"\",'Competition Data'!D431)","v":4392},{"$f":"IF(ISBLANK('Competition Data'!E431),\"\",'Competition Data'!E431)","v":"0"},{"$f":"IF(ISBLANK('Competition Data'!F431),\"\",'Competition Data'!F431)","v":2.46},"Romiley (Peak Reduction)",{"$f":"IF(ISBLANK('Competition Data'!I431),\"\",'Competition Data'!I431)","v":4.3781561449494282}]
["ROSEWOOD AVEW26/27Peak Reduction",{"$f":"IF(ISBLANK('Competition Data'!A432),\"\",'Competition Data'!A432)","v":"ROSEWOOD AVE"},{"$f":"IF(ISBLANK('Competition Data'!H432),\"\",'Competition Data'!H432)","v":""},{"$f":"IF(ISBLANK('Competition Data'!B432),\"\",'Competition Data'!B432)","v":"W26/27"},{"$f":"IF(ISBLANK('Competition Data'!C432),\"\",'Competition Data'!C432)","v":"Peak Reduction"},{"$f":"IF(ISBLANK('Competition Data'!G432),\"\",'Competition Data'!G432)","v":892.77},{"$f":"IF(ISBLANK('Competition Data'!D432),\"\",'Competition Data'!D432)","v":604},{"$f":"IF(ISBLANK('Competition Data'!E432),\"\",'Competition Data'!E432)","v":"0"},{"$f":"IF(ISBLANK('Competition Data'!F432),\"\",'Competition Data'!F432)","v":0.02},"ROSEWOOD AVE (Peak Reduction)",{"$f":"IF(ISBLANK('Competition Data'!I432),\"\",'Competition Data'!I432)","v":73.90480132450331}]
["ROSEWOOD AVEW26/27Scheduled Utilisation",{"$f":"IF(ISBLANK('Competition Data'!A433),\"\",'Competition Data'!A433)","v":"ROSEWOOD AVE"},{"$f":"IF(ISBLANK('Competition Data'!H433),\"\",'Competition Data'!H433)","v":""},{"$f":"IF(ISBLANK('Competition Data'!B433),\"\",'Competition Data'!B433)","v":"W26/27"},{"$f":"IF(ISBLANK('Competition Data'!C433),\"\",'Competition Data'!C433)","v":"Scheduled Utilisation"},{"$f":"IF(ISBLANK('Competition Data'!G433),\"\",'Competition Data'!G433)","v":892.77},{"$f":"IF(ISBLANK('Competition Data'!D433),\"\",'Competition Data'!D433)","v":604},{"$f":"IF(ISBLANK('Competition Data'!E433),\"\",'Competition Data'!E433)","v":"0"},{"$f":"IF(ISBLANK('Competition Data'!F433),\"\",'Competition Data'!F433)","v":0.02},"ROSEWOOD AVE (Scheduled Utilisation)",{"$f":"IF(ISBLANK('Competition Data'!I433),\"\",'Competition Data'!I433)","v":73.90480132450331}]
["RossallFY27Operational Utilisation",{"$f":"IF(ISBLANK('Competition Data'!A434),\"\",'Competition Data'!A434)","v":"Rossall"},{"$f":"IF(ISBLANK('Competition Data'!H434),\"\",'Competition Data'!H434)","v":""},{"$f":"IF(ISBLANK('Competition Data'!B434),\"\",'Competition Data'!B434)","v":"FY27"},{"$f":"IF(ISBLANK('Competition Data'!C434),\"\",'Competition Data'!C434)","v":"Operational Utilisation"},{"$f":"IF(ISBLANK('Competition Data'!G434),\"\",'Competition Data'!G434)","v":46620.12},{"$f":"IF(ISBLANK('Competition Data'!D434),\"\",'Competition Data'!D434)","v":100},{"$f":"IF(ISBLANK('Competition Data'!E434),\"\",'Competition Data'!E434)","v":"0"},{"$f":"IF(ISBLANK('Competition Data'!F434),\"\",'Competition Data'!F434)","v":2.7},"Rossall (Operational Utilisation)",{"$f":"IF(ISBLANK('Competition Data'!I434),\"\",'Competition Data'!I434)","v":172.6671111111111}]
["RossallFY28Operational Utilisation",{"$f":"IF(ISBLANK('Competition Data'!A435),\"\",'Competition Data'!A435)","v":"Rossall"},{"$f":"IF(ISBLANK('Competition Data'!H435),\"\",'Competition Data'!H435)","v":""},{"$f":"IF(ISBLANK('Competition Data'!B435),\"\",'Competition Data'!B435)","v":"FY28"},{"$f":"IF(ISBLANK('Competition Data'!C435),\"\",'Competition Data'!C435)","v":"Operational Utilisation"},{"$f":"IF(ISBLANK('Competition Data'!G435),\"\",'Competition Data'!G435)","v":46620.12},{"$f":"IF(ISBLANK('Competition Data'!D435),\"\",'Competition Data'!D435)","v":100},{"$f":"IF(ISBLANK('Competition Data'!E435),\"\",'Competition Data'!E435)","v":"0"},{"$f":"IF(ISBLANK('Competition Data'!F435),\"\",'Competition Data'!F435)","v":2.7},"Rossall (Operational Utilisation)",{"$f":"IF(ISBLANK('Competition Data'!I435),\"\",'Competition Data'!I435)","v":172.6671111111111}]
["RUSSELL STW26/27Peak Reduction",{"$f":"IF(ISBLANK('Competition Data'!A436),\"\",'Competition Data'!A436)","v":"RUSSELL ST"},{"$f":"IF(ISBLANK('Competition Data'!H436),\"\",'Competition Data'!H436)","v":""},{"$f":"IF(ISBLANK('Competition Data'!B436),\"\",'Competition Data'!B436)","v":"W26/27"},{"$f":"IF(ISBLANK('Competition Data'!C436),\"\",'Competition Data'!C436)","v":"Peak Reduction"},{"$f":"IF(ISBLANK('Competition Data'!G436),\"\",'Competition Data'!G436)","v":892.77},{"$f":"IF(ISBLANK('Competition Data'!D436),\"\",'Competition Data'!D436)","v":604},{"$f":"IF(ISBLANK('Competition Data'!E436),\"\",'Competition Data'!E436)","v":"0"},{"$f":"IF(ISBLANK('Competition Data'!F436),\"\",'Competition Data'!F436)","v":0.01},"RUSSELL ST (Peak Reduction)",{"$f":"IF(ISBLANK('Competition Data'!I436),\"\",'Competition Data'!I436)","v":147.80960264900662}]
["RUSSELL STW26/27Scheduled Utilisation",{"$f":"IF(ISBLANK('Competition Data'!A437),\"\",'Competition Data'!A437)","v":"RUSSELL ST"},{"$f":"IF(ISBLANK('Competition Data'!H437),\"\",'Competition Data'!H437)","v":""},{"$f":"IF(ISBLANK('Competition Data'!B437),\"\",'Competition Data'!B437)","v":"W26/27"},{"$f":"IF(ISBLANK('Competition Data'!C437),\"\",'Competition Data'!C437)","v":"Scheduled Utilisation"},{"$f":"IF(ISBLANK('Competition Data'!G437),\"\",'Competition Data'!G437)","v":892.77},{"$f":"IF(ISBLANK('Competition Data'!D437),\"\",'Competition Data'!D437)","v":604},{"$f":"IF(ISBLANK('Competition Data'!E437),\"\",'Competition Data'!E437)","v":"0"},{"$f":"IF(ISBLANK('Competition Data'!F437),\"\",'Competition Data'!F437)","v":0.01},"RUSSELL ST (Scheduled Utilisation)",{"$f":"IF(ISBLANK('Competition Data'!I437),\"\",'Competition Data'!I437)","v":147.80960264900662}]
["SALE RDW26/27Peak Reduction",{"$f":"IF(ISBLANK('Competition Data'!A438),\"\",'Competition Data'!A438)","v":"SALE RD"},{"$f":"IF(ISBLANK('Competition Data'!H438),\"\",'Competition Data'!H438)","v":""},{"$f":"IF(ISBLANK('Competition Data'!B438),\"\",'Competition Data'!B438)","v":"W26/27"},{"$f":"IF(ISBLANK('Competition Data'!C438),\"\",'Competition Data'!C438)","v":"Peak Reduction"},{"$f":"IF(ISBLANK('Competition Data'!G438),\"\",'Competition Data'!G438)","v":892.77},{"$f":"IF(ISBLANK('Competition Data'!D438),\"\",'Competition Data'!D438)","v":604},{"$f":"IF(ISBLANK('Competition Data'!E438),\"\",'Competition Data'!E438)","v":"0"},{"$f":"IF(ISBLANK('Competition Data'!F438),\"\",'Competition Data'!F438)","v":0.02},"SALE RD (Peak Reduction)",{"$f":"IF(ISBLANK('Competition Data'!I438),\"\",'Competition Data'!I438)","v":73.90480132450331}]
["SALE RDW26/27Scheduled Utilisation",{"$f":"IF(ISBLANK('Competition Data'!A439),\"\",'Competition Data'!A439)","v":"SALE RD"},{"$f":"IF(ISBLANK('Competition Data'!H439),\"\",'Competition Data'!H439)","v":""},{"$f":"IF(ISBLANK('Competition Data'!B439),\"\",'Competition Data'!B439)","v":"W26/27"},{"$f":"IF(ISBLANK('Competition Data'!C439),\"\",'Competition Data'!C439)","v":"Scheduled Utilisation"},{"$f":"IF(ISBLANK('Competition Data'!G439),\"\",'Competition Data'!G439)","v":892.77},{"$f":"IF(ISBLANK('Competition Data'!D439),\"\",'Competition Data'!D439)","v":604},{"$f":"IF(ISBLANK('Competition Data'!E439),\"\",'Competition Data'!E439)","v":"0"},{"$f":"IF(ISBLANK('Competition Data'!F439),\"\",'Competition Data'!F439)","v":0.02},"SALE RD (Scheduled Utilisation)",{"$f":"IF(ISBLANK('Competition Data'!I439),\"\",'Competition Data'!I439)","v":73.90480132450331}]
["SANDHURST AVEW26/27Peak Reduction",{"$f":"IF(ISBLANK('Competition Data'!A440),\"\",'Competition Data'!A440)","v":"SANDHURST AVE"},{"$f":"IF(ISBLANK('Competition Data'!H440),\"\",'Competition Data'!H440)","v":""},{"$f":"IF(ISBLANK('Competition Data'!B440),\"\",'Competition Data'!B440)","v":"W26/27"},{"$f":"IF(ISBLANK('Competition Data'!C440),\"\",'Competition Data'!C440)","v":"Peak Reduction"},{"$f":"IF(ISBLANK('Competition Data'!G440),\"\",'Competition Data'!G440)","v":892.77},{"$f":"IF(ISBLANK('Competition Data'!D440),\"\",'Competition Data'!D440)","v":604},{"$f":"IF(ISBLANK('Competition Data'!E440),\"\",'Competition Data'!E440)","v":"0"},{"$f":"IF(ISBLANK('Competition Data'!F440),\"\",'Competition Data'!F440)","v":0.01},"SANDHURST AVE (Peak Reduction)",{"$f":"IF(ISBLANK('Competition Data'!I440),\"\",'Competition Data'!I440)","v":147.80960264900662}]
["SANDHURST AVEW26/27Scheduled Utilisation",{"$f":"IF(ISBLANK('Competition Data'!A441),\"\",'Competition Data'!A441)","v":"SANDHURST AVE"},{"$f":"IF(ISBLANK('Competition Data'!H441),\"\",'Competition Data'!H441)","v":""},{"$f":"IF(ISBLANK('Competition Data'!B441),\"\",'Competition Data'!B441)","v":"W26/27"},{"$f":"IF(ISBLANK('Competition Data'!C441),\"\",'Competition Data'!C441)","v":"Scheduled Utilisation"},{"$f":"IF(ISBLANK('Competition Data'!G441),\"\",'Competition Data'!G441)","v":892.77},{"$f":"IF(ISBLANK('Competition Data'!D441),\"\",'Competition Data'!D441)","v":604},{"$f":"IF(ISBLANK('Competition Data'!E441),\"\",'Competition Data'!E441)","v":"0"},{"$f":"IF(ISBLANK('Competition Data'!F441),\"\",'Competition Data'!F441)","v":0.01},"SANDHURST AVE (Scheduled Utilisation)",{"$f":"IF(ISBLANK('Competition Data'!I441),\"\",'Competition Data'!I441)","v":147.80960264900662}]
["SAVILLE RDW26/27Peak Reduction",{"$f":"IF(ISBLANK('Competition Data'!A442),\"\",'Competition Data'!A442)","v":"SAVILLE RD"},{"$f":"IF(ISBLANK('Competition Data'!H442),\"\",'Competition Data'!H442)","v":""},{"$f":"IF(ISBLANK('Competition Data'!B442),\"\",'Competition Data'!B442)","v":"W26/27"},{"$f":"IF(ISBLANK('Competition Data'!C442),\"\",'Competition Data'!C442)","v":"Peak Reduction"},{"$f":"IF(ISBLANK('Competition Data'!G442),\"\",'Competition Data'!G442)","v":892.77},{"$f":"IF(ISBLANK('Competition Data'!D442),\"\",'Competition Data'!D442)","v":604},{"$f":"IF(ISBLANK('Competition Data'!E442),\"\",'Competition Data'!E442)","v":"0"},{"$f":"IF(ISBLANK('Competition Data'!F442),\"\",'Competition Data'!F442)","v":0.02},"SAVILLE RD (Peak Reduction)",{"$f":"IF(ISBLANK('Competition Data'!I442),\"\",'Competition Data'!I442)","v":73.90480132450331}]
["SAVILLE RDW26/27Scheduled Utilisation",{"$f":"IF(ISBLANK('Competition Data'!A443),\"\",'Competition Data'!A443)","v":"SAVILLE RD"},{"$f":"IF(ISBLANK('Competition Data'!H443),\"\",'Competition Data'!H443)","v":""},{"$f":"IF(ISBLANK('Competition Data'!B443),\"\",'Competition Data'!B443)","v":"W26/27"},{"$f":"IF(ISBLANK('Competition Data'!C443),\"\",'Competition Data'!C443)","v":"Scheduled Utilisation"},{"$f":"IF(ISBLANK('Competition Data'!G443),\"\",'Competition Data'!G443)","v":892.77},{"$f":"IF(ISBLANK('Competition Data'!D443),\"\",'Competition Data'!D443)","v":604},{"$f":"IF(ISBLANK('Competition Data'!E443),\"\",'Competition Data'!E443)","v":"0"},{"$f":"IF(ISBLANK('Competition Data'!F443),\"\",'Competition Data'!F443)","v":0.02},"SAVILLE RD (Scheduled Utilisation)",{"$f":"IF(ISBLANK('Competition Data'!I443),\"\",'Competition Data'!I443)","v":73.90480132450331}]
["ScarisbrickFY27Operational Utilisation",{"$f":"IF(ISBLANK('Competition Data'!A444),\"\",'Competition Data'!A444)","v":"Scarisbrick"},{"$f":"IF(ISBLANK('Competition Data'!H444),\"\",'Competition Data'!H444)","v":""},{"$f":"IF(ISBLANK('Competition Data'!B444),\"\",'Competition Data'!B444)","v":"FY27"},{"$f":"IF(ISBLANK('Competition Data'!C444),\"\",'Competition Data'!C444)","v":"Operational Utilisation"},{"$f":"IF(ISBLANK('Competition Data'!G444),\"\",'Competition Data'!G444)","v":93185},{"$f":"IF(ISBLANK('Competition Data'!D444),\"\",'Competition Data'!D444)","v":100},{"$f":"IF(ISBLANK('Competition Data'!E444),\"\",'Competition Data'!E444)","v":"0"},{"$f":"IF(ISBLANK('Competition Data'!F444),\"\",'Competition Data'!F444)","v":3.7},"Scarisbrick (Operational Utilisation)",{"$f":"IF(ISBLANK('Competition Data'!I444),\"\",'Competition Data'!I444)","v":251.85135135135135}]
["ScarisbrickFY28Operational Utilisation",{"$f":"IF(ISBLANK('Competition Data'!A445),\"\",'Competition Data'!A445)","v":"Scarisbrick"},{"$f":"IF(ISBLANK('Competition Data'!H445),\"\",'Competition Data'!H445)","v":""},{"$f":"IF(ISBLANK('Competition Data'!B445),\"\",'Competition Data'!B445)","v":"FY28"},{"$f":"IF(ISBLANK('Competition Data'!C445),\"\",'Competition Data'!C445)","v":"Operational Utilisation"},{"$f":"IF(ISBLANK('Competition Data'!G445),\"\",'Competition Data'!G445)","v":93185},{"$f":"IF(ISBLANK('Competition Data'!D445),\"\",'Competition Data'!D445)","v":100},{"$f":"IF(ISBLANK('Competition Data'!E445),\"\",'Competition Data'!E445)","v":"0"},{"$f":"IF(ISBLANK('Competition Data'!F445),\"\",'Competition Data'!F445)","v":3.7},"Scarisbrick (Operational Utilisation)",{"$f":"IF(ISBLANK('Competition Data'!I445),\"\",'Competition Data'!I445)","v":251.85135135135135}]
["SCOTT DRW26/27Peak Reduction",{"$f":"IF(ISBLANK('Competition Data'!A446),\"\",'Competition Data'!A446)","v":"SCOTT DR"},{"$f":"IF(ISBLANK('Competition Data'!H446),\"\",'Competition Data'!H446)","v":""},{"$f":"IF(ISBLANK('Competition Data'!B446),\"\",'Competition Data'!B446)","v":"W26/27"},{"$f":"IF(ISBLANK('Competition Data'!C446),\"\",'Competition Data'!C446)","v":"Peak Reduction"},{"$f":"IF(ISBLANK('Competition Data'!G446),\"\",'Competition Data'!G446)","v":892.77},{"$f":"IF(ISBLANK('Competition Data'!D446),\"\",'Competition Data'!D446)","v":604},{"$f":"IF(ISBLANK('Competition Data'!E446),\"\",'Competition Data'!E446)","v":"0"},{"$f":"IF(ISBLANK('Competition Data'!F446),\"\",'Competition Data'!F446)","v":0.01},"SCOTT DR (Peak Reduction)",{"$f":"IF(ISBLANK('Competition Data'!I446),\"\",'Competition Data'!I446)","v":147.80960264900662}]
["SCOTT DRW26/27Scheduled Utilisation",{"$f":"IF(ISBLANK('Competition Data'!A447),\"\",'Competition Data'!A447)","v":"SCOTT DR"},{"$f":"IF(ISBLANK('Competition Data'!H447),\"\",'Competition Data'!H447)","v":""},{"$f":"IF(ISBLANK('Competition Data'!B447),\"\",'Competition Data'!B447)","v":"W26/27"},{"$f":"IF(ISBLANK('Competition Data'!C447),\"\",'Competition Data'!C447)","v":"Scheduled Utilisation"},{"$f":"IF(ISBLANK('Competition Data'!G447),\"\",'Competition Data'!G447)","v":892.77},{"$f":"IF(ISBLANK('Competition Data'!D447),\"\",'Competition Data'!D447)","v":604},{"$f":"IF(ISBLANK('Competition Data'!E447),\"\",'Competition Data'!E447)","v":"0"},{"$f":"IF(ISBLANK('Competition Data'!F447),\"\",'Competition Data'!F447)","v":0.01},"SCOTT DR (Scheduled Utilisation)",{"$f":"IF(ISBLANK('Competition Data'!I447),\"\",'Competition Data'!I447)","v":147.80960264900662}]
["SeberghamFY27Operational Utilisation",{"$f":"IF(ISBLANK('Competition Data'!A448),\"\",'Competition Data'!A448)","v":"Sebergham"},{"$f":"IF(ISBLANK('Competition Data'!H448),\"\",'Competition Data'!H448)","v":""},{"$f":"IF(ISBLANK('Competition Data'!B448),\"\",'Competition Data'!B448)","v":"FY27"},{"$f":"IF(ISBLANK('Competition Data'!C448),\"\",'Competition Data'!C448)","v":"Operational Utilisation"},{"$f":"IF(ISBLANK('Competition Data'!G448),\"\",'Competition Data'!G448)","v":45409},{"$f":"IF(ISBLANK('Competition Data'!D448),\"\",'Competition Data'!D448)","v":100},{"$f":"IF(ISBLANK('Competition Data'!E448),\"\",'Competition Data'!E448)","v":"0"},{"$f":"IF(ISBLANK('Competition Data'!F448),\"\",'Competition Data'!F448)","v":4.0999999999999996},"Sebergham (Operational Utilisation)",{"$f":"IF(ISBLANK('Competition Data'!I448),\"\",'Competition Data'!I448)","v":110.75365853658536}]
["SeberghamFY28Operational Utilisation",{"$f":"IF(ISBLANK('Competition Data'!A449),\"\",'Competition Data'!A449)","v":"Sebergham"},{"$f":"IF(ISBLANK('Competition Data'!H449),\"\",'Competition Data'!H449)","v":""},{"$f":"IF(ISBLANK('Competition Data'!B449),\"\",'Competition Data'!B449)","v":"FY28"},{"$f":"IF(ISBLANK('Competition Data'!C449),\"\",'Competition Data'!C449)","v":"Operational Utilisation"},{"$f":"IF(ISBLANK('Competition Data'!G449),\"\",'Competition Data'!G449)","v":45409},{"$f":"IF(ISBLANK('Competition Data'!D449),\"\",'Competition Data'!D449)","v":100},{"$f":"IF(ISBLANK('Competition Data'!E449),\"\",'Competition Data'!E449)","v":"0"},{"$f":"IF(ISBLANK('Competition Data'!F449),\"\",'Competition Data'!F449)","v":4.0999999999999996},"Sebergham (Operational Utilisation)",{"$f":"IF(ISBLANK('Competition Data'!I449),\"\",'Competition Data'!I449)","v":110.75365853658536}]
["SedberghFY27Operational Utilisation",{"$f":"IF(ISBLANK('Competition Data'!A450),\"\",'Competition Data'!A450)","v":"Sedbergh"},{"$f":"IF(ISBLANK('Competition Data'!H450),\"\",'Competition Data'!H450)","v":""},{"$f":"IF(ISBLANK('Competition Data'!B450),\"\",'Competition Data'!B450)","v":"FY27"},{"$f":"IF(ISBLANK('Competition Data'!C450),\"\",'Competition Data'!C450)","v":"Operational Utilisation"},{"$f":"IF(ISBLANK('Competition Data'!G450),\"\",'Competition Data'!G450)","v":152135},{"$f":"IF(ISBLANK('Competition Data'!D450),\"\",'Competition Data'!D450)","v":100},{"$f":"IF(ISBLANK('Competition Data'!E450),\"\",'Competition Data'!E450)","v":"0"},{"$f":"IF(ISBLANK('Competition Data'!F450),\"\",'Competition Data'!F450)","v":4.4000000000000004},"Sedbergh (Operational Utilisation)",{"$f":"IF(ISBLANK('Competition Data'!I450),\"\",'Competition Data'!I450)","v":345.76136363636357}]
[{"$f":"CONCATENATE(B451,D451,E451)","v":"SedberghFY28Operational Utilisation"},{"$f":"IF(ISBLANK('Competition Data'!A451),\"\",'Competition Data'!A451)","v":"Sedbergh"},{"$f":"IF(ISBLANK('Competition Data'!H451),\"\",'Competition Data'!H451)","v":""},{"$f":"IF(ISBLANK('Competition Data'!B451),\"\",'Competition Data'!B451)","v":"FY28"},{"$f":"IF(ISBLANK('Competition Data'!C451),\"\",'Competition Data'!C451)","v":"Operational Utilisation"},{"$f":"IF(ISBLANK('Competition Data'!G451),\"\",'Competition Data'!G451)","v":152135},{"$f":"IF(ISBLANK('Competition Data'!D451),\"\",'Competition Data'!D451)","v":100},{"$f":"IF(ISBLANK('Competition Data'!E451),\"\",'Competition Data'!E451)","v":"0"},{"$f":"IF(ISBLANK('Competition Data'!F451),\"\",'Competition Data'!F451)","v":4.4000000000000004},{"$f":"CONCATENATE(B451,\" (\",E451,\")\")","v":"Sedbergh (Operational Utilisation)"},{"$f":"IF(ISBLANK('Competition Data'!I451),\"\",'Competition Data'!I451)","v":345.76136363636357}]
["SettleFY27Operational Utilisation",{"$f":"IF(ISBLANK('Competition Data'!A452),\"\",'Competition Data'!A452)","v":"Settle"},{"$f":"IF(ISBLANK('Competition Data'!H452),\"\",'Competition Data'!H452)","v":""},{"$f":"IF(ISBLANK('Competition Data'!B452),\"\",'Competition Data'!B452)","v":"FY27"},{"$f":"IF(ISBLANK('Competition Data'!C452),\"\",'Competition Data'!C452)","v":"Operational Utilisation"},{"$f":"IF(ISBLANK('Competition Data'!G452),\"\",'Competition Data'!G452)","v":145034},{"$f":"IF(ISBLANK('Competition Data'!D452),\"\",'Competition Data'!D452)","v":100},{"$f":"IF(ISBLANK('Competition Data'!E452),\"\",'Competition Data'!E452)","v":"0"},{"$f":"IF(ISBLANK('Competition Data'!F452),\"\",'Competition Data'!F452)","v":4.0999999999999996},"Settle (Operational Utilisation)",{"$f":"IF(ISBLANK('Competition Data'!I452),\"\",'Competition Data'!I452)","v":353.74146341463415}]
["SettleFY28Operational Utilisation",{"$f":"IF(ISBLANK('Competition Data'!A453),\"\",'Competition Data'!A453)","v":"Settle"},{"$f":"IF(ISBLANK('Competition Data'!H453),\"\",'Competition Data'!H453)","v":""},{"$f":"IF(ISBLANK('Competition Data'!B453),\"\",'Competition Data'!B453)","v":"FY28"},{"$f":"IF(ISBLANK('Competition Data'!C453),\"\",'Competition Data'!C453)","v":"Operational Utilisation"},{"$f":"IF(ISBLANK('Competition Data'!G453),\"\",'Competition Data'!G453)","v":145034},{"$f":"IF(ISBLANK('Competition Data'!D453),\"\",'Competition Data'!D453)","v":100},{"$f":"IF(ISBLANK('Competition Data'!E453),\"\",'Competition Data'!E453)","v":"0"},{"$f":"IF(ISBLANK('Competition Data'!F453),\"\",'Competition Data'!F453)","v":4.0999999999999996},"Settle (Operational Utilisation)",{"$f":"IF(ISBLANK('Competition Data'!I453),\"\",'Competition Data'!I453)","v":353.74146341463415}]
["SettleS27Variable Availability + Operational Utilisation",{"$f":"IF(ISBLANK('Competition Data'!A454),\"\",'Competition Data'!A454)","v":"Settle"},{"$f":"IF(ISBLANK('Competition Data'!H454),\"\",'Competition Data'!H454)","v":""},{"$f":"IF(ISBLANK('Competition Data'!B454),\"\",'Competition Data'!B454)","v":"S27"},{"$f":"IF(ISBLANK('Competition Data'!C454),\"\",'Competition Data'!C454)","v":"Variable Availability + Operational Utilisation"},{"$f":"IF(ISBLANK('Competition Data'!G454),\"\",'Competition Data'!G454)","v":18963},{"$f":"IF(ISBLANK('Competition Data'!D454),\"\",'Competition Data'!D454)","v":48},{"$f":"IF(ISBLANK('Competition Data'!E454),\"\",'Competition Data'!E454)","v":"241"},{"$f":"IF(ISBLANK('Competition Data'!F454),\"\",'Competition Data'!F454)","v":0.84},"Settle (Variable Availability + Operational Utilisation)",{"$f":"IF(ISBLANK('Competition Data'!I454),\"\",'Competition Data'!I454)","v":"N/A"}]
["SettleS27Peak Reduction",{"$f":"IF(ISBLANK('Competition Data'!A455),\"\",'Competition Data'!A455)","v":"Settle"},{"$f":"IF(ISBLANK('Competition Data'!H455),\"\",'Competition Data'!H455)","v":""},{"$f":"IF(ISBLANK('Competition Data'!B455),\"\",'Competition Data'!B455)","v":"S27"},{"$f":"IF(ISBLANK('Competition Data'!C455),\"\",'Competition Data'!C455)","v":"Peak Reduction"},{"$f":"IF(ISBLANK('Competition Data'!G455),\"\",'Competition Data'!G455)","v":18963},{"$f":"IF(ISBLANK('Competition Data'!D455),\"\",'Competition Data'!D455)","v":4392},{"$f":"IF(ISBLANK('Competition Data'!E455),\"\",'Competition Data'!E455)","v":"0"},{"$f":"IF(ISBLANK('Competition Data'!F455),\"\",'Competition Data'!F455)","v":0.84},"Settle (Peak Reduction)",{"$f":"IF(ISBLANK('Competition Data'!I455),\"\",'Competition Data'!I455)","v":5.1400273224043715}]
["SettleW26/27Variable Availability + Operational Utilisation",{"$f":"IF(ISBLANK('Competition Data'!A456),\"\",'Competition Data'!A456)","v":"Settle"},{"$f":"IF(ISBLANK('Competition Data'!H456),\"\",'Competition Data'!H456)","v":""},{"$f":"IF(ISBLANK('Competition Data'!B456),\"\",'Competition Data'!B456)","v":"W26/27"},{"$f":"IF(ISBLANK('Competition Data'!C456),\"\",'Competition Data'!C456)","v":"Variable Availability + Operational Utilisation"},{"$f":"IF(ISBLANK('Competition Data'!G456),\"\",'Competition Data'!G456)","v":56438},{"$f":"IF(ISBLANK('Competition Data'!D456),\"\",'Competition Data'!D456)","v":100},{"$f":"IF(ISBLANK('Competition Data'!E456),\"\",'Competition Data'!E456)","v":"1342"},{"$f":"IF(ISBLANK('Competition Data'!F456),\"\",'Competition Data'!F456)","v":1.58},"Settle (Variable Availability + Operational Utilisation)",{"$f":"IF(ISBLANK('Competition Data'!I456),\"\",'Competition Data'!I456)","v":"N/A"}]
["SettleW26/27Peak Reduction",{"$f":"IF(ISBLANK('Competition Data'!A457),\"\",'Competition Data'!A457)","v":"Settle"},{"$f":"IF(ISBLANK('Competition Data'!H457),\"\",'Competition Data'!H457)","v":""},{"$f":"IF(ISBLANK('Competition Data'!B457),\"\",'Competition Data'!B457)","v":"W26/27"},{"$f":"IF(ISBLANK('Competition Data'!C457),\"\",'Competition Data'!C457)","v":"Peak Reduction"},{"$f":"IF(ISBLANK('Competition Data'!G457),\"\",'Competition Data'!G457)","v":56438},{"$f":"IF(ISBLANK('Competition Data'!D457),\"\",'Competition Data'!D457)","v":3624},{"$f":"IF(ISBLANK('Competition Data'!E457),\"\",'Competition Data'!E457)","v":"0"},{"$f":"IF(ISBLANK('Competition Data'!F457),\"\",'Competition Data'!F457)","v":1.58},"Settle (Peak Reduction)",{"$f":"IF(ISBLANK('Competition Data'!I457),\"\",'Competition Data'!I457)","v":9.8565819990499346}]
["SettleW27/28Variable Availability + Operational Utilisation",{"$f":"IF(ISBLANK('Competition Data'!A458),\"\",'Competition Data'!A458)","v":"Settle"},{"$f":"IF(ISBLANK('Competition Data'!H458),\"\",'Competition Data'!H458)","v":""},{"$f":"IF(ISBLANK('Competition Data'!B458),\"\",'Competition Data'!B458)","v":"W27/28"},{"$f":"IF(ISBLANK('Competition Data'!C458),\"\",'Competition Data'!C458)","v":"Variable Availability + Operational Utilisation"},{"$f":"IF(ISBLANK('Competition Data'!G458),\"\",'Competition Data'!G458)","v":37475},{"$f":"IF(ISBLANK('Competition Data'!D458),\"\",'Competition Data'!D458)","v":100},{"$f":"IF(ISBLANK('Competition Data'!E458),\"\",'Competition Data'!E458)","v":"1574"},{"$f":"IF(ISBLANK('Competition Data'!F458),\"\",'Competition Data'!F458)","v":1.66},"Settle (Variable Availability + Operational Utilisation)",{"$f":"IF(ISBLANK('Competition Data'!I458),\"\",'Competition Data'!I458)","v":"N/A"}]
["SettleW27/28Peak Reduction",{"$f":"IF(ISBLANK('Competition Data'!A459),\"\",'Competition Data'!A459)","v":"Settle"},{"$f":"IF(ISBLANK('Competition Data'!H459),\"\",'Competition Data'!H459)","v":""},{"$f":"IF(ISBLANK('Competition Data'!B459),\"\",'Competition Data'!B459)","v":"W27/28"},{"$f":"IF(ISBLANK('Competition Data'!C459),\"\",'Competition Data'!C459)","v":"Peak Reduction"},{"$f":"IF(ISBLANK('Competition Data'!G459),\"\",'Competition Data'!G459)","v":37475},{"$f":"IF(ISBLANK('Competition Data'!D459),\"\",'Competition Data'!D459)","v":4392},{"$f":"IF(ISBLANK('Competition Data'!E459),\"\",'Competition Data'!E459)","v":"0"},{"$f":"IF(ISBLANK('Competition Data'!F459),\"\",'Competition Data'!F459)","v":1.66},"Settle (Peak Reduction)",{"$f":"IF(ISBLANK('Competition Data'!I459),\"\",'Competition Data'!I459)","v":5.1400959027366291}]
["SHAWFIELD LNW26/27Peak Reduction",{"$f":"IF(ISBLANK('Competition Data'!A460),\"\",'Competition Data'!A460)","v":"SHAWFIELD LN"},{"$f":"IF(ISBLANK('Competition Data'!H460),\"\",'Competition Data'!H460)","v":""},{"$f":"IF(ISBLANK('Competition Data'!B460),\"\",'Competition Data'!B460)","v":"W26/27"},{"$f":"IF(ISBLANK('Competition Data'!C460),\"\",'Competition Data'!C460)","v":"Peak Reduction"},{"$f":"IF(ISBLANK('Competition Data'!G460),\"\",'Competition Data'!G460)","v":892.77},{"$f":"IF(ISBLANK('Competition Data'!D460),\"\",'Competition Data'!D460)","v":604},{"$f":"IF(ISBLANK('Competition Data'!E460),\"\",'Competition Data'!E460)","v":"0"},{"$f":"IF(ISBLANK('Competition Data'!F460),\"\",'Competition Data'!F460)","v":0.01},"SHAWFIELD LN (Peak Reduction)",{"$f":"IF(ISBLANK('Competition Data'!I460),\"\",'Competition Data'!I460)","v":147.80960264900662}]
["SHAWFIELD LNW26/27Scheduled Utilisation",{"$f":"IF(ISBLANK('Competition Data'!A461),\"\",'Competition Data'!A461)","v":"SHAWFIELD LN"},{"$f":"IF(ISBLANK('Competition Data'!H461),\"\",'Competition Data'!H461)","v":""},{"$f":"IF(ISBLANK('Competition Data'!B461),\"\",'Competition Data'!B461)","v":"W26/27"},{"$f":"IF(ISBLANK('Competition Data'!C461),\"\",'Competition Data'!C461)","v":"Scheduled Utilisation"},{"$f":"IF(ISBLANK('Competition Data'!G461),\"\",'Competition Data'!G461)","v":892.77},{"$f":"IF(ISBLANK('Competition Data'!D461),\"\",'Competition Data'!D461)","v":604},{"$f":"IF(ISBLANK('Competition Data'!E461),\"\",'Competition Data'!E461)","v":"0"},{"$f":"IF(ISBLANK('Competition Data'!F461),\"\",'Competition Data'!F461)","v":0.01},"SHAWFIELD LN (Scheduled Utilisation)",{"$f":"IF(ISBLANK('Competition Data'!I461),\"\",'Competition Data'!I461)","v":147.80960264900662}]
["SLADE HALL RDW26/27Peak Reduction",{"$f":"IF(ISBLANK('Competition Data'!A462),\"\",'Competition Data'!A462)","v":"SLADE HALL RD"},{"$f":"IF(ISBLANK('Competition Data'!H462),\"\",'Competition Data'!H462)","v":""},{"$f":"IF(ISBLANK('Competition Data'!B462),\"\",'Competition Data'!B462)","v":"W26/27"},{"$f":"IF(ISBLANK('Competition Data'!C462),\"\",'Competition Data'!C462)","v":"Peak Reduction"},{"$f":"IF(ISBLANK('Competition Data'!G462),\"\",'Competition Data'!G462)","v":892.77},{"$f":"IF(ISBLANK('Competition Data'!D462),\"\",'Competition Data'!D462)","v":604},{"$f":"IF(ISBLANK('Competition Data'!E462),\"\",'Competition Data'!E462)","v":"0"},{"$f":"IF(ISBLANK('Competition Data'!F462),\"\",'Competition Data'!F462)","v":0.04},"SLADE HALL RD (Peak Reduction)",{"$f":"IF(ISBLANK('Competition Data'!I462),\"\",'Competition Data'!I462)","v":36.952400662251655}]
["SLADE HALL RDW26/27Scheduled Utilisation",{"$f":"IF(ISBLANK('Competition Data'!A463),\"\",'Competition Data'!A463)","v":"SLADE HALL RD"},{"$f":"IF(ISBLANK('Competition Data'!H463),\"\",'Competition Data'!H463)","v":""},{"$f":"IF(ISBLANK('Competition Data'!B463),\"\",'Competition Data'!B463)","v":"W26/27"},{"$f":"IF(ISBLANK('Competition Data'!C463),\"\",'Competition Data'!C463)","v":"Scheduled Utilisation"},{"$f":"IF(ISBLANK('Competition Data'!G463),\"\",'Competition Data'!G463)","v":892.77},{"$f":"IF(ISBLANK('Competition Data'!D463),\"\",'Competition Data'!D463)","v":604},{"$f":"IF(ISBLANK('Competition Data'!E463),\"\",'Competition Data'!E463)","v":"0"},{"$f":"IF(ISBLANK('Competition Data'!F463),\"\",'Competition Data'!F463)","v":0.04},"SLADE HALL RD (Scheduled Utilisation)",{"$f":"IF(ISBLANK('Competition Data'!I463),\"\",'Competition Data'!I463)","v":36.952400662251655}]
["SOUTH WEST MACCW27/28Peak Reduction",{"$f":"IF(ISBLANK('Competition Data'!A464),\"\",'Competition Data'!A464)","v":"SOUTH WEST MACC"},{"$f":"IF(ISBLANK('Competition Data'!H464),\"\",'Competition Data'!H464)","v":""},{"$f":"IF(ISBLANK('Competition Data'!B464),\"\",'Competition Data'!B464)","v":"W27/28"},{"$f":"IF(ISBLANK('Competition Data'!C464),\"\",'Competition Data'!C464)","v":"Peak Reduction"},{"$f":"IF(ISBLANK('Competition Data'!G464),\"\",'Competition Data'!G464)","v":64727.519999999997},{"$f":"IF(ISBLANK('Competition Data'!D464),\"\",'Competition Data'!D464)","v":1216},{"$f":"IF(ISBLANK('Competition Data'!E464),\"\",'Competition Data'!E464)","v":"0"},{"$f":"IF(ISBLANK('Competition Data'!F464),\"\",'Competition Data'!F464)","v":1},"SOUTH WEST MACC (Peak Reduction)",{"$f":"IF(ISBLANK('Competition Data'!I464),\"\",'Competition Data'!I464)","v":53.229868421052629}]
["SOUTH WEST MACCW27/28Scheduled Utilisation",{"$f":"IF(ISBLANK('Competition Data'!A465),\"\",'Competition Data'!A465)","v":"SOUTH WEST MACC"},{"$f":"IF(ISBLANK('Competition Data'!H465),\"\",'Competition Data'!H465)","v":""},{"$f":"IF(ISBLANK('Competition Data'!B465),\"\",'Competition Data'!B465)","v":"W27/28"},{"$f":"IF(ISBLANK('Competition Data'!C465),\"\",'Competition Data'!C465)","v":"Scheduled Utilisation"},{"$f":"IF(ISBLANK('Competition Data'!G465),\"\",'Competition Data'!G465)","v":64727.519999999997},{"$f":"IF(ISBLANK('Competition Data'!D465),\"\",'Competition Data'!D465)","v":1216},{"$f":"IF(ISBLANK('Competition Data'!E465),\"\",'Competition Data'!E465)","v":"0"},{"$f":"IF(ISBLANK('Competition Data'!F465),\"\",'Competition Data'!F465)","v":1},"SOUTH WEST MACC (Scheduled Utilisation)",{"$f":"IF(ISBLANK('Competition Data'!I465),\"\",'Competition Data'!I465)","v":53.229868421052629}]
["SPA RDW26/27Peak Reduction",{"$f":"IF(ISBLANK('Competition Data'!A466),\"\",'Competition Data'!A466)","v":"SPA RD"},{"$f":"IF(ISBLANK('Competition Data'!H466),\"\",'Competition Data'!H466)","v":""},{"$f":"IF(ISBLANK('Competition Data'!B466),\"\",'Competition Data'!B466)","v":"W26/27"},{"$f":"IF(ISBLANK('Competition Data'!C466),\"\",'Competition Data'!C466)","v":"Peak Reduction"},{"$f":"IF(ISBLANK('Competition Data'!G466),\"\",'Competition Data'!G466)","v":892.77},{"$f":"IF(ISBLANK('Competition Data'!D466),\"\",'Competition Data'!D466)","v":604},{"$f":"IF(ISBLANK('Competition Data'!E466),\"\",'Competition Data'!E466)","v":"0"},{"$f":"IF(ISBLANK('Competition Data'!F466),\"\",'Competition Data'!F466)","v":0.03},"SPA RD (Peak Reduction)",{"$f":"IF(ISBLANK('Competition Data'!I466),\"\",'Competition Data'!I466)","v":49.269867549668874}]
["SPA RDW26/27Scheduled Utilisation",{"$f":"IF(ISBLANK('Competition Data'!A467),\"\",'Competition Data'!A467)","v":"SPA RD"},{"$f":"IF(ISBLANK('Competition Data'!H467),\"\",'Competition Data'!H467)","v":""},{"$f":"IF(ISBLANK('Competition Data'!B467),\"\",'Competition Data'!B467)","v":"W26/27"},{"$f":"IF(ISBLANK('Competition Data'!C467),\"\",'Competition Data'!C467)","v":"Scheduled Utilisation"},{"$f":"IF(ISBLANK('Competition Data'!G467),\"\",'Competition Data'!G467)","v":892.77},{"$f":"IF(ISBLANK('Competition Data'!D467),\"\",'Competition Data'!D467)","v":604},{"$f":"IF(ISBLANK('Competition Data'!E467),\"\",'Competition Data'!E467)","v":"0"},{"$f":"IF(ISBLANK('Competition Data'!F467),\"\",'Competition Data'!F467)","v":0.03},"SPA RD (Scheduled Utilisation)",{"$f":"IF(ISBLANK('Competition Data'!I467),\"\",'Competition Data'!I467)","v":49.269867549668874}]
["SPENDMORE LN WW26/27Peak Reduction",{"$f":"IF(ISBLANK('Competition Data'!A468),\"\",'Competition Data'!A468)","v":"SPENDMORE LN W"},{"$f":"IF(ISBLANK('Competition Data'!H468),\"\",'Competition Data'!H468)","v":""},{"$f":"IF(ISBLANK('Competition Data'!B468),\"\",'Competition Data'!B468)","v":"W26/27"},{"$f":"IF(ISBLANK('Competition Data'!C468),\"\",'Competition Data'!C468)","v":"Peak Reduction"},{"$f":"IF(ISBLANK('Competition Data'!G468),\"\",'Competition Data'!G468)","v":892.77},{"$f":"IF(ISBLANK('Competition Data'!D468),\"\",'Competition Data'!D468)","v":604},{"$f":"IF(ISBLANK('Competition Data'!E468),\"\",'Competition Data'!E468)","v":"0"},{"$f":"IF(ISBLANK('Competition Data'!F468),\"\",'Competition Data'!F468)","v":0.02},"SPENDMORE LN W (Peak Reduction)",{"$f":"IF(ISBLANK('Competition Data'!I468),\"\",'Competition Data'!I468)","v":73.90480132450331}]
["SPENDMORE LN WW26/27Scheduled Utilisation",{"$f":"IF(ISBLANK('Competition Data'!A469),\"\",'Competition Data'!A469)","v":"SPENDMORE LN W"},{"$f":"IF(ISBLANK('Competition Data'!H469),\"\",'Competition Data'!H469)","v":""},{"$f":"IF(ISBLANK('Competition Data'!B469),\"\",'Competition Data'!B469)","v":"W26/27"},{"$f":"IF(ISBLANK('Competition Data'!C469),\"\",'Competition Data'!C469)","v":"Scheduled Utilisation"},{"$f":"IF(ISBLANK('Competition Data'!G469),\"\",'Competition Data'!G469)","v":892.77},{"$f":"IF(ISBLANK('Competition Data'!D469),\"\",'Competition Data'!D469)","v":604},{"$f":"IF(ISBLANK('Competition Data'!E469),\"\",'Competition Data'!E469)","v":"0"},{"$f":"IF(ISBLANK('Competition Data'!F469),\"\",'Competition Data'!F469)","v":0.02},"SPENDMORE LN W (Scheduled Utilisation)",{"$f":"IF(ISBLANK('Competition Data'!I469),\"\",'Competition Data'!I469)","v":73.90480132450331}]
["Spring Garden St 11kV-BURROW BECK-Spring Garden St 6.6kV GroupS27Variable Availability + Operational Utilisation",{"$f":"IF(ISBLANK('Competition Data'!A470),\"\",'Competition Data'!A470)","v":"Spring Garden St 11kV-BURROW BECK-Spring Garden St 6.6kV Group"},{"$f":"IF(ISBLANK('Competition Data'!H470),\"\",'Competition Data'!H470)","v":""},{"$f":"IF(ISBLANK('Competition Data'!B470),\"\",'Competition Data'!B470)","v":"S27"},{"$f":"IF(ISBLANK('Competition Data'!C470),\"\",'Competition Data'!C470)","v":"Variable Availability + Operational Utilisation"},{"$f":"IF(ISBLANK('Competition Data'!G470),\"\",'Competition Data'!G470)","v":15820},{"$f":"IF(ISBLANK('Competition Data'!D470),\"\",'Competition Data'!D470)","v":100},{"$f":"IF(ISBLANK('Competition Data'!E470),\"\",'Competition Data'!E470)","v":"1219"},{"$f":"IF(ISBLANK('Competition Data'!F470),\"\",'Competition Data'!F470)","v":8.07},"Spring Garden St 11kV-BURROW BECK-Spring Garden St 6.6kV Group (Variable Availability + Operational Utilisation)",{"$f":"IF(ISBLANK('Competition Data'!I470),\"\",'Competition Data'!I470)","v":"N/A"}]
["Spring Garden St 11kV-BURROW BECK-Spring Garden St 6.6kV GroupS27Peak Reduction",{"$f":"IF(ISBLANK('Competition Data'!A471),\"\",'Competition Data'!A471)","v":"Spring Garden St 11kV-BURROW BECK-Spring Garden St 6.6kV Group"},{"$f":"IF(ISBLANK('Competition Data'!H471),\"\",'Competition Data'!H471)","v":""},{"$f":"IF(ISBLANK('Competition Data'!B471),\"\",'Competition Data'!B471)","v":"S27"},{"$f":"IF(ISBLANK('Competition Data'!C471),\"\",'Competition Data'!C471)","v":"Peak Reduction"},{"$f":"IF(ISBLANK('Competition Data'!G471),\"\",'Competition Data'!G471)","v":15820},{"$f":"IF(ISBLANK('Competition Data'!D471),\"\",'Competition Data'!D471)","v":4392},{"$f":"IF(ISBLANK('Competition Data'!E471),\"\",'Competition Data'!E471)","v":"0"},{"$f":"IF(ISBLANK('Competition Data'!F471),\"\",'Competition Data'!F471)","v":8.07},"Spring Garden St 11kV-BURROW BECK-Spring Garden St 6.6kV Group (Peak Reduction)",{"$f":"IF(ISBLANK('Competition Data'!I471),\"\",'Competition Data'!I471)","v":0.44634493717314117}]
["Spring Garden St 11kV-BURROW BECK-Spring Garden St 6.6kV GroupW26/27Variable Availability + Operational Utilisation",{"$f":"IF(ISBLANK('Competition Data'!A472),\"\",'Competition Data'!A472)","v":"Spring Garden St 11kV-BURROW BECK-Spring Garden St 6.6kV Group"},{"$f":"IF(ISBLANK('Competition Data'!H472),\"\",'Competition Data'!H472)","v":""},{"$f":"IF(ISBLANK('Competition Data'!B472),\"\",'Competition Data'!B472)","v":"W26/27"},{"$f":"IF(ISBLANK('Competition Data'!C472),\"\",'Competition Data'!C472)","v":"Variable Availability + Operational Utilisation"},{"$f":"IF(ISBLANK('Competition Data'!G472),\"\",'Competition Data'!G472)","v":61220},{"$f":"IF(ISBLANK('Competition Data'!D472),\"\",'Competition Data'!D472)","v":200},{"$f":"IF(ISBLANK('Competition Data'!E472),\"\",'Competition Data'!E472)","v":"2306"},{"$f":"IF(ISBLANK('Competition Data'!F472),\"\",'Competition Data'!F472)","v":20.94},"Spring Garden St 11kV-BURROW BECK-Spring Garden St 6.6kV Group (Variable Availability + Operational Utilisation)",{"$f":"IF(ISBLANK('Competition Data'!I472),\"\",'Competition Data'!I472)","v":"N/A"}]
["Spring Garden St 11kV-BURROW BECK-Spring Garden St 6.6kV GroupW26/27Peak Reduction",{"$f":"IF(ISBLANK('Competition Data'!A473),\"\",'Competition Data'!A473)","v":"Spring Garden St 11kV-BURROW BECK-Spring Garden St 6.6kV Group"},{"$f":"IF(ISBLANK('Competition Data'!H473),\"\",'Competition Data'!H473)","v":""},{"$f":"IF(ISBLANK('Competition Data'!B473),\"\",'Competition Data'!B473)","v":"W26/27"},{"$f":"IF(ISBLANK('Competition Data'!C473),\"\",'Competition Data'!C473)","v":"Peak Reduction"},{"$f":"IF(ISBLANK('Competition Data'!G473),\"\",'Competition Data'!G473)","v":61220},{"$f":"IF(ISBLANK('Competition Data'!D473),\"\",'Competition Data'!D473)","v":3624},{"$f":"IF(ISBLANK('Competition Data'!E473),\"\",'Competition Data'!E473)","v":"0"},{"$f":"IF(ISBLANK('Competition Data'!F473),\"\",'Competition Data'!F473)","v":20.94},"Spring Garden St 11kV-BURROW BECK-Spring Garden St 6.6kV Group (Peak Reduction)",{"$f":"IF(ISBLANK('Competition Data'!I473),\"\",'Competition Data'!I473)","v":0.80673046716045638}]
["Spring Garden St 11kV-BURROW BECK-Spring Garden St 6.6kV GroupW27/28Variable Availability + Operational Utilisation",{"$f":"IF(ISBLANK('Competition Data'!A474),\"\",'Competition Data'!A474)","v":"Spring Garden St 11kV-BURROW BECK-Spring Garden St 6.6kV Group"},{"$f":"IF(ISBLANK('Competition Data'!H474),\"\",'Competition Data'!H474)","v":""},{"$f":"IF(ISBLANK('Competition Data'!B474),\"\",'Competition Data'!B474)","v":"W27/28"},{"$f":"IF(ISBLANK('Competition Data'!C474),\"\",'Competition Data'!C474)","v":"Variable Availability + Operational Utilisation"},{"$f":"IF(ISBLANK('Competition Data'!G474),\"\",'Competition Data'!G474)","v":45401},{"$f":"IF(ISBLANK('Competition Data'!D474),\"\",'Competition Data'!D474)","v":200},{"$f":"IF(ISBLANK('Competition Data'!E474),\"\",'Competition Data'!E474)","v":"2903"},{"$f":"IF(ISBLANK('Competition Data'!F474),\"\",'Competition Data'!F474)","v":23.16},"Spring Garden St 11kV-BURROW BECK-Spring Garden St 6.6kV Group (Variable Availability + Operational Utilisation)",{"$f":"IF(ISBLANK('Competition Data'!I474),\"\",'Competition Data'!I474)","v":"N/A"}]
["Spring Garden St 11kV-BURROW BECK-Spring Garden St 6.6kV GroupW27/28Peak Reduction",{"$f":"IF(ISBLANK('Competition Data'!A475),\"\",'Competition Data'!A475)","v":"Spring Garden St 11kV-BURROW BECK-Spring Garden St 6.6kV Group"},{"$f":"IF(ISBLANK('Competition Data'!H475),\"\",'Competition Data'!H475)","v":""},{"$f":"IF(ISBLANK('Competition Data'!B475),\"\",'Competition Data'!B475)","v":"W27/28"},{"$f":"IF(ISBLANK('Competition Data'!C475),\"\",'Competition Data'!C475)","v":"Peak Reduction"},{"$f":"IF(ISBLANK('Competition Data'!G475),\"\",'Competition Data'!G475)","v":45401},{"$f":"IF(ISBLANK('Competition Data'!D475),\"\",'Competition Data'!D475)","v":4392},{"$f":"IF(ISBLANK('Competition Data'!E475),\"\",'Competition Data'!E475)","v":"0"},{"$f":"IF(ISBLANK('Competition Data'!F475),\"\",'Competition Data'!F475)","v":23.16},"Spring Garden St 11kV-BURROW BECK-Spring Garden St 6.6kV Group (Peak Reduction)",{"$f":"IF(ISBLANK('Competition Data'!I475),\"\",'Competition Data'!I475)","v":0.44633868770664831}]
["SPRINGFIELDW26/27Peak Reduction",{"$f":"IF(ISBLANK('Competition Data'!A476),\"\",'Competition Data'!A476)","v":"SPRINGFIELD"},{"$f":"IF(ISBLANK('Competition Data'!H476),\"\",'Competition Data'!H476)","v":""},{"$f":"IF(ISBLANK('Competition Data'!B476),\"\",'Competition Data'!B476)","v":"W26/27"},{"$f":"IF(ISBLANK('Competition Data'!C476),\"\",'Competition Data'!C476)","v":"Peak Reduction"},{"$f":"IF(ISBLANK('Competition Data'!G476),\"\",'Competition Data'!G476)","v":892.77},{"$f":"IF(ISBLANK('Competition Data'!D476),\"\",'Competition Data'!D476)","v":604},{"$f":"IF(ISBLANK('Competition Data'!E476),\"\",'Competition Data'!E476)","v":"0"},{"$f":"IF(ISBLANK('Competition Data'!F476),\"\",'Competition Data'!F476)","v":0.02},"SPRINGFIELD (Peak Reduction)",{"$f":"IF(ISBLANK('Competition Data'!I476),\"\",'Competition Data'!I476)","v":73.90480132450331}]
["SPRINGFIELDW26/27Scheduled Utilisation",{"$f":"IF(ISBLANK('Competition Data'!A477),\"\",'Competition Data'!A477)","v":"SPRINGFIELD"},{"$f":"IF(ISBLANK('Competition Data'!H477),\"\",'Competition Data'!H477)","v":""},{"$f":"IF(ISBLANK('Competition Data'!B477),\"\",'Competition Data'!B477)","v":"W26/27"},{"$f":"IF(ISBLANK('Competition Data'!C477),\"\",'Competition Data'!C477)","v":"Scheduled Utilisation"},{"$f":"IF(ISBLANK('Competition Data'!G477),\"\",'Competition Data'!G477)","v":892.77},{"$f":"IF(ISBLANK('Competition Data'!D477),\"\",'Competition Data'!D477)","v":604},{"$f":"IF(ISBLANK('Competition Data'!E477),\"\",'Competition Data'!E477)","v":"0"},{"$f":"IF(ISBLANK('Competition Data'!F477),\"\",'Competition Data'!F477)","v":0.02},"SPRINGFIELD (Scheduled Utilisation)",{"$f":"IF(ISBLANK('Competition Data'!I477),\"\",'Competition Data'!I477)","v":73.90480132450331}]
["ST ANDREWS AVEW26/27Peak Reduction",{"$f":"IF(ISBLANK('Competition Data'!A478),\"\",'Competition Data'!A478)","v":"ST ANDREWS AVE"},{"$f":"IF(ISBLANK('Competition Data'!H478),\"\",'Competition Data'!H478)","v":""},{"$f":"IF(ISBLANK('Competition Data'!B478),\"\",'Competition Data'!B478)","v":"W26/27"},{"$f":"IF(ISBLANK('Competition Data'!C478),\"\",'Competition Data'!C478)","v":"Peak Reduction"},{"$f":"IF(ISBLANK('Competition Data'!G478),\"\",'Competition Data'!G478)","v":892.77},{"$f":"IF(ISBLANK('Competition Data'!D478),\"\",'Competition Data'!D478)","v":604},{"$f":"IF(ISBLANK('Competition Data'!E478),\"\",'Competition Data'!E478)","v":"0"},{"$f":"IF(ISBLANK('Competition Data'!F478),\"\",'Competition Data'!F478)","v":0.05},"ST ANDREWS AVE (Peak Reduction)",{"$f":"IF(ISBLANK('Competition Data'!I478),\"\",'Competition Data'!I478)","v":29.561920529801323}]
["ST ANDREWS AVEW26/27Scheduled Utilisation",{"$f":"IF(ISBLANK('Competition Data'!A479),\"\",'Competition Data'!A479)","v":"ST ANDREWS AVE"},{"$f":"IF(ISBLANK('Competition Data'!H479),\"\",'Competition Data'!H479)","v":""},{"$f":"IF(ISBLANK('Competition Data'!B479),\"\",'Competition Data'!B479)","v":"W26/27"},{"$f":"IF(ISBLANK('Competition Data'!C479),\"\",'Competition Data'!C479)","v":"Scheduled Utilisation"},{"$f":"IF(ISBLANK('Competition Data'!G479),\"\",'Competition Data'!G479)","v":892.77},{"$f":"IF(ISBLANK('Competition Data'!D479),\"\",'Competition Data'!D479)","v":604},{"$f":"IF(ISBLANK('Competition Data'!E479),\"\",'Competition Data'!E479)","v":"0"},{"$f":"IF(ISBLANK('Competition Data'!F479),\"\",'Competition Data'!F479)","v":0.05},"ST ANDREWS AVE (Scheduled Utilisation)",{"$f":"IF(ISBLANK('Competition Data'!I479),\"\",'Competition Data'!I479)","v":29.561920529801323}]
["ST ANDREWS STW26/27Peak Reduction",{"$f":"IF(ISBLANK('Competition Data'!A480),\"\",'Competition Data'!A480)","v":"ST ANDREWS ST"},{"$f":"IF(ISBLANK('Competition Data'!H480),\"\",'Competition Data'!H480)","v":""},{"$f":"IF(ISBLANK('Competition Data'!B480),\"\",'Competition Data'!B480)","v":"W26/27"},{"$f":"IF(ISBLANK('Competition Data'!C480),\"\",'Competition Data'!C480)","v":"Peak Reduction"},{"$f":"IF(ISBLANK('Competition Data'!G480),\"\",'Competition Data'!G480)","v":892.77},{"$f":"IF(ISBLANK('Competition Data'!D480),\"\",'Competition Data'!D480)","v":604},{"$f":"IF(ISBLANK('Competition Data'!E480),\"\",'Competition Data'!E480)","v":"0"},{"$f":"IF(ISBLANK('Competition Data'!F480),\"\",'Competition Data'!F480)","v":0.02},"ST ANDREWS ST (Peak Reduction)",{"$f":"IF(ISBLANK('Competition Data'!I480),\"\",'Competition Data'!I480)","v":73.90480132450331}]
["ST ANDREWS STW26/27Scheduled Utilisation",{"$f":"IF(ISBLANK('Competition Data'!A481),\"\",'Competition Data'!A481)","v":"ST ANDREWS ST"},{"$f":"IF(ISBLANK('Competition Data'!H481),\"\",'Competition Data'!H481)","v":""},{"$f":"IF(ISBLANK('Competition Data'!B481),\"\",'Competition Data'!B481)","v":"W26/27"},{"$f":"IF(ISBLANK('Competition Data'!C481),\"\",'Competition Data'!C481)","v":"Scheduled Utilisation"},{"$f":"IF(ISBLANK('Competition Data'!G481),\"\",'Competition Data'!G481)","v":892.77},{"$f":"IF(ISBLANK('Competition Data'!D481),\"\",'Competition Data'!D481)","v":604},{"$f":"IF(ISBLANK('Competition Data'!E481),\"\",'Competition Data'!E481)","v":"0"},{"$f":"IF(ISBLANK('Competition Data'!F481),\"\",'Competition Data'!F481)","v":0.02},"ST ANDREWS ST (Scheduled Utilisation)",{"$f":"IF(ISBLANK('Competition Data'!I481),\"\",'Competition Data'!I481)","v":73.90480132450331}]
["ST ANNES RDW26/27Peak Reduction",{"$f":"IF(ISBLANK('Competition Data'!A482),\"\",'Competition Data'!A482)","v":"ST ANNES RD"},{"$f":"IF(ISBLANK('Competition Data'!H482),\"\",'Competition Data'!H482)","v":""},{"$f":"IF(ISBLANK('Competition Data'!B482),\"\",'Competition Data'!B482)","v":"W26/27"},{"$f":"IF(ISBLANK('Competition Data'!C482),\"\",'Competition Data'!C482)","v":"Peak Reduction"},{"$f":"IF(ISBLANK('Competition Data'!G482),\"\",'Competition Data'!G482)","v":892.77},{"$f":"IF(ISBLANK('Competition Data'!D482),\"\",'Competition Data'!D482)","v":604},{"$f":"IF(ISBLANK('Competition Data'!E482),\"\",'Competition Data'!E482)","v":"0"},{"$f":"IF(ISBLANK('Competition Data'!F482),\"\",'Competition Data'!F482)","v":0.01},"ST ANNES RD (Peak Reduction)",{"$f":"IF(ISBLANK('Competition Data'!I482),\"\",'Competition Data'!I482)","v":147.80960264900662}]
["ST ANNES RDW26/27Scheduled Utilisation",{"$f":"IF(ISBLANK('Competition Data'!A483),\"\",'Competition Data'!A483)","v":"ST ANNES RD"},{"$f":"IF(ISBLANK('Competition Data'!H483),\"\",'Competition Data'!H483)","v":""},{"$f":"IF(ISBLANK('Competition Data'!B483),\"\",'Competition Data'!B483)","v":"W26/27"},{"$f":"IF(ISBLANK('Competition Data'!C483),\"\",'Competition Data'!C483)","v":"Scheduled Utilisation"},{"$f":"IF(ISBLANK('Competition Data'!G483),\"\",'Competition Data'!G483)","v":892.77},{"$f":"IF(ISBLANK('Competition Data'!D483),\"\",'Competition Data'!D483)","v":604},{"$f":"IF(ISBLANK('Competition Data'!E483),\"\",'Competition Data'!E483)","v":"0"},{"$f":"IF(ISBLANK('Competition Data'!F483),\"\",'Competition Data'!F483)","v":0.01},"ST ANNES RD (Scheduled Utilisation)",{"$f":"IF(ISBLANK('Competition Data'!I483),\"\",'Competition Data'!I483)","v":147.80960264900662}]
["ST JUDESW26/27Peak Reduction",{"$f":"IF(ISBLANK('Competition Data'!A484),\"\",'Competition Data'!A484)","v":"ST JUDES"},{"$f":"IF(ISBLANK('Competition Data'!H484),\"\",'Competition Data'!H484)","v":""},{"$f":"IF(ISBLANK('Competition Data'!B484),\"\",'Competition Data'!B484)","v":"W26/27"},{"$f":"IF(ISBLANK('Competition Data'!C484),\"\",'Competition Data'!C484)","v":"Peak Reduction"},{"$f":"IF(ISBLANK('Competition Data'!G484),\"\",'Competition Data'!G484)","v":892.77},{"$f":"IF(ISBLANK('Competition Data'!D484),\"\",'Competition Data'!D484)","v":604},{"$f":"IF(ISBLANK('Competition Data'!E484),\"\",'Competition Data'!E484)","v":"0"},{"$f":"IF(ISBLANK('Competition Data'!F484),\"\",'Competition Data'!F484)","v":0.01},"ST JUDES (Peak Reduction)",{"$f":"IF(ISBLANK('Competition Data'!I484),\"\",'Competition Data'!I484)","v":147.80960264900662}]
["ST JUDESW26/27Scheduled Utilisation",{"$f":"IF(ISBLANK('Competition Data'!A485),\"\",'Competition Data'!A485)","v":"ST JUDES"},{"$f":"IF(ISBLANK('Competition Data'!H485),\"\",'Competition Data'!H485)","v":""},{"$f":"IF(ISBLANK('Competition Data'!B485),\"\",'Competition Data'!B485)","v":"W26/27"},{"$f":"IF(ISBLANK('Competition Data'!C485),\"\",'Competition Data'!C485)","v":"Scheduled Utilisation"},{"$f":"IF(ISBLANK('Competition Data'!G485),\"\",'Competition Data'!G485)","v":892.77},{"$f":"IF(ISBLANK('Competition Data'!D485),\"\",'Competition Data'!D485)","v":604},{"$f":"IF(ISBLANK('Competition Data'!E485),\"\",'Competition Data'!E485)","v":"0"},{"$f":"IF(ISBLANK('Competition Data'!F485),\"\",'Competition Data'!F485)","v":0.01},"ST JUDES (Scheduled Utilisation)",{"$f":"IF(ISBLANK('Competition Data'!I485),\"\",'Competition Data'!I485)","v":147.80960264900662}]
["STOCK GRW26/27Peak Reduction",{"$f":"IF(ISBLANK('Competition Data'!A486),\"\",'Competition Data'!A486)","v":"STOCK GR"},{"$f":"IF(ISBLANK('Competition Data'!H486),\"\",'Competition Data'!H486)","v":""},{"$f":"IF(ISBLANK('Competition Data'!B486),\"\",'Competition Data'!B486)","v":"W26/27"},{"$f":"IF(ISBLANK('Competition Data'!C486),\"\",'Competition Data'!C486)","v":"Peak Reduction"},{"$f":"IF(ISBLANK('Competition Data'!G486),\"\",'Competition Data'!G486)","v":892.77},{"$f":"IF(ISBLANK('Competition Data'!D486),\"\",'Competition Data'!D486)","v":604},{"$f":"IF(ISBLANK('Competition Data'!E486),\"\",'Competition Data'!E486)","v":"0"},{"$f":"IF(ISBLANK('Competition Data'!F486),\"\",'Competition Data'!F486)","v":0.04},"STOCK GR (Peak Reduction)",{"$f":"IF(ISBLANK('Competition Data'!I486),\"\",'Competition Data'!I486)","v":36.952400662251655}]
["STOCK GRW26/27Scheduled Utilisation",{"$f":"IF(ISBLANK('Competition Data'!A487),\"\",'Competition Data'!A487)","v":"STOCK GR"},{"$f":"IF(ISBLANK('Competition Data'!H487),\"\",'Competition Data'!H487)","v":""},{"$f":"IF(ISBLANK('Competition Data'!B487),\"\",'Competition Data'!B487)","v":"W26/27"},{"$f":"IF(ISBLANK('Competition Data'!C487),\"\",'Competition Data'!C487)","v":"Scheduled Utilisation"},{"$f":"IF(ISBLANK('Competition Data'!G487),\"\",'Competition Data'!G487)","v":892.77},{"$f":"IF(ISBLANK('Competition Data'!D487),\"\",'Competition Data'!D487)","v":604},{"$f":"IF(ISBLANK('Competition Data'!E487),\"\",'Competition Data'!E487)","v":"0"},{"$f":"IF(ISBLANK('Competition Data'!F487),\"\",'Competition Data'!F487)","v":0.04},"STOCK GR (Scheduled Utilisation)",{"$f":"IF(ISBLANK('Competition Data'!I487),\"\",'Competition Data'!I487)","v":36.952400662251655}]
["STRAWBERRY BANK-HYNDBURN RD-CHURCH-KAY ST-BLACKBURN RD CLAYTON-Great Harwood GroupW26/27Variable Availability + Operational Utilisation",{"$f":"IF(ISBLANK('Competition Data'!A488),\"\",'Competition Data'!A488)","v":"STRAWBERRY BANK-HYNDBURN RD-CHURCH-KAY ST-BLACKBURN RD CLAYTON-Great Harwood Group"},{"$f":"IF(ISBLANK('Competition Data'!H488),\"\",'Competition Data'!H488)","v":""},{"$f":"IF(ISBLANK('Competition Data'!B488),\"\",'Competition Data'!B488)","v":"W26/27"},{"$f":"IF(ISBLANK('Competition Data'!C488),\"\",'Competition Data'!C488)","v":"Variable Availability + Operational Utilisation"},{"$f":"IF(ISBLANK('Competition Data'!G488),\"\",'Competition Data'!G488)","v":89217},{"$f":"IF(ISBLANK('Competition Data'!D488),\"\",'Competition Data'!D488)","v":20},{"$f":"IF(ISBLANK('Competition Data'!E488),\"\",'Competition Data'!E488)","v":"20"},{"$f":"IF(ISBLANK('Competition Data'!F488),\"\",'Competition Data'!F488)","v":1.55},"STRAWBERRY BANK-HYNDBURN RD-CHURCH-KAY ST-BLACKBURN RD CLAYTON-Great Harwood Group (Variable Availability + Operational Utilisation)",{"$f":"IF(ISBLANK('Competition Data'!I488),\"\",'Competition Data'!I488)","v":"N/A"}]
["STRAWBERRY BANK-HYNDBURN RD-CHURCH-KAY ST-BLACKBURN RD CLAYTON-Great Harwood GroupW26/27Peak Reduction",{"$f":"IF(ISBLANK('Competition Data'!A489),\"\",'Competition Data'!A489)","v":"STRAWBERRY BANK-HYNDBURN RD-CHURCH-KAY ST-BLACKBURN RD CLAYTON-Great Harwood Group"},{"$f":"IF(ISBLANK('Competition Data'!H489),\"\",'Competition Data'!H489)","v":""},{"$f":"IF(ISBLANK('Competition Data'!B489),\"\",'Competition Data'!B489)","v":"W26/27"},{"$f":"IF(ISBLANK('Competition Data'!C489),\"\",'Competition Data'!C489)","v":"Peak Reduction"},{"$f":"IF(ISBLANK('Competition Data'!G489),\"\",'Competition Data'!G489)","v":89217},{"$f":"IF(ISBLANK('Competition Data'!D489),\"\",'Competition Data'!D489)","v":3624},{"$f":"IF(ISBLANK('Competition Data'!E489),\"\",'Competition Data'!E489)","v":"0"},{"$f":"IF(ISBLANK('Competition Data'!F489),\"\",'Competition Data'!F489)","v":1.55},"STRAWBERRY BANK-HYNDBURN RD-CHURCH-KAY ST-BLACKBURN RD CLAYTON-Great Harwood Group (Peak Reduction)",{"$f":"IF(ISBLANK('Competition Data'!I489),\"\",'Competition Data'!I489)","v":15.882824182866909}]
["STRAWBERRY BANK-HYNDBURN RD-CHURCH-KAY ST-BLACKBURN RD CLAYTON-Great Harwood GroupW27/28Variable Availability + Operational Utilisation",{"$f":"IF(ISBLANK('Competition Data'!A490),\"\",'Competition Data'!A490)","v":"STRAWBERRY BANK-HYNDBURN RD-CHURCH-KAY ST-BLACKBURN RD CLAYTON-Great Harwood Group"},{"$f":"IF(ISBLANK('Competition Data'!H490),\"\",'Competition Data'!H490)","v":""},{"$f":"IF(ISBLANK('Competition Data'!B490),\"\",'Competition Data'!B490)","v":"W27/28"},{"$f":"IF(ISBLANK('Competition Data'!C490),\"\",'Competition Data'!C490)","v":"Variable Availability + Operational Utilisation"},{"$f":"IF(ISBLANK('Competition Data'!G490),\"\",'Competition Data'!G490)","v":89217},{"$f":"IF(ISBLANK('Competition Data'!D490),\"\",'Competition Data'!D490)","v":43},{"$f":"IF(ISBLANK('Competition Data'!E490),\"\",'Competition Data'!E490)","v":"43"},{"$f":"IF(ISBLANK('Competition Data'!F490),\"\",'Competition Data'!F490)","v":2.73},"STRAWBERRY BANK-HYNDBURN RD-CHURCH-KAY ST-BLACKBURN RD CLAYTON-Great Harwood Group (Variable Availability + Operational Utilisation)",{"$f":"IF(ISBLANK('Competition Data'!I490),\"\",'Competition Data'!I490)","v":"N/A"}]
["STRAWBERRY BANK-HYNDBURN RD-CHURCH-KAY ST-BLACKBURN RD CLAYTON-Great Harwood GroupW27/28Peak Reduction",{"$f":"IF(ISBLANK('Competition Data'!A491),\"\",'Competition Data'!A491)","v":"STRAWBERRY BANK-HYNDBURN RD-CHURCH-KAY ST-BLACKBURN RD CLAYTON-Great Harwood Group"},{"$f":"IF(ISBLANK('Competition Data'!H491),\"\",'Competition Data'!H491)","v":""},{"$f":"IF(ISBLANK('Competition Data'!B491),\"\",'Competition Data'!B491)","v":"W27/28"},{"$f":"IF(ISBLANK('Competition Data'!C491),\"\",'Competition Data'!C491)","v":"Peak Reduction"},{"$f":"IF(ISBLANK('Competition Data'!G491),\"\",'Competition Data'!G491)","v":89217},{"$f":"IF(ISBLANK('Competition Data'!D491),\"\",'Competition Data'!D491)","v":4392},{"$f":"IF(ISBLANK('Competition Data'!E491),\"\",'Competition Data'!E491)","v":"0"},{"$f":"IF(ISBLANK('Competition Data'!F491),\"\",'Competition Data'!F491)","v":2.73},"STRAWBERRY BANK-HYNDBURN RD-CHURCH-KAY ST-BLACKBURN RD CLAYTON-Great Harwood Group (Peak Reduction)",{"$f":"IF(ISBLANK('Competition Data'!I491),\"\",'Competition Data'!I491)","v":7.4408514982285467}]
["Stuart StW26/27Variable Availability + Operational Utilisation",{"$f":"IF(ISBLANK('Competition Data'!A492),\"\",'Competition Data'!A492)","v":"Stuart St"},{"$f":"IF(ISBLANK('Competition Data'!H492),\"\",'Competition Data'!H492)","v":""},{"$f":"IF(ISBLANK('Competition Data'!B492),\"\",'Competition Data'!B492)","v":"W26/27"},{"$f":"IF(ISBLANK('Competition Data'!C492),\"\",'Competition Data'!C492)","v":"Variable Availability + Operational Utilisation"},{"$f":"IF(ISBLANK('Competition Data'!G492),\"\",'Competition Data'!G492)","v":61523},{"$f":"IF(ISBLANK('Competition Data'!D492),\"\",'Competition Data'!D492)","v":48},{"$f":"IF(ISBLANK('Competition Data'!E492),\"\",'Competition Data'!E492)","v":"673"},{"$f":"IF(ISBLANK('Competition Data'!F492),\"\",'Competition Data'!F492)","v":3.25},"Stuart St (Variable Availability + Operational Utilisation)",{"$f":"IF(ISBLANK('Competition Data'!I492),\"\",'Competition Data'!I492)","v":"N/A"}]
["Stuart StW26/27Peak Reduction",{"$f":"IF(ISBLANK('Competition Data'!A493),\"\",'Competition Data'!A493)","v":"Stuart St"},{"$f":"IF(ISBLANK('Competition Data'!H493),\"\",'Competition Data'!H493)","v":""},{"$f":"IF(ISBLANK('Competition Data'!B493),\"\",'Competition Data'!B493)","v":"W26/27"},{"$f":"IF(ISBLANK('Competition Data'!C493),\"\",'Competition Data'!C493)","v":"Peak Reduction"},{"$f":"IF(ISBLANK('Competition Data'!G493),\"\",'Competition Data'!G493)","v":61523},{"$f":"IF(ISBLANK('Competition Data'!D493),\"\",'Competition Data'!D493)","v":3624},{"$f":"IF(ISBLANK('Competition Data'!E493),\"\",'Competition Data'!E493)","v":"0"},{"$f":"IF(ISBLANK('Competition Data'!F493),\"\",'Competition Data'!F493)","v":3.25},"Stuart St (Peak Reduction)",{"$f":"IF(ISBLANK('Competition Data'!I493),\"\",'Competition Data'!I493)","v":5.2235523858040409}]
["Stuart StW27/28Variable Availability + Operational Utilisation",{"$f":"IF(ISBLANK('Competition Data'!A494),\"\",'Competition Data'!A494)","v":"Stuart St"},{"$f":"IF(ISBLANK('Competition Data'!H494),\"\",'Competition Data'!H494)","v":""},{"$f":"IF(ISBLANK('Competition Data'!B494),\"\",'Competition Data'!B494)","v":"W27/28"},{"$f":"IF(ISBLANK('Competition Data'!C494),\"\",'Competition Data'!C494)","v":"Variable Availability + Operational Utilisation"},{"$f":"IF(ISBLANK('Competition Data'!G494),\"\",'Competition Data'!G494)","v":61523},{"$f":"IF(ISBLANK('Competition Data'!D494),\"\",'Competition Data'!D494)","v":48},{"$f":"IF(ISBLANK('Competition Data'!E494),\"\",'Competition Data'!E494)","v":"855"},{"$f":"IF(ISBLANK('Competition Data'!F494),\"\",'Competition Data'!F494)","v":3.56},"Stuart St (Variable Availability + Operational Utilisation)",{"$f":"IF(ISBLANK('Competition Data'!I494),\"\",'Competition Data'!I494)","v":"N/A"}]
["Stuart StW27/28Peak Reduction",{"$f":"IF(ISBLANK('Competition Data'!A495),\"\",'Competition Data'!A495)","v":"Stuart St"},{"$f":"IF(ISBLANK('Competition Data'!H495),\"\",'Competition Data'!H495)","v":""},{"$f":"IF(ISBLANK('Competition Data'!B495),\"\",'Competition Data'!B495)","v":"W27/28"},{"$f":"IF(ISBLANK('Competition Data'!C495),\"\",'Competition Data'!C495)","v":"Peak Reduction"},{"$f":"IF(ISBLANK('Competition Data'!G495),\"\",'Competition Data'!G495)","v":61523},{"$f":"IF(ISBLANK('Competition Data'!D495),\"\",'Competition Data'!D495)","v":4392},{"$f":"IF(ISBLANK('Competition Data'!E495),\"\",'Competition Data'!E495)","v":"0"},{"$f":"IF(ISBLANK('Competition Data'!F495),\"\",'Competition Data'!F495)","v":3.56},"Stuart St (Peak Reduction)",{"$f":"IF(ISBLANK('Competition Data'!I495),\"\",'Competition Data'!I495)","v":3.9348227625304437}]
["SYCAMORE ESTW26/27Peak Reduction",{"$f":"IF(ISBLANK('Competition Data'!A496),\"\",'Competition Data'!A496)","v":"SYCAMORE EST"},{"$f":"IF(ISBLANK('Competition Data'!H496),\"\",'Competition Data'!H496)","v":""},{"$f":"IF(ISBLANK('Competition Data'!B496),\"\",'Competition Data'!B496)","v":"W26/27"},{"$f":"IF(ISBLANK('Competition Data'!C496),\"\",'Competition Data'!C496)","v":"Peak Reduction"},{"$f":"IF(ISBLANK('Competition Data'!G496),\"\",'Competition Data'!G496)","v":892.77},{"$f":"IF(ISBLANK('Competition Data'!D496),\"\",'Competition Data'!D496)","v":604},{"$f":"IF(ISBLANK('Competition Data'!E496),\"\",'Competition Data'!E496)","v":"0"},{"$f":"IF(ISBLANK('Competition Data'!F496),\"\",'Competition Data'!F496)","v":0.04},"SYCAMORE EST (Peak Reduction)",{"$f":"IF(ISBLANK('Competition Data'!I496),\"\",'Competition Data'!I496)","v":36.952400662251655}]
["SYCAMORE ESTW26/27Scheduled Utilisation",{"$f":"IF(ISBLANK('Competition Data'!A497),\"\",'Competition Data'!A497)","v":"SYCAMORE EST"},{"$f":"IF(ISBLANK('Competition Data'!H497),\"\",'Competition Data'!H497)","v":""},{"$f":"IF(ISBLANK('Competition Data'!B497),\"\",'Competition Data'!B497)","v":"W26/27"},{"$f":"IF(ISBLANK('Competition Data'!C497),\"\",'Competition Data'!C497)","v":"Scheduled Utilisation"},{"$f":"IF(ISBLANK('Competition Data'!G497),\"\",'Competition Data'!G497)","v":892.77},{"$f":"IF(ISBLANK('Competition Data'!D497),\"\",'Competition Data'!D497)","v":604},{"$f":"IF(ISBLANK('Competition Data'!E497),\"\",'Competition Data'!E497)","v":"0"},{"$f":"IF(ISBLANK('Competition Data'!F497),\"\",'Competition Data'!F497)","v":0.04},"SYCAMORE EST (Scheduled Utilisation)",{"$f":"IF(ISBLANK('Competition Data'!I497),\"\",'Competition Data'!I497)","v":36.952400662251655}]
["TATE STW26/27Peak Reduction",{"$f":"IF(ISBLANK('Competition Data'!A498),\"\",'Competition Data'!A498)","v":"TATE ST"},{"$f":"IF(ISBLANK('Competition Data'!H498),\"\",'Competition Data'!H498)","v":""},{"$f":"IF(ISBLANK('Competition Data'!B498),\"\",'Competition Data'!B498)","v":"W26/27"},{"$f":"IF(ISBLANK('Competition Data'!C498),\"\",'Competition Data'!C498)","v":"Peak Reduction"},{"$f":"IF(ISBLANK('Competition Data'!G498),\"\",'Competition Data'!G498)","v":892.77},{"$f":"IF(ISBLANK('Competition Data'!D498),\"\",'Competition Data'!D498)","v":604},{"$f":"IF(ISBLANK('Competition Data'!E498),\"\",'Competition Data'!E498)","v":"0"},{"$f":"IF(ISBLANK('Competition Data'!F498),\"\",'Competition Data'!F498)","v":0.06},"TATE ST (Peak Reduction)",{"$f":"IF(ISBLANK('Competition Data'!I498),\"\",'Competition Data'!I498)","v":24.634933774834437}]
["TATE STW26/27Scheduled Utilisation",{"$f":"IF(ISBLANK('Competition Data'!A499),\"\",'Competition Data'!A499)","v":"TATE ST"},{"$f":"IF(ISBLANK('Competition Data'!H499),\"\",'Competition Data'!H499)","v":""},{"$f":"IF(ISBLANK('Competition Data'!B499),\"\",'Competition Data'!B499)","v":"W26/27"},{"$f":"IF(ISBLANK('Competition Data'!C499),\"\",'Competition Data'!C499)","v":"Scheduled Utilisation"},{"$f":"IF(ISBLANK('Competition Data'!G499),\"\",'Competition Data'!G499)","v":892.77},{"$f":"IF(ISBLANK('Competition Data'!D499),\"\",'Competition Data'!D499)","v":604},{"$f":"IF(ISBLANK('Competition Data'!E499),\"\",'Competition Data'!E499)","v":"0"},{"$f":"IF(ISBLANK('Competition Data'!F499),\"\",'Competition Data'!F499)","v":0.06},"TATE ST (Scheduled Utilisation)",{"$f":"IF(ISBLANK('Competition Data'!I499),\"\",'Competition Data'!I499)","v":24.634933774834437}]
["TRAMWAY RDW26/27Peak Reduction",{"$f":"IF(ISBLANK('Competition Data'!A500),\"\",'Competition Data'!A500)","v":"TRAMWAY RD"},{"$f":"IF(ISBLANK('Competition Data'!H500),\"\",'Competition Data'!H500)","v":""},{"$f":"IF(ISBLANK('Competition Data'!B500),\"\",'Competition Data'!B500)","v":"W26/27"},{"$f":"IF(ISBLANK('Competition Data'!C500),\"\",'Competition Data'!C500)","v":"Peak Reduction"},{"$f":"IF(ISBLANK('Competition Data'!G500),\"\",'Competition Data'!G500)","v":892.77},{"$f":"IF(ISBLANK('Competition Data'!D500),\"\",'Competition Data'!D500)","v":604},{"$f":"IF(ISBLANK('Competition Data'!E500),\"\",'Competition Data'!E500)","v":"0"},{"$f":"IF(ISBLANK('Competition Data'!F500),\"\",'Competition Data'!F500)","v":0.05},"TRAMWAY RD (Peak Reduction)",{"$f":"IF(ISBLANK('Competition Data'!I500),\"\",'Competition Data'!I500)","v":29.561920529801323}]
["TRAMWAY RDW26/27Scheduled Utilisation",{"$f":"IF(ISBLANK('Competition Data'!A501),\"\",'Competition Data'!A501)","v":"TRAMWAY RD"},{"$f":"IF(ISBLANK('Competition Data'!H501),\"\",'Competition Data'!H501)","v":""},{"$f":"IF(ISBLANK('Competition Data'!B501),\"\",'Competition Data'!B501)","v":"W26/27"},{"$f":"IF(ISBLANK('Competition Data'!C501),\"\",'Competition Data'!C501)","v":"Scheduled Utilisation"},{"$f":"IF(ISBLANK('Competition Data'!G501),\"\",'Competition Data'!G501)","v":892.77},{"$f":"IF(ISBLANK('Competition Data'!D501),\"\",'Competition Data'!D501)","v":604},{"$f":"IF(ISBLANK('Competition Data'!E501),\"\",'Competition Data'!E501)","v":"0"},{"$f":"IF(ISBLANK('Competition Data'!F501),\"\",'Competition Data'!F501)","v":0.05},"TRAMWAY RD (Scheduled Utilisation)",{"$f":"IF(ISBLANK('Competition Data'!I501),\"\",'Competition Data'!I501)","v":29.561920529801323}]
["TURNBERRY DRW26/27Peak Reduction",{"$f":"IF(ISBLANK('Competition Data'!A502),\"\",'Competition Data'!A502)","v":"TURNBERRY DR"},{"$f":"IF(ISBLANK('Competition Data'!H502),\"\",'Competition Data'!H502)","v":""},{"$f":"IF(ISBLANK('Competition Data'!B502),\"\",'Competition Data'!B502)","v":"W26/27"},{"$f":"IF(ISBLANK('Competition Data'!C502),\"\",'Competition Data'!C502)","v":"Peak Reduction"},{"$f":"IF(ISBLANK('Competition Data'!G502),\"\",'Competition Data'!G502)","v":892.77},{"$f":"IF(ISBLANK('Competition Data'!D502),\"\",'Competition Data'!D502)","v":604},{"$f":"IF(ISBLANK('Competition Data'!E502),\"\",'Competition Data'!E502)","v":"0"},{"$f":"IF(ISBLANK('Competition Data'!F502),\"\",'Competition Data'!F502)","v":0.02},"TURNBERRY DR (Peak Reduction)",{"$f":"IF(ISBLANK('Competition Data'!I502),\"\",'Competition Data'!I502)","v":73.90480132450331}]
["TURNBERRY DRW26/27Scheduled Utilisation",{"$f":"IF(ISBLANK('Competition Data'!A503),\"\",'Competition Data'!A503)","v":"TURNBERRY DR"},{"$f":"IF(ISBLANK('Competition Data'!H503),\"\",'Competition Data'!H503)","v":""},{"$f":"IF(ISBLANK('Competition Data'!B503),\"\",'Competition Data'!B503)","v":"W26/27"},{"$f":"IF(ISBLANK('Competition Data'!C503),\"\",'Competition Data'!C503)","v":"Scheduled Utilisation"},{"$f":"IF(ISBLANK('Competition Data'!G503),\"\",'Competition Data'!G503)","v":892.77},{"$f":"IF(ISBLANK('Competition Data'!D503),\"\",'Competition Data'!D503)","v":604},{"$f":"IF(ISBLANK('Competition Data'!E503),\"\",'Competition Data'!E503)","v":"0"},{"$f":"IF(ISBLANK('Competition Data'!F503),\"\",'Competition Data'!F503)","v":0.02},"TURNBERRY DR (Scheduled Utilisation)",{"$f":"IF(ISBLANK('Competition Data'!I503),\"\",'Competition Data'!I503)","v":73.90480132450331}]
["TWINING BROOK RDW26/27Peak Reduction",{"$f":"IF(ISBLANK('Competition Data'!A504),\"\",'Competition Data'!A504)","v":"TWINING BROOK RD"},{"$f":"IF(ISBLANK('Competition Data'!H504),\"\",'Competition Data'!H504)","v":""},{"$f":"IF(ISBLANK('Competition Data'!B504),\"\",'Competition Data'!B504)","v":"W26/27"},{"$f":"IF(ISBLANK('Competition Data'!C504),\"\",'Competition Data'!C504)","v":"Peak Reduction"},{"$f":"IF(ISBLANK('Competition Data'!G504),\"\",'Competition Data'!G504)","v":892.77},{"$f":"IF(ISBLANK('Competition Data'!D504),\"\",'Competition Data'!D504)","v":604},{"$f":"IF(ISBLANK('Competition Data'!E504),\"\",'Competition Data'!E504)","v":"0"},{"$f":"IF(ISBLANK('Competition Data'!F504),\"\",'Competition Data'!F504)","v":0.04},"TWINING BROOK RD (Peak Reduction)",{"$f":"IF(ISBLANK('Competition Data'!I504),\"\",'Competition Data'!I504)","v":36.952400662251655}]
["TWINING BROOK RDW26/27Scheduled Utilisation",{"$f":"IF(ISBLANK('Competition Data'!A505),\"\",'Competition Data'!A505)","v":"TWINING BROOK RD"},{"$f":"IF(ISBLANK('Competition Data'!H505),\"\",'Competition Data'!H505)","v":""},{"$f":"IF(ISBLANK('Competition Data'!B505),\"\",'Competition Data'!B505)","v":"W26/27"},{"$f":"IF(ISBLANK('Competition Data'!C505),\"\",'Competition Data'!C505)","v":"Scheduled Utilisation"},{"$f":"IF(ISBLANK('Competition Data'!G505),\"\",'Competition Data'!G505)","v":892.77},{"$f":"IF(ISBLANK('Competition Data'!D505),\"\",'Competition Data'!D505)","v":604},{"$f":"IF(ISBLANK('Competition Data'!E505),\"\",'Competition Data'!E505)","v":"0"},{"$f":"IF(ISBLANK('Competition Data'!F505),\"\",'Competition Data'!F505)","v":0.04},"TWINING BROOK RD (Scheduled Utilisation)",{"$f":"IF(ISBLANK('Competition Data'!I505),\"\",'Competition Data'!I505)","v":36.952400662251655}]
["ULLSWATER RDW26/27Peak Reduction",{"$f":"IF(ISBLANK('Competition Data'!A506),\"\",'Competition Data'!A506)","v":"ULLSWATER RD"},{"$f":"IF(ISBLANK('Competition Data'!H506),\"\",'Competition Data'!H506)","v":""},{"$f":"IF(ISBLANK('Competition Data'!B506),\"\",'Competition Data'!B506)","v":"W26/27"},{"$f":"IF(ISBLANK('Competition Data'!C506),\"\",'Competition Data'!C506)","v":"Peak Reduction"},{"$f":"IF(ISBLANK('Competition Data'!G506),\"\",'Competition Data'!G506)","v":892.77},{"$f":"IF(ISBLANK('Competition Data'!D506),\"\",'Competition Data'!D506)","v":604},{"$f":"IF(ISBLANK('Competition Data'!E506),\"\",'Competition Data'!E506)","v":"0"},{"$f":"IF(ISBLANK('Competition Data'!F506),\"\",'Competition Data'!F506)","v":0.02},"ULLSWATER RD (Peak Reduction)",{"$f":"IF(ISBLANK('Competition Data'!I506),\"\",'Competition Data'!I506)","v":73.90480132450331}]
["ULLSWATER RDW26/27Scheduled Utilisation",{"$f":"IF(ISBLANK('Competition Data'!A507),\"\",'Competition Data'!A507)","v":"ULLSWATER RD"},{"$f":"IF(ISBLANK('Competition Data'!H507),\"\",'Competition Data'!H507)","v":""},{"$f":"IF(ISBLANK('Competition Data'!B507),\"\",'Competition Data'!B507)","v":"W26/27"},{"$f":"IF(ISBLANK('Competition Data'!C507),\"\",'Competition Data'!C507)","v":"Scheduled Utilisation"},{"$f":"IF(ISBLANK('Competition Data'!G507),\"\",'Competition Data'!G507)","v":892.77},{"$f":"IF(ISBLANK('Competition Data'!D507),\"\",'Competition Data'!D507)","v":604},{"$f":"IF(ISBLANK('Competition Data'!E507),\"\",'Competition Data'!E507)","v":"0"},{"$f":"IF(ISBLANK('Competition Data'!F507),\"\",'Competition Data'!F507)","v":0.02},"ULLSWATER RD (Scheduled Utilisation)",{"$f":"IF(ISBLANK('Competition Data'!I507),\"\",'Competition Data'!I507)","v":73.90480132450331}]
["UNION BRIDGEW26/27Peak Reduction",{"$f":"IF(ISBLANK('Competition Data'!A508),\"\",'Competition Data'!A508)","v":"UNION BRIDGE"},{"$f":"IF(ISBLANK('Competition Data'!H508),\"\",'Competition Data'!H508)","v":""},{"$f":"IF(ISBLANK('Competition Data'!B508),\"\",'Competition Data'!B508)","v":"W26/27"},{"$f":"IF(ISBLANK('Competition Data'!C508),\"\",'Competition Data'!C508)","v":"Peak Reduction"},{"$f":"IF(ISBLANK('Competition Data'!G508),\"\",'Competition Data'!G508)","v":892.77},{"$f":"IF(ISBLANK('Competition Data'!D508),\"\",'Competition Data'!D508)","v":604},{"$f":"IF(ISBLANK('Competition Data'!E508),\"\",'Competition Data'!E508)","v":"0"},{"$f":"IF(ISBLANK('Competition Data'!F508),\"\",'Competition Data'!F508)","v":0.03},"UNION BRIDGE (Peak Reduction)",{"$f":"IF(ISBLANK('Competition Data'!I508),\"\",'Competition Data'!I508)","v":49.269867549668874}]
["UNION BRIDGEW26/27Scheduled Utilisation",{"$f":"IF(ISBLANK('Competition Data'!A509),\"\",'Competition Data'!A509)","v":"UNION BRIDGE"},{"$f":"IF(ISBLANK('Competition Data'!H509),\"\",'Competition Data'!H509)","v":""},{"$f":"IF(ISBLANK('Competition Data'!B509),\"\",'Competition Data'!B509)","v":"W26/27"},{"$f":"IF(ISBLANK('Competition Data'!C509),\"\",'Competition Data'!C509)","v":"Scheduled Utilisation"},{"$f":"IF(ISBLANK('Competition Data'!G509),\"\",'Competition Data'!G509)","v":892.77},{"$f":"IF(ISBLANK('Competition Data'!D509),\"\",'Competition Data'!D509)","v":604},{"$f":"IF(ISBLANK('Competition Data'!E509),\"\",'Competition Data'!E509)","v":"0"},{"$f":"IF(ISBLANK('Competition Data'!F509),\"\",'Competition Data'!F509)","v":0.03},"UNION BRIDGE (Scheduled Utilisation)",{"$f":"IF(ISBLANK('Competition Data'!I509),\"\",'Competition Data'!I509)","v":49.269867549668874}]
["UNION RDW26/27Peak Reduction",{"$f":"IF(ISBLANK('Competition Data'!A510),\"\",'Competition Data'!A510)","v":"UNION RD"},{"$f":"IF(ISBLANK('Competition Data'!H510),\"\",'Competition Data'!H510)","v":""},{"$f":"IF(ISBLANK('Competition Data'!B510),\"\",'Competition Data'!B510)","v":"W26/27"},{"$f":"IF(ISBLANK('Competition Data'!C510),\"\",'Competition Data'!C510)","v":"Peak Reduction"},{"$f":"IF(ISBLANK('Competition Data'!G510),\"\",'Competition Data'!G510)","v":892.77},{"$f":"IF(ISBLANK('Competition Data'!D510),\"\",'Competition Data'!D510)","v":604},{"$f":"IF(ISBLANK('Competition Data'!E510),\"\",'Competition Data'!E510)","v":"0"},{"$f":"IF(ISBLANK('Competition Data'!F510),\"\",'Competition Data'!F510)","v":0.04},"UNION RD (Peak Reduction)",{"$f":"IF(ISBLANK('Competition Data'!I510),\"\",'Competition Data'!I510)","v":36.952400662251655}]
["UNION RDW26/27Scheduled Utilisation",{"$f":"IF(ISBLANK('Competition Data'!A511),\"\",'Competition Data'!A511)","v":"UNION RD"},{"$f":"IF(ISBLANK('Competition Data'!H511),\"\",'Competition Data'!H511)","v":""},{"$f":"IF(ISBLANK('Competition Data'!B511),\"\",'Competition Data'!B511)","v":"W26/27"},{"$f":"IF(ISBLANK('Competition Data'!C511),\"\",'Competition Data'!C511)","v":"Scheduled Utilisation"},{"$f":"IF(ISBLANK('Competition Data'!G511),\"\",'Competition Data'!G511)","v":892.77},{"$f":"IF(ISBLANK('Competition Data'!D511),\"\",'Competition Data'!D511)","v":604},{"$f":"IF(ISBLANK('Competition Data'!E511),\"\",'Competition Data'!E511)","v":"0"},{"$f":"IF(ISBLANK('Competition Data'!F511),\"\",'Competition Data'!F511)","v":0.04},"UNION RD (Scheduled Utilisation)",{"$f":"IF(ISBLANK('Competition Data'!I511),\"\",'Competition Data'!I511)","v":36.952400662251655}]
["Victoria ParkS27Variable Availability + Operational Utilisation",{"$f":"IF(ISBLANK('Competition Data'!A512),\"\",'Competition Data'!A512)","v":"Victoria Park"},{"$f":"IF(ISBLANK('Competition Data'!H512),\"\",'Competition Data'!H512)","v":""},{"$f":"IF(ISBLANK('Competition Data'!B512),\"\",'Competition Data'!B512)","v":"S27"},{"$f":"IF(ISBLANK('Competition Data'!C512),\"\",'Competition Data'!C512)","v":"Variable Availability + Operational Utilisation"},{"$f":"IF(ISBLANK('Competition Data'!G512),\"\",'Competition Data'!G512)","v":42318},{"$f":"IF(ISBLANK('Competition Data'!D512),\"\",'Competition Data'!D512)","v":48},{"$f":"IF(ISBLANK('Competition Data'!E512),\"\",'Competition Data'!E512)","v":"977"},{"$f":"IF(ISBLANK('Competition Data'!F512),\"\",'Competition Data'!F512)","v":5.27},"Victoria Park (Variable Availability + Operational Utilisation)",{"$f":"IF(ISBLANK('Competition Data'!I512),\"\",'Competition Data'!I512)","v":"N/A"}]
["Victoria ParkS27Peak Reduction",{"$f":"IF(ISBLANK('Competition Data'!A513),\"\",'Competition Data'!A513)","v":"Victoria Park"},{"$f":"IF(ISBLANK('Competition Data'!H513),\"\",'Competition Data'!H513)","v":""},{"$f":"IF(ISBLANK('Competition Data'!B513),\"\",'Competition Data'!B513)","v":"S27"},{"$f":"IF(ISBLANK('Competition Data'!C513),\"\",'Competition Data'!C513)","v":"Peak Reduction"},{"$f":"IF(ISBLANK('Competition Data'!G513),\"\",'Competition Data'!G513)","v":42318},{"$f":"IF(ISBLANK('Competition Data'!D513),\"\",'Competition Data'!D513)","v":4392},{"$f":"IF(ISBLANK('Competition Data'!E513),\"\",'Competition Data'!E513)","v":"0"},{"$f":"IF(ISBLANK('Competition Data'!F513),\"\",'Competition Data'!F513)","v":5.27},"Victoria Park (Peak Reduction)",{"$f":"IF(ISBLANK('Competition Data'!I513),\"\",'Competition Data'!I513)","v":1.8283199054344108}]
["Victoria ParkW26/27Variable Availability + Operational Utilisation",{"$f":"IF(ISBLANK('Competition Data'!A514),\"\",'Competition Data'!A514)","v":"Victoria Park"},{"$f":"IF(ISBLANK('Competition Data'!H514),\"\",'Competition Data'!H514)","v":""},{"$f":"IF(ISBLANK('Competition Data'!B514),\"\",'Competition Data'!B514)","v":"W26/27"},{"$f":"IF(ISBLANK('Competition Data'!C514),\"\",'Competition Data'!C514)","v":"Variable Availability + Operational Utilisation"},{"$f":"IF(ISBLANK('Competition Data'!G514),\"\",'Competition Data'!G514)","v":78372},{"$f":"IF(ISBLANK('Competition Data'!D514),\"\",'Competition Data'!D514)","v":48},{"$f":"IF(ISBLANK('Competition Data'!E514),\"\",'Competition Data'!E514)","v":"699"},{"$f":"IF(ISBLANK('Competition Data'!F514),\"\",'Competition Data'!F514)","v":4.45},"Victoria Park (Variable Availability + Operational Utilisation)",{"$f":"IF(ISBLANK('Competition Data'!I514),\"\",'Competition Data'!I514)","v":"N/A"}]
[{"$f":"CONCATENATE(B515,D515,E515)","v":"Victoria ParkW26/27Peak Reduction"},{"$f":"IF(ISBLANK('Competition Data'!A515),\"\",'Competition Data'!A515)","v":"Victoria Park"},{"$f":"IF(ISBLANK('Competition Data'!H515),\"\",'Competition Data'!H515)","v":""},{"$f":"IF(ISBLANK('Competition Data'!B515),\"\",'Competition Data'!B515)","v":"W26/27"},{"$f":"IF(ISBLANK('Competition Data'!C515),\"\",'Competition Data'!C515)","v":"Peak Reduction"},{"$f":"IF(ISBLANK('Competition Data'!G515),\"\",'Competition Data'!G515)","v":78372},{"$f":"IF(ISBLANK('Competition Data'!D515),\"\",'Competition Data'!D515)","v":3624},{"$f":"IF(ISBLANK('Competition Data'!E515),\"\",'Competition Data'!E515)","v":"0"},{"$f":"IF(ISBLANK('Competition Data'!F515),\"\",'Competition Data'!F515)","v":4.45},{"$f":"CONCATENATE(B515,\" (\",E515,\")\")","v":"Victoria Park (Peak Reduction)"},{"$f":"IF(ISBLANK('Competition Data'!I515),\"\",'Competition Data'!I515)","v":4.8597365875437157}]
["Victoria ParkW27/28Variable Availability + Operational Utilisation",{"$f":"IF(ISBLANK('Competition Data'!A516),\"\",'Competition Data'!A516)","v":"Victoria Park"},{"$f":"IF(ISBLANK('Competition Data'!H516),\"\",'Competition Data'!H516)","v":""},{"$f":"IF(ISBLANK('Competition Data'!B516),\"\",'Competition Data'!B516)","v":"W27/28"},{"$f":"IF(ISBLANK('Competition Data'!C516),\"\",'Competition Data'!C516)","v":"Variable Availability + Operational Utilisation"},{"$f":"IF(ISBLANK('Competition Data'!G516),\"\",'Competition Data'!G516)","v":36054},{"$f":"IF(ISBLANK('Competition Data'!D516),\"\",'Competition Data'!D516)","v":48},{"$f":"IF(ISBLANK('Competition Data'!E516),\"\",'Competition Data'!E516)","v":"953"},{"$f":"IF(ISBLANK('Competition Data'!F516),\"\",'Competition Data'!F516)","v":4.49},"Victoria Park (Variable Availability + Operational Utilisation)",{"$f":"IF(ISBLANK('Competition Data'!I516),\"\",'Competition Data'!I516)","v":"N/A"}]
["Victoria ParkW27/28Peak Reduction",{"$f":"IF(ISBLANK('Competition Data'!A517),\"\",'Competition Data'!A517)","v":"Victoria Park"},{"$f":"IF(ISBLANK('Competition Data'!H517),\"\",'Competition Data'!H517)","v":""},{"$f":"IF(ISBLANK('Competition Data'!B517),\"\",'Competition Data'!B517)","v":"W27/28"},{"$f":"IF(ISBLANK('Competition Data'!C517),\"\",'Competition Data'!C517)","v":"Peak Reduction"},{"$f":"IF(ISBLANK('Competition Data'!G517),\"\",'Competition Data'!G517)","v":36054},{"$f":"IF(ISBLANK('Competition Data'!D517),\"\",'Competition Data'!D517)","v":4392},{"$f":"IF(ISBLANK('Competition Data'!E517),\"\",'Competition Data'!E517)","v":"0"},{"$f":"IF(ISBLANK('Competition Data'!F517),\"\",'Competition Data'!F517)","v":4.49},"Victoria Park (Peak Reduction)",{"$f":"IF(ISBLANK('Competition Data'!I517),\"\",'Competition Data'!I517)","v":1.8282887290518091}]
["VIEW RDW26/27Peak Reduction",{"$f":"IF(ISBLANK('Competition Data'!A518),\"\",'Competition Data'!A518)","v":"VIEW RD"},{"$f":"IF(ISBLANK('Competition Data'!H518),\"\",'Competition Data'!H518)","v":""},{"$f":"IF(ISBLANK('Competition Data'!B518),\"\",'Competition Data'!B518)","v":"W26/27"},{"$f":"IF(ISBLANK('Competition Data'!C518),\"\",'Competition Data'!C518)","v":"Peak Reduction"},{"$f":"IF(ISBLANK('Competition Data'!G518),\"\",'Competition Data'!G518)","v":892.77},{"$f":"IF(ISBLANK('Competition Data'!D518),\"\",'Competition Data'!D518)","v":604},{"$f":"IF(ISBLANK('Competition Data'!E518),\"\",'Competition Data'!E518)","v":"0"},{"$f":"IF(ISBLANK('Competition Data'!F518),\"\",'Competition Data'!F518)","v":0.01},"VIEW RD (Peak Reduction)",{"$f":"IF(ISBLANK('Competition Data'!I518),\"\",'Competition Data'!I518)","v":147.80960264900662}]
["VIEW RDW26/27Scheduled Utilisation",{"$f":"IF(ISBLANK('Competition Data'!A519),\"\",'Competition Data'!A519)","v":"VIEW RD"},{"$f":"IF(ISBLANK('Competition Data'!H519),\"\",'Competition Data'!H519)","v":""},{"$f":"IF(ISBLANK('Competition Data'!B519),\"\",'Competition Data'!B519)","v":"W26/27"},{"$f":"IF(ISBLANK('Competition Data'!C519),\"\",'Competition Data'!C519)","v":"Scheduled Utilisation"},{"$f":"IF(ISBLANK('Competition Data'!G519),\"\",'Competition Data'!G519)","v":892.77},{"$f":"IF(ISBLANK('Competition Data'!D519),\"\",'Competition Data'!D519)","v":604},{"$f":"IF(ISBLANK('Competition Data'!E519),\"\",'Competition Data'!E519)","v":"0"},{"$f":"IF(ISBLANK('Competition Data'!F519),\"\",'Competition Data'!F519)","v":0.01},"VIEW RD (Scheduled Utilisation)",{"$f":"IF(ISBLANK('Competition Data'!I519),\"\",'Competition Data'!I519)","v":147.80960264900662}]
["WALMSLEY AVEW26/27Peak Reduction",{"$f":"IF(ISBLANK('Competition Data'!A520),\"\",'Competition Data'!A520)","v":"WALMSLEY AVE"},{"$f":"IF(ISBLANK('Competition Data'!H520),\"\",'Competition Data'!H520)","v":""},{"$f":"IF(ISBLANK('Competition Data'!B520),\"\",'Competition Data'!B520)","v":"W26/27"},{"$f":"IF(ISBLANK('Competition Data'!C520),\"\",'Competition Data'!C520)","v":"Peak Reduction"},{"$f":"IF(ISBLANK('Competition Data'!G520),\"\",'Competition Data'!G520)","v":892.77},{"$f":"IF(ISBLANK('Competition Data'!D520),\"\",'Competition Data'!D520)","v":604},{"$f":"IF(ISBLANK('Competition Data'!E520),\"\",'Competition Data'!E520)","v":"0"},{"$f":"IF(ISBLANK('Competition Data'!F520),\"\",'Competition Data'!F520)","v":0.01},"WALMSLEY AVE (Peak Reduction)",{"$f":"IF(ISBLANK('Competition Data'!I520),\"\",'Competition Data'!I520)","v":147.80960264900662}]
["WALMSLEY AVEW26/27Scheduled Utilisation",{"$f":"IF(ISBLANK('Competition Data'!A521),\"\",'Competition Data'!A521)","v":"WALMSLEY AVE"},{"$f":"IF(ISBLANK('Competition Data'!H521),\"\",'Competition Data'!H521)","v":""},{"$f":"IF(ISBLANK('Competition Data'!B521),\"\",'Competition Data'!B521)","v":"W26/27"},{"$f":"IF(ISBLANK('Competition Data'!C521),\"\",'Competition Data'!C521)","v":"Scheduled Utilisation"},{"$f":"IF(ISBLANK('Competition Data'!G521),\"\",'Competition Data'!G521)","v":892.77},{"$f":"IF(ISBLANK('Competition Data'!D521),\"\",'Competition Data'!D521)","v":604},{"$f":"IF(ISBLANK('Competition Data'!E521),\"\",'Competition Data'!E521)","v":"0"},{"$f":"IF(ISBLANK('Competition Data'!F521),\"\",'Competition Data'!F521)","v":0.01},"WALMSLEY AVE (Scheduled Utilisation)",{"$f":"IF(ISBLANK('Competition Data'!I521),\"\",'Competition Data'!I521)","v":147.80960264900662}]
["WASH BROWW26/27Peak Reduction",{"$f":"IF(ISBLANK('Competition Data'!A522),\"\",'Competition Data'!A522)","v":"WASH BROW"},{"$f":"IF(ISBLANK('Competition Data'!H522),\"\",'Competition Data'!H522)","v":""},{"$f":"IF(ISBLANK('Competition Data'!B522),\"\",'Competition Data'!B522)","v":"W26/27"},{"$f":"IF(ISBLANK('Competition Data'!C522),\"\",'Competition Data'!C522)","v":"Peak Reduction"},{"$f":"IF(ISBLANK('Competition Data'!G522),\"\",'Competition Data'!G522)","v":892.77},{"$f":"IF(ISBLANK('Competition Data'!D522),\"\",'Competition Data'!D522)","v":604},{"$f":"IF(ISBLANK('Competition Data'!E522),\"\",'Competition Data'!E522)","v":"0"},{"$f":"IF(ISBLANK('Competition Data'!F522),\"\",'Competition Data'!F522)","v":0.05},"WASH BROW (Peak Reduction)",{"$f":"IF(ISBLANK('Competition Data'!I522),\"\",'Competition Data'!I522)","v":29.561920529801323}]
["WASH BROWW26/27Scheduled Utilisation",{"$f":"IF(ISBLANK('Competition Data'!A523),\"\",'Competition Data'!A523)","v":"WASH BROW"},{"$f":"IF(ISBLANK('Competition Data'!H523),\"\",'Competition Data'!H523)","v":""},{"$f":"IF(ISBLANK('Competition Data'!B523),\"\",'Competition Data'!B523)","v":"W26/27"},{"$f":"IF(ISBLANK('Competition Data'!C523),\"\",'Competition Data'!C523)","v":"Scheduled Utilisation"},{"$f":"IF(ISBLANK('Competition Data'!G523),\"\",'Competition Data'!G523)","v":892.77},{"$f":"IF(ISBLANK('Competition Data'!D523),\"\",'Competition Data'!D523)","v":604},{"$f":"IF(ISBLANK('Competition Data'!E523),\"\",'Competition Data'!E523)","v":"0"},{"$f":"IF(ISBLANK('Competition Data'!F523),\"\",'Competition Data'!F523)","v":0.05},"WASH BROW (Scheduled Utilisation)",{"$f":"IF(ISBLANK('Competition Data'!I523),\"\",'Competition Data'!I523)","v":29.561920529801323}]
["WASHINGTON STW26/27Peak Reduction",{"$f":"IF(ISBLANK('Competition Data'!A524),\"\",'Competition Data'!A524)","v":"WASHINGTON ST"},{"$f":"IF(ISBLANK('Competition Data'!H524),\"\",'Competition Data'!H524)","v":""},{"$f":"IF(ISBLANK('Competition Data'!B524),\"\",'Competition Data'!B524)","v":"W26/27"},{"$f":"IF(ISBLANK('Competition Data'!C524),\"\",'Competition Data'!C524)","v":"Peak Reduction"},{"$f":"IF(ISBLANK('Competition Data'!G524),\"\",'Competition Data'!G524)","v":892.77},{"$f":"IF(ISBLANK('Competition Data'!D524),\"\",'Competition Data'!D524)","v":604},{"$f":"IF(ISBLANK('Competition Data'!E524),\"\",'Competition Data'!E524)","v":"0"},{"$f":"IF(ISBLANK('Competition Data'!F524),\"\",'Competition Data'!F524)","v":0.01},"WASHINGTON ST (Peak Reduction)",{"$f":"IF(ISBLANK('Competition Data'!I524),\"\",'Competition Data'!I524)","v":147.80960264900662}]
["WASHINGTON STW26/27Scheduled Utilisation",{"$f":"IF(ISBLANK('Competition Data'!A525),\"\",'Competition Data'!A525)","v":"WASHINGTON ST"},{"$f":"IF(ISBLANK('Competition Data'!H525),\"\",'Competition Data'!H525)","v":""},{"$f":"IF(ISBLANK('Competition Data'!B525),\"\",'Competition Data'!B525)","v":"W26/27"},{"$f":"IF(ISBLANK('Competition Data'!C525),\"\",'Competition Data'!C525)","v":"Scheduled Utilisation"},{"$f":"IF(ISBLANK('Competition Data'!G525),\"\",'Competition Data'!G525)","v":892.77},{"$f":"IF(ISBLANK('Competition Data'!D525),\"\",'Competition Data'!D525)","v":604},{"$f":"IF(ISBLANK('Competition Data'!E525),\"\",'Competition Data'!E525)","v":"0"},{"$f":"IF(ISBLANK('Competition Data'!F525),\"\",'Competition Data'!F525)","v":0.01},"WASHINGTON ST (Scheduled Utilisation)",{"$f":"IF(ISBLANK('Competition Data'!I525),\"\",'Competition Data'!I525)","v":147.80960264900662}]
["WELLINGTON RDW26/27Peak Reduction",{"$f":"IF(ISBLANK('Competition Data'!A526),\"\",'Competition Data'!A526)","v":"WELLINGTON RD"},{"$f":"IF(ISBLANK('Competition Data'!H526),\"\",'Competition Data'!H526)","v":""},{"$f":"IF(ISBLANK('Competition Data'!B526),\"\",'Competition Data'!B526)","v":"W26/27"},{"$f":"IF(ISBLANK('Competition Data'!C526),\"\",'Competition Data'!C526)","v":"Peak Reduction"},{"$f":"IF(ISBLANK('Competition Data'!G526),\"\",'Competition Data'!G526)","v":892.77},{"$f":"IF(ISBLANK('Competition Data'!D526),\"\",'Competition Data'!D526)","v":604},{"$f":"IF(ISBLANK('Competition Data'!E526),\"\",'Competition Data'!E526)","v":"0"},{"$f":"IF(ISBLANK('Competition Data'!F526),\"\",'Competition Data'!F526)","v":0.01},"WELLINGTON RD (Peak Reduction)",{"$f":"IF(ISBLANK('Competition Data'!I526),\"\",'Competition Data'!I526)","v":147.80960264900662}]
["WELLINGTON RDW26/27Scheduled Utilisation",{"$f":"IF(ISBLANK('Competition Data'!A527),\"\",'Competition Data'!A527)","v":"WELLINGTON RD"},{"$f":"IF(ISBLANK('Competition Data'!H527),\"\",'Competition Data'!H527)","v":""},{"$f":"IF(ISBLANK('Competition Data'!B527),\"\",'Competition Data'!B527)","v":"W26/27"},{"$f":"IF(ISBLANK('Competition Data'!C527),\"\",'Competition Data'!C527)","v":"Scheduled Utilisation"},{"$f":"IF(ISBLANK('Competition Data'!G527),\"\",'Competition Data'!G527)","v":892.77},{"$f":"IF(ISBLANK('Competition Data'!D527),\"\",'Competition Data'!D527)","v":604},{"$f":"IF(ISBLANK('Competition Data'!E527),\"\",'Competition Data'!E527)","v":"0"},{"$f":"IF(ISBLANK('Competition Data'!F527),\"\",'Competition Data'!F527)","v":0.01},"WELLINGTON RD (Scheduled Utilisation)",{"$f":"IF(ISBLANK('Competition Data'!I527),\"\",'Competition Data'!I527)","v":147.80960264900662}]
["WesthoughtonW27/28Variable Availability + Operational Utilisation",{"$f":"IF(ISBLANK('Competition Data'!A528),\"\",'Competition Data'!A528)","v":"Westhoughton"},{"$f":"IF(ISBLANK('Competition Data'!H528),\"\",'Competition Data'!H528)","v":""},{"$f":"IF(ISBLANK('Competition Data'!B528),\"\",'Competition Data'!B528)","v":"W27/28"},{"$f":"IF(ISBLANK('Competition Data'!C528),\"\",'Competition Data'!C528)","v":"Variable Availability + Operational Utilisation"},{"$f":"IF(ISBLANK('Competition Data'!G528),\"\",'Competition Data'!G528)","v":56835},{"$f":"IF(ISBLANK('Competition Data'!D528),\"\",'Competition Data'!D528)","v":25},{"$f":"IF(ISBLANK('Competition Data'!E528),\"\",'Competition Data'!E528)","v":"25"},{"$f":"IF(ISBLANK('Competition Data'!F528),\"\",'Competition Data'!F528)","v":1.84},"Westhoughton (Variable Availability + Operational Utilisation)",{"$f":"IF(ISBLANK('Competition Data'!I528),\"\",'Competition Data'!I528)","v":"N/A"}]
["WesthoughtonW27/28Peak Reduction",{"$f":"IF(ISBLANK('Competition Data'!A529),\"\",'Competition Data'!A529)","v":"Westhoughton"},{"$f":"IF(ISBLANK('Competition Data'!H529),\"\",'Competition Data'!H529)","v":""},{"$f":"IF(ISBLANK('Competition Data'!B529),\"\",'Competition Data'!B529)","v":"W27/28"},{"$f":"IF(ISBLANK('Competition Data'!C529),\"\",'Competition Data'!C529)","v":"Peak Reduction"},{"$f":"IF(ISBLANK('Competition Data'!G529),\"\",'Competition Data'!G529)","v":56835},{"$f":"IF(ISBLANK('Competition Data'!D529),\"\",'Competition Data'!D529)","v":4392},{"$f":"IF(ISBLANK('Competition Data'!E529),\"\",'Competition Data'!E529)","v":"0"},{"$f":"IF(ISBLANK('Competition Data'!F529),\"\",'Competition Data'!F529)","v":1.84},"Westhoughton (Peak Reduction)",{"$f":"IF(ISBLANK('Competition Data'!I529),\"\",'Competition Data'!I529)","v":7.0329205274411963}]
["WhassetS27Variable Availability + Operational Utilisation",{"$f":"IF(ISBLANK('Competition Data'!A530),\"\",'Competition Data'!A530)","v":"Whasset"},{"$f":"IF(ISBLANK('Competition Data'!H530),\"\",'Competition Data'!H530)","v":""},{"$f":"IF(ISBLANK('Competition Data'!B530),\"\",'Competition Data'!B530)","v":"S27"},{"$f":"IF(ISBLANK('Competition Data'!C530),\"\",'Competition Data'!C530)","v":"Variable Availability + Operational Utilisation"},{"$f":"IF(ISBLANK('Competition Data'!G530),\"\",'Competition Data'!G530)","v":25184},{"$f":"IF(ISBLANK('Competition Data'!D530),\"\",'Competition Data'!D530)","v":41},{"$f":"IF(ISBLANK('Competition Data'!E530),\"\",'Competition Data'!E530)","v":"41"},{"$f":"IF(ISBLANK('Competition Data'!F530),\"\",'Competition Data'!F530)","v":1.58},"Whasset (Variable Availability + Operational Utilisation)",{"$f":"IF(ISBLANK('Competition Data'!I530),\"\",'Competition Data'!I530)","v":"N/A"}]
["WhassetS27Peak Reduction",{"$f":"IF(ISBLANK('Competition Data'!A531),\"\",'Competition Data'!A531)","v":"Whasset"},{"$f":"IF(ISBLANK('Competition Data'!H531),\"\",'Competition Data'!H531)","v":""},{"$f":"IF(ISBLANK('Competition Data'!B531),\"\",'Competition Data'!B531)","v":"S27"},{"$f":"IF(ISBLANK('Competition Data'!C531),\"\",'Competition Data'!C531)","v":"Peak Reduction"},{"$f":"IF(ISBLANK('Competition Data'!G531),\"\",'Competition Data'!G531)","v":25184},{"$f":"IF(ISBLANK('Competition Data'!D531),\"\",'Competition Data'!D531)","v":4392},{"$f":"IF(ISBLANK('Competition Data'!E531),\"\",'Competition Data'!E531)","v":"0"},{"$f":"IF(ISBLANK('Competition Data'!F531),\"\",'Competition Data'!F531)","v":1.58},"Whasset (Peak Reduction)",{"$f":"IF(ISBLANK('Competition Data'!I531),\"\",'Competition Data'!I531)","v":3.6291531207488874}]
["WhassetW27/28Variable Availability + Operational Utilisation",{"$f":"IF(ISBLANK('Competition Data'!A532),\"\",'Competition Data'!A532)","v":"Whasset"},{"$f":"IF(ISBLANK('Competition Data'!H532),\"\",'Competition Data'!H532)","v":""},{"$f":"IF(ISBLANK('Competition Data'!B532),\"\",'Competition Data'!B532)","v":"W27/28"},{"$f":"IF(ISBLANK('Competition Data'!C532),\"\",'Competition Data'!C532)","v":"Variable Availability + Operational Utilisation"},{"$f":"IF(ISBLANK('Competition Data'!G532),\"\",'Competition Data'!G532)","v":25503},{"$f":"IF(ISBLANK('Competition Data'!D532),\"\",'Competition Data'!D532)","v":48},{"$f":"IF(ISBLANK('Competition Data'!E532),\"\",'Competition Data'!E532)","v":"61"},{"$f":"IF(ISBLANK('Competition Data'!F532),\"\",'Competition Data'!F532)","v":1.6},"Whasset (Variable Availability + Operational Utilisation)",{"$f":"IF(ISBLANK('Competition Data'!I532),\"\",'Competition Data'!I532)","v":"N/A"}]
["WhassetW27/28Peak Reduction",{"$f":"IF(ISBLANK('Competition Data'!A533),\"\",'Competition Data'!A533)","v":"Whasset"},{"$f":"IF(ISBLANK('Competition Data'!H533),\"\",'Competition Data'!H533)","v":""},{"$f":"IF(ISBLANK('Competition Data'!B533),\"\",'Competition Data'!B533)","v":"W27/28"},{"$f":"IF(ISBLANK('Competition Data'!C533),\"\",'Competition Data'!C533)","v":"Peak Reduction"},{"$f":"IF(ISBLANK('Competition Data'!G533),\"\",'Competition Data'!G533)","v":25503},{"$f":"IF(ISBLANK('Competition Data'!D533),\"\",'Competition Data'!D533)","v":4392},{"$f":"IF(ISBLANK('Competition Data'!E533),\"\",'Competition Data'!E533)","v":"0"},{"$f":"IF(ISBLANK('Competition Data'!F533),\"\",'Competition Data'!F533)","v":1.6},"Whasset (Peak Reduction)",{"$f":"IF(ISBLANK('Competition Data'!I533),\"\",'Competition Data'!I533)","v":3.6291837431693987}]
["WHITE HORSE YARDW26/27Peak Reduction",{"$f":"IF(ISBLANK('Competition Data'!A534),\"\",'Competition Data'!A534)","v":"WHITE HORSE YARD"},{"$f":"IF(ISBLANK('Competition Data'!H534),\"\",'Competition Data'!H534)","v":""},{"$f":"IF(ISBLANK('Competition Data'!B534),\"\",'Competition Data'!B534)","v":"W26/27"},{"$f":"IF(ISBLANK('Competition Data'!C534),\"\",'Competition Data'!C534)","v":"Peak Reduction"},{"$f":"IF(ISBLANK('Competition Data'!G534),\"\",'Competition Data'!G534)","v":892.77},{"$f":"IF(ISBLANK('Competition Data'!D534),\"\",'Competition Data'!D534)","v":604},{"$f":"IF(ISBLANK('Competition Data'!E534),\"\",'Competition Data'!E534)","v":"0"},{"$f":"IF(ISBLANK('Competition Data'!F534),\"\",'Competition Data'!F534)","v":0.02},"WHITE HORSE YARD (Peak Reduction)",{"$f":"IF(ISBLANK('Competition Data'!I534),\"\",'Competition Data'!I534)","v":73.90480132450331}]
["WHITE HORSE YARDW26/27Scheduled Utilisation",{"$f":"IF(ISBLANK('Competition Data'!A535),\"\",'Competition Data'!A535)","v":"WHITE HORSE YARD"},{"$f":"IF(ISBLANK('Competition Data'!H535),\"\",'Competition Data'!H535)","v":""},{"$f":"IF(ISBLANK('Competition Data'!B535),\"\",'Competition Data'!B535)","v":"W26/27"},{"$f":"IF(ISBLANK('Competition Data'!C535),\"\",'Competition Data'!C535)","v":"Scheduled Utilisation"},{"$f":"IF(ISBLANK('Competition Data'!G535),\"\",'Competition Data'!G535)","v":892.77},{"$f":"IF(ISBLANK('Competition Data'!D535),\"\",'Competition Data'!D535)","v":604},{"$f":"IF(ISBLANK('Competition Data'!E535),\"\",'Competition Data'!E535)","v":"0"},{"$f":"IF(ISBLANK('Competition Data'!F535),\"\",'Competition Data'!F535)","v":0.02},"WHITE HORSE YARD (Scheduled Utilisation)",{"$f":"IF(ISBLANK('Competition Data'!I535),\"\",'Competition Data'!I535)","v":73.90480132450331}]
["Wigan BSPS27Variable Availability + Operational Utilisation",{"$f":"IF(ISBLANK('Competition Data'!A536),\"\",'Competition Data'!A536)","v":"Wigan BSP"},{"$f":"IF(ISBLANK('Competition Data'!H536),\"\",'Competition Data'!H536)","v":""},{"$f":"IF(ISBLANK('Competition Data'!B536),\"\",'Competition Data'!B536)","v":"S27"},{"$f":"IF(ISBLANK('Competition Data'!C536),\"\",'Competition Data'!C536)","v":"Variable Availability + Operational Utilisation"},{"$f":"IF(ISBLANK('Competition Data'!G536),\"\",'Competition Data'!G536)","v":78777},{"$f":"IF(ISBLANK('Competition Data'!D536),\"\",'Competition Data'!D536)","v":17},{"$f":"IF(ISBLANK('Competition Data'!E536),\"\",'Competition Data'!E536)","v":"17"},{"$f":"IF(ISBLANK('Competition Data'!F536),\"\",'Competition Data'!F536)","v":3.19},"Wigan BSP (Variable Availability + Operational Utilisation)",{"$f":"IF(ISBLANK('Competition Data'!I536),\"\",'Competition Data'!I536)","v":"N/A"}]
["Wigan BSPS27Peak Reduction",{"$f":"IF(ISBLANK('Competition Data'!A537),\"\",'Competition Data'!A537)","v":"Wigan BSP"},{"$f":"IF(ISBLANK('Competition Data'!H537),\"\",'Competition Data'!H537)","v":""},{"$f":"IF(ISBLANK('Competition Data'!B537),\"\",'Competition Data'!B537)","v":"S27"},{"$f":"IF(ISBLANK('Competition Data'!C537),\"\",'Competition Data'!C537)","v":"Peak Reduction"},{"$f":"IF(ISBLANK('Competition Data'!G537),\"\",'Competition Data'!G537)","v":78777},{"$f":"IF(ISBLANK('Competition Data'!D537),\"\",'Competition Data'!D537)","v":4392},{"$f":"IF(ISBLANK('Competition Data'!E537),\"\",'Competition Data'!E537)","v":"0"},{"$f":"IF(ISBLANK('Competition Data'!F537),\"\",'Competition Data'!F537)","v":3.19},"Wigan BSP (Peak Reduction)",{"$f":"IF(ISBLANK('Competition Data'!I537),\"\",'Competition Data'!I537)","v":5.6227195642119332}]
["Wigan BSPW26/27Variable Availability + Operational Utilisation",{"$f":"IF(ISBLANK('Competition Data'!A538),\"\",'Competition Data'!A538)","v":"Wigan BSP"},{"$f":"IF(ISBLANK('Competition Data'!H538),\"\",'Competition Data'!H538)","v":""},{"$f":"IF(ISBLANK('Competition Data'!B538),\"\",'Competition Data'!B538)","v":"W26/27"},{"$f":"IF(ISBLANK('Competition Data'!C538),\"\",'Competition Data'!C538)","v":"Variable Availability + Operational Utilisation"},{"$f":"IF(ISBLANK('Competition Data'!G538),\"\",'Competition Data'!G538)","v":541563},{"$f":"IF(ISBLANK('Competition Data'!D538),\"\",'Competition Data'!D538)","v":48},{"$f":"IF(ISBLANK('Competition Data'!E538),\"\",'Competition Data'!E538)","v":"64"},{"$f":"IF(ISBLANK('Competition Data'!F538),\"\",'Competition Data'!F538)","v":6.69},"Wigan BSP (Variable Availability + Operational Utilisation)",{"$f":"IF(ISBLANK('Competition Data'!I538),\"\",'Competition Data'!I538)","v":"N/A"}]
["Wigan BSPW26/27Peak Reduction",{"$f":"IF(ISBLANK('Competition Data'!A539),\"\",'Competition Data'!A539)","v":"Wigan BSP"},{"$f":"IF(ISBLANK('Competition Data'!H539),\"\",'Competition Data'!H539)","v":""},{"$f":"IF(ISBLANK('Competition Data'!B539),\"\",'Competition Data'!B539)","v":"W26/27"},{"$f":"IF(ISBLANK('Competition Data'!C539),\"\",'Competition Data'!C539)","v":"Peak Reduction"},{"$f":"IF(ISBLANK('Competition Data'!G539),\"\",'Competition Data'!G539)","v":541563},{"$f":"IF(ISBLANK('Competition Data'!D539),\"\",'Competition Data'!D539)","v":3624},{"$f":"IF(ISBLANK('Competition Data'!E539),\"\",'Competition Data'!E539)","v":"0"},{"$f":"IF(ISBLANK('Competition Data'!F539),\"\",'Competition Data'!F539)","v":6.69},"Wigan BSP (Peak Reduction)",{"$f":"IF(ISBLANK('Competition Data'!I539),\"\",'Competition Data'!I539)","v":22.337505815737636}]
["Wigan BSPW27/28Variable Availability + Operational Utilisation",{"$f":"IF(ISBLANK('Competition Data'!A540),\"\",'Competition Data'!A540)","v":"Wigan BSP"},{"$f":"IF(ISBLANK('Competition Data'!H540),\"\",'Competition Data'!H540)","v":""},{"$f":"IF(ISBLANK('Competition Data'!B540),\"\",'Competition Data'!B540)","v":"W27/28"},{"$f":"IF(ISBLANK('Competition Data'!C540),\"\",'Competition Data'!C540)","v":"Variable Availability + Operational Utilisation"},{"$f":"IF(ISBLANK('Competition Data'!G540),\"\",'Competition Data'!G540)","v":462786},{"$f":"IF(ISBLANK('Competition Data'!D540),\"\",'Competition Data'!D540)","v":48},{"$f":"IF(ISBLANK('Competition Data'!E540),\"\",'Competition Data'!E540)","v":"956"},{"$f":"IF(ISBLANK('Competition Data'!F540),\"\",'Competition Data'!F540)","v":18.739999999999998},"Wigan BSP (Variable Availability + Operational Utilisation)",{"$f":"IF(ISBLANK('Competition Data'!I540),\"\",'Competition Data'!I540)","v":"N/A"}]
["Wigan BSPW27/28Peak Reduction",{"$f":"IF(ISBLANK('Competition Data'!A541),\"\",'Competition Data'!A541)","v":"Wigan BSP"},{"$f":"IF(ISBLANK('Competition Data'!H541),\"\",'Competition Data'!H541)","v":""},{"$f":"IF(ISBLANK('Competition Data'!B541),\"\",'Competition Data'!B541)","v":"W27/28"},{"$f":"IF(ISBLANK('Competition Data'!C541),\"\",'Competition Data'!C541)","v":"Peak Reduction"},{"$f":"IF(ISBLANK('Competition Data'!G541),\"\",'Competition Data'!G541)","v":462786},{"$f":"IF(ISBLANK('Competition Data'!D541),\"\",'Competition Data'!D541)","v":4392},{"$f":"IF(ISBLANK('Competition Data'!E541),\"\",'Competition Data'!E541)","v":"0"},{"$f":"IF(ISBLANK('Competition Data'!F541),\"\",'Competition Data'!F541)","v":18.739999999999998},"Wigan BSP (Peak Reduction)",{"$f":"IF(ISBLANK('Competition Data'!I541),\"\",'Competition Data'!I541)","v":5.6227437875792416}]
["WINDSOR WAYW26/27Peak Reduction",{"$f":"IF(ISBLANK('Competition Data'!A542),\"\",'Competition Data'!A542)","v":"WINDSOR WAY"},{"$f":"IF(ISBLANK('Competition Data'!H542),\"\",'Competition Data'!H542)","v":""},{"$f":"IF(ISBLANK('Competition Data'!B542),\"\",'Competition Data'!B542)","v":"W26/27"},{"$f":"IF(ISBLANK('Competition Data'!C542),\"\",'Competition Data'!C542)","v":"Peak Reduction"},{"$f":"IF(ISBLANK('Competition Data'!G542),\"\",'Competition Data'!G542)","v":892.77},{"$f":"IF(ISBLANK('Competition Data'!D542),\"\",'Competition Data'!D542)","v":604},{"$f":"IF(ISBLANK('Competition Data'!E542),\"\",'Competition Data'!E542)","v":"0"},{"$f":"IF(ISBLANK('Competition Data'!F542),\"\",'Competition Data'!F542)","v":0.04},"WINDSOR WAY (Peak Reduction)",{"$f":"IF(ISBLANK('Competition Data'!I542),\"\",'Competition Data'!I542)","v":36.952400662251655}]
["WINDSOR WAYW26/27Scheduled Utilisation",{"$f":"IF(ISBLANK('Competition Data'!A543),\"\",'Competition Data'!A543)","v":"WINDSOR WAY"},{"$f":"IF(ISBLANK('Competition Data'!H543),\"\",'Competition Data'!H543)","v":""},{"$f":"IF(ISBLANK('Competition Data'!B543),\"\",'Competition Data'!B543)","v":"W26/27"},{"$f":"IF(ISBLANK('Competition Data'!C543),\"\",'Competition Data'!C543)","v":"Scheduled Utilisation"},{"$f":"IF(ISBLANK('Competition Data'!G543),\"\",'Competition Data'!G543)","v":892.77},{"$f":"IF(ISBLANK('Competition Data'!D543),\"\",'Competition Data'!D543)","v":604},{"$f":"IF(ISBLANK('Competition Data'!E543),\"\",'Competition Data'!E543)","v":"0"},{"$f":"IF(ISBLANK('Competition Data'!F543),\"\",'Competition Data'!F543)","v":0.04},"WINDSOR WAY (Scheduled Utilisation)",{"$f":"IF(ISBLANK('Competition Data'!I543),\"\",'Competition Data'!I543)","v":36.952400662251655}]
["WITHINGTONW27/28Peak Reduction",{"$f":"IF(ISBLANK('Competition Data'!A544),\"\",'Competition Data'!A544)","v":"WITHINGTON"},{"$f":"IF(ISBLANK('Competition Data'!H544),\"\",'Competition Data'!H544)","v":""},{"$f":"IF(ISBLANK('Competition Data'!B544),\"\",'Competition Data'!B544)","v":"W27/28"},{"$f":"IF(ISBLANK('Competition Data'!C544),\"\",'Competition Data'!C544)","v":"Peak Reduction"},{"$f":"IF(ISBLANK('Competition Data'!G544),\"\",'Competition Data'!G544)","v":64727.519999999997},{"$f":"IF(ISBLANK('Competition Data'!D544),\"\",'Competition Data'!D544)","v":1216},{"$f":"IF(ISBLANK('Competition Data'!E544),\"\",'Competition Data'!E544)","v":"0"},{"$f":"IF(ISBLANK('Competition Data'!F544),\"\",'Competition Data'!F544)","v":1},"WITHINGTON (Peak Reduction)",{"$f":"IF(ISBLANK('Competition Data'!I544),\"\",'Competition Data'!I544)","v":53.229868421052629}]
["WITHINGTONW27/28Scheduled Utilisation",{"$f":"IF(ISBLANK('Competition Data'!A545),\"\",'Competition Data'!A545)","v":"WITHINGTON"},{"$f":"IF(ISBLANK('Competition Data'!H545),\"\",'Competition Data'!H545)","v":""},{"$f":"IF(ISBLANK('Competition Data'!B545),\"\",'Competition Data'!B545)","v":"W27/28"},{"$f":"IF(ISBLANK('Competition Data'!C545),\"\",'Competition Data'!C545)","v":"Scheduled Utilisation"},{"$f":"IF(ISBLANK('Competition Data'!G545),\"\",'Competition Data'!G545)","v":64727.519999999997},{"$f":"IF(ISBLANK('Competition Data'!D545),\"\",'Competition Data'!D545)","v":1216},{"$f":"IF(ISBLANK('Competition Data'!E545),\"\",'Competition Data'!E545)","v":"0"},{"$f":"IF(ISBLANK('Competition Data'!F545),\"\",'Competition Data'!F545)","v":1},"WITHINGTON (Scheduled Utilisation)",{"$f":"IF(ISBLANK('Competition Data'!I545),\"\",'Competition Data'!I545)","v":53.229868421052629}]
["WOODHOUSES O/DW26/27Peak Reduction",{"$f":"IF(ISBLANK('Competition Data'!A546),\"\",'Competition Data'!A546)","v":"WOODHOUSES O/D"},{"$f":"IF(ISBLANK('Competition Data'!H546),\"\",'Competition Data'!H546)","v":""},{"$f":"IF(ISBLANK('Competition Data'!B546),\"\",'Competition Data'!B546)","v":"W26/27"},{"$f":"IF(ISBLANK('Competition Data'!C546),\"\",'Competition Data'!C546)","v":"Peak Reduction"},{"$f":"IF(ISBLANK('Competition Data'!G546),\"\",'Competition Data'!G546)","v":892.77},{"$f":"IF(ISBLANK('Competition Data'!D546),\"\",'Competition Data'!D546)","v":604},{"$f":"IF(ISBLANK('Competition Data'!E546),\"\",'Competition Data'!E546)","v":"0"},{"$f":"IF(ISBLANK('Competition Data'!F546),\"\",'Competition Data'!F546)","v":0.03},"WOODHOUSES O/D (Peak Reduction)",{"$f":"IF(ISBLANK('Competition Data'!I546),\"\",'Competition Data'!I546)","v":49.269867549668874}]
["WOODHOUSES O/DW26/27Scheduled Utilisation",{"$f":"IF(ISBLANK('Competition Data'!A547),\"\",'Competition Data'!A547)","v":"WOODHOUSES O/D"},{"$f":"IF(ISBLANK('Competition Data'!H547),\"\",'Competition Data'!H547)","v":""},{"$f":"IF(ISBLANK('Competition Data'!B547),\"\",'Competition Data'!B547)","v":"W26/27"},{"$f":"IF(ISBLANK('Competition Data'!C547),\"\",'Competition Data'!C547)","v":"Scheduled Utilisation"},{"$f":"IF(ISBLANK('Competition Data'!G547),\"\",'Competition Data'!G547)","v":892.77},{"$f":"IF(ISBLANK('Competition Data'!D547),\"\",'Competition Data'!D547)","v":604},{"$f":"IF(ISBLANK('Competition Data'!E547),\"\",'Competition Data'!E547)","v":"0"},{"$f":"IF(ISBLANK('Competition Data'!F547),\"\",'Competition Data'!F547)","v":0.03},"WOODHOUSES O/D (Scheduled Utilisation)",{"$f":"IF(ISBLANK('Competition Data'!I547),\"\",'Competition Data'!I547)","v":49.269867549668874}]
["WOODLANDS DR (B)W26/27Peak Reduction",{"$f":"IF(ISBLANK('Competition Data'!A548),\"\",'Competition Data'!A548)","v":"WOODLANDS DR (B)"},{"$f":"IF(ISBLANK('Competition Data'!H548),\"\",'Competition Data'!H548)","v":""},{"$f":"IF(ISBLANK('Competition Data'!B548),\"\",'Competition Data'!B548)","v":"W26/27"},{"$f":"IF(ISBLANK('Competition Data'!C548),\"\",'Competition Data'!C548)","v":"Peak Reduction"},{"$f":"IF(ISBLANK('Competition Data'!G548),\"\",'Competition Data'!G548)","v":892.77},{"$f":"IF(ISBLANK('Competition Data'!D548),\"\",'Competition Data'!D548)","v":604},{"$f":"IF(ISBLANK('Competition Data'!E548),\"\",'Competition Data'!E548)","v":"0"},{"$f":"IF(ISBLANK('Competition Data'!F548),\"\",'Competition Data'!F548)","v":0.04},"WOODLANDS DR (B) (Peak Reduction)",{"$f":"IF(ISBLANK('Competition Data'!I548),\"\",'Competition Data'!I548)","v":36.952400662251655}]
["WOODLANDS DR (B)W26/27Scheduled Utilisation",{"$f":"IF(ISBLANK('Competition Data'!A549),\"\",'Competition Data'!A549)","v":"WOODLANDS DR (B)"},{"$f":"IF(ISBLANK('Competition Data'!H549),\"\",'Competition Data'!H549)","v":""},{"$f":"IF(ISBLANK('Competition Data'!B549),\"\",'Competition Data'!B549)","v":"W26/27"},{"$f":"IF(ISBLANK('Competition Data'!C549),\"\",'Competition Data'!C549)","v":"Scheduled Utilisation"},{"$f":"IF(ISBLANK('Competition Data'!G549),\"\",'Competition Data'!G549)","v":892.77},{"$f":"IF(ISBLANK('Competition Data'!D549),\"\",'Competition Data'!D549)","v":604},{"$f":"IF(ISBLANK('Competition Data'!E549),\"\",'Competition Data'!E549)","v":"0"},{"$f":"IF(ISBLANK('Competition Data'!F549),\"\",'Competition Data'!F549)","v":0.04},"WOODLANDS DR (B) (Scheduled Utilisation)",{"$f":"IF(ISBLANK('Competition Data'!I549),\"\",'Competition Data'!I549)","v":36.952400662251655}]
["WORDSWORTH RDW26/27Peak Reduction",{"$f":"IF(ISBLANK('Competition Data'!A550),\"\",'Competition Data'!A550)","v":"WORDSWORTH RD"},{"$f":"IF(ISBLANK('Competition Data'!H550),\"\",'Competition Data'!H550)","v":""},{"$f":"IF(ISBLANK('Competition Data'!B550),\"\",'Competition Data'!B550)","v":"W26/27"},{"$f":"IF(ISBLANK('Competition Data'!C550),\"\",'Competition Data'!C550)","v":"Peak Reduction"},{"$f":"IF(ISBLANK('Competition Data'!G550),\"\",'Competition Data'!G550)","v":892.77},{"$f":"IF(ISBLANK('Competition Data'!D550),\"\",'Competition Data'!D550)","v":604},{"$f":"IF(ISBLANK('Competition Data'!E550),\"\",'Competition Data'!E550)","v":"0"},{"$f":"IF(ISBLANK('Competition Data'!F550),\"\",'Competition Data'!F550)","v":0.03},"WORDSWORTH RD (Peak Reduction)",{"$f":"IF(ISBLANK('Competition Data'!I550),\"\",'Competition Data'!I550)","v":49.269867549668874}]
["WORDSWORTH RDW26/27Scheduled Utilisation",{"$f":"IF(ISBLANK('Competition Data'!A551),\"\",'Competition Data'!A551)","v":"WORDSWORTH RD"},{"$f":"IF(ISBLANK('Competition Data'!H551),\"\",'Competition Data'!H551)","v":""},{"$f":"IF(ISBLANK('Competition Data'!B551),\"\",'Competition Data'!B551)","v":"W26/27"},{"$f":"IF(ISBLANK('Competition Data'!C551),\"\",'Competition Data'!C551)","v":"Scheduled Utilisation"},{"$f":"IF(ISBLANK('Competition Data'!G551),\"\",'Competition Data'!G551)","v":892.77},{"$f":"IF(ISBLANK('Competition Data'!D551),\"\",'Competition Data'!D551)","v":604},{"$f":"IF(ISBLANK('Competition Data'!E551),\"\",'Competition Data'!E551)","v":"0"},{"$f":"IF(ISBLANK('Competition Data'!F551),\"\",'Competition Data'!F551)","v":0.03},"WORDSWORTH RD (Scheduled Utilisation)",{"$f":"IF(ISBLANK('Competition Data'!I551),\"\",'Competition Data'!I551)","v":49.269867549668874}]
["YealandFY27Operational Utilisation",{"$f":"IF(ISBLANK('Competition Data'!A552),\"\",'Competition Data'!A552)","v":"Yealand"},{"$f":"IF(ISBLANK('Competition Data'!H552),\"\",'Competition Data'!H552)","v":""},{"$f":"IF(ISBLANK('Competition Data'!B552),\"\",'Competition Data'!B552)","v":"FY27"},{"$f":"IF(ISBLANK('Competition Data'!C552),\"\",'Competition Data'!C552)","v":"Operational Utilisation"},{"$f":"IF(ISBLANK('Competition Data'!G552),\"\",'Competition Data'!G552)","v":69187},{"$f":"IF(ISBLANK('Competition Data'!D552),\"\",'Competition Data'!D552)","v":100},{"$f":"IF(ISBLANK('Competition Data'!E552),\"\",'Competition Data'!E552)","v":"0"},{"$f":"IF(ISBLANK('Competition Data'!F552),\"\",'Competition Data'!F552)","v":2.9},"Yealand (Operational Utilisation)",{"$f":"IF(ISBLANK('Competition Data'!I552),\"\",'Competition Data'!I552)","v":238.57586206896553}]
["YealandFY28Operational Utilisation",{"$f":"IF(ISBLANK('Competition Data'!A553),\"\",'Competition Data'!A553)","v":"Yealand"},{"$f":"IF(ISBLANK('Competition Data'!H553),\"\",'Competition Data'!H553)","v":""},{"$f":"IF(ISBLANK('Competition Data'!B553),\"\",'Competition Data'!B553)","v":"FY28"},{"$f":"IF(ISBLANK('Competition Data'!C553),\"\",'Competition Data'!C553)","v":"Operational Utilisation"},{"$f":"IF(ISBLANK('Competition Data'!G553),\"\",'Competition Data'!G553)","v":69187},{"$f":"IF(ISBLANK('Competition Data'!D553),\"\",'Competition Data'!D553)","v":100},{"$f":"IF(ISBLANK('Competition Data'!E553),\"\",'Competition Data'!E553)","v":"0"},{"$f":"IF(ISBLANK('Competition Data'!F553),\"\",'Competition Data'!F553)","v":2.9},"Yealand (Operational Utilisation)",{"$f":"IF(ISBLANK('Competition Data'!I553),\"\",'Competition Data'!I553)","v":238.57586206896553}]
["YealandS27Variable Availability + Operational Utilisation",{"$f":"IF(ISBLANK('Competition Data'!A554),\"\",'Competition Data'!A554)","v":"Yealand"},{"$f":"IF(ISBLANK('Competition Data'!H554),\"\",'Competition Data'!H554)","v":""},{"$f":"IF(ISBLANK('Competition Data'!B554),\"\",'Competition Data'!B554)","v":"S27"},{"$f":"IF(ISBLANK('Competition Data'!C554),\"\",'Competition Data'!C554)","v":"Variable Availability + Operational Utilisation"},{"$f":"IF(ISBLANK('Competition Data'!G554),\"\",'Competition Data'!G554)","v":46153},{"$f":"IF(ISBLANK('Competition Data'!D554),\"\",'Competition Data'!D554)","v":200},{"$f":"IF(ISBLANK('Competition Data'!E554),\"\",'Competition Data'!E554)","v":"2350"},{"$f":"IF(ISBLANK('Competition Data'!F554),\"\",'Competition Data'!F554)","v":2.7},"Yealand (Variable Availability + Operational Utilisation)",{"$f":"IF(ISBLANK('Competition Data'!I554),\"\",'Competition Data'!I554)","v":"N/A"}]
["YealandS27Peak Reduction",{"$f":"IF(ISBLANK('Competition Data'!A555),\"\",'Competition Data'!A555)","v":"Yealand"},{"$f":"IF(ISBLANK('Competition Data'!H555),\"\",'Competition Data'!H555)","v":""},{"$f":"IF(ISBLANK('Competition Data'!B555),\"\",'Competition Data'!B555)","v":"S27"},{"$f":"IF(ISBLANK('Competition Data'!C555),\"\",'Competition Data'!C555)","v":"Peak Reduction"},{"$f":"IF(ISBLANK('Competition Data'!G555),\"\",'Competition Data'!G555)","v":46153},{"$f":"IF(ISBLANK('Competition Data'!D555),\"\",'Competition Data'!D555)","v":4392},{"$f":"IF(ISBLANK('Competition Data'!E555),\"\",'Competition Data'!E555)","v":"0"},{"$f":"IF(ISBLANK('Competition Data'!F555),\"\",'Competition Data'!F555)","v":2.7},"Yealand (Peak Reduction)",{"$f":"IF(ISBLANK('Competition Data'!I555),\"\",'Competition Data'!I555)","v":3.8920090400053966}]
["YealandW26/27Variable Availability + Operational Utilisation",{"$f":"IF(ISBLANK('Competition Data'!A556),\"\",'Competition Data'!A556)","v":"Yealand"},{"$f":"IF(ISBLANK('Competition Data'!H556),\"\",'Competition Data'!H556)","v":""},{"$f":"IF(ISBLANK('Competition Data'!B556),\"\",'Competition Data'!B556)","v":"W26/27"},{"$f":"IF(ISBLANK('Competition Data'!C556),\"\",'Competition Data'!C556)","v":"Variable Availability + Operational Utilisation"},{"$f":"IF(ISBLANK('Competition Data'!G556),\"\",'Competition Data'!G556)","v":114186},{"$f":"IF(ISBLANK('Competition Data'!D556),\"\",'Competition Data'!D556)","v":300},{"$f":"IF(ISBLANK('Competition Data'!E556),\"\",'Competition Data'!E556)","v":"3204"},{"$f":"IF(ISBLANK('Competition Data'!F556),\"\",'Competition Data'!F556)","v":3.85},"Yealand (Variable Availability + Operational Utilisation)",{"$f":"IF(ISBLANK('Competition Data'!I556),\"\",'Competition Data'!I556)","v":"N/A"}]
["YealandW26/27Peak Reduction",{"$f":"IF(ISBLANK('Competition Data'!A557),\"\",'Competition Data'!A557)","v":"Yealand"},{"$f":"IF(ISBLANK('Competition Data'!H557),\"\",'Competition Data'!H557)","v":""},{"$f":"IF(ISBLANK('Competition Data'!B557),\"\",'Competition Data'!B557)","v":"W26/27"},{"$f":"IF(ISBLANK('Competition Data'!C557),\"\",'Competition Data'!C557)","v":"Peak Reduction"},{"$f":"IF(ISBLANK('Competition Data'!G557),\"\",'Competition Data'!G557)","v":114186},{"$f":"IF(ISBLANK('Competition Data'!D557),\"\",'Competition Data'!D557)","v":3624},{"$f":"IF(ISBLANK('Competition Data'!E557),\"\",'Competition Data'!E557)","v":"0"},{"$f":"IF(ISBLANK('Competition Data'!F557),\"\",'Competition Data'!F557)","v":3.85},"Yealand (Peak Reduction)",{"$f":"IF(ISBLANK('Competition Data'!I557),\"\",'Competition Data'!I557)","v":8.1839683495312627}]
["YealandW27/28Variable Availability + Operational Utilisation",{"$f":"IF(ISBLANK('Competition Data'!A558),\"\",'Competition Data'!A558)","v":"Yealand"},{"$f":"IF(ISBLANK('Competition Data'!H558),\"\",'Competition Data'!H558)","v":""},{"$f":"IF(ISBLANK('Competition Data'!B558),\"\",'Competition Data'!B558)","v":"W27/28"},{"$f":"IF(ISBLANK('Competition Data'!C558),\"\",'Competition Data'!C558)","v":"Variable Availability + Operational Utilisation"},{"$f":"IF(ISBLANK('Competition Data'!G558),\"\",'Competition Data'!G558)","v":68033},{"$f":"IF(ISBLANK('Competition Data'!D558),\"\",'Competition Data'!D558)","v":300},{"$f":"IF(ISBLANK('Competition Data'!E558),\"\",'Competition Data'!E558)","v":"3858"},{"$f":"IF(ISBLANK('Competition Data'!F558),\"\",'Competition Data'!F558)","v":3.98},"Yealand (Variable Availability + Operational Utilisation)",{"$f":"IF(ISBLANK('Competition Data'!I558),\"\",'Competition Data'!I558)","v":"N/A"}]
["YealandW27/28Peak Reduction",{"$f":"IF(ISBLANK('Competition Data'!A559),\"\",'Competition Data'!A559)","v":"Yealand"},{"$f":"IF(ISBLANK('Competition Data'!H559),\"\",'Competition Data'!H559)","v":""},{"$f":"IF(ISBLANK('Competition Data'!B559),\"\",'Competition Data'!B559)","v":"W27/28"},{"$f":"IF(ISBLANK('Competition Data'!C559),\"\",'Competition Data'!C559)","v":"Peak Reduction"},{"$f":"IF(ISBLANK('Competition Data'!G559),\"\",'Competition Data'!G559)","v":68033},{"$f":"IF(ISBLANK('Competition Data'!D559),\"\",'Competition Data'!D559)","v":4392},{"$f":"IF(ISBLANK('Competition Data'!E559),\"\",'Competition Data'!E559)","v":"0"},{"$f":"IF(ISBLANK('Competition Data'!F559),\"\",'Competition Data'!F559)","v":3.98},"Yealand (Peak Reduction)",{"$f":"IF(ISBLANK('Competition Data'!I559),\"\",'Competition Data'!I559)","v":3.8920124300921732}]
[{"$f":"CONCATENATE(B560,D560,E560)","v":""},{"$f":"IF(ISBLANK('Competition Data'!A560),\"\",'Competition Data'!A560)","v":""},{"$f":"IF(ISBLANK('Competition Data'!H560),\"\",'Competition Data'!H560)","v":""},{"$f":"IF(ISBLANK('Competition Data'!B560),\"\",'Competition Data'!B560)","v":""},{"$f":"IF(ISBLANK('Competition Data'!C560),\"\",'Competition Data'!C560)","v":""},{"$f":"IF(ISBLANK('Competition Data'!G560),\"\",'Competition Data'!G560)","v":""},{"$f":"IF(ISBLANK('Competition Data'!D560),\"\",'Competition Data'!D560)","v":""},{"$f":"IF(ISBLANK('Competition Data'!E560),\"\",'Competition Data'!E560)","v":""},{"$f":"IF(ISBLANK('Competition Data'!F560),\"\",'Competition Data'!F560)","v":""},{"$f":"CONCATENATE(B560,\" (\",E560,\")\")","v":" ()"},{"$f":"IF(ISBLANK('Competition Data'!I560),\"\",'Competition Data'!I560)","v":""}]
["",{"$f":"IF(ISBLANK('Competition Data'!A561),\"\",'Competition Data'!A561)","v":""},{"$f":"IF(ISBLANK('Competition Data'!H561),\"\",'Competition Data'!H561)","v":""},{"$f":"IF(ISBLANK('Competition Data'!B561),\"\",'Competition Data'!B561)","v":""},{"$f":"IF(ISBLANK('Competition Data'!C561),\"\",'Competition Data'!C561)","v":""},{"$f":"IF(ISBLANK('Competition Data'!G561),\"\",'Competition Data'!G561)","v":""},{"$f":"IF(ISBLANK('Competition Data'!D561),\"\",'Competition Data'!D561)","v":""},{"$f":"IF(ISBLANK('Competition Data'!E561),\"\",'Competition Data'!E561)","v":""},{"$f":"IF(ISBLANK('Competition Data'!F561),\"\",'Competition Data'!F561)","v":""}," ()",{"$f":"IF(ISBLANK('Competition Data'!I561),\"\",'Competition Data'!I561)","v":""}]
["",{"$f":"IF(ISBLANK('Competition Data'!A562),\"\",'Competition Data'!A562)","v":""},{"$f":"IF(ISBLANK('Competition Data'!H562),\"\",'Competition Data'!H562)","v":""},{"$f":"IF(ISBLANK('Competition Data'!B562),\"\",'Competition Data'!B562)","v":""},{"$f":"IF(ISBLANK('Competition Data'!C562),\"\",'Competition Data'!C562)","v":""},{"$f":"IF(ISBLANK('Competition Data'!G562),\"\",'Competition Data'!G562)","v":""},{"$f":"IF(ISBLANK('Competition Data'!D562),\"\",'Competition Data'!D562)","v":""},{"$f":"IF(ISBLANK('Competition Data'!E562),\"\",'Competition Data'!E562)","v":""},{"$f":"IF(ISBLANK('Competition Data'!F562),\"\",'Competition Data'!F562)","v":""}," ()",{"$f":"IF(ISBLANK('Competition Data'!I562),\"\",'Competition Data'!I562)","v":""}]
["",{"$f":"IF(ISBLANK('Competition Data'!A563),\"\",'Competition Data'!A563)","v":""},{"$f":"IF(ISBLANK('Competition Data'!H563),\"\",'Competition Data'!H563)","v":""},{"$f":"IF(ISBLANK('Competition Data'!B563),\"\",'Competition Data'!B563)","v":""},{"$f":"IF(ISBLANK('Competition Data'!C563),\"\",'Competition Data'!C563)","v":""},{"$f":"IF(ISBLANK('Competition Data'!G563),\"\",'Competition Data'!G563)","v":""},{"$f":"IF(ISBLANK('Competition Data'!D563),\"\",'Competition Data'!D563)","v":""},{"$f":"IF(ISBLANK('Competition Data'!E563),\"\",'Competition Data'!E563)","v":""},{"$f":"IF(ISBLANK('Competition Data'!F563),\"\",'Competition Data'!F563)","v":""}," ()",{"$f":"IF(ISBLANK('Competition Data'!I563),\"\",'Competition Data'!I563)","v":""}]
["",{"$f":"IF(ISBLANK('Competition Data'!A564),\"\",'Competition Data'!A564)","v":""},{"$f":"IF(ISBLANK('Competition Data'!H564),\"\",'Competition Data'!H564)","v":""},{"$f":"IF(ISBLANK('Competition Data'!B564),\"\",'Competition Data'!B564)","v":""},{"$f":"IF(ISBLANK('Competition Data'!C564),\"\",'Competition Data'!C564)","v":""},{"$f":"IF(ISBLANK('Competition Data'!G564),\"\",'Competition Data'!G564)","v":""},{"$f":"IF(ISBLANK('Competition Data'!D564),\"\",'Competition Data'!D564)","v":""},{"$f":"IF(ISBLANK('Competition Data'!E564),\"\",'Competition Data'!E564)","v":""},{"$f":"IF(ISBLANK('Competition Data'!F564),\"\",'Competition Data'!F564)","v":""}," ()",{"$f":"IF(ISBLANK('Competition Data'!I564),\"\",'Competition Data'!I564)","v":""}]
["",{"$f":"IF(ISBLANK('Competition Data'!A565),\"\",'Competition Data'!A565)","v":""},{"$f":"IF(ISBLANK('Competition Data'!H565),\"\",'Competition Data'!H565)","v":""},{"$f":"IF(ISBLANK('Competition Data'!B565),\"\",'Competition Data'!B565)","v":""},{"$f":"IF(ISBLANK('Competition Data'!C565),\"\",'Competition Data'!C565)","v":""},{"$f":"IF(ISBLANK('Competition Data'!G565),\"\",'Competition Data'!G565)","v":""},{"$f":"IF(ISBLANK('Competition Data'!D565),\"\",'Competition Data'!D565)","v":""},{"$f":"IF(ISBLANK('Competition Data'!E565),\"\",'Competition Data'!E565)","v":""},{"$f":"IF(ISBLANK('Competition Data'!F565),\"\",'Competition Data'!F565)","v":""}," ()",{"$f":"IF(ISBLANK('Competition Data'!I565),\"\",'Competition Data'!I565)","v":""}]
["",{"$f":"IF(ISBLANK('Competition Data'!A566),\"\",'Competition Data'!A566)","v":""},{"$f":"IF(ISBLANK('Competition Data'!H566),\"\",'Competition Data'!H566)","v":""},{"$f":"IF(ISBLANK('Competition Data'!B566),\"\",'Competition Data'!B566)","v":""},{"$f":"IF(ISBLANK('Competition Data'!C566),\"\",'Competition Data'!C566)","v":""},{"$f":"IF(ISBLANK('Competition Data'!G566),\"\",'Competition Data'!G566)","v":""},{"$f":"IF(ISBLANK('Competition Data'!D566),\"\",'Competition Data'!D566)","v":""},{"$f":"IF(ISBLANK('Competition Data'!E566),\"\",'Competition Data'!E566)","v":""},{"$f":"IF(ISBLANK('Competition Data'!F566),\"\",'Competition Data'!F566)","v":""}," ()",{"$f":"IF(ISBLANK('Competition Data'!I566),\"\",'Competition Data'!I566)","v":""}]
["",{"$f":"IF(ISBLANK('Competition Data'!A567),\"\",'Competition Data'!A567)","v":""},{"$f":"IF(ISBLANK('Competition Data'!H567),\"\",'Competition Data'!H567)","v":""},{"$f":"IF(ISBLANK('Competition Data'!B567),\"\",'Competition Data'!B567)","v":""},{"$f":"IF(ISBLANK('Competition Data'!C567),\"\",'Competition Data'!C567)","v":""},{"$f":"IF(ISBLANK('Competition Data'!G567),\"\",'Competition Data'!G567)","v":""},{"$f":"IF(ISBLANK('Competition Data'!D567),\"\",'Competition Data'!D567)","v":""},{"$f":"IF(ISBLANK('Competition Data'!E567),\"\",'Competition Data'!E567)","v":""},{"$f":"IF(ISBLANK('Competition Data'!F567),\"\",'Competition Data'!F567)","v":""}," ()",{"$f":"IF(ISBLANK('Competition Data'!I567),\"\",'Competition Data'!I567)","v":""}]
["",{"$f":"IF(ISBLANK('Competition Data'!A568),\"\",'Competition Data'!A568)","v":""},{"$f":"IF(ISBLANK('Competition Data'!H568),\"\",'Competition Data'!H568)","v":""},{"$f":"IF(ISBLANK('Competition Data'!B568),\"\",'Competition Data'!B568)","v":""},{"$f":"IF(ISBLANK('Competition Data'!C568),\"\",'Competition Data'!C568)","v":""},{"$f":"IF(ISBLANK('Competition Data'!G568),\"\",'Competition Data'!G568)","v":""},{"$f":"IF(ISBLANK('Competition Data'!D568),\"\",'Competition Data'!D568)","v":""},{"$f":"IF(ISBLANK('Competition Data'!E568),\"\",'Competition Data'!E568)","v":""},{"$f":"IF(ISBLANK('Competition Data'!F568),\"\",'Competition Data'!F568)","v":""}," ()",{"$f":"IF(ISBLANK('Competition Data'!I568),\"\",'Competition Data'!I568)","v":""}]
["",{"$f":"IF(ISBLANK('Competition Data'!A569),\"\",'Competition Data'!A569)","v":""},{"$f":"IF(ISBLANK('Competition Data'!H569),\"\",'Competition Data'!H569)","v":""},{"$f":"IF(ISBLANK('Competition Data'!B569),\"\",'Competition Data'!B569)","v":""},{"$f":"IF(ISBLANK('Competition Data'!C569),\"\",'Competition Data'!C569)","v":""},{"$f":"IF(ISBLANK('Competition Data'!G569),\"\",'Competition Data'!G569)","v":""},{"$f":"IF(ISBLANK('Competition Data'!D569),\"\",'Competition Data'!D569)","v":""},{"$f":"IF(ISBLANK('Competition Data'!E569),\"\",'Competition Data'!E569)","v":""},{"$f":"IF(ISBLANK('Competition Data'!F569),\"\",'Competition Data'!F569)","v":""}," ()",{"$f":"IF(ISBLANK('Competition Data'!I569),\"\",'Competition Data'!I569)","v":""}]
["",{"$f":"IF(ISBLANK('Competition Data'!A570),\"\",'Competition Data'!A570)","v":""},{"$f":"IF(ISBLANK('Competition Data'!H570),\"\",'Competition Data'!H570)","v":""},{"$f":"IF(ISBLANK('Competition Data'!B570),\"\",'Competition Data'!B570)","v":""},{"$f":"IF(ISBLANK('Competition Data'!C570),\"\",'Competition Data'!C570)","v":""},{"$f":"IF(ISBLANK('Competition Data'!G570),\"\",'Competition Data'!G570)","v":""},{"$f":"IF(ISBLANK('Competition Data'!D570),\"\",'Competition Data'!D570)","v":""},{"$f":"IF(ISBLANK('Competition Data'!E570),\"\",'Competition Data'!E570)","v":""},{"$f":"IF(ISBLANK('Competition Data'!F570),\"\",'Competition Data'!F570)","v":""}," ()",{"$f":"IF(ISBLANK('Competition Data'!I570),\"\",'Competition Data'!I570)","v":""}]
["",{"$f":"IF(ISBLANK('Competition Data'!A571),\"\",'Competition Data'!A571)","v":""},{"$f":"IF(ISBLANK('Competition Data'!H571),\"\",'Competition Data'!H571)","v":""},{"$f":"IF(ISBLANK('Competition Data'!B571),\"\",'Competition Data'!B571)","v":""},{"$f":"IF(ISBLANK('Competition Data'!C571),\"\",'Competition Data'!C571)","v":""},{"$f":"IF(ISBLANK('Competition Data'!G571),\"\",'Competition Data'!G571)","v":""},{"$f":"IF(ISBLANK('Competition Data'!D571),\"\",'Competition Data'!D571)","v":""},{"$f":"IF(ISBLANK('Competition Data'!E571),\"\",'Competition Data'!E571)","v":""},{"$f":"IF(ISBLANK('Competition Data'!F571),\"\",'Competition Data'!F571)","v":""}," ()",{"$f":"IF(ISBLANK('Competition Data'!I571),\"\",'Competition Data'!I571)","v":""}]
["",{"$f":"IF(ISBLANK('Competition Data'!A572),\"\",'Competition Data'!A572)","v":""},{"$f":"IF(ISBLANK('Competition Data'!H572),\"\",'Competition Data'!H572)","v":""},{"$f":"IF(ISBLANK('Competition Data'!B572),\"\",'Competition Data'!B572)","v":""},{"$f":"IF(ISBLANK('Competition Data'!C572),\"\",'Competition Data'!C572)","v":""},{"$f":"IF(ISBLANK('Competition Data'!G572),\"\",'Competition Data'!G572)","v":""},{"$f":"IF(ISBLANK('Competition Data'!D572),\"\",'Competition Data'!D572)","v":""},{"$f":"IF(ISBLANK('Competition Data'!E572),\"\",'Competition Data'!E572)","v":""},{"$f":"IF(ISBLANK('Competition Data'!F572),\"\",'Competition Data'!F572)","v":""}," ()",{"$f":"IF(ISBLANK('Competition Data'!I572),\"\",'Competition Data'!I572)","v":""}]
["",{"$f":"IF(ISBLANK('Competition Data'!A573),\"\",'Competition Data'!A573)","v":""},{"$f":"IF(ISBLANK('Competition Data'!H573),\"\",'Competition Data'!H573)","v":""},{"$f":"IF(ISBLANK('Competition Data'!B573),\"\",'Competition Data'!B573)","v":""},{"$f":"IF(ISBLANK('Competition Data'!C573),\"\",'Competition Data'!C573)","v":""},{"$f":"IF(ISBLANK('Competition Data'!G573),\"\",'Competition Data'!G573)","v":""},{"$f":"IF(ISBLANK('Competition Data'!D573),\"\",'Competition Data'!D573)","v":""},{"$f":"IF(ISBLANK('Competition Data'!E573),\"\",'Competition Data'!E573)","v":""},{"$f":"IF(ISBLANK('Competition Data'!F573),\"\",'Competition Data'!F573)","v":""}," ()",{"$f":"IF(ISBLANK('Competition Data'!I573),\"\",'Competition Data'!I573)","v":""}]
["",{"$f":"IF(ISBLANK('Competition Data'!A574),\"\",'Competition Data'!A574)","v":""},{"$f":"IF(ISBLANK('Competition Data'!H574),\"\",'Competition Data'!H574)","v":""},{"$f":"IF(ISBLANK('Competition Data'!B574),\"\",'Competition Data'!B574)","v":""},{"$f":"IF(ISBLANK('Competition Data'!C574),\"\",'Competition Data'!C574)","v":""},{"$f":"IF(ISBLANK('Competition Data'!G574),\"\",'Competition Data'!G574)","v":""},{"$f":"IF(ISBLANK('Competition Data'!D574),\"\",'Competition Data'!D574)","v":""},{"$f":"IF(ISBLANK('Competition Data'!E574),\"\",'Competition Data'!E574)","v":""},{"$f":"IF(ISBLANK('Competition Data'!F574),\"\",'Competition Data'!F574)","v":""}," ()",{"$f":"IF(ISBLANK('Competition Data'!I574),\"\",'Competition Data'!I574)","v":""}]
["",{"$f":"IF(ISBLANK('Competition Data'!A575),\"\",'Competition Data'!A575)","v":""},{"$f":"IF(ISBLANK('Competition Data'!H575),\"\",'Competition Data'!H575)","v":""},{"$f":"IF(ISBLANK('Competition Data'!B575),\"\",'Competition Data'!B575)","v":""},{"$f":"IF(ISBLANK('Competition Data'!C575),\"\",'Competition Data'!C575)","v":""},{"$f":"IF(ISBLANK('Competition Data'!G575),\"\",'Competition Data'!G575)","v":""},{"$f":"IF(ISBLANK('Competition Data'!D575),\"\",'Competition Data'!D575)","v":""},{"$f":"IF(ISBLANK('Competition Data'!E575),\"\",'Competition Data'!E575)","v":""},{"$f":"IF(ISBLANK('Competition Data'!F575),\"\",'Competition Data'!F575)","v":""}," ()",{"$f":"IF(ISBLANK('Competition Data'!I575),\"\",'Competition Data'!I575)","v":""}]
["",{"$f":"IF(ISBLANK('Competition Data'!A576),\"\",'Competition Data'!A576)","v":""},{"$f":"IF(ISBLANK('Competition Data'!H576),\"\",'Competition Data'!H576)","v":""},{"$f":"IF(ISBLANK('Competition Data'!B576),\"\",'Competition Data'!B576)","v":""},{"$f":"IF(ISBLANK('Competition Data'!C576),\"\",'Competition Data'!C576)","v":""},{"$f":"IF(ISBLANK('Competition Data'!G576),\"\",'Competition Data'!G576)","v":""},{"$f":"IF(ISBLANK('Competition Data'!D576),\"\",'Competition Data'!D576)","v":""},{"$f":"IF(ISBLANK('Competition Data'!E576),\"\",'Competition Data'!E576)","v":""},{"$f":"IF(ISBLANK('Competition Data'!F576),\"\",'Competition Data'!F576)","v":""}," ()",{"$f":"IF(ISBLANK('Competition Data'!I576),\"\",'Competition Data'!I576)","v":""}]
["",{"$f":"IF(ISBLANK('Competition Data'!A577),\"\",'Competition Data'!A577)","v":""},{"$f":"IF(ISBLANK('Competition Data'!H577),\"\",'Competition Data'!H577)","v":""},{"$f":"IF(ISBLANK('Competition Data'!B577),\"\",'Competition Data'!B577)","v":""},{"$f":"IF(ISBLANK('Competition Data'!C577),\"\",'Competition Data'!C577)","v":""},{"$f":"IF(ISBLANK('Competition Data'!G577),\"\",'Competition Data'!G577)","v":""},{"$f":"IF(ISBLANK('Competition Data'!D577),\"\",'Competition Data'!D577)","v":""},{"$f":"IF(ISBLANK('Competition Data'!E577),\"\",'Competition Data'!E577)","v":""},{"$f":"IF(ISBLANK('Competition Data'!F577),\"\",'Competition Data'!F577)","v":""}," ()",{"$f":"IF(ISBLANK('Competition Data'!I577),\"\",'Competition Data'!I577)","v":""}]
["",{"$f":"IF(ISBLANK('Competition Data'!A578),\"\",'Competition Data'!A578)","v":""},{"$f":"IF(ISBLANK('Competition Data'!H578),\"\",'Competition Data'!H578)","v":""},{"$f":"IF(ISBLANK('Competition Data'!B578),\"\",'Competition Data'!B578)","v":""},{"$f":"IF(ISBLANK('Competition Data'!C578),\"\",'Competition Data'!C578)","v":""},{"$f":"IF(ISBLANK('Competition Data'!G578),\"\",'Competition Data'!G578)","v":""},{"$f":"IF(ISBLANK('Competition Data'!D578),\"\",'Competition Data'!D578)","v":""},{"$f":"IF(ISBLANK('Competition Data'!E578),\"\",'Competition Data'!E578)","v":""},{"$f":"IF(ISBLANK('Competition Data'!F578),\"\",'Competition Data'!F578)","v":""}," ()",{"$f":"IF(ISBLANK('Competition Data'!I578),\"\",'Competition Data'!I578)","v":""}]
["",{"$f":"IF(ISBLANK('Competition Data'!A579),\"\",'Competition Data'!A579)","v":""},{"$f":"IF(ISBLANK('Competition Data'!H579),\"\",'Competition Data'!H579)","v":""},{"$f":"IF(ISBLANK('Competition Data'!B579),\"\",'Competition Data'!B579)","v":""},{"$f":"IF(ISBLANK('Competition Data'!C579),\"\",'Competition Data'!C579)","v":""},{"$f":"IF(ISBLANK('Competition Data'!G579),\"\",'Competition Data'!G579)","v":""},{"$f":"IF(ISBLANK('Competition Data'!D579),\"\",'Competition Data'!D579)","v":""},{"$f":"IF(ISBLANK('Competition Data'!E579),\"\",'Competition Data'!E579)","v":""},{"$f":"IF(ISBLANK('Competition Data'!F579),\"\",'Competition Data'!F579)","v":""}," ()",{"$f":"IF(ISBLANK('Competition Data'!I579),\"\",'Competition Data'!I579)","v":""}]
["",{"$f":"IF(ISBLANK('Competition Data'!A580),\"\",'Competition Data'!A580)","v":""},{"$f":"IF(ISBLANK('Competition Data'!H580),\"\",'Competition Data'!H580)","v":""},{"$f":"IF(ISBLANK('Competition Data'!B580),\"\",'Competition Data'!B580)","v":""},{"$f":"IF(ISBLANK('Competition Data'!C580),\"\",'Competition Data'!C580)","v":""},{"$f":"IF(ISBLANK('Competition Data'!G580),\"\",'Competition Data'!G580)","v":""},{"$f":"IF(ISBLANK('Competition Data'!D580),\"\",'Competition Data'!D580)","v":""},{"$f":"IF(ISBLANK('Competition Data'!E580),\"\",'Competition Data'!E580)","v":""},{"$f":"IF(ISBLANK('Competition Data'!F580),\"\",'Competition Data'!F580)","v":""}," ()",{"$f":"IF(ISBLANK('Competition Data'!I580),\"\",'Competition Data'!I580)","v":""}]
["",{"$f":"IF(ISBLANK('Competition Data'!A581),\"\",'Competition Data'!A581)","v":""},{"$f":"IF(ISBLANK('Competition Data'!H581),\"\",'Competition Data'!H581)","v":""},{"$f":"IF(ISBLANK('Competition Data'!B581),\"\",'Competition Data'!B581)","v":""},{"$f":"IF(ISBLANK('Competition Data'!C581),\"\",'Competition Data'!C581)","v":""},{"$f":"IF(ISBLANK('Competition Data'!G581),\"\",'Competition Data'!G581)","v":""},{"$f":"IF(ISBLANK('Competition Data'!D581),\"\",'Competition Data'!D581)","v":""},{"$f":"IF(ISBLANK('Competition Data'!E581),\"\",'Competition Data'!E581)","v":""},{"$f":"IF(ISBLANK('Competition Data'!F581),\"\",'Competition Data'!F581)","v":""}," ()",{"$f":"IF(ISBLANK('Competition Data'!I581),\"\",'Competition Data'!I581)","v":""}]
["",{"$f":"IF(ISBLANK('Competition Data'!A582),\"\",'Competition Data'!A582)","v":""},{"$f":"IF(ISBLANK('Competition Data'!H582),\"\",'Competition Data'!H582)","v":""},{"$f":"IF(ISBLANK('Competition Data'!B582),\"\",'Competition Data'!B582)","v":""},{"$f":"IF(ISBLANK('Competition Data'!C582),\"\",'Competition Data'!C582)","v":""},{"$f":"IF(ISBLANK('Competition Data'!G582),\"\",'Competition Data'!G582)","v":""},{"$f":"IF(ISBLANK('Competition Data'!D582),\"\",'Competition Data'!D582)","v":""},{"$f":"IF(ISBLANK('Competition Data'!E582),\"\",'Competition Data'!E582)","v":""},{"$f":"IF(ISBLANK('Competition Data'!F582),\"\",'Competition Data'!F582)","v":""}," ()",{"$f":"IF(ISBLANK('Competition Data'!I582),\"\",'Competition Data'!I582)","v":""}]
["",{"$f":"IF(ISBLANK('Competition Data'!A583),\"\",'Competition Data'!A583)","v":""},{"$f":"IF(ISBLANK('Competition Data'!H583),\"\",'Competition Data'!H583)","v":""},{"$f":"IF(ISBLANK('Competition Data'!B583),\"\",'Competition Data'!B583)","v":""},{"$f":"IF(ISBLANK('Competition Data'!C583),\"\",'Competition Data'!C583)","v":""},{"$f":"IF(ISBLANK('Competition Data'!G583),\"\",'Competition Data'!G583)","v":""},{"$f":"IF(ISBLANK('Competition Data'!D583),\"\",'Competition Data'!D583)","v":""},{"$f":"IF(ISBLANK('Competition Data'!E583),\"\",'Competition Data'!E583)","v":""},{"$f":"IF(ISBLANK('Competition Data'!F583),\"\",'Competition Data'!F583)","v":""}," ()",{"$f":"IF(ISBLANK('Competition Data'!I583),\"\",'Competition Data'!I583)","v":""}]
["",{"$f":"IF(ISBLANK('Competition Data'!A584),\"\",'Competition Data'!A584)","v":""},{"$f":"IF(ISBLANK('Competition Data'!H584),\"\",'Competition Data'!H584)","v":""},{"$f":"IF(ISBLANK('Competition Data'!B584),\"\",'Competition Data'!B584)","v":""},{"$f":"IF(ISBLANK('Competition Data'!C584),\"\",'Competition Data'!C584)","v":""},{"$f":"IF(ISBLANK('Competition Data'!G584),\"\",'Competition Data'!G584)","v":""},{"$f":"IF(ISBLANK('Competition Data'!D584),\"\",'Competition Data'!D584)","v":""},{"$f":"IF(ISBLANK('Competition Data'!E584),\"\",'Competition Data'!E584)","v":""},{"$f":"IF(ISBLANK('Competition Data'!F584),\"\",'Competition Data'!F584)","v":""}," ()",{"$f":"IF(ISBLANK('Competition Data'!I584),\"\",'Competition Data'!I584)","v":""}]
["",{"$f":"IF(ISBLANK('Competition Data'!A585),\"\",'Competition Data'!A585)","v":""},{"$f":"IF(ISBLANK('Competition Data'!H585),\"\",'Competition Data'!H585)","v":""},{"$f":"IF(ISBLANK('Competition Data'!B585),\"\",'Competition Data'!B585)","v":""},{"$f":"IF(ISBLANK('Competition Data'!C585),\"\",'Competition Data'!C585)","v":""},{"$f":"IF(ISBLANK('Competition Data'!G585),\"\",'Competition Data'!G585)","v":""},{"$f":"IF(ISBLANK('Competition Data'!D585),\"\",'Competition Data'!D585)","v":""},{"$f":"IF(ISBLANK('Competition Data'!E585),\"\",'Competition Data'!E585)","v":""},{"$f":"IF(ISBLANK('Competition Data'!F585),\"\",'Competition Data'!F585)","v":""}," ()",{"$f":"IF(ISBLANK('Competition Data'!I585),\"\",'Competition Data'!I585)","v":""}]
["",{"$f":"IF(ISBLANK('Competition Data'!A586),\"\",'Competition Data'!A586)","v":""},{"$f":"IF(ISBLANK('Competition Data'!H586),\"\",'Competition Data'!H586)","v":""},{"$f":"IF(ISBLANK('Competition Data'!B586),\"\",'Competition Data'!B586)","v":""},{"$f":"IF(ISBLANK('Competition Data'!C586),\"\",'Competition Data'!C586)","v":""},{"$f":"IF(ISBLANK('Competition Data'!G586),\"\",'Competition Data'!G586)","v":""},{"$f":"IF(ISBLANK('Competition Data'!D586),\"\",'Competition Data'!D586)","v":""},{"$f":"IF(ISBLANK('Competition Data'!E586),\"\",'Competition Data'!E586)","v":""},{"$f":"IF(ISBLANK('Competition Data'!F586),\"\",'Competition Data'!F586)","v":""}," ()",{"$f":"IF(ISBLANK('Competition Data'!I586),\"\",'Competition Data'!I586)","v":""}]
["",{"$f":"IF(ISBLANK('Competition Data'!A587),\"\",'Competition Data'!A587)","v":""},{"$f":"IF(ISBLANK('Competition Data'!H587),\"\",'Competition Data'!H587)","v":""},{"$f":"IF(ISBLANK('Competition Data'!B587),\"\",'Competition Data'!B587)","v":""},{"$f":"IF(ISBLANK('Competition Data'!C587),\"\",'Competition Data'!C587)","v":""},{"$f":"IF(ISBLANK('Competition Data'!G587),\"\",'Competition Data'!G587)","v":""},{"$f":"IF(ISBLANK('Competition Data'!D587),\"\",'Competition Data'!D587)","v":""},{"$f":"IF(ISBLANK('Competition Data'!E587),\"\",'Competition Data'!E587)","v":""},{"$f":"IF(ISBLANK('Competition Data'!F587),\"\",'Competition Data'!F587)","v":""}," ()",{"$f":"IF(ISBLANK('Competition Data'!I587),\"\",'Competition Data'!I587)","v":""}]
["",{"$f":"IF(ISBLANK('Competition Data'!A588),\"\",'Competition Data'!A588)","v":""},{"$f":"IF(ISBLANK('Competition Data'!H588),\"\",'Competition Data'!H588)","v":""},{"$f":"IF(ISBLANK('Competition Data'!B588),\"\",'Competition Data'!B588)","v":""},{"$f":"IF(ISBLANK('Competition Data'!C588),\"\",'Competition Data'!C588)","v":""},{"$f":"IF(ISBLANK('Competition Data'!G588),\"\",'Competition Data'!G588)","v":""},{"$f":"IF(ISBLANK('Competition Data'!D588),\"\",'Competition Data'!D588)","v":""},{"$f":"IF(ISBLANK('Competition Data'!E588),\"\",'Competition Data'!E588)","v":""},{"$f":"IF(ISBLANK('Competition Data'!F588),\"\",'Competition Data'!F588)","v":""}," ()",{"$f":"IF(ISBLANK('Competition Data'!I588),\"\",'Competition Data'!I588)","v":""}]
["",{"$f":"IF(ISBLANK('Competition Data'!A589),\"\",'Competition Data'!A589)","v":""},{"$f":"IF(ISBLANK('Competition Data'!H589),\"\",'Competition Data'!H589)","v":""},{"$f":"IF(ISBLANK('Competition Data'!B589),\"\",'Competition Data'!B589)","v":""},{"$f":"IF(ISBLANK('Competition Data'!C589),\"\",'Competition Data'!C589)","v":""},{"$f":"IF(ISBLANK('Competition Data'!G589),\"\",'Competition Data'!G589)","v":""},{"$f":"IF(ISBLANK('Competition Data'!D589),\"\",'Competition Data'!D589)","v":""},{"$f":"IF(ISBLANK('Competition Data'!E589),\"\",'Competition Data'!E589)","v":""},{"$f":"IF(ISBLANK('Competition Data'!F589),\"\",'Competition Data'!F589)","v":""}," ()",{"$f":"IF(ISBLANK('Competition Data'!I589),\"\",'Competition Data'!I589)","v":""}]
["",{"$f":"IF(ISBLANK('Competition Data'!A590),\"\",'Competition Data'!A590)","v":""},{"$f":"IF(ISBLANK('Competition Data'!H590),\"\",'Competition Data'!H590)","v":""},{"$f":"IF(ISBLANK('Competition Data'!B590),\"\",'Competition Data'!B590)","v":""},{"$f":"IF(ISBLANK('Competition Data'!C590),\"\",'Competition Data'!C590)","v":""},{"$f":"IF(ISBLANK('Competition Data'!G590),\"\",'Competition Data'!G590)","v":""},{"$f":"IF(ISBLANK('Competition Data'!D590),\"\",'Competition Data'!D590)","v":""},{"$f":"IF(ISBLANK('Competition Data'!E590),\"\",'Competition Data'!E590)","v":""},{"$f":"IF(ISBLANK('Competition Data'!F590),\"\",'Competition Data'!F590)","v":""}," ()",{"$f":"IF(ISBLANK('Competition Data'!I590),\"\",'Competition Data'!I590)","v":""}]
["",{"$f":"IF(ISBLANK('Competition Data'!A591),\"\",'Competition Data'!A591)","v":""},{"$f":"IF(ISBLANK('Competition Data'!H591),\"\",'Competition Data'!H591)","v":""},{"$f":"IF(ISBLANK('Competition Data'!B591),\"\",'Competition Data'!B591)","v":""},{"$f":"IF(ISBLANK('Competition Data'!C591),\"\",'Competition Data'!C591)","v":""},{"$f":"IF(ISBLANK('Competition Data'!G591),\"\",'Competition Data'!G591)","v":""},{"$f":"IF(ISBLANK('Competition Data'!D591),\"\",'Competition Data'!D591)","v":""},{"$f":"IF(ISBLANK('Competition Data'!E591),\"\",'Competition Data'!E591)","v":""},{"$f":"IF(ISBLANK('Competition Data'!F591),\"\",'Competition Data'!F591)","v":""}," ()",{"$f":"IF(ISBLANK('Competition Data'!I591),\"\",'Competition Data'!I591)","v":""}]
["",{"$f":"IF(ISBLANK('Competition Data'!A592),\"\",'Competition Data'!A592)","v":""},{"$f":"IF(ISBLANK('Competition Data'!H592),\"\",'Competition Data'!H592)","v":""},{"$f":"IF(ISBLANK('Competition Data'!B592),\"\",'Competition Data'!B592)","v":""},{"$f":"IF(ISBLANK('Competition Data'!C592),\"\",'Competition Data'!C592)","v":""},{"$f":"IF(ISBLANK('Competition Data'!G592),\"\",'Competition Data'!G592)","v":""},{"$f":"IF(ISBLANK('Competition Data'!D592),\"\",'Competition Data'!D592)","v":""},{"$f":"IF(ISBLANK('Competition Data'!E592),\"\",'Competition Data'!E592)","v":""},{"$f":"IF(ISBLANK('Competition Data'!F592),\"\",'Competition Data'!F592)","v":""}," ()",{"$f":"IF(ISBLANK('Competition Data'!I592),\"\",'Competition Data'!I592)","v":""}]
["",{"$f":"IF(ISBLANK('Competition Data'!A593),\"\",'Competition Data'!A593)","v":""},{"$f":"IF(ISBLANK('Competition Data'!H593),\"\",'Competition Data'!H593)","v":""},{"$f":"IF(ISBLANK('Competition Data'!B593),\"\",'Competition Data'!B593)","v":""},{"$f":"IF(ISBLANK('Competition Data'!C593),\"\",'Competition Data'!C593)","v":""},{"$f":"IF(ISBLANK('Competition Data'!G593),\"\",'Competition Data'!G593)","v":""},{"$f":"IF(ISBLANK('Competition Data'!D593),\"\",'Competition Data'!D593)","v":""},{"$f":"IF(ISBLANK('Competition Data'!E593),\"\",'Competition Data'!E593)","v":""},{"$f":"IF(ISBLANK('Competition Data'!F593),\"\",'Competition Data'!F593)","v":""}," ()",{"$f":"IF(ISBLANK('Competition Data'!I593),\"\",'Competition Data'!I593)","v":""}]
["",{"$f":"IF(ISBLANK('Competition Data'!A594),\"\",'Competition Data'!A594)","v":""},{"$f":"IF(ISBLANK('Competition Data'!H594),\"\",'Competition Data'!H594)","v":""},{"$f":"IF(ISBLANK('Competition Data'!B594),\"\",'Competition Data'!B594)","v":""},{"$f":"IF(ISBLANK('Competition Data'!C594),\"\",'Competition Data'!C594)","v":""},{"$f":"IF(ISBLANK('Competition Data'!G594),\"\",'Competition Data'!G594)","v":""},{"$f":"IF(ISBLANK('Competition Data'!D594),\"\",'Competition Data'!D594)","v":""},{"$f":"IF(ISBLANK('Competition Data'!E594),\"\",'Competition Data'!E594)","v":""},{"$f":"IF(ISBLANK('Competition Data'!F594),\"\",'Competition Data'!F594)","v":""}," ()",{"$f":"IF(ISBLANK('Competition Data'!I594),\"\",'Competition Data'!I594)","v":""}]
["",{"$f":"IF(ISBLANK('Competition Data'!A595),\"\",'Competition Data'!A595)","v":""},{"$f":"IF(ISBLANK('Competition Data'!H595),\"\",'Competition Data'!H595)","v":""},{"$f":"IF(ISBLANK('Competition Data'!B595),\"\",'Competition Data'!B595)","v":""},{"$f":"IF(ISBLANK('Competition Data'!C595),\"\",'Competition Data'!C595)","v":""},{"$f":"IF(ISBLANK('Competition Data'!G595),\"\",'Competition Data'!G595)","v":""},{"$f":"IF(ISBLANK('Competition Data'!D595),\"\",'Competition Data'!D595)","v":""},{"$f":"IF(ISBLANK('Competition Data'!E595),\"\",'Competition Data'!E595)","v":""},{"$f":"IF(ISBLANK('Competition Data'!F595),\"\",'Competition Data'!F595)","v":""}," ()",{"$f":"IF(ISBLANK('Competition Data'!I595),\"\",'Competition Data'!I595)","v":""}]
["",{"$f":"IF(ISBLANK('Competition Data'!A596),\"\",'Competition Data'!A596)","v":""},{"$f":"IF(ISBLANK('Competition Data'!H596),\"\",'Competition Data'!H596)","v":""},{"$f":"IF(ISBLANK('Competition Data'!B596),\"\",'Competition Data'!B596)","v":""},{"$f":"IF(ISBLANK('Competition Data'!C596),\"\",'Competition Data'!C596)","v":""},{"$f":"IF(ISBLANK('Competition Data'!G596),\"\",'Competition Data'!G596)","v":""},{"$f":"IF(ISBLANK('Competition Data'!D596),\"\",'Competition Data'!D596)","v":""},{"$f":"IF(ISBLANK('Competition Data'!E596),\"\",'Competition Data'!E596)","v":""},{"$f":"IF(ISBLANK('Competition Data'!F596),\"\",'Competition Data'!F596)","v":""}," ()",{"$f":"IF(ISBLANK('Competition Data'!I596),\"\",'Competition Data'!I596)","v":""}]
["",{"$f":"IF(ISBLANK('Competition Data'!A597),\"\",'Competition Data'!A597)","v":""},{"$f":"IF(ISBLANK('Competition Data'!H597),\"\",'Competition Data'!H597)","v":""},{"$f":"IF(ISBLANK('Competition Data'!B597),\"\",'Competition Data'!B597)","v":""},{"$f":"IF(ISBLANK('Competition Data'!C597),\"\",'Competition Data'!C597)","v":""},{"$f":"IF(ISBLANK('Competition Data'!G597),\"\",'Competition Data'!G597)","v":""},{"$f":"IF(ISBLANK('Competition Data'!D597),\"\",'Competition Data'!D597)","v":""},{"$f":"IF(ISBLANK('Competition Data'!E597),\"\",'Competition Data'!E597)","v":""},{"$f":"IF(ISBLANK('Competition Data'!F597),\"\",'Competition Data'!F597)","v":""}," ()",{"$f":"IF(ISBLANK('Competition Data'!I597),\"\",'Competition Data'!I597)","v":""}]
["",{"$f":"IF(ISBLANK('Competition Data'!A598),\"\",'Competition Data'!A598)","v":""},{"$f":"IF(ISBLANK('Competition Data'!H598),\"\",'Competition Data'!H598)","v":""},{"$f":"IF(ISBLANK('Competition Data'!B598),\"\",'Competition Data'!B598)","v":""},{"$f":"IF(ISBLANK('Competition Data'!C598),\"\",'Competition Data'!C598)","v":""},{"$f":"IF(ISBLANK('Competition Data'!G598),\"\",'Competition Data'!G598)","v":""},{"$f":"IF(ISBLANK('Competition Data'!D598),\"\",'Competition Data'!D598)","v":""},{"$f":"IF(ISBLANK('Competition Data'!E598),\"\",'Competition Data'!E598)","v":""},{"$f":"IF(ISBLANK('Competition Data'!F598),\"\",'Competition Data'!F598)","v":""}," ()",{"$f":"IF(ISBLANK('Competition Data'!I598),\"\",'Competition Data'!I598)","v":""}]
["",{"$f":"IF(ISBLANK('Competition Data'!A599),\"\",'Competition Data'!A599)","v":""},{"$f":"IF(ISBLANK('Competition Data'!H599),\"\",'Competition Data'!H599)","v":""},{"$f":"IF(ISBLANK('Competition Data'!B599),\"\",'Competition Data'!B599)","v":""},{"$f":"IF(ISBLANK('Competition Data'!C599),\"\",'Competition Data'!C599)","v":""},{"$f":"IF(ISBLANK('Competition Data'!G599),\"\",'Competition Data'!G599)","v":""},{"$f":"IF(ISBLANK('Competition Data'!D599),\"\",'Competition Data'!D599)","v":""},{"$f":"IF(ISBLANK('Competition Data'!E599),\"\",'Competition Data'!E599)","v":""},{"$f":"IF(ISBLANK('Competition Data'!F599),\"\",'Competition Data'!F599)","v":""}," ()",{"$f":"IF(ISBLANK('Competition Data'!I599),\"\",'Competition Data'!I599)","v":""}]
["",{"$f":"IF(ISBLANK('Competition Data'!A600),\"\",'Competition Data'!A600)","v":""},{"$f":"IF(ISBLANK('Competition Data'!H600),\"\",'Competition Data'!H600)","v":""},{"$f":"IF(ISBLANK('Competition Data'!B600),\"\",'Competition Data'!B600)","v":""},{"$f":"IF(ISBLANK('Competition Data'!C600),\"\",'Competition Data'!C600)","v":""},{"$f":"IF(ISBLANK('Competition Data'!G600),\"\",'Competition Data'!G600)","v":""},{"$f":"IF(ISBLANK('Competition Data'!D600),\"\",'Competition Data'!D600)","v":""},{"$f":"IF(ISBLANK('Competition Data'!E600),\"\",'Competition Data'!E600)","v":""},{"$f":"IF(ISBLANK('Competition Data'!F600),\"\",'Competition Data'!F600)","v":""}," ()",{"$f":"IF(ISBLANK('Competition Data'!I600),\"\",'Competition Data'!I600)","v":""}]
["",{"$f":"IF(ISBLANK('Competition Data'!A601),\"\",'Competition Data'!A601)","v":""},{"$f":"IF(ISBLANK('Competition Data'!H601),\"\",'Competition Data'!H601)","v":""},{"$f":"IF(ISBLANK('Competition Data'!B601),\"\",'Competition Data'!B601)","v":""},{"$f":"IF(ISBLANK('Competition Data'!C601),\"\",'Competition Data'!C601)","v":""},{"$f":"IF(ISBLANK('Competition Data'!G601),\"\",'Competition Data'!G601)","v":""},{"$f":"IF(ISBLANK('Competition Data'!D601),\"\",'Competition Data'!D601)","v":""},{"$f":"IF(ISBLANK('Competition Data'!E601),\"\",'Competition Data'!E601)","v":""},{"$f":"IF(ISBLANK('Competition Data'!F601),\"\",'Competition Data'!F601)","v":""}," ()",{"$f":"IF(ISBLANK('Competition Data'!I601),\"\",'Competition Data'!I601)","v":""}]
["",{"$f":"IF(ISBLANK('Competition Data'!A602),\"\",'Competition Data'!A602)","v":""},{"$f":"IF(ISBLANK('Competition Data'!H602),\"\",'Competition Data'!H602)","v":""},{"$f":"IF(ISBLANK('Competition Data'!B602),\"\",'Competition Data'!B602)","v":""},{"$f":"IF(ISBLANK('Competition Data'!C602),\"\",'Competition Data'!C602)","v":""},{"$f":"IF(ISBLANK('Competition Data'!G602),\"\",'Competition Data'!G602)","v":""},{"$f":"IF(ISBLANK('Competition Data'!D602),\"\",'Competition Data'!D602)","v":""},{"$f":"IF(ISBLANK('Competition Data'!E602),\"\",'Competition Data'!E602)","v":""},{"$f":"IF(ISBLANK('Competition Data'!F602),\"\",'Competition Data'!F602)","v":""}," ()",{"$f":"IF(ISBLANK('Competition Data'!I602),\"\",'Competition Data'!I602)","v":""}]
["",{"$f":"IF(ISBLANK('Competition Data'!A603),\"\",'Competition Data'!A603)","v":""},{"$f":"IF(ISBLANK('Competition Data'!H603),\"\",'Competition Data'!H603)","v":""},{"$f":"IF(ISBLANK('Competition Data'!B603),\"\",'Competition Data'!B603)","v":""},{"$f":"IF(ISBLANK('Competition Data'!C603),\"\",'Competition Data'!C603)","v":""},{"$f":"IF(ISBLANK('Competition Data'!G603),\"\",'Competition Data'!G603)","v":""},{"$f":"IF(ISBLANK('Competition Data'!D603),\"\",'Competition Data'!D603)","v":""},{"$f":"IF(ISBLANK('Competition Data'!E603),\"\",'Competition Data'!E603)","v":""},{"$f":"IF(ISBLANK('Competition Data'!F603),\"\",'Competition Data'!F603)","v":""}," ()",{"$f":"IF(ISBLANK('Competition Data'!I603),\"\",'Competition Data'!I603)","v":""}]
["",{"$f":"IF(ISBLANK('Competition Data'!A604),\"\",'Competition Data'!A604)","v":""},{"$f":"IF(ISBLANK('Competition Data'!H604),\"\",'Competition Data'!H604)","v":""},{"$f":"IF(ISBLANK('Competition Data'!B604),\"\",'Competition Data'!B604)","v":""},{"$f":"IF(ISBLANK('Competition Data'!C604),\"\",'Competition Data'!C604)","v":""},{"$f":"IF(ISBLANK('Competition Data'!G604),\"\",'Competition Data'!G604)","v":""},{"$f":"IF(ISBLANK('Competition Data'!D604),\"\",'Competition Data'!D604)","v":""},{"$f":"IF(ISBLANK('Competition Data'!E604),\"\",'Competition Data'!E604)","v":""},{"$f":"IF(ISBLANK('Competition Data'!F604),\"\",'Competition Data'!F604)","v":""}," ()",{"$f":"IF(ISBLANK('Competition Data'!I604),\"\",'Competition Data'!I604)","v":""}]
["",{"$f":"IF(ISBLANK('Competition Data'!A605),\"\",'Competition Data'!A605)","v":""},{"$f":"IF(ISBLANK('Competition Data'!H605),\"\",'Competition Data'!H605)","v":""},{"$f":"IF(ISBLANK('Competition Data'!B605),\"\",'Competition Data'!B605)","v":""},{"$f":"IF(ISBLANK('Competition Data'!C605),\"\",'Competition Data'!C605)","v":""},{"$f":"IF(ISBLANK('Competition Data'!G605),\"\",'Competition Data'!G605)","v":""},{"$f":"IF(ISBLANK('Competition Data'!D605),\"\",'Competition Data'!D605)","v":""},{"$f":"IF(ISBLANK('Competition Data'!E605),\"\",'Competition Data'!E605)","v":""},{"$f":"IF(ISBLANK('Competition Data'!F605),\"\",'Competition Data'!F605)","v":""}," ()",{"$f":"IF(ISBLANK('Competition Data'!I605),\"\",'Competition Data'!I605)","v":""}]
["",{"$f":"IF(ISBLANK('Competition Data'!A606),\"\",'Competition Data'!A606)","v":""},{"$f":"IF(ISBLANK('Competition Data'!H606),\"\",'Competition Data'!H606)","v":""},{"$f":"IF(ISBLANK('Competition Data'!B606),\"\",'Competition Data'!B606)","v":""},{"$f":"IF(ISBLANK('Competition Data'!C606),\"\",'Competition Data'!C606)","v":""},{"$f":"IF(ISBLANK('Competition Data'!G606),\"\",'Competition Data'!G606)","v":""},{"$f":"IF(ISBLANK('Competition Data'!D606),\"\",'Competition Data'!D606)","v":""},{"$f":"IF(ISBLANK('Competition Data'!E606),\"\",'Competition Data'!E606)","v":""},{"$f":"IF(ISBLANK('Competition Data'!F606),\"\",'Competition Data'!F606)","v":""}," ()",{"$f":"IF(ISBLANK('Competition Data'!I606),\"\",'Competition Data'!I606)","v":""}]
[{"$f":"CONCATENATE(B607,D607,E607)","v":""},{"$f":"IF(ISBLANK('Competition Data'!A607),\"\",'Competition Data'!A607)","v":""},{"$f":"IF(ISBLANK('Competition Data'!H607),\"\",'Competition Data'!H607)","v":""},{"$f":"IF(ISBLANK('Competition Data'!B607),\"\",'Competition Data'!B607)","v":""},{"$f":"IF(ISBLANK('Competition Data'!C607),\"\",'Competition Data'!C607)","v":""},{"$f":"IF(ISBLANK('Competition Data'!G607),\"\",'Competition Data'!G607)","v":""},{"$f":"IF(ISBLANK('Competition Data'!D607),\"\",'Competition Data'!D607)","v":""},{"$f":"IF(ISBLANK('Competition Data'!E607),\"\",'Competition Data'!E607)","v":""},{"$f":"IF(ISBLANK('Competition Data'!F607),\"\",'Competition Data'!F607)","v":""},{"$f":"CONCATENATE(B607,\" (\",E607,\")\")","v":" ()"},{"$f":"IF(ISBLANK('Competition Data'!I607),\"\",'Competition Data'!I607)","v":""}]
["",{"$f":"IF(ISBLANK('Competition Data'!A608),\"\",'Competition Data'!A608)","v":""},{"$f":"IF(ISBLANK('Competition Data'!H608),\"\",'Competition Data'!H608)","v":""},{"$f":"IF(ISBLANK('Competition Data'!B608),\"\",'Competition Data'!B608)","v":""},{"$f":"IF(ISBLANK('Competition Data'!C608),\"\",'Competition Data'!C608)","v":""},{"$f":"IF(ISBLANK('Competition Data'!G608),\"\",'Competition Data'!G608)","v":""},{"$f":"IF(ISBLANK('Competition Data'!D608),\"\",'Competition Data'!D608)","v":""},{"$f":"IF(ISBLANK('Competition Data'!E608),\"\",'Competition Data'!E608)","v":""},{"$f":"IF(ISBLANK('Competition Data'!F608),\"\",'Competition Data'!F608)","v":""}," ()",{"$f":"IF(ISBLANK('Competition Data'!I608),\"\",'Competition Data'!I608)","v":""}]
["",{"$f":"IF(ISBLANK('Competition Data'!A609),\"\",'Competition Data'!A609)","v":""},{"$f":"IF(ISBLANK('Competition Data'!H609),\"\",'Competition Data'!H609)","v":""},{"$f":"IF(ISBLANK('Competition Data'!B609),\"\",'Competition Data'!B609)","v":""},{"$f":"IF(ISBLANK('Competition Data'!C609),\"\",'Competition Data'!C609)","v":""},{"$f":"IF(ISBLANK('Competition Data'!G609),\"\",'Competition Data'!G609)","v":""},{"$f":"IF(ISBLANK('Competition Data'!D609),\"\",'Competition Data'!D609)","v":""},{"$f":"IF(ISBLANK('Competition Data'!E609),\"\",'Competition Data'!E609)","v":""},{"$f":"IF(ISBLANK('Competition Data'!F609),\"\",'Competition Data'!F609)","v":""}," ()",{"$f":"IF(ISBLANK('Competition Data'!I609),\"\",'Competition Data'!I609)","v":""}]
["",{"$f":"IF(ISBLANK('Competition Data'!A610),\"\",'Competition Data'!A610)","v":""},{"$f":"IF(ISBLANK('Competition Data'!H610),\"\",'Competition Data'!H610)","v":""},{"$f":"IF(ISBLANK('Competition Data'!B610),\"\",'Competition Data'!B610)","v":""},{"$f":"IF(ISBLANK('Competition Data'!C610),\"\",'Competition Data'!C610)","v":""},{"$f":"IF(ISBLANK('Competition Data'!G610),\"\",'Competition Data'!G610)","v":""},{"$f":"IF(ISBLANK('Competition Data'!D610),\"\",'Competition Data'!D610)","v":""},{"$f":"IF(ISBLANK('Competition Data'!E610),\"\",'Competition Data'!E610)","v":""},{"$f":"IF(ISBLANK('Competition Data'!F610),\"\",'Competition Data'!F610)","v":""}," ()",{"$f":"IF(ISBLANK('Competition Data'!I610),\"\",'Competition Data'!I610)","v":""}]
["",{"$f":"IF(ISBLANK('Competition Data'!A611),\"\",'Competition Data'!A611)","v":""},{"$f":"IF(ISBLANK('Competition Data'!H611),\"\",'Competition Data'!H611)","v":""},{"$f":"IF(ISBLANK('Competition Data'!B611),\"\",'Competition Data'!B611)","v":""},{"$f":"IF(ISBLANK('Competition Data'!C611),\"\",'Competition Data'!C611)","v":""},{"$f":"IF(ISBLANK('Competition Data'!G611),\"\",'Competition Data'!G611)","v":""},{"$f":"IF(ISBLANK('Competition Data'!D611),\"\",'Competition Data'!D611)","v":""},{"$f":"IF(ISBLANK('Competition Data'!E611),\"\",'Competition Data'!E611)","v":""},{"$f":"IF(ISBLANK('Competition Data'!F611),\"\",'Competition Data'!F611)","v":""}," ()",{"$f":"IF(ISBLANK('Competition Data'!I611),\"\",'Competition Data'!I611)","v":""}]
["",{"$f":"IF(ISBLANK('Competition Data'!A612),\"\",'Competition Data'!A612)","v":""},{"$f":"IF(ISBLANK('Competition Data'!H612),\"\",'Competition Data'!H612)","v":""},{"$f":"IF(ISBLANK('Competition Data'!B612),\"\",'Competition Data'!B612)","v":""},{"$f":"IF(ISBLANK('Competition Data'!C612),\"\",'Competition Data'!C612)","v":""},{"$f":"IF(ISBLANK('Competition Data'!G612),\"\",'Competition Data'!G612)","v":""},{"$f":"IF(ISBLANK('Competition Data'!D612),\"\",'Competition Data'!D612)","v":""},{"$f":"IF(ISBLANK('Competition Data'!E612),\"\",'Competition Data'!E612)","v":""},{"$f":"IF(ISBLANK('Competition Data'!F612),\"\",'Competition Data'!F612)","v":""}," ()",{"$f":"IF(ISBLANK('Competition Data'!I612),\"\",'Competition Data'!I612)","v":""}]
["",{"$f":"IF(ISBLANK('Competition Data'!A613),\"\",'Competition Data'!A613)","v":""},{"$f":"IF(ISBLANK('Competition Data'!H613),\"\",'Competition Data'!H613)","v":""},{"$f":"IF(ISBLANK('Competition Data'!B613),\"\",'Competition Data'!B613)","v":""},{"$f":"IF(ISBLANK('Competition Data'!C613),\"\",'Competition Data'!C613)","v":""},{"$f":"IF(ISBLANK('Competition Data'!G613),\"\",'Competition Data'!G613)","v":""},{"$f":"IF(ISBLANK('Competition Data'!D613),\"\",'Competition Data'!D613)","v":""},{"$f":"IF(ISBLANK('Competition Data'!E613),\"\",'Competition Data'!E613)","v":""},{"$f":"IF(ISBLANK('Competition Data'!F613),\"\",'Competition Data'!F613)","v":""}," ()",{"$f":"IF(ISBLANK('Competition Data'!I613),\"\",'Competition Data'!I613)","v":""}]
["",{"$f":"IF(ISBLANK('Competition Data'!A614),\"\",'Competition Data'!A614)","v":""},{"$f":"IF(ISBLANK('Competition Data'!H614),\"\",'Competition Data'!H614)","v":""},{"$f":"IF(ISBLANK('Competition Data'!B614),\"\",'Competition Data'!B614)","v":""},{"$f":"IF(ISBLANK('Competition Data'!C614),\"\",'Competition Data'!C614)","v":""},{"$f":"IF(ISBLANK('Competition Data'!G614),\"\",'Competition Data'!G614)","v":""},{"$f":"IF(ISBLANK('Competition Data'!D614),\"\",'Competition Data'!D614)","v":""},{"$f":"IF(ISBLANK('Competition Data'!E614),\"\",'Competition Data'!E614)","v":""},{"$f":"IF(ISBLANK('Competition Data'!F614),\"\",'Competition Data'!F614)","v":""}," ()",{"$f":"IF(ISBLANK('Competition Data'!I614),\"\",'Competition Data'!I614)","v":""}]
["",{"$f":"IF(ISBLANK('Competition Data'!A615),\"\",'Competition Data'!A615)","v":""},{"$f":"IF(ISBLANK('Competition Data'!H615),\"\",'Competition Data'!H615)","v":""},{"$f":"IF(ISBLANK('Competition Data'!B615),\"\",'Competition Data'!B615)","v":""},{"$f":"IF(ISBLANK('Competition Data'!C615),\"\",'Competition Data'!C615)","v":""},{"$f":"IF(ISBLANK('Competition Data'!G615),\"\",'Competition Data'!G615)","v":""},{"$f":"IF(ISBLANK('Competition Data'!D615),\"\",'Competition Data'!D615)","v":""},{"$f":"IF(ISBLANK('Competition Data'!E615),\"\",'Competition Data'!E615)","v":""},{"$f":"IF(ISBLANK('Competition Data'!F615),\"\",'Competition Data'!F615)","v":""}," ()",{"$f":"IF(ISBLANK('Competition Data'!I615),\"\",'Competition Data'!I615)","v":""}]
["",{"$f":"IF(ISBLANK('Competition Data'!A616),\"\",'Competition Data'!A616)","v":""},{"$f":"IF(ISBLANK('Competition Data'!H616),\"\",'Competition Data'!H616)","v":""},{"$f":"IF(ISBLANK('Competition Data'!B616),\"\",'Competition Data'!B616)","v":""},{"$f":"IF(ISBLANK('Competition Data'!C616),\"\",'Competition Data'!C616)","v":""},{"$f":"IF(ISBLANK('Competition Data'!G616),\"\",'Competition Data'!G616)","v":""},{"$f":"IF(ISBLANK('Competition Data'!D616),\"\",'Competition Data'!D616)","v":""},{"$f":"IF(ISBLANK('Competition Data'!E616),\"\",'Competition Data'!E616)","v":""},{"$f":"IF(ISBLANK('Competition Data'!F616),\"\",'Competition Data'!F616)","v":""}," ()",{"$f":"IF(ISBLANK('Competition Data'!I616),\"\",'Competition Data'!I616)","v":""}]
["",{"$f":"IF(ISBLANK('Competition Data'!A617),\"\",'Competition Data'!A617)","v":""},{"$f":"IF(ISBLANK('Competition Data'!H617),\"\",'Competition Data'!H617)","v":""},{"$f":"IF(ISBLANK('Competition Data'!B617),\"\",'Competition Data'!B617)","v":""},{"$f":"IF(ISBLANK('Competition Data'!C617),\"\",'Competition Data'!C617)","v":""},{"$f":"IF(ISBLANK('Competition Data'!G617),\"\",'Competition Data'!G617)","v":""},{"$f":"IF(ISBLANK('Competition Data'!D617),\"\",'Competition Data'!D617)","v":""},{"$f":"IF(ISBLANK('Competition Data'!E617),\"\",'Competition Data'!E617)","v":""},{"$f":"IF(ISBLANK('Competition Data'!F617),\"\",'Competition Data'!F617)","v":""}," ()",{"$f":"IF(ISBLANK('Competition Data'!I617),\"\",'Competition Data'!I617)","v":""}]
["",{"$f":"IF(ISBLANK('Competition Data'!A618),\"\",'Competition Data'!A618)","v":""},{"$f":"IF(ISBLANK('Competition Data'!H618),\"\",'Competition Data'!H618)","v":""},{"$f":"IF(ISBLANK('Competition Data'!B618),\"\",'Competition Data'!B618)","v":""},{"$f":"IF(ISBLANK('Competition Data'!C618),\"\",'Competition Data'!C618)","v":""},{"$f":"IF(ISBLANK('Competition Data'!G618),\"\",'Competition Data'!G618)","v":""},{"$f":"IF(ISBLANK('Competition Data'!D618),\"\",'Competition Data'!D618)","v":""},{"$f":"IF(ISBLANK('Competition Data'!E618),\"\",'Competition Data'!E618)","v":""},{"$f":"IF(ISBLANK('Competition Data'!F618),\"\",'Competition Data'!F618)","v":""}," ()",{"$f":"IF(ISBLANK('Competition Data'!I618),\"\",'Competition Data'!I618)","v":""}]
["",{"$f":"IF(ISBLANK('Competition Data'!A619),\"\",'Competition Data'!A619)","v":""},{"$f":"IF(ISBLANK('Competition Data'!H619),\"\",'Competition Data'!H619)","v":""},{"$f":"IF(ISBLANK('Competition Data'!B619),\"\",'Competition Data'!B619)","v":""},{"$f":"IF(ISBLANK('Competition Data'!C619),\"\",'Competition Data'!C619)","v":""},{"$f":"IF(ISBLANK('Competition Data'!G619),\"\",'Competition Data'!G619)","v":""},{"$f":"IF(ISBLANK('Competition Data'!D619),\"\",'Competition Data'!D619)","v":""},{"$f":"IF(ISBLANK('Competition Data'!E619),\"\",'Competition Data'!E619)","v":""},{"$f":"IF(ISBLANK('Competition Data'!F619),\"\",'Competition Data'!F619)","v":""}," ()",{"$f":"IF(ISBLANK('Competition Data'!I619),\"\",'Competition Data'!I619)","v":""}]
["",{"$f":"IF(ISBLANK('Competition Data'!A620),\"\",'Competition Data'!A620)","v":""},{"$f":"IF(ISBLANK('Competition Data'!H620),\"\",'Competition Data'!H620)","v":""},{"$f":"IF(ISBLANK('Competition Data'!B620),\"\",'Competition Data'!B620)","v":""},{"$f":"IF(ISBLANK('Competition Data'!C620),\"\",'Competition Data'!C620)","v":""},{"$f":"IF(ISBLANK('Competition Data'!G620),\"\",'Competition Data'!G620)","v":""},{"$f":"IF(ISBLANK('Competition Data'!D620),\"\",'Competition Data'!D620)","v":""},{"$f":"IF(ISBLANK('Competition Data'!E620),\"\",'Competition Data'!E620)","v":""},{"$f":"IF(ISBLANK('Competition Data'!F620),\"\",'Competition Data'!F620)","v":""}," ()",{"$f":"IF(ISBLANK('Competition Data'!I620),\"\",'Competition Data'!I620)","v":""}]
["",{"$f":"IF(ISBLANK('Competition Data'!A621),\"\",'Competition Data'!A621)","v":""},{"$f":"IF(ISBLANK('Competition Data'!H621),\"\",'Competition Data'!H621)","v":""},{"$f":"IF(ISBLANK('Competition Data'!B621),\"\",'Competition Data'!B621)","v":""},{"$f":"IF(ISBLANK('Competition Data'!C621),\"\",'Competition Data'!C621)","v":""},{"$f":"IF(ISBLANK('Competition Data'!G621),\"\",'Competition Data'!G621)","v":""},{"$f":"IF(ISBLANK('Competition Data'!D621),\"\",'Competition Data'!D621)","v":""},{"$f":"IF(ISBLANK('Competition Data'!E621),\"\",'Competition Data'!E621)","v":""},{"$f":"IF(ISBLANK('Competition Data'!F621),\"\",'Competition Data'!F621)","v":""}," ()",{"$f":"IF(ISBLANK('Competition Data'!I621),\"\",'Competition Data'!I621)","v":""}]
["",{"$f":"IF(ISBLANK('Competition Data'!A622),\"\",'Competition Data'!A622)","v":""},{"$f":"IF(ISBLANK('Competition Data'!H622),\"\",'Competition Data'!H622)","v":""},{"$f":"IF(ISBLANK('Competition Data'!B622),\"\",'Competition Data'!B622)","v":""},{"$f":"IF(ISBLANK('Competition Data'!C622),\"\",'Competition Data'!C622)","v":""},{"$f":"IF(ISBLANK('Competition Data'!G622),\"\",'Competition Data'!G622)","v":""},{"$f":"IF(ISBLANK('Competition Data'!D622),\"\",'Competition Data'!D622)","v":""},{"$f":"IF(ISBLANK('Competition Data'!E622),\"\",'Competition Data'!E622)","v":""},{"$f":"IF(ISBLANK('Competition Data'!F622),\"\",'Competition Data'!F622)","v":""}," ()",{"$f":"IF(ISBLANK('Competition Data'!I622),\"\",'Competition Data'!I622)","v":""}]
["",{"$f":"IF(ISBLANK('Competition Data'!A623),\"\",'Competition Data'!A623)","v":""},{"$f":"IF(ISBLANK('Competition Data'!H623),\"\",'Competition Data'!H623)","v":""},{"$f":"IF(ISBLANK('Competition Data'!B623),\"\",'Competition Data'!B623)","v":""},{"$f":"IF(ISBLANK('Competition Data'!C623),\"\",'Competition Data'!C623)","v":""},{"$f":"IF(ISBLANK('Competition Data'!G623),\"\",'Competition Data'!G623)","v":""},{"$f":"IF(ISBLANK('Competition Data'!D623),\"\",'Competition Data'!D623)","v":""},{"$f":"IF(ISBLANK('Competition Data'!E623),\"\",'Competition Data'!E623)","v":""},{"$f":"IF(ISBLANK('Competition Data'!F623),\"\",'Competition Data'!F623)","v":""}," ()",{"$f":"IF(ISBLANK('Competition Data'!I623),\"\",'Competition Data'!I623)","v":""}]
["",{"$f":"IF(ISBLANK('Competition Data'!A624),\"\",'Competition Data'!A624)","v":""},{"$f":"IF(ISBLANK('Competition Data'!H624),\"\",'Competition Data'!H624)","v":""},{"$f":"IF(ISBLANK('Competition Data'!B624),\"\",'Competition Data'!B624)","v":""},{"$f":"IF(ISBLANK('Competition Data'!C624),\"\",'Competition Data'!C624)","v":""},{"$f":"IF(ISBLANK('Competition Data'!G624),\"\",'Competition Data'!G624)","v":""},{"$f":"IF(ISBLANK('Competition Data'!D624),\"\",'Competition Data'!D624)","v":""},{"$f":"IF(ISBLANK('Competition Data'!E624),\"\",'Competition Data'!E624)","v":""},{"$f":"IF(ISBLANK('Competition Data'!F624),\"\",'Competition Data'!F624)","v":""}," ()",{"$f":"IF(ISBLANK('Competition Data'!I624),\"\",'Competition Data'!I624)","v":""}]
["",{"$f":"IF(ISBLANK('Competition Data'!A625),\"\",'Competition Data'!A625)","v":""},{"$f":"IF(ISBLANK('Competition Data'!H625),\"\",'Competition Data'!H625)","v":""},{"$f":"IF(ISBLANK('Competition Data'!B625),\"\",'Competition Data'!B625)","v":""},{"$f":"IF(ISBLANK('Competition Data'!C625),\"\",'Competition Data'!C625)","v":""},{"$f":"IF(ISBLANK('Competition Data'!G625),\"\",'Competition Data'!G625)","v":""},{"$f":"IF(ISBLANK('Competition Data'!D625),\"\",'Competition Data'!D625)","v":""},{"$f":"IF(ISBLANK('Competition Data'!E625),\"\",'Competition Data'!E625)","v":""},{"$f":"IF(ISBLANK('Competition Data'!F625),\"\",'Competition Data'!F625)","v":""}," ()",{"$f":"IF(ISBLANK('Competition Data'!I625),\"\",'Competition Data'!I625)","v":""}]
["",{"$f":"IF(ISBLANK('Competition Data'!A626),\"\",'Competition Data'!A626)","v":""},{"$f":"IF(ISBLANK('Competition Data'!H626),\"\",'Competition Data'!H626)","v":""},{"$f":"IF(ISBLANK('Competition Data'!B626),\"\",'Competition Data'!B626)","v":""},{"$f":"IF(ISBLANK('Competition Data'!C626),\"\",'Competition Data'!C626)","v":""},{"$f":"IF(ISBLANK('Competition Data'!G626),\"\",'Competition Data'!G626)","v":""},{"$f":"IF(ISBLANK('Competition Data'!D626),\"\",'Competition Data'!D626)","v":""},{"$f":"IF(ISBLANK('Competition Data'!E626),\"\",'Competition Data'!E626)","v":""},{"$f":"IF(ISBLANK('Competition Data'!F626),\"\",'Competition Data'!F626)","v":""}," ()",{"$f":"IF(ISBLANK('Competition Data'!I626),\"\",'Competition Data'!I626)","v":""}]
["",{"$f":"IF(ISBLANK('Competition Data'!A627),\"\",'Competition Data'!A627)","v":""},{"$f":"IF(ISBLANK('Competition Data'!H627),\"\",'Competition Data'!H627)","v":""},{"$f":"IF(ISBLANK('Competition Data'!B627),\"\",'Competition Data'!B627)","v":""},{"$f":"IF(ISBLANK('Competition Data'!C627),\"\",'Competition Data'!C627)","v":""},{"$f":"IF(ISBLANK('Competition Data'!G627),\"\",'Competition Data'!G627)","v":""},{"$f":"IF(ISBLANK('Competition Data'!D627),\"\",'Competition Data'!D627)","v":""},{"$f":"IF(ISBLANK('Competition Data'!E627),\"\",'Competition Data'!E627)","v":""},{"$f":"IF(ISBLANK('Competition Data'!F627),\"\",'Competition Data'!F627)","v":""}," ()",{"$f":"IF(ISBLANK('Competition Data'!I627),\"\",'Competition Data'!I627)","v":""}]
["",{"$f":"IF(ISBLANK('Competition Data'!A628),\"\",'Competition Data'!A628)","v":""},{"$f":"IF(ISBLANK('Competition Data'!H628),\"\",'Competition Data'!H628)","v":""},{"$f":"IF(ISBLANK('Competition Data'!B628),\"\",'Competition Data'!B628)","v":""},{"$f":"IF(ISBLANK('Competition Data'!C628),\"\",'Competition Data'!C628)","v":""},{"$f":"IF(ISBLANK('Competition Data'!G628),\"\",'Competition Data'!G628)","v":""},{"$f":"IF(ISBLANK('Competition Data'!D628),\"\",'Competition Data'!D628)","v":""},{"$f":"IF(ISBLANK('Competition Data'!E628),\"\",'Competition Data'!E628)","v":""},{"$f":"IF(ISBLANK('Competition Data'!F628),\"\",'Competition Data'!F628)","v":""}," ()",{"$f":"IF(ISBLANK('Competition Data'!I628),\"\",'Competition Data'!I628)","v":""}]
["",{"$f":"IF(ISBLANK('Competition Data'!A629),\"\",'Competition Data'!A629)","v":""},{"$f":"IF(ISBLANK('Competition Data'!H629),\"\",'Competition Data'!H629)","v":""},{"$f":"IF(ISBLANK('Competition Data'!B629),\"\",'Competition Data'!B629)","v":""},{"$f":"IF(ISBLANK('Competition Data'!C629),\"\",'Competition Data'!C629)","v":""},{"$f":"IF(ISBLANK('Competition Data'!G629),\"\",'Competition Data'!G629)","v":""},{"$f":"IF(ISBLANK('Competition Data'!D629),\"\",'Competition Data'!D629)","v":""},{"$f":"IF(ISBLANK('Competition Data'!E629),\"\",'Competition Data'!E629)","v":""},{"$f":"IF(ISBLANK('Competition Data'!F629),\"\",'Competition Data'!F629)","v":""}," ()",{"$f":"IF(ISBLANK('Competition Data'!I629),\"\",'Competition Data'!I629)","v":""}]
["",{"$f":"IF(ISBLANK('Competition Data'!A630),\"\",'Competition Data'!A630)","v":""},{"$f":"IF(ISBLANK('Competition Data'!H630),\"\",'Competition Data'!H630)","v":""},{"$f":"IF(ISBLANK('Competition Data'!B630),\"\",'Competition Data'!B630)","v":""},{"$f":"IF(ISBLANK('Competition Data'!C630),\"\",'Competition Data'!C630)","v":""},{"$f":"IF(ISBLANK('Competition Data'!G630),\"\",'Competition Data'!G630)","v":""},{"$f":"IF(ISBLANK('Competition Data'!D630),\"\",'Competition Data'!D630)","v":""},{"$f":"IF(ISBLANK('Competition Data'!E630),\"\",'Competition Data'!E630)","v":""},{"$f":"IF(ISBLANK('Competition Data'!F630),\"\",'Competition Data'!F630)","v":""}," ()",{"$f":"IF(ISBLANK('Competition Data'!I630),\"\",'Competition Data'!I630)","v":""}]
["",{"$f":"IF(ISBLANK('Competition Data'!A631),\"\",'Competition Data'!A631)","v":""},{"$f":"IF(ISBLANK('Competition Data'!H631),\"\",'Competition Data'!H631)","v":""},{"$f":"IF(ISBLANK('Competition Data'!B631),\"\",'Competition Data'!B631)","v":""},{"$f":"IF(ISBLANK('Competition Data'!C631),\"\",'Competition Data'!C631)","v":""},{"$f":"IF(ISBLANK('Competition Data'!G631),\"\",'Competition Data'!G631)","v":""},{"$f":"IF(ISBLANK('Competition Data'!D631),\"\",'Competition Data'!D631)","v":""},{"$f":"IF(ISBLANK('Competition Data'!E631),\"\",'Competition Data'!E631)","v":""},{"$f":"IF(ISBLANK('Competition Data'!F631),\"\",'Competition Data'!F631)","v":""}," ()",{"$f":"IF(ISBLANK('Competition Data'!I631),\"\",'Competition Data'!I631)","v":""}]
["",{"$f":"IF(ISBLANK('Competition Data'!A632),\"\",'Competition Data'!A632)","v":""},{"$f":"IF(ISBLANK('Competition Data'!H632),\"\",'Competition Data'!H632)","v":""},{"$f":"IF(ISBLANK('Competition Data'!B632),\"\",'Competition Data'!B632)","v":""},{"$f":"IF(ISBLANK('Competition Data'!C632),\"\",'Competition Data'!C632)","v":""},{"$f":"IF(ISBLANK('Competition Data'!G632),\"\",'Competition Data'!G632)","v":""},{"$f":"IF(ISBLANK('Competition Data'!D632),\"\",'Competition Data'!D632)","v":""},{"$f":"IF(ISBLANK('Competition Data'!E632),\"\",'Competition Data'!E632)","v":""},{"$f":"IF(ISBLANK('Competition Data'!F632),\"\",'Competition Data'!F632)","v":""}," ()",{"$f":"IF(ISBLANK('Competition Data'!I632),\"\",'Competition Data'!I632)","v":""}]
["",{"$f":"IF(ISBLANK('Competition Data'!A633),\"\",'Competition Data'!A633)","v":""},{"$f":"IF(ISBLANK('Competition Data'!H633),\"\",'Competition Data'!H633)","v":""},{"$f":"IF(ISBLANK('Competition Data'!B633),\"\",'Competition Data'!B633)","v":""},{"$f":"IF(ISBLANK('Competition Data'!C633),\"\",'Competition Data'!C633)","v":""},{"$f":"IF(ISBLANK('Competition Data'!G633),\"\",'Competition Data'!G633)","v":""},{"$f":"IF(ISBLANK('Competition Data'!D633),\"\",'Competition Data'!D633)","v":""},{"$f":"IF(ISBLANK('Competition Data'!E633),\"\",'Competition Data'!E633)","v":""},{"$f":"IF(ISBLANK('Competition Data'!F633),\"\",'Competition Data'!F633)","v":""}," ()",{"$f":"IF(ISBLANK('Competition Data'!I633),\"\",'Competition Data'!I633)","v":""}]
["",{"$f":"IF(ISBLANK('Competition Data'!A634),\"\",'Competition Data'!A634)","v":""},{"$f":"IF(ISBLANK('Competition Data'!H634),\"\",'Competition Data'!H634)","v":""},{"$f":"IF(ISBLANK('Competition Data'!B634),\"\",'Competition Data'!B634)","v":""},{"$f":"IF(ISBLANK('Competition Data'!C634),\"\",'Competition Data'!C634)","v":""},{"$f":"IF(ISBLANK('Competition Data'!G634),\"\",'Competition Data'!G634)","v":""},{"$f":"IF(ISBLANK('Competition Data'!D634),\"\",'Competition Data'!D634)","v":""},{"$f":"IF(ISBLANK('Competition Data'!E634),\"\",'Competition Data'!E634)","v":""},{"$f":"IF(ISBLANK('Competition Data'!F634),\"\",'Competition Data'!F634)","v":""}," ()",{"$f":"IF(ISBLANK('Competition Data'!I634),\"\",'Competition Data'!I634)","v":""}]
["",{"$f":"IF(ISBLANK('Competition Data'!A635),\"\",'Competition Data'!A635)","v":""},{"$f":"IF(ISBLANK('Competition Data'!H635),\"\",'Competition Data'!H635)","v":""},{"$f":"IF(ISBLANK('Competition Data'!B635),\"\",'Competition Data'!B635)","v":""},{"$f":"IF(ISBLANK('Competition Data'!C635),\"\",'Competition Data'!C635)","v":""},{"$f":"IF(ISBLANK('Competition Data'!G635),\"\",'Competition Data'!G635)","v":""},{"$f":"IF(ISBLANK('Competition Data'!D635),\"\",'Competition Data'!D635)","v":""},{"$f":"IF(ISBLANK('Competition Data'!E635),\"\",'Competition Data'!E635)","v":""},{"$f":"IF(ISBLANK('Competition Data'!F635),\"\",'Competition Data'!F635)","v":""}," ()",{"$f":"IF(ISBLANK('Competition Data'!I635),\"\",'Competition Data'!I635)","v":""}]
["",{"$f":"IF(ISBLANK('Competition Data'!A636),\"\",'Competition Data'!A636)","v":""},{"$f":"IF(ISBLANK('Competition Data'!H636),\"\",'Competition Data'!H636)","v":""},{"$f":"IF(ISBLANK('Competition Data'!B636),\"\",'Competition Data'!B636)","v":""},{"$f":"IF(ISBLANK('Competition Data'!C636),\"\",'Competition Data'!C636)","v":""},{"$f":"IF(ISBLANK('Competition Data'!G636),\"\",'Competition Data'!G636)","v":""},{"$f":"IF(ISBLANK('Competition Data'!D636),\"\",'Competition Data'!D636)","v":""},{"$f":"IF(ISBLANK('Competition Data'!E636),\"\",'Competition Data'!E636)","v":""},{"$f":"IF(ISBLANK('Competition Data'!F636),\"\",'Competition Data'!F636)","v":""}," ()",{"$f":"IF(ISBLANK('Competition Data'!I636),\"\",'Competition Data'!I636)","v":""}]
["",{"$f":"IF(ISBLANK('Competition Data'!A637),\"\",'Competition Data'!A637)","v":""},{"$f":"IF(ISBLANK('Competition Data'!H637),\"\",'Competition Data'!H637)","v":""},{"$f":"IF(ISBLANK('Competition Data'!B637),\"\",'Competition Data'!B637)","v":""},{"$f":"IF(ISBLANK('Competition Data'!C637),\"\",'Competition Data'!C637)","v":""},{"$f":"IF(ISBLANK('Competition Data'!G637),\"\",'Competition Data'!G637)","v":""},{"$f":"IF(ISBLANK('Competition Data'!D637),\"\",'Competition Data'!D637)","v":""},{"$f":"IF(ISBLANK('Competition Data'!E637),\"\",'Competition Data'!E637)","v":""},{"$f":"IF(ISBLANK('Competition Data'!F637),\"\",'Competition Data'!F637)","v":""}," ()",{"$f":"IF(ISBLANK('Competition Data'!I637),\"\",'Competition Data'!I637)","v":""}]
["",{"$f":"IF(ISBLANK('Competition Data'!A638),\"\",'Competition Data'!A638)","v":""},{"$f":"IF(ISBLANK('Competition Data'!H638),\"\",'Competition Data'!H638)","v":""},{"$f":"IF(ISBLANK('Competition Data'!B638),\"\",'Competition Data'!B638)","v":""},{"$f":"IF(ISBLANK('Competition Data'!C638),\"\",'Competition Data'!C638)","v":""},{"$f":"IF(ISBLANK('Competition Data'!G638),\"\",'Competition Data'!G638)","v":""},{"$f":"IF(ISBLANK('Competition Data'!D638),\"\",'Competition Data'!D638)","v":""},{"$f":"IF(ISBLANK('Competition Data'!E638),\"\",'Competition Data'!E638)","v":""},{"$f":"IF(ISBLANK('Competition Data'!F638),\"\",'Competition Data'!F638)","v":""}," ()",{"$f":"IF(ISBLANK('Competition Data'!I638),\"\",'Competition Data'!I638)","v":""}]
["",{"$f":"IF(ISBLANK('Competition Data'!A639),\"\",'Competition Data'!A639)","v":""},{"$f":"IF(ISBLANK('Competition Data'!H639),\"\",'Competition Data'!H639)","v":""},{"$f":"IF(ISBLANK('Competition Data'!B639),\"\",'Competition Data'!B639)","v":""},{"$f":"IF(ISBLANK('Competition Data'!C639),\"\",'Competition Data'!C639)","v":""},{"$f":"IF(ISBLANK('Competition Data'!G639),\"\",'Competition Data'!G639)","v":""},{"$f":"IF(ISBLANK('Competition Data'!D639),\"\",'Competition Data'!D639)","v":""},{"$f":"IF(ISBLANK('Competition Data'!E639),\"\",'Competition Data'!E639)","v":""},{"$f":"IF(ISBLANK('Competition Data'!F639),\"\",'Competition Data'!F639)","v":""}," ()",{"$f":"IF(ISBLANK('Competition Data'!I639),\"\",'Competition Data'!I639)","v":""}]
["",{"$f":"IF(ISBLANK('Competition Data'!A640),\"\",'Competition Data'!A640)","v":""},{"$f":"IF(ISBLANK('Competition Data'!H640),\"\",'Competition Data'!H640)","v":""},{"$f":"IF(ISBLANK('Competition Data'!B640),\"\",'Competition Data'!B640)","v":""},{"$f":"IF(ISBLANK('Competition Data'!C640),\"\",'Competition Data'!C640)","v":""},{"$f":"IF(ISBLANK('Competition Data'!G640),\"\",'Competition Data'!G640)","v":""},{"$f":"IF(ISBLANK('Competition Data'!D640),\"\",'Competition Data'!D640)","v":""},{"$f":"IF(ISBLANK('Competition Data'!E640),\"\",'Competition Data'!E640)","v":""},{"$f":"IF(ISBLANK('Competition Data'!F640),\"\",'Competition Data'!F640)","v":""}," ()",{"$f":"IF(ISBLANK('Competition Data'!I640),\"\",'Competition Data'!I640)","v":""}]
["",{"$f":"IF(ISBLANK('Competition Data'!A641),\"\",'Competition Data'!A641)","v":""},{"$f":"IF(ISBLANK('Competition Data'!H641),\"\",'Competition Data'!H641)","v":""},{"$f":"IF(ISBLANK('Competition Data'!B641),\"\",'Competition Data'!B641)","v":""},{"$f":"IF(ISBLANK('Competition Data'!C641),\"\",'Competition Data'!C641)","v":""},{"$f":"IF(ISBLANK('Competition Data'!G641),\"\",'Competition Data'!G641)","v":""},{"$f":"IF(ISBLANK('Competition Data'!D641),\"\",'Competition Data'!D641)","v":""},{"$f":"IF(ISBLANK('Competition Data'!E641),\"\",'Competition Data'!E641)","v":""},{"$f":"IF(ISBLANK('Competition Data'!F641),\"\",'Competition Data'!F641)","v":""}," ()",{"$f":"IF(ISBLANK('Competition Data'!I641),\"\",'Competition Data'!I641)","v":""}]
["",{"$f":"IF(ISBLANK('Competition Data'!A642),\"\",'Competition Data'!A642)","v":""},{"$f":"IF(ISBLANK('Competition Data'!H642),\"\",'Competition Data'!H642)","v":""},{"$f":"IF(ISBLANK('Competition Data'!B642),\"\",'Competition Data'!B642)","v":""},{"$f":"IF(ISBLANK('Competition Data'!C642),\"\",'Competition Data'!C642)","v":""},{"$f":"IF(ISBLANK('Competition Data'!G642),\"\",'Competition Data'!G642)","v":""},{"$f":"IF(ISBLANK('Competition Data'!D642),\"\",'Competition Data'!D642)","v":""},{"$f":"IF(ISBLANK('Competition Data'!E642),\"\",'Competition Data'!E642)","v":""},{"$f":"IF(ISBLANK('Competition Data'!F642),\"\",'Competition Data'!F642)","v":""}," ()",{"$f":"IF(ISBLANK('Competition Data'!I642),\"\",'Competition Data'!I642)","v":""}]
["",{"$f":"IF(ISBLANK('Competition Data'!A643),\"\",'Competition Data'!A643)","v":""},{"$f":"IF(ISBLANK('Competition Data'!H643),\"\",'Competition Data'!H643)","v":""},{"$f":"IF(ISBLANK('Competition Data'!B643),\"\",'Competition Data'!B643)","v":""},{"$f":"IF(ISBLANK('Competition Data'!C643),\"\",'Competition Data'!C643)","v":""},{"$f":"IF(ISBLANK('Competition Data'!G643),\"\",'Competition Data'!G643)","v":""},{"$f":"IF(ISBLANK('Competition Data'!D643),\"\",'Competition Data'!D643)","v":""},{"$f":"IF(ISBLANK('Competition Data'!E643),\"\",'Competition Data'!E643)","v":""},{"$f":"IF(ISBLANK('Competition Data'!F643),\"\",'Competition Data'!F643)","v":""}," ()",{"$f":"IF(ISBLANK('Competition Data'!I643),\"\",'Competition Data'!I643)","v":""}]
["",{"$f":"IF(ISBLANK('Competition Data'!A644),\"\",'Competition Data'!A644)","v":""},{"$f":"IF(ISBLANK('Competition Data'!H644),\"\",'Competition Data'!H644)","v":""},{"$f":"IF(ISBLANK('Competition Data'!B644),\"\",'Competition Data'!B644)","v":""},{"$f":"IF(ISBLANK('Competition Data'!C644),\"\",'Competition Data'!C644)","v":""},{"$f":"IF(ISBLANK('Competition Data'!G644),\"\",'Competition Data'!G644)","v":""},{"$f":"IF(ISBLANK('Competition Data'!D644),\"\",'Competition Data'!D644)","v":""},{"$f":"IF(ISBLANK('Competition Data'!E644),\"\",'Competition Data'!E644)","v":""},{"$f":"IF(ISBLANK('Competition Data'!F644),\"\",'Competition Data'!F644)","v":""}," ()",{"$f":"IF(ISBLANK('Competition Data'!I644),\"\",'Competition Data'!I644)","v":""}]
["",{"$f":"IF(ISBLANK('Competition Data'!A645),\"\",'Competition Data'!A645)","v":""},{"$f":"IF(ISBLANK('Competition Data'!H645),\"\",'Competition Data'!H645)","v":""},{"$f":"IF(ISBLANK('Competition Data'!B645),\"\",'Competition Data'!B645)","v":""},{"$f":"IF(ISBLANK('Competition Data'!C645),\"\",'Competition Data'!C645)","v":""},{"$f":"IF(ISBLANK('Competition Data'!G645),\"\",'Competition Data'!G645)","v":""},{"$f":"IF(ISBLANK('Competition Data'!D645),\"\",'Competition Data'!D645)","v":""},{"$f":"IF(ISBLANK('Competition Data'!E645),\"\",'Competition Data'!E645)","v":""},{"$f":"IF(ISBLANK('Competition Data'!F645),\"\",'Competition Data'!F645)","v":""}," ()",{"$f":"IF(ISBLANK('Competition Data'!I645),\"\",'Competition Data'!I645)","v":""}]
["",{"$f":"IF(ISBLANK('Competition Data'!A646),\"\",'Competition Data'!A646)","v":""},{"$f":"IF(ISBLANK('Competition Data'!H646),\"\",'Competition Data'!H646)","v":""},{"$f":"IF(ISBLANK('Competition Data'!B646),\"\",'Competition Data'!B646)","v":""},{"$f":"IF(ISBLANK('Competition Data'!C646),\"\",'Competition Data'!C646)","v":""},{"$f":"IF(ISBLANK('Competition Data'!G646),\"\",'Competition Data'!G646)","v":""},{"$f":"IF(ISBLANK('Competition Data'!D646),\"\",'Competition Data'!D646)","v":""},{"$f":"IF(ISBLANK('Competition Data'!E646),\"\",'Competition Data'!E646)","v":""},{"$f":"IF(ISBLANK('Competition Data'!F646),\"\",'Competition Data'!F646)","v":""}," ()",{"$f":"IF(ISBLANK('Competition Data'!I646),\"\",'Competition Data'!I646)","v":""}]
["",{"$f":"IF(ISBLANK('Competition Data'!A647),\"\",'Competition Data'!A647)","v":""},{"$f":"IF(ISBLANK('Competition Data'!H647),\"\",'Competition Data'!H647)","v":""},{"$f":"IF(ISBLANK('Competition Data'!B647),\"\",'Competition Data'!B647)","v":""},{"$f":"IF(ISBLANK('Competition Data'!C647),\"\",'Competition Data'!C647)","v":""},{"$f":"IF(ISBLANK('Competition Data'!G647),\"\",'Competition Data'!G647)","v":""},{"$f":"IF(ISBLANK('Competition Data'!D647),\"\",'Competition Data'!D647)","v":""},{"$f":"IF(ISBLANK('Competition Data'!E647),\"\",'Competition Data'!E647)","v":""},{"$f":"IF(ISBLANK('Competition Data'!F647),\"\",'Competition Data'!F647)","v":""}," ()",{"$f":"IF(ISBLANK('Competition Data'!I647),\"\",'Competition Data'!I647)","v":""}]
["",{"$f":"IF(ISBLANK('Competition Data'!A648),\"\",'Competition Data'!A648)","v":""},{"$f":"IF(ISBLANK('Competition Data'!H648),\"\",'Competition Data'!H648)","v":""},{"$f":"IF(ISBLANK('Competition Data'!B648),\"\",'Competition Data'!B648)","v":""},{"$f":"IF(ISBLANK('Competition Data'!C648),\"\",'Competition Data'!C648)","v":""},{"$f":"IF(ISBLANK('Competition Data'!G648),\"\",'Competition Data'!G648)","v":""},{"$f":"IF(ISBLANK('Competition Data'!D648),\"\",'Competition Data'!D648)","v":""},{"$f":"IF(ISBLANK('Competition Data'!E648),\"\",'Competition Data'!E648)","v":""},{"$f":"IF(ISBLANK('Competition Data'!F648),\"\",'Competition Data'!F648)","v":""}," ()",{"$f":"IF(ISBLANK('Competition Data'!I648),\"\",'Competition Data'!I648)","v":""}]
["",{"$f":"IF(ISBLANK('Competition Data'!A649),\"\",'Competition Data'!A649)","v":""},{"$f":"IF(ISBLANK('Competition Data'!H649),\"\",'Competition Data'!H649)","v":""},{"$f":"IF(ISBLANK('Competition Data'!B649),\"\",'Competition Data'!B649)","v":""},{"$f":"IF(ISBLANK('Competition Data'!C649),\"\",'Competition Data'!C649)","v":""},{"$f":"IF(ISBLANK('Competition Data'!G649),\"\",'Competition Data'!G649)","v":""},{"$f":"IF(ISBLANK('Competition Data'!D649),\"\",'Competition Data'!D649)","v":""},{"$f":"IF(ISBLANK('Competition Data'!E649),\"\",'Competition Data'!E649)","v":""},{"$f":"IF(ISBLANK('Competition Data'!F649),\"\",'Competition Data'!F649)","v":""}," ()",{"$f":"IF(ISBLANK('Competition Data'!I649),\"\",'Competition Data'!I649)","v":""}]
["",{"$f":"IF(ISBLANK('Competition Data'!A650),\"\",'Competition Data'!A650)","v":""},{"$f":"IF(ISBLANK('Competition Data'!H650),\"\",'Competition Data'!H650)","v":""},{"$f":"IF(ISBLANK('Competition Data'!B650),\"\",'Competition Data'!B650)","v":""},{"$f":"IF(ISBLANK('Competition Data'!C650),\"\",'Competition Data'!C650)","v":""},{"$f":"IF(ISBLANK('Competition Data'!G650),\"\",'Competition Data'!G650)","v":""},{"$f":"IF(ISBLANK('Competition Data'!D650),\"\",'Competition Data'!D650)","v":""},{"$f":"IF(ISBLANK('Competition Data'!E650),\"\",'Competition Data'!E650)","v":""},{"$f":"IF(ISBLANK('Competition Data'!F650),\"\",'Competition Data'!F650)","v":""}," ()",{"$f":"IF(ISBLANK('Competition Data'!I650),\"\",'Competition Data'!I650)","v":""}]
["",{"$f":"IF(ISBLANK('Competition Data'!A651),\"\",'Competition Data'!A651)","v":""},{"$f":"IF(ISBLANK('Competition Data'!H651),\"\",'Competition Data'!H651)","v":""},{"$f":"IF(ISBLANK('Competition Data'!B651),\"\",'Competition Data'!B651)","v":""},{"$f":"IF(ISBLANK('Competition Data'!C651),\"\",'Competition Data'!C651)","v":""},{"$f":"IF(ISBLANK('Competition Data'!G651),\"\",'Competition Data'!G651)","v":""},{"$f":"IF(ISBLANK('Competition Data'!D651),\"\",'Competition Data'!D651)","v":""},{"$f":"IF(ISBLANK('Competition Data'!E651),\"\",'Competition Data'!E651)","v":""},{"$f":"IF(ISBLANK('Competition Data'!F651),\"\",'Competition Data'!F651)","v":""}," ()",{"$f":"IF(ISBLANK('Competition Data'!I651),\"\",'Competition Data'!I651)","v":""}]
["",{"$f":"IF(ISBLANK('Competition Data'!A652),\"\",'Competition Data'!A652)","v":""},{"$f":"IF(ISBLANK('Competition Data'!H652),\"\",'Competition Data'!H652)","v":""},{"$f":"IF(ISBLANK('Competition Data'!B652),\"\",'Competition Data'!B652)","v":""},{"$f":"IF(ISBLANK('Competition Data'!C652),\"\",'Competition Data'!C652)","v":""},{"$f":"IF(ISBLANK('Competition Data'!G652),\"\",'Competition Data'!G652)","v":""},{"$f":"IF(ISBLANK('Competition Data'!D652),\"\",'Competition Data'!D652)","v":""},{"$f":"IF(ISBLANK('Competition Data'!E652),\"\",'Competition Data'!E652)","v":""},{"$f":"IF(ISBLANK('Competition Data'!F652),\"\",'Competition Data'!F652)","v":""}," ()",{"$f":"IF(ISBLANK('Competition Data'!I652),\"\",'Competition Data'!I652)","v":""}]
["",{"$f":"IF(ISBLANK('Competition Data'!A653),\"\",'Competition Data'!A653)","v":""},{"$f":"IF(ISBLANK('Competition Data'!H653),\"\",'Competition Data'!H653)","v":""},{"$f":"IF(ISBLANK('Competition Data'!B653),\"\",'Competition Data'!B653)","v":""},{"$f":"IF(ISBLANK('Competition Data'!C653),\"\",'Competition Data'!C653)","v":""},{"$f":"IF(ISBLANK('Competition Data'!G653),\"\",'Competition Data'!G653)","v":""},{"$f":"IF(ISBLANK('Competition Data'!D653),\"\",'Competition Data'!D653)","v":""},{"$f":"IF(ISBLANK('Competition Data'!E653),\"\",'Competition Data'!E653)","v":""},{"$f":"IF(ISBLANK('Competition Data'!F653),\"\",'Competition Data'!F653)","v":""}," ()",{"$f":"IF(ISBLANK('Competition Data'!I653),\"\",'Competition Data'!I653)","v":""}]
["",{"$f":"IF(ISBLANK('Competition Data'!A654),\"\",'Competition Data'!A654)","v":""},{"$f":"IF(ISBLANK('Competition Data'!H654),\"\",'Competition Data'!H654)","v":""},{"$f":"IF(ISBLANK('Competition Data'!B654),\"\",'Competition Data'!B654)","v":""},{"$f":"IF(ISBLANK('Competition Data'!C654),\"\",'Competition Data'!C654)","v":""},{"$f":"IF(ISBLANK('Competition Data'!G654),\"\",'Competition Data'!G654)","v":""},{"$f":"IF(ISBLANK('Competition Data'!D654),\"\",'Competition Data'!D654)","v":""},{"$f":"IF(ISBLANK('Competition Data'!E654),\"\",'Competition Data'!E654)","v":""},{"$f":"IF(ISBLANK('Competition Data'!F654),\"\",'Competition Data'!F654)","v":""}," ()",{"$f":"IF(ISBLANK('Competition Data'!I654),\"\",'Competition Data'!I654)","v":""}]
["",{"$f":"IF(ISBLANK('Competition Data'!A655),\"\",'Competition Data'!A655)","v":""},{"$f":"IF(ISBLANK('Competition Data'!H655),\"\",'Competition Data'!H655)","v":""},{"$f":"IF(ISBLANK('Competition Data'!B655),\"\",'Competition Data'!B655)","v":""},{"$f":"IF(ISBLANK('Competition Data'!C655),\"\",'Competition Data'!C655)","v":""},{"$f":"IF(ISBLANK('Competition Data'!G655),\"\",'Competition Data'!G655)","v":""},{"$f":"IF(ISBLANK('Competition Data'!D655),\"\",'Competition Data'!D655)","v":""},{"$f":"IF(ISBLANK('Competition Data'!E655),\"\",'Competition Data'!E655)","v":""},{"$f":"IF(ISBLANK('Competition Data'!F655),\"\",'Competition Data'!F655)","v":""}," ()",{"$f":"IF(ISBLANK('Competition Data'!I655),\"\",'Competition Data'!I655)","v":""}]
["",{"$f":"IF(ISBLANK('Competition Data'!A656),\"\",'Competition Data'!A656)","v":""},{"$f":"IF(ISBLANK('Competition Data'!H656),\"\",'Competition Data'!H656)","v":""},{"$f":"IF(ISBLANK('Competition Data'!B656),\"\",'Competition Data'!B656)","v":""},{"$f":"IF(ISBLANK('Competition Data'!C656),\"\",'Competition Data'!C656)","v":""},{"$f":"IF(ISBLANK('Competition Data'!G656),\"\",'Competition Data'!G656)","v":""},{"$f":"IF(ISBLANK('Competition Data'!D656),\"\",'Competition Data'!D656)","v":""},{"$f":"IF(ISBLANK('Competition Data'!E656),\"\",'Competition Data'!E656)","v":""},{"$f":"IF(ISBLANK('Competition Data'!F656),\"\",'Competition Data'!F656)","v":""}," ()",{"$f":"IF(ISBLANK('Competition Data'!I656),\"\",'Competition Data'!I656)","v":""}]
["",{"$f":"IF(ISBLANK('Competition Data'!A657),\"\",'Competition Data'!A657)","v":""},{"$f":"IF(ISBLANK('Competition Data'!H657),\"\",'Competition Data'!H657)","v":""},{"$f":"IF(ISBLANK('Competition Data'!B657),\"\",'Competition Data'!B657)","v":""},{"$f":"IF(ISBLANK('Competition Data'!C657),\"\",'Competition Data'!C657)","v":""},{"$f":"IF(ISBLANK('Competition Data'!G657),\"\",'Competition Data'!G657)","v":""},{"$f":"IF(ISBLANK('Competition Data'!D657),\"\",'Competition Data'!D657)","v":""},{"$f":"IF(ISBLANK('Competition Data'!E657),\"\",'Competition Data'!E657)","v":""},{"$f":"IF(ISBLANK('Competition Data'!F657),\"\",'Competition Data'!F657)","v":""}," ()",{"$f":"IF(ISBLANK('Competition Data'!I657),\"\",'Competition Data'!I657)","v":""}]
["",{"$f":"IF(ISBLANK('Competition Data'!A658),\"\",'Competition Data'!A658)","v":""},{"$f":"IF(ISBLANK('Competition Data'!H658),\"\",'Competition Data'!H658)","v":""},{"$f":"IF(ISBLANK('Competition Data'!B658),\"\",'Competition Data'!B658)","v":""},{"$f":"IF(ISBLANK('Competition Data'!C658),\"\",'Competition Data'!C658)","v":""},{"$f":"IF(ISBLANK('Competition Data'!G658),\"\",'Competition Data'!G658)","v":""},{"$f":"IF(ISBLANK('Competition Data'!D658),\"\",'Competition Data'!D658)","v":""},{"$f":"IF(ISBLANK('Competition Data'!E658),\"\",'Competition Data'!E658)","v":""},{"$f":"IF(ISBLANK('Competition Data'!F658),\"\",'Competition Data'!F658)","v":""}," ()",{"$f":"IF(ISBLANK('Competition Data'!I658),\"\",'Competition Data'!I658)","v":""}]
["",{"$f":"IF(ISBLANK('Competition Data'!A659),\"\",'Competition Data'!A659)","v":""},{"$f":"IF(ISBLANK('Competition Data'!H659),\"\",'Competition Data'!H659)","v":""},{"$f":"IF(ISBLANK('Competition Data'!B659),\"\",'Competition Data'!B659)","v":""},{"$f":"IF(ISBLANK('Competition Data'!C659),\"\",'Competition Data'!C659)","v":""},{"$f":"IF(ISBLANK('Competition Data'!G659),\"\",'Competition Data'!G659)","v":""},{"$f":"IF(ISBLANK('Competition Data'!D659),\"\",'Competition Data'!D659)","v":""},{"$f":"IF(ISBLANK('Competition Data'!E659),\"\",'Competition Data'!E659)","v":""},{"$f":"IF(ISBLANK('Competition Data'!F659),\"\",'Competition Data'!F659)","v":""}," ()",{"$f":"IF(ISBLANK('Competition Data'!I659),\"\",'Competition Data'!I659)","v":""}]
["",{"$f":"IF(ISBLANK('Competition Data'!A660),\"\",'Competition Data'!A660)","v":""},{"$f":"IF(ISBLANK('Competition Data'!H660),\"\",'Competition Data'!H660)","v":""},{"$f":"IF(ISBLANK('Competition Data'!B660),\"\",'Competition Data'!B660)","v":""},{"$f":"IF(ISBLANK('Competition Data'!C660),\"\",'Competition Data'!C660)","v":""},{"$f":"IF(ISBLANK('Competition Data'!G660),\"\",'Competition Data'!G660)","v":""},{"$f":"IF(ISBLANK('Competition Data'!D660),\"\",'Competition Data'!D660)","v":""},{"$f":"IF(ISBLANK('Competition Data'!E660),\"\",'Competition Data'!E660)","v":""},{"$f":"IF(ISBLANK('Competition Data'!F660),\"\",'Competition Data'!F660)","v":""}," ()",{"$f":"IF(ISBLANK('Competition Data'!I660),\"\",'Competition Data'!I660)","v":""}]
["",{"$f":"IF(ISBLANK('Competition Data'!A661),\"\",'Competition Data'!A661)","v":""},{"$f":"IF(ISBLANK('Competition Data'!H661),\"\",'Competition Data'!H661)","v":""},{"$f":"IF(ISBLANK('Competition Data'!B661),\"\",'Competition Data'!B661)","v":""},{"$f":"IF(ISBLANK('Competition Data'!C661),\"\",'Competition Data'!C661)","v":""},{"$f":"IF(ISBLANK('Competition Data'!G661),\"\",'Competition Data'!G661)","v":""},{"$f":"IF(ISBLANK('Competition Data'!D661),\"\",'Competition Data'!D661)","v":""},{"$f":"IF(ISBLANK('Competition Data'!E661),\"\",'Competition Data'!E661)","v":""},{"$f":"IF(ISBLANK('Competition Data'!F661),\"\",'Competition Data'!F661)","v":""}," ()",{"$f":"IF(ISBLANK('Competition Data'!I661),\"\",'Competition Data'!I661)","v":""}]
["",{"$f":"IF(ISBLANK('Competition Data'!A662),\"\",'Competition Data'!A662)","v":""},{"$f":"IF(ISBLANK('Competition Data'!H662),\"\",'Competition Data'!H662)","v":""},{"$f":"IF(ISBLANK('Competition Data'!B662),\"\",'Competition Data'!B662)","v":""},{"$f":"IF(ISBLANK('Competition Data'!C662),\"\",'Competition Data'!C662)","v":""},{"$f":"IF(ISBLANK('Competition Data'!G662),\"\",'Competition Data'!G662)","v":""},{"$f":"IF(ISBLANK('Competition Data'!D662),\"\",'Competition Data'!D662)","v":""},{"$f":"IF(ISBLANK('Competition Data'!E662),\"\",'Competition Data'!E662)","v":""},{"$f":"IF(ISBLANK('Competition Data'!F662),\"\",'Competition Data'!F662)","v":""}," ()",{"$f":"IF(ISBLANK('Competition Data'!I662),\"\",'Competition Data'!I662)","v":""}]
["",{"$f":"IF(ISBLANK('Competition Data'!A663),\"\",'Competition Data'!A663)","v":""},{"$f":"IF(ISBLANK('Competition Data'!H663),\"\",'Competition Data'!H663)","v":""},{"$f":"IF(ISBLANK('Competition Data'!B663),\"\",'Competition Data'!B663)","v":""},{"$f":"IF(ISBLANK('Competition Data'!C663),\"\",'Competition Data'!C663)","v":""},{"$f":"IF(ISBLANK('Competition Data'!G663),\"\",'Competition Data'!G663)","v":""},{"$f":"IF(ISBLANK('Competition Data'!D663),\"\",'Competition Data'!D663)","v":""},{"$f":"IF(ISBLANK('Competition Data'!E663),\"\",'Competition Data'!E663)","v":""},{"$f":"IF(ISBLANK('Competition Data'!F663),\"\",'Competition Data'!F663)","v":""}," ()",{"$f":"IF(ISBLANK('Competition Data'!I663),\"\",'Competition Data'!I663)","v":""}]
["",{"$f":"IF(ISBLANK('Competition Data'!A664),\"\",'Competition Data'!A664)","v":""},{"$f":"IF(ISBLANK('Competition Data'!H664),\"\",'Competition Data'!H664)","v":""},{"$f":"IF(ISBLANK('Competition Data'!B664),\"\",'Competition Data'!B664)","v":""},{"$f":"IF(ISBLANK('Competition Data'!C664),\"\",'Competition Data'!C664)","v":""},{"$f":"IF(ISBLANK('Competition Data'!G664),\"\",'Competition Data'!G664)","v":""},{"$f":"IF(ISBLANK('Competition Data'!D664),\"\",'Competition Data'!D664)","v":""},{"$f":"IF(ISBLANK('Competition Data'!E664),\"\",'Competition Data'!E664)","v":""},{"$f":"IF(ISBLANK('Competition Data'!F664),\"\",'Competition Data'!F664)","v":""}," ()",{"$f":"IF(ISBLANK('Competition Data'!I664),\"\",'Competition Data'!I664)","v":""}]
["",{"$f":"IF(ISBLANK('Competition Data'!A665),\"\",'Competition Data'!A665)","v":""},{"$f":"IF(ISBLANK('Competition Data'!H665),\"\",'Competition Data'!H665)","v":""},{"$f":"IF(ISBLANK('Competition Data'!B665),\"\",'Competition Data'!B665)","v":""},{"$f":"IF(ISBLANK('Competition Data'!C665),\"\",'Competition Data'!C665)","v":""},{"$f":"IF(ISBLANK('Competition Data'!G665),\"\",'Competition Data'!G665)","v":""},{"$f":"IF(ISBLANK('Competition Data'!D665),\"\",'Competition Data'!D665)","v":""},{"$f":"IF(ISBLANK('Competition Data'!E665),\"\",'Competition Data'!E665)","v":""},{"$f":"IF(ISBLANK('Competition Data'!F665),\"\",'Competition Data'!F665)","v":""}," ()",{"$f":"IF(ISBLANK('Competition Data'!I665),\"\",'Competition Data'!I665)","v":""}]
["",{"$f":"IF(ISBLANK('Competition Data'!A666),\"\",'Competition Data'!A666)","v":""},{"$f":"IF(ISBLANK('Competition Data'!H666),\"\",'Competition Data'!H666)","v":""},{"$f":"IF(ISBLANK('Competition Data'!B666),\"\",'Competition Data'!B666)","v":""},{"$f":"IF(ISBLANK('Competition Data'!C666),\"\",'Competition Data'!C666)","v":""},{"$f":"IF(ISBLANK('Competition Data'!G666),\"\",'Competition Data'!G666)","v":""},{"$f":"IF(ISBLANK('Competition Data'!D666),\"\",'Competition Data'!D666)","v":""},{"$f":"IF(ISBLANK('Competition Data'!E666),\"\",'Competition Data'!E666)","v":""},{"$f":"IF(ISBLANK('Competition Data'!F666),\"\",'Competition Data'!F666)","v":""}," ()",{"$f":"IF(ISBLANK('Competition Data'!I666),\"\",'Competition Data'!I666)","v":""}]
["",{"$f":"IF(ISBLANK('Competition Data'!A667),\"\",'Competition Data'!A667)","v":""},{"$f":"IF(ISBLANK('Competition Data'!H667),\"\",'Competition Data'!H667)","v":""},{"$f":"IF(ISBLANK('Competition Data'!B667),\"\",'Competition Data'!B667)","v":""},{"$f":"IF(ISBLANK('Competition Data'!C667),\"\",'Competition Data'!C667)","v":""},{"$f":"IF(ISBLANK('Competition Data'!G667),\"\",'Competition Data'!G667)","v":""},{"$f":"IF(ISBLANK('Competition Data'!D667),\"\",'Competition Data'!D667)","v":""},{"$f":"IF(ISBLANK('Competition Data'!E667),\"\",'Competition Data'!E667)","v":""},{"$f":"IF(ISBLANK('Competition Data'!F667),\"\",'Competition Data'!F667)","v":""}," ()",{"$f":"IF(ISBLANK('Competition Data'!I667),\"\",'Competition Data'!I667)","v":""}]
["",{"$f":"IF(ISBLANK('Competition Data'!A668),\"\",'Competition Data'!A668)","v":""},{"$f":"IF(ISBLANK('Competition Data'!H668),\"\",'Competition Data'!H668)","v":""},{"$f":"IF(ISBLANK('Competition Data'!B668),\"\",'Competition Data'!B668)","v":""},{"$f":"IF(ISBLANK('Competition Data'!C668),\"\",'Competition Data'!C668)","v":""},{"$f":"IF(ISBLANK('Competition Data'!G668),\"\",'Competition Data'!G668)","v":""},{"$f":"IF(ISBLANK('Competition Data'!D668),\"\",'Competition Data'!D668)","v":""},{"$f":"IF(ISBLANK('Competition Data'!E668),\"\",'Competition Data'!E668)","v":""},{"$f":"IF(ISBLANK('Competition Data'!F668),\"\",'Competition Data'!F668)","v":""}," ()",{"$f":"IF(ISBLANK('Competition Data'!I668),\"\",'Competition Data'!I668)","v":""}]
["",{"$f":"IF(ISBLANK('Competition Data'!A669),\"\",'Competition Data'!A669)","v":""},{"$f":"IF(ISBLANK('Competition Data'!H669),\"\",'Competition Data'!H669)","v":""},{"$f":"IF(ISBLANK('Competition Data'!B669),\"\",'Competition Data'!B669)","v":""},{"$f":"IF(ISBLANK('Competition Data'!C669),\"\",'Competition Data'!C669)","v":""},{"$f":"IF(ISBLANK('Competition Data'!G669),\"\",'Competition Data'!G669)","v":""},{"$f":"IF(ISBLANK('Competition Data'!D669),\"\",'Competition Data'!D669)","v":""},{"$f":"IF(ISBLANK('Competition Data'!E669),\"\",'Competition Data'!E669)","v":""},{"$f":"IF(ISBLANK('Competition Data'!F669),\"\",'Competition Data'!F669)","v":""}," ()",{"$f":"IF(ISBLANK('Competition Data'!I669),\"\",'Competition Data'!I669)","v":""}]
["",{"$f":"IF(ISBLANK('Competition Data'!A670),\"\",'Competition Data'!A670)","v":""},{"$f":"IF(ISBLANK('Competition Data'!H670),\"\",'Competition Data'!H670)","v":""},{"$f":"IF(ISBLANK('Competition Data'!B670),\"\",'Competition Data'!B670)","v":""},{"$f":"IF(ISBLANK('Competition Data'!C670),\"\",'Competition Data'!C670)","v":""},{"$f":"IF(ISBLANK('Competition Data'!G670),\"\",'Competition Data'!G670)","v":""},{"$f":"IF(ISBLANK('Competition Data'!D670),\"\",'Competition Data'!D670)","v":""},{"$f":"IF(ISBLANK('Competition Data'!E670),\"\",'Competition Data'!E670)","v":""},{"$f":"IF(ISBLANK('Competition Data'!F670),\"\",'Competition Data'!F670)","v":""}," ()",{"$f":"IF(ISBLANK('Competition Data'!I670),\"\",'Competition Data'!I670)","v":""}]
[{"$f":"CONCATENATE(B671,D671,E671)","v":""},{"$f":"IF(ISBLANK('Competition Data'!A671),\"\",'Competition Data'!A671)","v":""},{"$f":"IF(ISBLANK('Competition Data'!H671),\"\",'Competition Data'!H671)","v":""},{"$f":"IF(ISBLANK('Competition Data'!B671),\"\",'Competition Data'!B671)","v":""},{"$f":"IF(ISBLANK('Competition Data'!C671),\"\",'Competition Data'!C671)","v":""},{"$f":"IF(ISBLANK('Competition Data'!G671),\"\",'Competition Data'!G671)","v":""},{"$f":"IF(ISBLANK('Competition Data'!D671),\"\",'Competition Data'!D671)","v":""},{"$f":"IF(ISBLANK('Competition Data'!E671),\"\",'Competition Data'!E671)","v":""},{"$f":"IF(ISBLANK('Competition Data'!F671),\"\",'Competition Data'!F671)","v":""},{"$f":"CONCATENATE(B671,\" (\",E671,\")\")","v":" ()"},{"$f":"IF(ISBLANK('Competition Data'!I671),\"\",'Competition Data'!I671)","v":""}]
["",{"$f":"IF(ISBLANK('Competition Data'!A672),\"\",'Competition Data'!A672)","v":""},{"$f":"IF(ISBLANK('Competition Data'!H672),\"\",'Competition Data'!H672)","v":""},{"$f":"IF(ISBLANK('Competition Data'!B672),\"\",'Competition Data'!B672)","v":""},{"$f":"IF(ISBLANK('Competition Data'!C672),\"\",'Competition Data'!C672)","v":""},{"$f":"IF(ISBLANK('Competition Data'!G672),\"\",'Competition Data'!G672)","v":""},{"$f":"IF(ISBLANK('Competition Data'!D672),\"\",'Competition Data'!D672)","v":""},{"$f":"IF(ISBLANK('Competition Data'!E672),\"\",'Competition Data'!E672)","v":""},{"$f":"IF(ISBLANK('Competition Data'!F672),\"\",'Competition Data'!F672)","v":""}," ()",{"$f":"IF(ISBLANK('Competition Data'!I672),\"\",'Competition Data'!I672)","v":""}]
["",{"$f":"IF(ISBLANK('Competition Data'!A673),\"\",'Competition Data'!A673)","v":""},{"$f":"IF(ISBLANK('Competition Data'!H673),\"\",'Competition Data'!H673)","v":""},{"$f":"IF(ISBLANK('Competition Data'!B673),\"\",'Competition Data'!B673)","v":""},{"$f":"IF(ISBLANK('Competition Data'!C673),\"\",'Competition Data'!C673)","v":""},{"$f":"IF(ISBLANK('Competition Data'!G673),\"\",'Competition Data'!G673)","v":""},{"$f":"IF(ISBLANK('Competition Data'!D673),\"\",'Competition Data'!D673)","v":""},{"$f":"IF(ISBLANK('Competition Data'!E673),\"\",'Competition Data'!E673)","v":""},{"$f":"IF(ISBLANK('Competition Data'!F673),\"\",'Competition Data'!F673)","v":""}," ()",{"$f":"IF(ISBLANK('Competition Data'!I673),\"\",'Competition Data'!I673)","v":""}]
["",{"$f":"IF(ISBLANK('Competition Data'!A674),\"\",'Competition Data'!A674)","v":""},{"$f":"IF(ISBLANK('Competition Data'!H674),\"\",'Competition Data'!H674)","v":""},{"$f":"IF(ISBLANK('Competition Data'!B674),\"\",'Competition Data'!B674)","v":""},{"$f":"IF(ISBLANK('Competition Data'!C674),\"\",'Competition Data'!C674)","v":""},{"$f":"IF(ISBLANK('Competition Data'!G674),\"\",'Competition Data'!G674)","v":""},{"$f":"IF(ISBLANK('Competition Data'!D674),\"\",'Competition Data'!D674)","v":""},{"$f":"IF(ISBLANK('Competition Data'!E674),\"\",'Competition Data'!E674)","v":""},{"$f":"IF(ISBLANK('Competition Data'!F674),\"\",'Competition Data'!F674)","v":""}," ()",{"$f":"IF(ISBLANK('Competition Data'!I674),\"\",'Competition Data'!I674)","v":""}]
["",{"$f":"IF(ISBLANK('Competition Data'!A675),\"\",'Competition Data'!A675)","v":""},{"$f":"IF(ISBLANK('Competition Data'!H675),\"\",'Competition Data'!H675)","v":""},{"$f":"IF(ISBLANK('Competition Data'!B675),\"\",'Competition Data'!B675)","v":""},{"$f":"IF(ISBLANK('Competition Data'!C675),\"\",'Competition Data'!C675)","v":""},{"$f":"IF(ISBLANK('Competition Data'!G675),\"\",'Competition Data'!G675)","v":""},{"$f":"IF(ISBLANK('Competition Data'!D675),\"\",'Competition Data'!D675)","v":""},{"$f":"IF(ISBLANK('Competition Data'!E675),\"\",'Competition Data'!E675)","v":""},{"$f":"IF(ISBLANK('Competition Data'!F675),\"\",'Competition Data'!F675)","v":""}," ()",{"$f":"IF(ISBLANK('Competition Data'!I675),\"\",'Competition Data'!I675)","v":""}]
["",{"$f":"IF(ISBLANK('Competition Data'!A676),\"\",'Competition Data'!A676)","v":""},{"$f":"IF(ISBLANK('Competition Data'!H676),\"\",'Competition Data'!H676)","v":""},{"$f":"IF(ISBLANK('Competition Data'!B676),\"\",'Competition Data'!B676)","v":""},{"$f":"IF(ISBLANK('Competition Data'!C676),\"\",'Competition Data'!C676)","v":""},{"$f":"IF(ISBLANK('Competition Data'!G676),\"\",'Competition Data'!G676)","v":""},{"$f":"IF(ISBLANK('Competition Data'!D676),\"\",'Competition Data'!D676)","v":""},{"$f":"IF(ISBLANK('Competition Data'!E676),\"\",'Competition Data'!E676)","v":""},{"$f":"IF(ISBLANK('Competition Data'!F676),\"\",'Competition Data'!F676)","v":""}," ()",{"$f":"IF(ISBLANK('Competition Data'!I676),\"\",'Competition Data'!I676)","v":""}]
["",{"$f":"IF(ISBLANK('Competition Data'!A677),\"\",'Competition Data'!A677)","v":""},{"$f":"IF(ISBLANK('Competition Data'!H677),\"\",'Competition Data'!H677)","v":""},{"$f":"IF(ISBLANK('Competition Data'!B677),\"\",'Competition Data'!B677)","v":""},{"$f":"IF(ISBLANK('Competition Data'!C677),\"\",'Competition Data'!C677)","v":""},{"$f":"IF(ISBLANK('Competition Data'!G677),\"\",'Competition Data'!G677)","v":""},{"$f":"IF(ISBLANK('Competition Data'!D677),\"\",'Competition Data'!D677)","v":""},{"$f":"IF(ISBLANK('Competition Data'!E677),\"\",'Competition Data'!E677)","v":""},{"$f":"IF(ISBLANK('Competition Data'!F677),\"\",'Competition Data'!F677)","v":""}," ()",{"$f":"IF(ISBLANK('Competition Data'!I677),\"\",'Competition Data'!I677)","v":""}]
["",{"$f":"IF(ISBLANK('Competition Data'!A678),\"\",'Competition Data'!A678)","v":""},{"$f":"IF(ISBLANK('Competition Data'!H678),\"\",'Competition Data'!H678)","v":""},{"$f":"IF(ISBLANK('Competition Data'!B678),\"\",'Competition Data'!B678)","v":""},{"$f":"IF(ISBLANK('Competition Data'!C678),\"\",'Competition Data'!C678)","v":""},{"$f":"IF(ISBLANK('Competition Data'!G678),\"\",'Competition Data'!G678)","v":""},{"$f":"IF(ISBLANK('Competition Data'!D678),\"\",'Competition Data'!D678)","v":""},{"$f":"IF(ISBLANK('Competition Data'!E678),\"\",'Competition Data'!E678)","v":""},{"$f":"IF(ISBLANK('Competition Data'!F678),\"\",'Competition Data'!F678)","v":""}," ()",{"$f":"IF(ISBLANK('Competition Data'!I678),\"\",'Competition Data'!I678)","v":""}]
["",{"$f":"IF(ISBLANK('Competition Data'!A679),\"\",'Competition Data'!A679)","v":""},{"$f":"IF(ISBLANK('Competition Data'!H679),\"\",'Competition Data'!H679)","v":""},{"$f":"IF(ISBLANK('Competition Data'!B679),\"\",'Competition Data'!B679)","v":""},{"$f":"IF(ISBLANK('Competition Data'!C679),\"\",'Competition Data'!C679)","v":""},{"$f":"IF(ISBLANK('Competition Data'!G679),\"\",'Competition Data'!G679)","v":""},{"$f":"IF(ISBLANK('Competition Data'!D679),\"\",'Competition Data'!D679)","v":""},{"$f":"IF(ISBLANK('Competition Data'!E679),\"\",'Competition Data'!E679)","v":""},{"$f":"IF(ISBLANK('Competition Data'!F679),\"\",'Competition Data'!F679)","v":""}," ()",{"$f":"IF(ISBLANK('Competition Data'!I679),\"\",'Competition Data'!I679)","v":""}]
["",{"$f":"IF(ISBLANK('Competition Data'!A680),\"\",'Competition Data'!A680)","v":""},{"$f":"IF(ISBLANK('Competition Data'!H680),\"\",'Competition Data'!H680)","v":""},{"$f":"IF(ISBLANK('Competition Data'!B680),\"\",'Competition Data'!B680)","v":""},{"$f":"IF(ISBLANK('Competition Data'!C680),\"\",'Competition Data'!C680)","v":""},{"$f":"IF(ISBLANK('Competition Data'!G680),\"\",'Competition Data'!G680)","v":""},{"$f":"IF(ISBLANK('Competition Data'!D680),\"\",'Competition Data'!D680)","v":""},{"$f":"IF(ISBLANK('Competition Data'!E680),\"\",'Competition Data'!E680)","v":""},{"$f":"IF(ISBLANK('Competition Data'!F680),\"\",'Competition Data'!F680)","v":""}," ()",{"$f":"IF(ISBLANK('Competition Data'!I680),\"\",'Competition Data'!I680)","v":""}]
["",{"$f":"IF(ISBLANK('Competition Data'!A681),\"\",'Competition Data'!A681)","v":""},{"$f":"IF(ISBLANK('Competition Data'!H681),\"\",'Competition Data'!H681)","v":""},{"$f":"IF(ISBLANK('Competition Data'!B681),\"\",'Competition Data'!B681)","v":""},{"$f":"IF(ISBLANK('Competition Data'!C681),\"\",'Competition Data'!C681)","v":""},{"$f":"IF(ISBLANK('Competition Data'!G681),\"\",'Competition Data'!G681)","v":""},{"$f":"IF(ISBLANK('Competition Data'!D681),\"\",'Competition Data'!D681)","v":""},{"$f":"IF(ISBLANK('Competition Data'!E681),\"\",'Competition Data'!E681)","v":""},{"$f":"IF(ISBLANK('Competition Data'!F681),\"\",'Competition Data'!F681)","v":""}," ()",{"$f":"IF(ISBLANK('Competition Data'!I681),\"\",'Competition Data'!I681)","v":""}]
["",{"$f":"IF(ISBLANK('Competition Data'!A682),\"\",'Competition Data'!A682)","v":""},{"$f":"IF(ISBLANK('Competition Data'!H682),\"\",'Competition Data'!H682)","v":""},{"$f":"IF(ISBLANK('Competition Data'!B682),\"\",'Competition Data'!B682)","v":""},{"$f":"IF(ISBLANK('Competition Data'!C682),\"\",'Competition Data'!C682)","v":""},{"$f":"IF(ISBLANK('Competition Data'!G682),\"\",'Competition Data'!G682)","v":""},{"$f":"IF(ISBLANK('Competition Data'!D682),\"\",'Competition Data'!D682)","v":""},{"$f":"IF(ISBLANK('Competition Data'!E682),\"\",'Competition Data'!E682)","v":""},{"$f":"IF(ISBLANK('Competition Data'!F682),\"\",'Competition Data'!F682)","v":""}," ()",{"$f":"IF(ISBLANK('Competition Data'!I682),\"\",'Competition Data'!I682)","v":""}]
["",{"$f":"IF(ISBLANK('Competition Data'!A683),\"\",'Competition Data'!A683)","v":""},{"$f":"IF(ISBLANK('Competition Data'!H683),\"\",'Competition Data'!H683)","v":""},{"$f":"IF(ISBLANK('Competition Data'!B683),\"\",'Competition Data'!B683)","v":""},{"$f":"IF(ISBLANK('Competition Data'!C683),\"\",'Competition Data'!C683)","v":""},{"$f":"IF(ISBLANK('Competition Data'!G683),\"\",'Competition Data'!G683)","v":""},{"$f":"IF(ISBLANK('Competition Data'!D683),\"\",'Competition Data'!D683)","v":""},{"$f":"IF(ISBLANK('Competition Data'!E683),\"\",'Competition Data'!E683)","v":""},{"$f":"IF(ISBLANK('Competition Data'!F683),\"\",'Competition Data'!F683)","v":""}," ()",{"$f":"IF(ISBLANK('Competition Data'!I683),\"\",'Competition Data'!I683)","v":""}]
["",{"$f":"IF(ISBLANK('Competition Data'!A684),\"\",'Competition Data'!A684)","v":""},{"$f":"IF(ISBLANK('Competition Data'!H684),\"\",'Competition Data'!H684)","v":""},{"$f":"IF(ISBLANK('Competition Data'!B684),\"\",'Competition Data'!B684)","v":""},{"$f":"IF(ISBLANK('Competition Data'!C684),\"\",'Competition Data'!C684)","v":""},{"$f":"IF(ISBLANK('Competition Data'!G684),\"\",'Competition Data'!G684)","v":""},{"$f":"IF(ISBLANK('Competition Data'!D684),\"\",'Competition Data'!D684)","v":""},{"$f":"IF(ISBLANK('Competition Data'!E684),\"\",'Competition Data'!E684)","v":""},{"$f":"IF(ISBLANK('Competition Data'!F684),\"\",'Competition Data'!F684)","v":""}," ()",{"$f":"IF(ISBLANK('Competition Data'!I684),\"\",'Competition Data'!I684)","v":""}]
["",{"$f":"IF(ISBLANK('Competition Data'!A685),\"\",'Competition Data'!A685)","v":""},{"$f":"IF(ISBLANK('Competition Data'!H685),\"\",'Competition Data'!H685)","v":""},{"$f":"IF(ISBLANK('Competition Data'!B685),\"\",'Competition Data'!B685)","v":""},{"$f":"IF(ISBLANK('Competition Data'!C685),\"\",'Competition Data'!C685)","v":""},{"$f":"IF(ISBLANK('Competition Data'!G685),\"\",'Competition Data'!G685)","v":""},{"$f":"IF(ISBLANK('Competition Data'!D685),\"\",'Competition Data'!D685)","v":""},{"$f":"IF(ISBLANK('Competition Data'!E685),\"\",'Competition Data'!E685)","v":""},{"$f":"IF(ISBLANK('Competition Data'!F685),\"\",'Competition Data'!F685)","v":""}," ()",{"$f":"IF(ISBLANK('Competition Data'!I685),\"\",'Competition Data'!I685)","v":""}]
["",{"$f":"IF(ISBLANK('Competition Data'!A686),\"\",'Competition Data'!A686)","v":""},{"$f":"IF(ISBLANK('Competition Data'!H686),\"\",'Competition Data'!H686)","v":""},{"$f":"IF(ISBLANK('Competition Data'!B686),\"\",'Competition Data'!B686)","v":""},{"$f":"IF(ISBLANK('Competition Data'!C686),\"\",'Competition Data'!C686)","v":""},{"$f":"IF(ISBLANK('Competition Data'!G686),\"\",'Competition Data'!G686)","v":""},{"$f":"IF(ISBLANK('Competition Data'!D686),\"\",'Competition Data'!D686)","v":""},{"$f":"IF(ISBLANK('Competition Data'!E686),\"\",'Competition Data'!E686)","v":""},{"$f":"IF(ISBLANK('Competition Data'!F686),\"\",'Competition Data'!F686)","v":""}," ()",{"$f":"IF(ISBLANK('Competition Data'!I686),\"\",'Competition Data'!I686)","v":""}]
["",{"$f":"IF(ISBLANK('Competition Data'!A687),\"\",'Competition Data'!A687)","v":""},{"$f":"IF(ISBLANK('Competition Data'!H687),\"\",'Competition Data'!H687)","v":""},{"$f":"IF(ISBLANK('Competition Data'!B687),\"\",'Competition Data'!B687)","v":""},{"$f":"IF(ISBLANK('Competition Data'!C687),\"\",'Competition Data'!C687)","v":""},{"$f":"IF(ISBLANK('Competition Data'!G687),\"\",'Competition Data'!G687)","v":""},{"$f":"IF(ISBLANK('Competition Data'!D687),\"\",'Competition Data'!D687)","v":""},{"$f":"IF(ISBLANK('Competition Data'!E687),\"\",'Competition Data'!E687)","v":""},{"$f":"IF(ISBLANK('Competition Data'!F687),\"\",'Competition Data'!F687)","v":""}," ()",{"$f":"IF(ISBLANK('Competition Data'!I687),\"\",'Competition Data'!I687)","v":""}]
["",{"$f":"IF(ISBLANK('Competition Data'!A688),\"\",'Competition Data'!A688)","v":""},{"$f":"IF(ISBLANK('Competition Data'!H688),\"\",'Competition Data'!H688)","v":""},{"$f":"IF(ISBLANK('Competition Data'!B688),\"\",'Competition Data'!B688)","v":""},{"$f":"IF(ISBLANK('Competition Data'!C688),\"\",'Competition Data'!C688)","v":""},{"$f":"IF(ISBLANK('Competition Data'!G688),\"\",'Competition Data'!G688)","v":""},{"$f":"IF(ISBLANK('Competition Data'!D688),\"\",'Competition Data'!D688)","v":""},{"$f":"IF(ISBLANK('Competition Data'!E688),\"\",'Competition Data'!E688)","v":""},{"$f":"IF(ISBLANK('Competition Data'!F688),\"\",'Competition Data'!F688)","v":""}," ()",{"$f":"IF(ISBLANK('Competition Data'!I688),\"\",'Competition Data'!I688)","v":""}]
["",{"$f":"IF(ISBLANK('Competition Data'!A689),\"\",'Competition Data'!A689)","v":""},{"$f":"IF(ISBLANK('Competition Data'!H689),\"\",'Competition Data'!H689)","v":""},{"$f":"IF(ISBLANK('Competition Data'!B689),\"\",'Competition Data'!B689)","v":""},{"$f":"IF(ISBLANK('Competition Data'!C689),\"\",'Competition Data'!C689)","v":""},{"$f":"IF(ISBLANK('Competition Data'!G689),\"\",'Competition Data'!G689)","v":""},{"$f":"IF(ISBLANK('Competition Data'!D689),\"\",'Competition Data'!D689)","v":""},{"$f":"IF(ISBLANK('Competition Data'!E689),\"\",'Competition Data'!E689)","v":""},{"$f":"IF(ISBLANK('Competition Data'!F689),\"\",'Competition Data'!F689)","v":""}," ()",{"$f":"IF(ISBLANK('Competition Data'!I689),\"\",'Competition Data'!I689)","v":""}]
["",{"$f":"IF(ISBLANK('Competition Data'!A690),\"\",'Competition Data'!A690)","v":""},{"$f":"IF(ISBLANK('Competition Data'!H690),\"\",'Competition Data'!H690)","v":""},{"$f":"IF(ISBLANK('Competition Data'!B690),\"\",'Competition Data'!B690)","v":""},{"$f":"IF(ISBLANK('Competition Data'!C690),\"\",'Competition Data'!C690)","v":""},{"$f":"IF(ISBLANK('Competition Data'!G690),\"\",'Competition Data'!G690)","v":""},{"$f":"IF(ISBLANK('Competition Data'!D690),\"\",'Competition Data'!D690)","v":""},{"$f":"IF(ISBLANK('Competition Data'!E690),\"\",'Competition Data'!E690)","v":""},{"$f":"IF(ISBLANK('Competition Data'!F690),\"\",'Competition Data'!F690)","v":""}," ()",{"$f":"IF(ISBLANK('Competition Data'!I690),\"\",'Competition Data'!I690)","v":""}]
["",{"$f":"IF(ISBLANK('Competition Data'!A691),\"\",'Competition Data'!A691)","v":""},{"$f":"IF(ISBLANK('Competition Data'!H691),\"\",'Competition Data'!H691)","v":""},{"$f":"IF(ISBLANK('Competition Data'!B691),\"\",'Competition Data'!B691)","v":""},{"$f":"IF(ISBLANK('Competition Data'!C691),\"\",'Competition Data'!C691)","v":""},{"$f":"IF(ISBLANK('Competition Data'!G691),\"\",'Competition Data'!G691)","v":""},{"$f":"IF(ISBLANK('Competition Data'!D691),\"\",'Competition Data'!D691)","v":""},{"$f":"IF(ISBLANK('Competition Data'!E691),\"\",'Competition Data'!E691)","v":""},{"$f":"IF(ISBLANK('Competition Data'!F691),\"\",'Competition Data'!F691)","v":""}," ()",{"$f":"IF(ISBLANK('Competition Data'!I691),\"\",'Competition Data'!I691)","v":""}]
["",{"$f":"IF(ISBLANK('Competition Data'!A692),\"\",'Competition Data'!A692)","v":""},{"$f":"IF(ISBLANK('Competition Data'!H692),\"\",'Competition Data'!H692)","v":""},{"$f":"IF(ISBLANK('Competition Data'!B692),\"\",'Competition Data'!B692)","v":""},{"$f":"IF(ISBLANK('Competition Data'!C692),\"\",'Competition Data'!C692)","v":""},{"$f":"IF(ISBLANK('Competition Data'!G692),\"\",'Competition Data'!G692)","v":""},{"$f":"IF(ISBLANK('Competition Data'!D692),\"\",'Competition Data'!D692)","v":""},{"$f":"IF(ISBLANK('Competition Data'!E692),\"\",'Competition Data'!E692)","v":""},{"$f":"IF(ISBLANK('Competition Data'!F692),\"\",'Competition Data'!F692)","v":""}," ()",{"$f":"IF(ISBLANK('Competition Data'!I692),\"\",'Competition Data'!I692)","v":""}]
["",{"$f":"IF(ISBLANK('Competition Data'!A693),\"\",'Competition Data'!A693)","v":""},{"$f":"IF(ISBLANK('Competition Data'!H693),\"\",'Competition Data'!H693)","v":""},{"$f":"IF(ISBLANK('Competition Data'!B693),\"\",'Competition Data'!B693)","v":""},{"$f":"IF(ISBLANK('Competition Data'!C693),\"\",'Competition Data'!C693)","v":""},{"$f":"IF(ISBLANK('Competition Data'!G693),\"\",'Competition Data'!G693)","v":""},{"$f":"IF(ISBLANK('Competition Data'!D693),\"\",'Competition Data'!D693)","v":""},{"$f":"IF(ISBLANK('Competition Data'!E693),\"\",'Competition Data'!E693)","v":""},{"$f":"IF(ISBLANK('Competition Data'!F693),\"\",'Competition Data'!F693)","v":""}," ()",{"$f":"IF(ISBLANK('Competition Data'!I693),\"\",'Competition Data'!I693)","v":""}]
["",{"$f":"IF(ISBLANK('Competition Data'!A694),\"\",'Competition Data'!A694)","v":""},{"$f":"IF(ISBLANK('Competition Data'!H694),\"\",'Competition Data'!H694)","v":""},{"$f":"IF(ISBLANK('Competition Data'!B694),\"\",'Competition Data'!B694)","v":""},{"$f":"IF(ISBLANK('Competition Data'!C694),\"\",'Competition Data'!C694)","v":""},{"$f":"IF(ISBLANK('Competition Data'!G694),\"\",'Competition Data'!G694)","v":""},{"$f":"IF(ISBLANK('Competition Data'!D694),\"\",'Competition Data'!D694)","v":""},{"$f":"IF(ISBLANK('Competition Data'!E694),\"\",'Competition Data'!E694)","v":""},{"$f":"IF(ISBLANK('Competition Data'!F694),\"\",'Competition Data'!F694)","v":""}," ()",{"$f":"IF(ISBLANK('Competition Data'!I694),\"\",'Competition Data'!I694)","v":""}]
["",{"$f":"IF(ISBLANK('Competition Data'!A695),\"\",'Competition Data'!A695)","v":""},{"$f":"IF(ISBLANK('Competition Data'!H695),\"\",'Competition Data'!H695)","v":""},{"$f":"IF(ISBLANK('Competition Data'!B695),\"\",'Competition Data'!B695)","v":""},{"$f":"IF(ISBLANK('Competition Data'!C695),\"\",'Competition Data'!C695)","v":""},{"$f":"IF(ISBLANK('Competition Data'!G695),\"\",'Competition Data'!G695)","v":""},{"$f":"IF(ISBLANK('Competition Data'!D695),\"\",'Competition Data'!D695)","v":""},{"$f":"IF(ISBLANK('Competition Data'!E695),\"\",'Competition Data'!E695)","v":""},{"$f":"IF(ISBLANK('Competition Data'!F695),\"\",'Competition Data'!F695)","v":""}," ()",{"$f":"IF(ISBLANK('Competition Data'!I695),\"\",'Competition Data'!I695)","v":""}]
["",{"$f":"IF(ISBLANK('Competition Data'!A696),\"\",'Competition Data'!A696)","v":""},{"$f":"IF(ISBLANK('Competition Data'!H696),\"\",'Competition Data'!H696)","v":""},{"$f":"IF(ISBLANK('Competition Data'!B696),\"\",'Competition Data'!B696)","v":""},{"$f":"IF(ISBLANK('Competition Data'!C696),\"\",'Competition Data'!C696)","v":""},{"$f":"IF(ISBLANK('Competition Data'!G696),\"\",'Competition Data'!G696)","v":""},{"$f":"IF(ISBLANK('Competition Data'!D696),\"\",'Competition Data'!D696)","v":""},{"$f":"IF(ISBLANK('Competition Data'!E696),\"\",'Competition Data'!E696)","v":""},{"$f":"IF(ISBLANK('Competition Data'!F696),\"\",'Competition Data'!F696)","v":""}," ()",{"$f":"IF(ISBLANK('Competition Data'!I696),\"\",'Competition Data'!I696)","v":""}]
["",{"$f":"IF(ISBLANK('Competition Data'!A697),\"\",'Competition Data'!A697)","v":""},{"$f":"IF(ISBLANK('Competition Data'!H697),\"\",'Competition Data'!H697)","v":""},{"$f":"IF(ISBLANK('Competition Data'!B697),\"\",'Competition Data'!B697)","v":""},{"$f":"IF(ISBLANK('Competition Data'!C697),\"\",'Competition Data'!C697)","v":""},{"$f":"IF(ISBLANK('Competition Data'!G697),\"\",'Competition Data'!G697)","v":""},{"$f":"IF(ISBLANK('Competition Data'!D697),\"\",'Competition Data'!D697)","v":""},{"$f":"IF(ISBLANK('Competition Data'!E697),\"\",'Competition Data'!E697)","v":""},{"$f":"IF(ISBLANK('Competition Data'!F697),\"\",'Competition Data'!F697)","v":""}," ()",{"$f":"IF(ISBLANK('Competition Data'!I697),\"\",'Competition Data'!I697)","v":""}]
["",{"$f":"IF(ISBLANK('Competition Data'!A698),\"\",'Competition Data'!A698)","v":""},{"$f":"IF(ISBLANK('Competition Data'!H698),\"\",'Competition Data'!H698)","v":""},{"$f":"IF(ISBLANK('Competition Data'!B698),\"\",'Competition Data'!B698)","v":""},{"$f":"IF(ISBLANK('Competition Data'!C698),\"\",'Competition Data'!C698)","v":""},{"$f":"IF(ISBLANK('Competition Data'!G698),\"\",'Competition Data'!G698)","v":""},{"$f":"IF(ISBLANK('Competition Data'!D698),\"\",'Competition Data'!D698)","v":""},{"$f":"IF(ISBLANK('Competition Data'!E698),\"\",'Competition Data'!E698)","v":""},{"$f":"IF(ISBLANK('Competition Data'!F698),\"\",'Competition Data'!F698)","v":""}," ()",{"$f":"IF(ISBLANK('Competition Data'!I698),\"\",'Competition Data'!I698)","v":""}]
["",{"$f":"IF(ISBLANK('Competition Data'!A699),\"\",'Competition Data'!A699)","v":""},{"$f":"IF(ISBLANK('Competition Data'!H699),\"\",'Competition Data'!H699)","v":""},{"$f":"IF(ISBLANK('Competition Data'!B699),\"\",'Competition Data'!B699)","v":""},{"$f":"IF(ISBLANK('Competition Data'!C699),\"\",'Competition Data'!C699)","v":""},{"$f":"IF(ISBLANK('Competition Data'!G699),\"\",'Competition Data'!G699)","v":""},{"$f":"IF(ISBLANK('Competition Data'!D699),\"\",'Competition Data'!D699)","v":""},{"$f":"IF(ISBLANK('Competition Data'!E699),\"\",'Competition Data'!E699)","v":""},{"$f":"IF(ISBLANK('Competition Data'!F699),\"\",'Competition Data'!F699)","v":""}," ()",{"$f":"IF(ISBLANK('Competition Data'!I699),\"\",'Competition Data'!I699)","v":""}]
["",{"$f":"IF(ISBLANK('Competition Data'!A700),\"\",'Competition Data'!A700)","v":""},{"$f":"IF(ISBLANK('Competition Data'!H700),\"\",'Competition Data'!H700)","v":""},{"$f":"IF(ISBLANK('Competition Data'!B700),\"\",'Competition Data'!B700)","v":""},{"$f":"IF(ISBLANK('Competition Data'!C700),\"\",'Competition Data'!C700)","v":""},{"$f":"IF(ISBLANK('Competition Data'!G700),\"\",'Competition Data'!G700)","v":""},{"$f":"IF(ISBLANK('Competition Data'!D700),\"\",'Competition Data'!D700)","v":""},{"$f":"IF(ISBLANK('Competition Data'!E700),\"\",'Competition Data'!E700)","v":""},{"$f":"IF(ISBLANK('Competition Data'!F700),\"\",'Competition Data'!F700)","v":""}," ()",{"$f":"IF(ISBLANK('Competition Data'!I700),\"\",'Competition Data'!I700)","v":""}]
["",{"$f":"IF(ISBLANK('Competition Data'!A701),\"\",'Competition Data'!A701)","v":""},{"$f":"IF(ISBLANK('Competition Data'!H701),\"\",'Competition Data'!H701)","v":""},{"$f":"IF(ISBLANK('Competition Data'!B701),\"\",'Competition Data'!B701)","v":""},{"$f":"IF(ISBLANK('Competition Data'!C701),\"\",'Competition Data'!C701)","v":""},{"$f":"IF(ISBLANK('Competition Data'!G701),\"\",'Competition Data'!G701)","v":""},{"$f":"IF(ISBLANK('Competition Data'!D701),\"\",'Competition Data'!D701)","v":""},{"$f":"IF(ISBLANK('Competition Data'!E701),\"\",'Competition Data'!E701)","v":""},{"$f":"IF(ISBLANK('Competition Data'!F701),\"\",'Competition Data'!F701)","v":""}," ()",{"$f":"IF(ISBLANK('Competition Data'!I701),\"\",'Competition Data'!I701)","v":""}]
["",{"$f":"IF(ISBLANK('Competition Data'!A702),\"\",'Competition Data'!A702)","v":""},{"$f":"IF(ISBLANK('Competition Data'!H702),\"\",'Competition Data'!H702)","v":""},{"$f":"IF(ISBLANK('Competition Data'!B702),\"\",'Competition Data'!B702)","v":""},{"$f":"IF(ISBLANK('Competition Data'!C702),\"\",'Competition Data'!C702)","v":""},{"$f":"IF(ISBLANK('Competition Data'!G702),\"\",'Competition Data'!G702)","v":""},{"$f":"IF(ISBLANK('Competition Data'!D702),\"\",'Competition Data'!D702)","v":""},{"$f":"IF(ISBLANK('Competition Data'!E702),\"\",'Competition Data'!E702)","v":""},{"$f":"IF(ISBLANK('Competition Data'!F702),\"\",'Competition Data'!F702)","v":""}," ()",{"$f":"IF(ISBLANK('Competition Data'!I702),\"\",'Competition Data'!I702)","v":""}]
["",{"$f":"IF(ISBLANK('Competition Data'!A703),\"\",'Competition Data'!A703)","v":""},{"$f":"IF(ISBLANK('Competition Data'!H703),\"\",'Competition Data'!H703)","v":""},{"$f":"IF(ISBLANK('Competition Data'!B703),\"\",'Competition Data'!B703)","v":""},{"$f":"IF(ISBLANK('Competition Data'!C703),\"\",'Competition Data'!C703)","v":""},{"$f":"IF(ISBLANK('Competition Data'!G703),\"\",'Competition Data'!G703)","v":""},{"$f":"IF(ISBLANK('Competition Data'!D703),\"\",'Competition Data'!D703)","v":""},{"$f":"IF(ISBLANK('Competition Data'!E703),\"\",'Competition Data'!E703)","v":""},{"$f":"IF(ISBLANK('Competition Data'!F703),\"\",'Competition Data'!F703)","v":""}," ()",{"$f":"IF(ISBLANK('Competition Data'!I703),\"\",'Competition Data'!I703)","v":""}]
["",{"$f":"IF(ISBLANK('Competition Data'!A704),\"\",'Competition Data'!A704)","v":""},{"$f":"IF(ISBLANK('Competition Data'!H704),\"\",'Competition Data'!H704)","v":""},{"$f":"IF(ISBLANK('Competition Data'!B704),\"\",'Competition Data'!B704)","v":""},{"$f":"IF(ISBLANK('Competition Data'!C704),\"\",'Competition Data'!C704)","v":""},{"$f":"IF(ISBLANK('Competition Data'!G704),\"\",'Competition Data'!G704)","v":""},{"$f":"IF(ISBLANK('Competition Data'!D704),\"\",'Competition Data'!D704)","v":""},{"$f":"IF(ISBLANK('Competition Data'!E704),\"\",'Competition Data'!E704)","v":""},{"$f":"IF(ISBLANK('Competition Data'!F704),\"\",'Competition Data'!F704)","v":""}," ()",{"$f":"IF(ISBLANK('Competition Data'!I704),\"\",'Competition Data'!I704)","v":""}]
["",{"$f":"IF(ISBLANK('Competition Data'!A705),\"\",'Competition Data'!A705)","v":""},{"$f":"IF(ISBLANK('Competition Data'!H705),\"\",'Competition Data'!H705)","v":""},{"$f":"IF(ISBLANK('Competition Data'!B705),\"\",'Competition Data'!B705)","v":""},{"$f":"IF(ISBLANK('Competition Data'!C705),\"\",'Competition Data'!C705)","v":""},{"$f":"IF(ISBLANK('Competition Data'!G705),\"\",'Competition Data'!G705)","v":""},{"$f":"IF(ISBLANK('Competition Data'!D705),\"\",'Competition Data'!D705)","v":""},{"$f":"IF(ISBLANK('Competition Data'!E705),\"\",'Competition Data'!E705)","v":""},{"$f":"IF(ISBLANK('Competition Data'!F705),\"\",'Competition Data'!F705)","v":""}," ()",{"$f":"IF(ISBLANK('Competition Data'!I705),\"\",'Competition Data'!I705)","v":""}]
["",{"$f":"IF(ISBLANK('Competition Data'!A706),\"\",'Competition Data'!A706)","v":""},{"$f":"IF(ISBLANK('Competition Data'!H706),\"\",'Competition Data'!H706)","v":""},{"$f":"IF(ISBLANK('Competition Data'!B706),\"\",'Competition Data'!B706)","v":""},{"$f":"IF(ISBLANK('Competition Data'!C706),\"\",'Competition Data'!C706)","v":""},{"$f":"IF(ISBLANK('Competition Data'!G706),\"\",'Competition Data'!G706)","v":""},{"$f":"IF(ISBLANK('Competition Data'!D706),\"\",'Competition Data'!D706)","v":""},{"$f":"IF(ISBLANK('Competition Data'!E706),\"\",'Competition Data'!E706)","v":""},{"$f":"IF(ISBLANK('Competition Data'!F706),\"\",'Competition Data'!F706)","v":""}," ()",{"$f":"IF(ISBLANK('Competition Data'!I706),\"\",'Competition Data'!I706)","v":""}]
["",{"$f":"IF(ISBLANK('Competition Data'!A707),\"\",'Competition Data'!A707)","v":""},{"$f":"IF(ISBLANK('Competition Data'!H707),\"\",'Competition Data'!H707)","v":""},{"$f":"IF(ISBLANK('Competition Data'!B707),\"\",'Competition Data'!B707)","v":""},{"$f":"IF(ISBLANK('Competition Data'!C707),\"\",'Competition Data'!C707)","v":""},{"$f":"IF(ISBLANK('Competition Data'!G707),\"\",'Competition Data'!G707)","v":""},{"$f":"IF(ISBLANK('Competition Data'!D707),\"\",'Competition Data'!D707)","v":""},{"$f":"IF(ISBLANK('Competition Data'!E707),\"\",'Competition Data'!E707)","v":""},{"$f":"IF(ISBLANK('Competition Data'!F707),\"\",'Competition Data'!F707)","v":""}," ()",{"$f":"IF(ISBLANK('Competition Data'!I707),\"\",'Competition Data'!I707)","v":""}]
["",{"$f":"IF(ISBLANK('Competition Data'!A708),\"\",'Competition Data'!A708)","v":""},{"$f":"IF(ISBLANK('Competition Data'!H708),\"\",'Competition Data'!H708)","v":""},{"$f":"IF(ISBLANK('Competition Data'!B708),\"\",'Competition Data'!B708)","v":""},{"$f":"IF(ISBLANK('Competition Data'!C708),\"\",'Competition Data'!C708)","v":""},{"$f":"IF(ISBLANK('Competition Data'!G708),\"\",'Competition Data'!G708)","v":""},{"$f":"IF(ISBLANK('Competition Data'!D708),\"\",'Competition Data'!D708)","v":""},{"$f":"IF(ISBLANK('Competition Data'!E708),\"\",'Competition Data'!E708)","v":""},{"$f":"IF(ISBLANK('Competition Data'!F708),\"\",'Competition Data'!F708)","v":""}," ()",{"$f":"IF(ISBLANK('Competition Data'!I708),\"\",'Competition Data'!I708)","v":""}]
["",{"$f":"IF(ISBLANK('Competition Data'!A709),\"\",'Competition Data'!A709)","v":""},{"$f":"IF(ISBLANK('Competition Data'!H709),\"\",'Competition Data'!H709)","v":""},{"$f":"IF(ISBLANK('Competition Data'!B709),\"\",'Competition Data'!B709)","v":""},{"$f":"IF(ISBLANK('Competition Data'!C709),\"\",'Competition Data'!C709)","v":""},{"$f":"IF(ISBLANK('Competition Data'!G709),\"\",'Competition Data'!G709)","v":""},{"$f":"IF(ISBLANK('Competition Data'!D709),\"\",'Competition Data'!D709)","v":""},{"$f":"IF(ISBLANK('Competition Data'!E709),\"\",'Competition Data'!E709)","v":""},{"$f":"IF(ISBLANK('Competition Data'!F709),\"\",'Competition Data'!F709)","v":""}," ()",{"$f":"IF(ISBLANK('Competition Data'!I709),\"\",'Competition Data'!I709)","v":""}]
["",{"$f":"IF(ISBLANK('Competition Data'!A710),\"\",'Competition Data'!A710)","v":""},{"$f":"IF(ISBLANK('Competition Data'!H710),\"\",'Competition Data'!H710)","v":""},{"$f":"IF(ISBLANK('Competition Data'!B710),\"\",'Competition Data'!B710)","v":""},{"$f":"IF(ISBLANK('Competition Data'!C710),\"\",'Competition Data'!C710)","v":""},{"$f":"IF(ISBLANK('Competition Data'!G710),\"\",'Competition Data'!G710)","v":""},{"$f":"IF(ISBLANK('Competition Data'!D710),\"\",'Competition Data'!D710)","v":""},{"$f":"IF(ISBLANK('Competition Data'!E710),\"\",'Competition Data'!E710)","v":""},{"$f":"IF(ISBLANK('Competition Data'!F710),\"\",'Competition Data'!F710)","v":""}," ()",{"$f":"IF(ISBLANK('Competition Data'!I710),\"\",'Competition Data'!I710)","v":""}]
["",{"$f":"IF(ISBLANK('Competition Data'!A711),\"\",'Competition Data'!A711)","v":""},{"$f":"IF(ISBLANK('Competition Data'!H711),\"\",'Competition Data'!H711)","v":""},{"$f":"IF(ISBLANK('Competition Data'!B711),\"\",'Competition Data'!B711)","v":""},{"$f":"IF(ISBLANK('Competition Data'!C711),\"\",'Competition Data'!C711)","v":""},{"$f":"IF(ISBLANK('Competition Data'!G711),\"\",'Competition Data'!G711)","v":""},{"$f":"IF(ISBLANK('Competition Data'!D711),\"\",'Competition Data'!D711)","v":""},{"$f":"IF(ISBLANK('Competition Data'!E711),\"\",'Competition Data'!E711)","v":""},{"$f":"IF(ISBLANK('Competition Data'!F711),\"\",'Competition Data'!F711)","v":""}," ()",{"$f":"IF(ISBLANK('Competition Data'!I711),\"\",'Competition Data'!I711)","v":""}]
["",{"$f":"IF(ISBLANK('Competition Data'!A712),\"\",'Competition Data'!A712)","v":""},{"$f":"IF(ISBLANK('Competition Data'!H712),\"\",'Competition Data'!H712)","v":""},{"$f":"IF(ISBLANK('Competition Data'!B712),\"\",'Competition Data'!B712)","v":""},{"$f":"IF(ISBLANK('Competition Data'!C712),\"\",'Competition Data'!C712)","v":""},{"$f":"IF(ISBLANK('Competition Data'!G712),\"\",'Competition Data'!G712)","v":""},{"$f":"IF(ISBLANK('Competition Data'!D712),\"\",'Competition Data'!D712)","v":""},{"$f":"IF(ISBLANK('Competition Data'!E712),\"\",'Competition Data'!E712)","v":""},{"$f":"IF(ISBLANK('Competition Data'!F712),\"\",'Competition Data'!F712)","v":""}," ()",{"$f":"IF(ISBLANK('Competition Data'!I712),\"\",'Competition Data'!I712)","v":""}]
["",{"$f":"IF(ISBLANK('Competition Data'!A713),\"\",'Competition Data'!A713)","v":""},{"$f":"IF(ISBLANK('Competition Data'!H713),\"\",'Competition Data'!H713)","v":""},{"$f":"IF(ISBLANK('Competition Data'!B713),\"\",'Competition Data'!B713)","v":""},{"$f":"IF(ISBLANK('Competition Data'!C713),\"\",'Competition Data'!C713)","v":""},{"$f":"IF(ISBLANK('Competition Data'!G713),\"\",'Competition Data'!G713)","v":""},{"$f":"IF(ISBLANK('Competition Data'!D713),\"\",'Competition Data'!D713)","v":""},{"$f":"IF(ISBLANK('Competition Data'!E713),\"\",'Competition Data'!E713)","v":""},{"$f":"IF(ISBLANK('Competition Data'!F713),\"\",'Competition Data'!F713)","v":""}," ()",{"$f":"IF(ISBLANK('Competition Data'!I713),\"\",'Competition Data'!I713)","v":""}]
["",{"$f":"IF(ISBLANK('Competition Data'!A714),\"\",'Competition Data'!A714)","v":""},{"$f":"IF(ISBLANK('Competition Data'!H714),\"\",'Competition Data'!H714)","v":""},{"$f":"IF(ISBLANK('Competition Data'!B714),\"\",'Competition Data'!B714)","v":""},{"$f":"IF(ISBLANK('Competition Data'!C714),\"\",'Competition Data'!C714)","v":""},{"$f":"IF(ISBLANK('Competition Data'!G714),\"\",'Competition Data'!G714)","v":""},{"$f":"IF(ISBLANK('Competition Data'!D714),\"\",'Competition Data'!D714)","v":""},{"$f":"IF(ISBLANK('Competition Data'!E714),\"\",'Competition Data'!E714)","v":""},{"$f":"IF(ISBLANK('Competition Data'!F714),\"\",'Competition Data'!F714)","v":""}," ()",{"$f":"IF(ISBLANK('Competition Data'!I714),\"\",'Competition Data'!I714)","v":""}]
["",{"$f":"IF(ISBLANK('Competition Data'!A715),\"\",'Competition Data'!A715)","v":""},{"$f":"IF(ISBLANK('Competition Data'!H715),\"\",'Competition Data'!H715)","v":""},{"$f":"IF(ISBLANK('Competition Data'!B715),\"\",'Competition Data'!B715)","v":""},{"$f":"IF(ISBLANK('Competition Data'!C715),\"\",'Competition Data'!C715)","v":""},{"$f":"IF(ISBLANK('Competition Data'!G715),\"\",'Competition Data'!G715)","v":""},{"$f":"IF(ISBLANK('Competition Data'!D715),\"\",'Competition Data'!D715)","v":""},{"$f":"IF(ISBLANK('Competition Data'!E715),\"\",'Competition Data'!E715)","v":""},{"$f":"IF(ISBLANK('Competition Data'!F715),\"\",'Competition Data'!F715)","v":""}," ()",{"$f":"IF(ISBLANK('Competition Data'!I715),\"\",'Competition Data'!I715)","v":""}]
["",{"$f":"IF(ISBLANK('Competition Data'!A716),\"\",'Competition Data'!A716)","v":""},{"$f":"IF(ISBLANK('Competition Data'!H716),\"\",'Competition Data'!H716)","v":""},{"$f":"IF(ISBLANK('Competition Data'!B716),\"\",'Competition Data'!B716)","v":""},{"$f":"IF(ISBLANK('Competition Data'!C716),\"\",'Competition Data'!C716)","v":""},{"$f":"IF(ISBLANK('Competition Data'!G716),\"\",'Competition Data'!G716)","v":""},{"$f":"IF(ISBLANK('Competition Data'!D716),\"\",'Competition Data'!D716)","v":""},{"$f":"IF(ISBLANK('Competition Data'!E716),\"\",'Competition Data'!E716)","v":""},{"$f":"IF(ISBLANK('Competition Data'!F716),\"\",'Competition Data'!F716)","v":""}," ()",{"$f":"IF(ISBLANK('Competition Data'!I716),\"\",'Competition Data'!I716)","v":""}]
["",{"$f":"IF(ISBLANK('Competition Data'!A717),\"\",'Competition Data'!A717)","v":""},{"$f":"IF(ISBLANK('Competition Data'!H717),\"\",'Competition Data'!H717)","v":""},{"$f":"IF(ISBLANK('Competition Data'!B717),\"\",'Competition Data'!B717)","v":""},{"$f":"IF(ISBLANK('Competition Data'!C717),\"\",'Competition Data'!C717)","v":""},{"$f":"IF(ISBLANK('Competition Data'!G717),\"\",'Competition Data'!G717)","v":""},{"$f":"IF(ISBLANK('Competition Data'!D717),\"\",'Competition Data'!D717)","v":""},{"$f":"IF(ISBLANK('Competition Data'!E717),\"\",'Competition Data'!E717)","v":""},{"$f":"IF(ISBLANK('Competition Data'!F717),\"\",'Competition Data'!F717)","v":""}," ()",{"$f":"IF(ISBLANK('Competition Data'!I717),\"\",'Competition Data'!I717)","v":""}]
["",{"$f":"IF(ISBLANK('Competition Data'!A718),\"\",'Competition Data'!A718)","v":""},{"$f":"IF(ISBLANK('Competition Data'!H718),\"\",'Competition Data'!H718)","v":""},{"$f":"IF(ISBLANK('Competition Data'!B718),\"\",'Competition Data'!B718)","v":""},{"$f":"IF(ISBLANK('Competition Data'!C718),\"\",'Competition Data'!C718)","v":""},{"$f":"IF(ISBLANK('Competition Data'!G718),\"\",'Competition Data'!G718)","v":""},{"$f":"IF(ISBLANK('Competition Data'!D718),\"\",'Competition Data'!D718)","v":""},{"$f":"IF(ISBLANK('Competition Data'!E718),\"\",'Competition Data'!E718)","v":""},{"$f":"IF(ISBLANK('Competition Data'!F718),\"\",'Competition Data'!F718)","v":""}," ()",{"$f":"IF(ISBLANK('Competition Data'!I718),\"\",'Competition Data'!I718)","v":""}]
["",{"$f":"IF(ISBLANK('Competition Data'!A719),\"\",'Competition Data'!A719)","v":""},{"$f":"IF(ISBLANK('Competition Data'!H719),\"\",'Competition Data'!H719)","v":""},{"$f":"IF(ISBLANK('Competition Data'!B719),\"\",'Competition Data'!B719)","v":""},{"$f":"IF(ISBLANK('Competition Data'!C719),\"\",'Competition Data'!C719)","v":""},{"$f":"IF(ISBLANK('Competition Data'!G719),\"\",'Competition Data'!G719)","v":""},{"$f":"IF(ISBLANK('Competition Data'!D719),\"\",'Competition Data'!D719)","v":""},{"$f":"IF(ISBLANK('Competition Data'!E719),\"\",'Competition Data'!E719)","v":""},{"$f":"IF(ISBLANK('Competition Data'!F719),\"\",'Competition Data'!F719)","v":""}," ()",{"$f":"IF(ISBLANK('Competition Data'!I719),\"\",'Competition Data'!I719)","v":""}]
["",{"$f":"IF(ISBLANK('Competition Data'!A720),\"\",'Competition Data'!A720)","v":""},{"$f":"IF(ISBLANK('Competition Data'!H720),\"\",'Competition Data'!H720)","v":""},{"$f":"IF(ISBLANK('Competition Data'!B720),\"\",'Competition Data'!B720)","v":""},{"$f":"IF(ISBLANK('Competition Data'!C720),\"\",'Competition Data'!C720)","v":""},{"$f":"IF(ISBLANK('Competition Data'!G720),\"\",'Competition Data'!G720)","v":""},{"$f":"IF(ISBLANK('Competition Data'!D720),\"\",'Competition Data'!D720)","v":""},{"$f":"IF(ISBLANK('Competition Data'!E720),\"\",'Competition Data'!E720)","v":""},{"$f":"IF(ISBLANK('Competition Data'!F720),\"\",'Competition Data'!F720)","v":""}," ()",{"$f":"IF(ISBLANK('Competition Data'!I720),\"\",'Competition Data'!I720)","v":""}]
["",{"$f":"IF(ISBLANK('Competition Data'!A721),\"\",'Competition Data'!A721)","v":""},{"$f":"IF(ISBLANK('Competition Data'!H721),\"\",'Competition Data'!H721)","v":""},{"$f":"IF(ISBLANK('Competition Data'!B721),\"\",'Competition Data'!B721)","v":""},{"$f":"IF(ISBLANK('Competition Data'!C721),\"\",'Competition Data'!C721)","v":""},{"$f":"IF(ISBLANK('Competition Data'!G721),\"\",'Competition Data'!G721)","v":""},{"$f":"IF(ISBLANK('Competition Data'!D721),\"\",'Competition Data'!D721)","v":""},{"$f":"IF(ISBLANK('Competition Data'!E721),\"\",'Competition Data'!E721)","v":""},{"$f":"IF(ISBLANK('Competition Data'!F721),\"\",'Competition Data'!F721)","v":""}," ()",{"$f":"IF(ISBLANK('Competition Data'!I721),\"\",'Competition Data'!I721)","v":""}]
["",{"$f":"IF(ISBLANK('Competition Data'!A722),\"\",'Competition Data'!A722)","v":""},{"$f":"IF(ISBLANK('Competition Data'!H722),\"\",'Competition Data'!H722)","v":""},{"$f":"IF(ISBLANK('Competition Data'!B722),\"\",'Competition Data'!B722)","v":""},{"$f":"IF(ISBLANK('Competition Data'!C722),\"\",'Competition Data'!C722)","v":""},{"$f":"IF(ISBLANK('Competition Data'!G722),\"\",'Competition Data'!G722)","v":""},{"$f":"IF(ISBLANK('Competition Data'!D722),\"\",'Competition Data'!D722)","v":""},{"$f":"IF(ISBLANK('Competition Data'!E722),\"\",'Competition Data'!E722)","v":""},{"$f":"IF(ISBLANK('Competition Data'!F722),\"\",'Competition Data'!F722)","v":""}," ()",{"$f":"IF(ISBLANK('Competition Data'!I722),\"\",'Competition Data'!I722)","v":""}]
["",{"$f":"IF(ISBLANK('Competition Data'!A723),\"\",'Competition Data'!A723)","v":""},{"$f":"IF(ISBLANK('Competition Data'!H723),\"\",'Competition Data'!H723)","v":""},{"$f":"IF(ISBLANK('Competition Data'!B723),\"\",'Competition Data'!B723)","v":""},{"$f":"IF(ISBLANK('Competition Data'!C723),\"\",'Competition Data'!C723)","v":""},{"$f":"IF(ISBLANK('Competition Data'!G723),\"\",'Competition Data'!G723)","v":""},{"$f":"IF(ISBLANK('Competition Data'!D723),\"\",'Competition Data'!D723)","v":""},{"$f":"IF(ISBLANK('Competition Data'!E723),\"\",'Competition Data'!E723)","v":""},{"$f":"IF(ISBLANK('Competition Data'!F723),\"\",'Competition Data'!F723)","v":""}," ()",{"$f":"IF(ISBLANK('Competition Data'!I723),\"\",'Competition Data'!I723)","v":""}]
["",{"$f":"IF(ISBLANK('Competition Data'!A724),\"\",'Competition Data'!A724)","v":""},{"$f":"IF(ISBLANK('Competition Data'!H724),\"\",'Competition Data'!H724)","v":""},{"$f":"IF(ISBLANK('Competition Data'!B724),\"\",'Competition Data'!B724)","v":""},{"$f":"IF(ISBLANK('Competition Data'!C724),\"\",'Competition Data'!C724)","v":""},{"$f":"IF(ISBLANK('Competition Data'!G724),\"\",'Competition Data'!G724)","v":""},{"$f":"IF(ISBLANK('Competition Data'!D724),\"\",'Competition Data'!D724)","v":""},{"$f":"IF(ISBLANK('Competition Data'!E724),\"\",'Competition Data'!E724)","v":""},{"$f":"IF(ISBLANK('Competition Data'!F724),\"\",'Competition Data'!F724)","v":""}," ()",{"$f":"IF(ISBLANK('Competition Data'!I724),\"\",'Competition Data'!I724)","v":""}]
["",{"$f":"IF(ISBLANK('Competition Data'!A725),\"\",'Competition Data'!A725)","v":""},{"$f":"IF(ISBLANK('Competition Data'!H725),\"\",'Competition Data'!H725)","v":""},{"$f":"IF(ISBLANK('Competition Data'!B725),\"\",'Competition Data'!B725)","v":""},{"$f":"IF(ISBLANK('Competition Data'!C725),\"\",'Competition Data'!C725)","v":""},{"$f":"IF(ISBLANK('Competition Data'!G725),\"\",'Competition Data'!G725)","v":""},{"$f":"IF(ISBLANK('Competition Data'!D725),\"\",'Competition Data'!D725)","v":""},{"$f":"IF(ISBLANK('Competition Data'!E725),\"\",'Competition Data'!E725)","v":""},{"$f":"IF(ISBLANK('Competition Data'!F725),\"\",'Competition Data'!F725)","v":""}," ()",{"$f":"IF(ISBLANK('Competition Data'!I725),\"\",'Competition Data'!I725)","v":""}]
["",{"$f":"IF(ISBLANK('Competition Data'!A726),\"\",'Competition Data'!A726)","v":""},{"$f":"IF(ISBLANK('Competition Data'!H726),\"\",'Competition Data'!H726)","v":""},{"$f":"IF(ISBLANK('Competition Data'!B726),\"\",'Competition Data'!B726)","v":""},{"$f":"IF(ISBLANK('Competition Data'!C726),\"\",'Competition Data'!C726)","v":""},{"$f":"IF(ISBLANK('Competition Data'!G726),\"\",'Competition Data'!G726)","v":""},{"$f":"IF(ISBLANK('Competition Data'!D726),\"\",'Competition Data'!D726)","v":""},{"$f":"IF(ISBLANK('Competition Data'!E726),\"\",'Competition Data'!E726)","v":""},{"$f":"IF(ISBLANK('Competition Data'!F726),\"\",'Competition Data'!F726)","v":""}," ()",{"$f":"IF(ISBLANK('Competition Data'!I726),\"\",'Competition Data'!I726)","v":""}]
["",{"$f":"IF(ISBLANK('Competition Data'!A727),\"\",'Competition Data'!A727)","v":""},{"$f":"IF(ISBLANK('Competition Data'!H727),\"\",'Competition Data'!H727)","v":""},{"$f":"IF(ISBLANK('Competition Data'!B727),\"\",'Competition Data'!B727)","v":""},{"$f":"IF(ISBLANK('Competition Data'!C727),\"\",'Competition Data'!C727)","v":""},{"$f":"IF(ISBLANK('Competition Data'!G727),\"\",'Competition Data'!G727)","v":""},{"$f":"IF(ISBLANK('Competition Data'!D727),\"\",'Competition Data'!D727)","v":""},{"$f":"IF(ISBLANK('Competition Data'!E727),\"\",'Competition Data'!E727)","v":""},{"$f":"IF(ISBLANK('Competition Data'!F727),\"\",'Competition Data'!F727)","v":""}," ()",{"$f":"IF(ISBLANK('Competition Data'!I727),\"\",'Competition Data'!I727)","v":""}]
["",{"$f":"IF(ISBLANK('Competition Data'!A728),\"\",'Competition Data'!A728)","v":""},{"$f":"IF(ISBLANK('Competition Data'!H728),\"\",'Competition Data'!H728)","v":""},{"$f":"IF(ISBLANK('Competition Data'!B728),\"\",'Competition Data'!B728)","v":""},{"$f":"IF(ISBLANK('Competition Data'!C728),\"\",'Competition Data'!C728)","v":""},{"$f":"IF(ISBLANK('Competition Data'!G728),\"\",'Competition Data'!G728)","v":""},{"$f":"IF(ISBLANK('Competition Data'!D728),\"\",'Competition Data'!D728)","v":""},{"$f":"IF(ISBLANK('Competition Data'!E728),\"\",'Competition Data'!E728)","v":""},{"$f":"IF(ISBLANK('Competition Data'!F728),\"\",'Competition Data'!F728)","v":""}," ()",{"$f":"IF(ISBLANK('Competition Data'!I728),\"\",'Competition Data'!I728)","v":""}]
["",{"$f":"IF(ISBLANK('Competition Data'!A729),\"\",'Competition Data'!A729)","v":""},{"$f":"IF(ISBLANK('Competition Data'!H729),\"\",'Competition Data'!H729)","v":""},{"$f":"IF(ISBLANK('Competition Data'!B729),\"\",'Competition Data'!B729)","v":""},{"$f":"IF(ISBLANK('Competition Data'!C729),\"\",'Competition Data'!C729)","v":""},{"$f":"IF(ISBLANK('Competition Data'!G729),\"\",'Competition Data'!G729)","v":""},{"$f":"IF(ISBLANK('Competition Data'!D729),\"\",'Competition Data'!D729)","v":""},{"$f":"IF(ISBLANK('Competition Data'!E729),\"\",'Competition Data'!E729)","v":""},{"$f":"IF(ISBLANK('Competition Data'!F729),\"\",'Competition Data'!F729)","v":""}," ()",{"$f":"IF(ISBLANK('Competition Data'!I729),\"\",'Competition Data'!I729)","v":""}]
["",{"$f":"IF(ISBLANK('Competition Data'!A730),\"\",'Competition Data'!A730)","v":""},{"$f":"IF(ISBLANK('Competition Data'!H730),\"\",'Competition Data'!H730)","v":""},{"$f":"IF(ISBLANK('Competition Data'!B730),\"\",'Competition Data'!B730)","v":""},{"$f":"IF(ISBLANK('Competition Data'!C730),\"\",'Competition Data'!C730)","v":""},{"$f":"IF(ISBLANK('Competition Data'!G730),\"\",'Competition Data'!G730)","v":""},{"$f":"IF(ISBLANK('Competition Data'!D730),\"\",'Competition Data'!D730)","v":""},{"$f":"IF(ISBLANK('Competition Data'!E730),\"\",'Competition Data'!E730)","v":""},{"$f":"IF(ISBLANK('Competition Data'!F730),\"\",'Competition Data'!F730)","v":""}," ()",{"$f":"IF(ISBLANK('Competition Data'!I730),\"\",'Competition Data'!I730)","v":""}]
["",{"$f":"IF(ISBLANK('Competition Data'!A731),\"\",'Competition Data'!A731)","v":""},{"$f":"IF(ISBLANK('Competition Data'!H731),\"\",'Competition Data'!H731)","v":""},{"$f":"IF(ISBLANK('Competition Data'!B731),\"\",'Competition Data'!B731)","v":""},{"$f":"IF(ISBLANK('Competition Data'!C731),\"\",'Competition Data'!C731)","v":""},{"$f":"IF(ISBLANK('Competition Data'!G731),\"\",'Competition Data'!G731)","v":""},{"$f":"IF(ISBLANK('Competition Data'!D731),\"\",'Competition Data'!D731)","v":""},{"$f":"IF(ISBLANK('Competition Data'!E731),\"\",'Competition Data'!E731)","v":""},{"$f":"IF(ISBLANK('Competition Data'!F731),\"\",'Competition Data'!F731)","v":""}," ()",{"$f":"IF(ISBLANK('Competition Data'!I731),\"\",'Competition Data'!I731)","v":""}]
["",{"$f":"IF(ISBLANK('Competition Data'!A732),\"\",'Competition Data'!A732)","v":""},{"$f":"IF(ISBLANK('Competition Data'!H732),\"\",'Competition Data'!H732)","v":""},{"$f":"IF(ISBLANK('Competition Data'!B732),\"\",'Competition Data'!B732)","v":""},{"$f":"IF(ISBLANK('Competition Data'!C732),\"\",'Competition Data'!C732)","v":""},{"$f":"IF(ISBLANK('Competition Data'!G732),\"\",'Competition Data'!G732)","v":""},{"$f":"IF(ISBLANK('Competition Data'!D732),\"\",'Competition Data'!D732)","v":""},{"$f":"IF(ISBLANK('Competition Data'!E732),\"\",'Competition Data'!E732)","v":""},{"$f":"IF(ISBLANK('Competition Data'!F732),\"\",'Competition Data'!F732)","v":""}," ()",{"$f":"IF(ISBLANK('Competition Data'!I732),\"\",'Competition Data'!I732)","v":""}]
["",{"$f":"IF(ISBLANK('Competition Data'!A733),\"\",'Competition Data'!A733)","v":""},{"$f":"IF(ISBLANK('Competition Data'!H733),\"\",'Competition Data'!H733)","v":""},{"$f":"IF(ISBLANK('Competition Data'!B733),\"\",'Competition Data'!B733)","v":""},{"$f":"IF(ISBLANK('Competition Data'!C733),\"\",'Competition Data'!C733)","v":""},{"$f":"IF(ISBLANK('Competition Data'!G733),\"\",'Competition Data'!G733)","v":""},{"$f":"IF(ISBLANK('Competition Data'!D733),\"\",'Competition Data'!D733)","v":""},{"$f":"IF(ISBLANK('Competition Data'!E733),\"\",'Competition Data'!E733)","v":""},{"$f":"IF(ISBLANK('Competition Data'!F733),\"\",'Competition Data'!F733)","v":""}," ()",{"$f":"IF(ISBLANK('Competition Data'!I733),\"\",'Competition Data'!I733)","v":""}]
["",{"$f":"IF(ISBLANK('Competition Data'!A734),\"\",'Competition Data'!A734)","v":""},{"$f":"IF(ISBLANK('Competition Data'!H734),\"\",'Competition Data'!H734)","v":""},{"$f":"IF(ISBLANK('Competition Data'!B734),\"\",'Competition Data'!B734)","v":""},{"$f":"IF(ISBLANK('Competition Data'!C734),\"\",'Competition Data'!C734)","v":""},{"$f":"IF(ISBLANK('Competition Data'!G734),\"\",'Competition Data'!G734)","v":""},{"$f":"IF(ISBLANK('Competition Data'!D734),\"\",'Competition Data'!D734)","v":""},{"$f":"IF(ISBLANK('Competition Data'!E734),\"\",'Competition Data'!E734)","v":""},{"$f":"IF(ISBLANK('Competition Data'!F734),\"\",'Competition Data'!F734)","v":""}," ()",{"$f":"IF(ISBLANK('Competition Data'!I734),\"\",'Competition Data'!I734)","v":""}]
[{"$f":"CONCATENATE(B735,D735,E735)","v":""},{"$f":"IF(ISBLANK('Competition Data'!A735),\"\",'Competition Data'!A735)","v":""},{"$f":"IF(ISBLANK('Competition Data'!H735),\"\",'Competition Data'!H735)","v":""},{"$f":"IF(ISBLANK('Competition Data'!B735),\"\",'Competition Data'!B735)","v":""},{"$f":"IF(ISBLANK('Competition Data'!C735),\"\",'Competition Data'!C735)","v":""},{"$f":"IF(ISBLANK('Competition Data'!G735),\"\",'Competition Data'!G735)","v":""},{"$f":"IF(ISBLANK('Competition Data'!D735),\"\",'Competition Data'!D735)","v":""},{"$f":"IF(ISBLANK('Competition Data'!E735),\"\",'Competition Data'!E735)","v":""},{"$f":"IF(ISBLANK('Competition Data'!F735),\"\",'Competition Data'!F735)","v":""},{"$f":"CONCATENATE(B735,\" (\",E735,\")\")","v":" ()"},{"$f":"IF(ISBLANK('Competition Data'!I735),\"\",'Competition Data'!I735)","v":""}]
["",{"$f":"IF(ISBLANK('Competition Data'!A736),\"\",'Competition Data'!A736)","v":""},{"$f":"IF(ISBLANK('Competition Data'!H736),\"\",'Competition Data'!H736)","v":""},{"$f":"IF(ISBLANK('Competition Data'!B736),\"\",'Competition Data'!B736)","v":""},{"$f":"IF(ISBLANK('Competition Data'!C736),\"\",'Competition Data'!C736)","v":""},{"$f":"IF(ISBLANK('Competition Data'!G736),\"\",'Competition Data'!G736)","v":""},{"$f":"IF(ISBLANK('Competition Data'!D736),\"\",'Competition Data'!D736)","v":""},{"$f":"IF(ISBLANK('Competition Data'!E736),\"\",'Competition Data'!E736)","v":""},{"$f":"IF(ISBLANK('Competition Data'!F736),\"\",'Competition Data'!F736)","v":""}," ()",{"$f":"IF(ISBLANK('Competition Data'!I736),\"\",'Competition Data'!I736)","v":""}]
["",{"$f":"IF(ISBLANK('Competition Data'!A737),\"\",'Competition Data'!A737)","v":""},{"$f":"IF(ISBLANK('Competition Data'!H737),\"\",'Competition Data'!H737)","v":""},{"$f":"IF(ISBLANK('Competition Data'!B737),\"\",'Competition Data'!B737)","v":""},{"$f":"IF(ISBLANK('Competition Data'!C737),\"\",'Competition Data'!C737)","v":""},{"$f":"IF(ISBLANK('Competition Data'!G737),\"\",'Competition Data'!G737)","v":""},{"$f":"IF(ISBLANK('Competition Data'!D737),\"\",'Competition Data'!D737)","v":""},{"$f":"IF(ISBLANK('Competition Data'!E737),\"\",'Competition Data'!E737)","v":""},{"$f":"IF(ISBLANK('Competition Data'!F737),\"\",'Competition Data'!F737)","v":""}," ()",{"$f":"IF(ISBLANK('Competition Data'!I737),\"\",'Competition Data'!I737)","v":""}]
["",{"$f":"IF(ISBLANK('Competition Data'!A738),\"\",'Competition Data'!A738)","v":""},{"$f":"IF(ISBLANK('Competition Data'!H738),\"\",'Competition Data'!H738)","v":""},{"$f":"IF(ISBLANK('Competition Data'!B738),\"\",'Competition Data'!B738)","v":""},{"$f":"IF(ISBLANK('Competition Data'!C738),\"\",'Competition Data'!C738)","v":""},{"$f":"IF(ISBLANK('Competition Data'!G738),\"\",'Competition Data'!G738)","v":""},{"$f":"IF(ISBLANK('Competition Data'!D738),\"\",'Competition Data'!D738)","v":""},{"$f":"IF(ISBLANK('Competition Data'!E738),\"\",'Competition Data'!E738)","v":""},{"$f":"IF(ISBLANK('Competition Data'!F738),\"\",'Competition Data'!F738)","v":""}," ()",{"$f":"IF(ISBLANK('Competition Data'!I738),\"\",'Competition Data'!I738)","v":""}]
["",{"$f":"IF(ISBLANK('Competition Data'!A739),\"\",'Competition Data'!A739)","v":""},{"$f":"IF(ISBLANK('Competition Data'!H739),\"\",'Competition Data'!H739)","v":""},{"$f":"IF(ISBLANK('Competition Data'!B739),\"\",'Competition Data'!B739)","v":""},{"$f":"IF(ISBLANK('Competition Data'!C739),\"\",'Competition Data'!C739)","v":""},{"$f":"IF(ISBLANK('Competition Data'!G739),\"\",'Competition Data'!G739)","v":""},{"$f":"IF(ISBLANK('Competition Data'!D739),\"\",'Competition Data'!D739)","v":""},{"$f":"IF(ISBLANK('Competition Data'!E739),\"\",'Competition Data'!E739)","v":""},{"$f":"IF(ISBLANK('Competition Data'!F739),\"\",'Competition Data'!F739)","v":""}," ()",{"$f":"IF(ISBLANK('Competition Data'!I739),\"\",'Competition Data'!I739)","v":""}]
["",{"$f":"IF(ISBLANK('Competition Data'!A740),\"\",'Competition Data'!A740)","v":""},{"$f":"IF(ISBLANK('Competition Data'!H740),\"\",'Competition Data'!H740)","v":""},{"$f":"IF(ISBLANK('Competition Data'!B740),\"\",'Competition Data'!B740)","v":""},{"$f":"IF(ISBLANK('Competition Data'!C740),\"\",'Competition Data'!C740)","v":""},{"$f":"IF(ISBLANK('Competition Data'!G740),\"\",'Competition Data'!G740)","v":""},{"$f":"IF(ISBLANK('Competition Data'!D740),\"\",'Competition Data'!D740)","v":""},{"$f":"IF(ISBLANK('Competition Data'!E740),\"\",'Competition Data'!E740)","v":""},{"$f":"IF(ISBLANK('Competition Data'!F740),\"\",'Competition Data'!F740)","v":""}," ()",{"$f":"IF(ISBLANK('Competition Data'!I740),\"\",'Competition Data'!I740)","v":""}]
["",{"$f":"IF(ISBLANK('Competition Data'!A741),\"\",'Competition Data'!A741)","v":""},{"$f":"IF(ISBLANK('Competition Data'!H741),\"\",'Competition Data'!H741)","v":""},{"$f":"IF(ISBLANK('Competition Data'!B741),\"\",'Competition Data'!B741)","v":""},{"$f":"IF(ISBLANK('Competition Data'!C741),\"\",'Competition Data'!C741)","v":""},{"$f":"IF(ISBLANK('Competition Data'!G741),\"\",'Competition Data'!G741)","v":""},{"$f":"IF(ISBLANK('Competition Data'!D741),\"\",'Competition Data'!D741)","v":""},{"$f":"IF(ISBLANK('Competition Data'!E741),\"\",'Competition Data'!E741)","v":""},{"$f":"IF(ISBLANK('Competition Data'!F741),\"\",'Competition Data'!F741)","v":""}," ()",{"$f":"IF(ISBLANK('Competition Data'!I741),\"\",'Competition Data'!I741)","v":""}]
[{"$f":"CONCATENATE(B742,D742,E742)","v":""},{"$f":"IF(ISBLANK('Competition Data'!A730),\"\",'Competition Data'!A730)","v":""},{"$f":"IF(ISBLANK('Competition Data'!H730),\"\",'Competition Data'!H730)","v":""},{"$f":"IF(ISBLANK('Competition Data'!B730),\"\",'Competition Data'!B730)","v":""},{"$f":"IF(ISBLANK('Competition Data'!C730),\"\",'Competition Data'!C730)","v":""},null,{"$f":"IF(ISBLANK('Competition Data'!D730),\"\",'Competition Data'!D730)","v":""},{"$f":"IF(ISBLANK('Competition Data'!E730),\"\",'Competition Data'!E730)","v":""},{"$f":"IF(ISBLANK('Competition Data'!F730),\"\",'Competition Data'!F730)","v":""},{"$f":"CONCATENATE(B742,\" (\",E742,\")\")","v":" ()"},{"$f":"IF(ISBLANK('Competition Data'!I730),\"\",'Competition Data'!I730)","v":""}]
["",{"$f":"IF(ISBLANK('Competition Data'!A731),\"\",'Competition Data'!A731)","v":""},{"$f":"IF(ISBLANK('Competition Data'!H731),\"\",'Competition Data'!H731)","v":""},{"$f":"IF(ISBLANK('Competition Data'!B731),\"\",'Competition Data'!B731)","v":""},{"$f":"IF(ISBLANK('Competition Data'!C731),\"\",'Competition Data'!C731)","v":""},null,{"$f":"IF(ISBLANK('Competition Data'!D731),\"\",'Competition Data'!D731)","v":""},{"$f":"IF(ISBLANK('Competition Data'!E731),\"\",'Competition Data'!E731)","v":""},{"$f":"IF(ISBLANK('Competition Data'!F731),\"\",'Competition Data'!F731)","v":""}," ()",{"$f":"IF(ISBLANK('Competition Data'!I731),\"\",'Competition Data'!I731)","v":""}]
["",{"$f":"IF(ISBLANK('Competition Data'!A732),\"\",'Competition Data'!A732)","v":""},{"$f":"IF(ISBLANK('Competition Data'!H732),\"\",'Competition Data'!H732)","v":""},{"$f":"IF(ISBLANK('Competition Data'!B732),\"\",'Competition Data'!B732)","v":""},{"$f":"IF(ISBLANK('Competition Data'!C732),\"\",'Competition Data'!C732)","v":""},null,{"$f":"IF(ISBLANK('Competition Data'!D732),\"\",'Competition Data'!D732)","v":""},{"$f":"IF(ISBLANK('Competition Data'!E732),\"\",'Competition Data'!E732)","v":""},{"$f":"IF(ISBLANK('Competition Data'!F732),\"\",'Competition Data'!F732)","v":""}," ()",{"$f":"IF(ISBLANK('Competition Data'!I732),\"\",'Competition Data'!I732)","v":""}]
["",{"$f":"IF(ISBLANK('Competition Data'!A733),\"\",'Competition Data'!A733)","v":""},{"$f":"IF(ISBLANK('Competition Data'!H733),\"\",'Competition Data'!H733)","v":""},{"$f":"IF(ISBLANK('Competition Data'!B733),\"\",'Competition Data'!B733)","v":""},{"$f":"IF(ISBLANK('Competition Data'!C733),\"\",'Competition Data'!C733)","v":""},null,{"$f":"IF(ISBLANK('Competition Data'!D733),\"\",'Competition Data'!D733)","v":""},{"$f":"IF(ISBLANK('Competition Data'!E733),\"\",'Competition Data'!E733)","v":""},{"$f":"IF(ISBLANK('Competition Data'!F733),\"\",'Competition Data'!F733)","v":""}," ()",{"$f":"IF(ISBLANK('Competition Data'!I733),\"\",'Competition Data'!I733)","v":""}]
["",{"$f":"IF(ISBLANK('Competition Data'!A734),\"\",'Competition Data'!A734)","v":""},{"$f":"IF(ISBLANK('Competition Data'!H734),\"\",'Competition Data'!H734)","v":""},{"$f":"IF(ISBLANK('Competition Data'!B734),\"\",'Competition Data'!B734)","v":""},{"$f":"IF(ISBLANK('Competition Data'!C734),\"\",'Competition Data'!C734)","v":""},null,{"$f":"IF(ISBLANK('Competition Data'!D734),\"\",'Competition Data'!D734)","v":""},{"$f":"IF(ISBLANK('Competition Data'!E734),\"\",'Competition Data'!E734)","v":""},{"$f":"IF(ISBLANK('Competition Data'!F734),\"\",'Competition Data'!F734)","v":""}," ()",{"$f":"IF(ISBLANK('Competition Data'!I734),\"\",'Competition Data'!I734)","v":""}]
["",{"$f":"IF(ISBLANK('Competition Data'!A735),\"\",'Competition Data'!A735)","v":""},{"$f":"IF(ISBLANK('Competition Data'!H735),\"\",'Competition Data'!H735)","v":""},{"$f":"IF(ISBLANK('Competition Data'!B735),\"\",'Competition Data'!B735)","v":""},{"$f":"IF(ISBLANK('Competition Data'!C735),\"\",'Competition Data'!C735)","v":""},null,{"$f":"IF(ISBLANK('Competition Data'!D735),\"\",'Competition Data'!D735)","v":""},{"$f":"IF(ISBLANK('Competition Data'!E735),\"\",'Competition Data'!E735)","v":""},{"$f":"IF(ISBLANK('Competition Data'!F735),\"\",'Competition Data'!F735)","v":""}," ()",{"$f":"IF(ISBLANK('Competition Data'!I735),\"\",'Competition Data'!I735)","v":""}]
["",{"$f":"IF(ISBLANK('Competition Data'!A736),\"\",'Competition Data'!A736)","v":""},{"$f":"IF(ISBLANK('Competition Data'!H736),\"\",'Competition Data'!H736)","v":""},{"$f":"IF(ISBLANK('Competition Data'!B736),\"\",'Competition Data'!B736)","v":""},{"$f":"IF(ISBLANK('Competition Data'!C736),\"\",'Competition Data'!C736)","v":""},null,{"$f":"IF(ISBLANK('Competition Data'!D736),\"\",'Competition Data'!D736)","v":""},{"$f":"IF(ISBLANK('Competition Data'!E736),\"\",'Competition Data'!E736)","v":""},{"$f":"IF(ISBLANK('Competition Data'!F736),\"\",'Competition Data'!F736)","v":""}," ()",{"$f":"IF(ISBLANK('Competition Data'!I736),\"\",'Competition Data'!I736)","v":""}]
["",{"$f":"IF(ISBLANK('Competition Data'!A737),\"\",'Competition Data'!A737)","v":""},{"$f":"IF(ISBLANK('Competition Data'!H737),\"\",'Competition Data'!H737)","v":""},{"$f":"IF(ISBLANK('Competition Data'!B737),\"\",'Competition Data'!B737)","v":""},{"$f":"IF(ISBLANK('Competition Data'!C737),\"\",'Competition Data'!C737)","v":""},null,{"$f":"IF(ISBLANK('Competition Data'!D737),\"\",'Competition Data'!D737)","v":""},{"$f":"IF(ISBLANK('Competition Data'!E737),\"\",'Competition Data'!E737)","v":""},{"$f":"IF(ISBLANK('Competition Data'!F737),\"\",'Competition Data'!F737)","v":""}," ()",{"$f":"IF(ISBLANK('Competition Data'!I737),\"\",'Competition Data'!I737)","v":""}]
["",{"$f":"IF(ISBLANK('Competition Data'!A738),\"\",'Competition Data'!A738)","v":""},{"$f":"IF(ISBLANK('Competition Data'!H738),\"\",'Competition Data'!H738)","v":""},{"$f":"IF(ISBLANK('Competition Data'!B738),\"\",'Competition Data'!B738)","v":""},{"$f":"IF(ISBLANK('Competition Data'!C738),\"\",'Competition Data'!C738)","v":""},null,{"$f":"IF(ISBLANK('Competition Data'!D738),\"\",'Competition Data'!D738)","v":""},{"$f":"IF(ISBLANK('Competition Data'!E738),\"\",'Competition Data'!E738)","v":""},{"$f":"IF(ISBLANK('Competition Data'!F738),\"\",'Competition Data'!F738)","v":""}," ()",{"$f":"IF(ISBLANK('Competition Data'!I738),\"\",'Competition Data'!I738)","v":""}]
["",{"$f":"IF(ISBLANK('Competition Data'!A739),\"\",'Competition Data'!A739)","v":""},{"$f":"IF(ISBLANK('Competition Data'!H739),\"\",'Competition Data'!H739)","v":""},{"$f":"IF(ISBLANK('Competition Data'!B739),\"\",'Competition Data'!B739)","v":""},{"$f":"IF(ISBLANK('Competition Data'!C739),\"\",'Competition Data'!C739)","v":""},null,{"$f":"IF(ISBLANK('Competition Data'!D739),\"\",'Competition Data'!D739)","v":""},{"$f":"IF(ISBLANK('Competition Data'!E739),\"\",'Competition Data'!E739)","v":""},{"$f":"IF(ISBLANK('Competition Data'!F739),\"\",'Competition Data'!F739)","v":""}," ()",{"$f":"IF(ISBLANK('Competition Data'!I739),\"\",'Competition Data'!I739)","v":""}]
["",{"$f":"IF(ISBLANK('Competition Data'!A740),\"\",'Competition Data'!A740)","v":""},{"$f":"IF(ISBLANK('Competition Data'!H740),\"\",'Competition Data'!H740)","v":""},{"$f":"IF(ISBLANK('Competition Data'!B740),\"\",'Competition Data'!B740)","v":""},{"$f":"IF(ISBLANK('Competition Data'!C740),\"\",'Competition Data'!C740)","v":""},null,{"$f":"IF(ISBLANK('Competition Data'!D740),\"\",'Competition Data'!D740)","v":""},{"$f":"IF(ISBLANK('Competition Data'!E740),\"\",'Competition Data'!E740)","v":""},{"$f":"IF(ISBLANK('Competition Data'!F740),\"\",'Competition Data'!F740)","v":""}," ()",{"$f":"IF(ISBLANK('Competition Data'!I740),\"\",'Competition Data'!I740)","v":""}]
["",{"$f":"IF(ISBLANK('Competition Data'!A741),\"\",'Competition Data'!A741)","v":""},{"$f":"IF(ISBLANK('Competition Data'!H741),\"\",'Competition Data'!H741)","v":""},{"$f":"IF(ISBLANK('Competition Data'!B741),\"\",'Competition Data'!B741)","v":""},{"$f":"IF(ISBLANK('Competition Data'!C741),\"\",'Competition Data'!C741)","v":""},null,{"$f":"IF(ISBLANK('Competition Data'!D741),\"\",'Competition Data'!D741)","v":""},{"$f":"IF(ISBLANK('Competition Data'!E741),\"\",'Competition Data'!E741)","v":""},{"$f":"IF(ISBLANK('Competition Data'!F741),\"\",'Competition Data'!F741)","v":""}," ()",{"$f":"IF(ISBLANK('Competition Data'!I741),\"\",'Competition Data'!I741)","v":""}]
["",{"$f":"IF(ISBLANK('Competition Data'!A742),\"\",'Competition Data'!A742)","v":""},{"$f":"IF(ISBLANK('Competition Data'!H742),\"\",'Competition Data'!H742)","v":""},{"$f":"IF(ISBLANK('Competition Data'!B742),\"\",'Competition Data'!B742)","v":""},{"$f":"IF(ISBLANK('Competition Data'!C742),\"\",'Competition Data'!C742)","v":""},null,{"$f":"IF(ISBLANK('Competition Data'!D742),\"\",'Competition Data'!D742)","v":""},{"$f":"IF(ISBLANK('Competition Data'!E742),\"\",'Competition Data'!E742)","v":""},{"$f":"IF(ISBLANK('Competition Data'!F742),\"\",'Competition Data'!F742)","v":""}," ()",{"$f":"IF(ISBLANK('Competition Data'!I742),\"\",'Competition Data'!I742)","v":""}]
["",{"$f":"IF(ISBLANK('Competition Data'!A743),\"\",'Competition Data'!A743)","v":""},{"$f":"IF(ISBLANK('Competition Data'!H743),\"\",'Competition Data'!H743)","v":""},{"$f":"IF(ISBLANK('Competition Data'!B743),\"\",'Competition Data'!B743)","v":""},{"$f":"IF(ISBLANK('Competition Data'!C743),\"\",'Competition Data'!C743)","v":""},null,{"$f":"IF(ISBLANK('Competition Data'!D743),\"\",'Competition Data'!D743)","v":""},{"$f":"IF(ISBLANK('Competition Data'!E743),\"\",'Competition Data'!E743)","v":""},{"$f":"IF(ISBLANK('Competition Data'!F743),\"\",'Competition Data'!F743)","v":""}," ()",{"$f":"IF(ISBLANK('Competition Data'!I743),\"\",'Competition Data'!I743)","v":""}]
["",{"$f":"IF(ISBLANK('Competition Data'!A744),\"\",'Competition Data'!A744)","v":""},{"$f":"IF(ISBLANK('Competition Data'!H744),\"\",'Competition Data'!H744)","v":""},{"$f":"IF(ISBLANK('Competition Data'!B744),\"\",'Competition Data'!B744)","v":""},{"$f":"IF(ISBLANK('Competition Data'!C744),\"\",'Competition Data'!C744)","v":""},null,{"$f":"IF(ISBLANK('Competition Data'!D744),\"\",'Competition Data'!D744)","v":""},{"$f":"IF(ISBLANK('Competition Data'!E744),\"\",'Competition Data'!E744)","v":""},{"$f":"IF(ISBLANK('Competition Data'!F744),\"\",'Competition Data'!F744)","v":""}," ()",{"$f":"IF(ISBLANK('Competition Data'!I744),\"\",'Competition Data'!I744)","v":""}]
["",{"$f":"IF(ISBLANK('Competition Data'!A745),\"\",'Competition Data'!A745)","v":""},{"$f":"IF(ISBLANK('Competition Data'!H745),\"\",'Competition Data'!H745)","v":""},{"$f":"IF(ISBLANK('Competition Data'!B745),\"\",'Competition Data'!B745)","v":""},{"$f":"IF(ISBLANK('Competition Data'!C745),\"\",'Competition Data'!C745)","v":""},null,{"$f":"IF(ISBLANK('Competition Data'!D745),\"\",'Competition Data'!D745)","v":""},{"$f":"IF(ISBLANK('Competition Data'!E745),\"\",'Competition Data'!E745)","v":""},{"$f":"IF(ISBLANK('Competition Data'!F745),\"\",'Competition Data'!F745)","v":""}," ()",{"$f":"IF(ISBLANK('Competition Data'!I745),\"\",'Competition Data'!I745)","v":""}]
["",{"$f":"IF(ISBLANK('Competition Data'!A746),\"\",'Competition Data'!A746)","v":""},{"$f":"IF(ISBLANK('Competition Data'!H746),\"\",'Competition Data'!H746)","v":""},{"$f":"IF(ISBLANK('Competition Data'!B746),\"\",'Competition Data'!B746)","v":""},{"$f":"IF(ISBLANK('Competition Data'!C746),\"\",'Competition Data'!C746)","v":""},null,{"$f":"IF(ISBLANK('Competition Data'!D746),\"\",'Competition Data'!D746)","v":""},{"$f":"IF(ISBLANK('Competition Data'!E746),\"\",'Competition Data'!E746)","v":""},{"$f":"IF(ISBLANK('Competition Data'!F746),\"\",'Competition Data'!F746)","v":""}," ()",{"$f":"IF(ISBLANK('Competition Data'!I746),\"\",'Competition Data'!I746)","v":""}]
["",{"$f":"IF(ISBLANK('Competition Data'!A747),\"\",'Competition Data'!A747)","v":""},{"$f":"IF(ISBLANK('Competition Data'!H747),\"\",'Competition Data'!H747)","v":""},{"$f":"IF(ISBLANK('Competition Data'!B747),\"\",'Competition Data'!B747)","v":""},{"$f":"IF(ISBLANK('Competition Data'!C747),\"\",'Competition Data'!C747)","v":""},null,{"$f":"IF(ISBLANK('Competition Data'!D747),\"\",'Competition Data'!D747)","v":""},{"$f":"IF(ISBLANK('Competition Data'!E747),\"\",'Competition Data'!E747)","v":""},{"$f":"IF(ISBLANK('Competition Data'!F747),\"\",'Competition Data'!F747)","v":""}," ()",{"$f":"IF(ISBLANK('Competition Data'!I747),\"\",'Competition Data'!I747)","v":""}]
["",{"$f":"IF(ISBLANK('Competition Data'!A748),\"\",'Competition Data'!A748)","v":""},{"$f":"IF(ISBLANK('Competition Data'!H748),\"\",'Competition Data'!H748)","v":""},{"$f":"IF(ISBLANK('Competition Data'!B748),\"\",'Competition Data'!B748)","v":""},{"$f":"IF(ISBLANK('Competition Data'!C748),\"\",'Competition Data'!C748)","v":""},null,{"$f":"IF(ISBLANK('Competition Data'!D748),\"\",'Competition Data'!D748)","v":""},{"$f":"IF(ISBLANK('Competition Data'!E748),\"\",'Competition Data'!E748)","v":""},{"$f":"IF(ISBLANK('Competition Data'!F748),\"\",'Competition Data'!F748)","v":""}," ()",{"$f":"IF(ISBLANK('Competition Data'!I748),\"\",'Competition Data'!I748)","v":""}]
["",{"$f":"IF(ISBLANK('Competition Data'!A749),\"\",'Competition Data'!A749)","v":""},{"$f":"IF(ISBLANK('Competition Data'!H749),\"\",'Competition Data'!H749)","v":""},{"$f":"IF(ISBLANK('Competition Data'!B749),\"\",'Competition Data'!B749)","v":""},{"$f":"IF(ISBLANK('Competition Data'!C749),\"\",'Competition Data'!C749)","v":""},null,{"$f":"IF(ISBLANK('Competition Data'!D749),\"\",'Competition Data'!D749)","v":""},{"$f":"IF(ISBLANK('Competition Data'!E749),\"\",'Competition Data'!E749)","v":""},{"$f":"IF(ISBLANK('Competition Data'!F749),\"\",'Competition Data'!F749)","v":""}," ()",{"$f":"IF(ISBLANK('Competition Data'!I749),\"\",'Competition Data'!I749)","v":""}]
["",{"$f":"IF(ISBLANK('Competition Data'!A750),\"\",'Competition Data'!A750)","v":""},{"$f":"IF(ISBLANK('Competition Data'!H750),\"\",'Competition Data'!H750)","v":""},{"$f":"IF(ISBLANK('Competition Data'!B750),\"\",'Competition Data'!B750)","v":""},{"$f":"IF(ISBLANK('Competition Data'!C750),\"\",'Competition Data'!C750)","v":""},null,{"$f":"IF(ISBLANK('Competition Data'!D750),\"\",'Competition Data'!D750)","v":""},{"$f":"IF(ISBLANK('Competition Data'!E750),\"\",'Competition Data'!E750)","v":""},{"$f":"IF(ISBLANK('Competition Data'!F750),\"\",'Competition Data'!F750)","v":""}," ()",{"$f":"IF(ISBLANK('Competition Data'!I750),\"\",'Competition Data'!I750)","v":""}]
["",{"$f":"IF(ISBLANK('Competition Data'!A751),\"\",'Competition Data'!A751)","v":""},{"$f":"IF(ISBLANK('Competition Data'!H751),\"\",'Competition Data'!H751)","v":""},{"$f":"IF(ISBLANK('Competition Data'!B751),\"\",'Competition Data'!B751)","v":""},{"$f":"IF(ISBLANK('Competition Data'!C751),\"\",'Competition Data'!C751)","v":""},null,{"$f":"IF(ISBLANK('Competition Data'!D751),\"\",'Competition Data'!D751)","v":""},{"$f":"IF(ISBLANK('Competition Data'!E751),\"\",'Competition Data'!E751)","v":""},{"$f":"IF(ISBLANK('Competition Data'!F751),\"\",'Competition Data'!F751)","v":""}," ()",{"$f":"IF(ISBLANK('Competition Data'!I751),\"\",'Competition Data'!I751)","v":""}]
["",{"$f":"IF(ISBLANK('Competition Data'!A752),\"\",'Competition Data'!A752)","v":""},{"$f":"IF(ISBLANK('Competition Data'!H752),\"\",'Competition Data'!H752)","v":""},{"$f":"IF(ISBLANK('Competition Data'!B752),\"\",'Competition Data'!B752)","v":""},{"$f":"IF(ISBLANK('Competition Data'!C752),\"\",'Competition Data'!C752)","v":""},null,{"$f":"IF(ISBLANK('Competition Data'!D752),\"\",'Competition Data'!D752)","v":""},{"$f":"IF(ISBLANK('Competition Data'!E752),\"\",'Competition Data'!E752)","v":""},{"$f":"IF(ISBLANK('Competition Data'!F752),\"\",'Competition Data'!F752)","v":""}," ()",{"$f":"IF(ISBLANK('Competition Data'!I752),\"\",'Competition Data'!I752)","v":""}]
["",{"$f":"IF(ISBLANK('Competition Data'!A753),\"\",'Competition Data'!A753)","v":""},{"$f":"IF(ISBLANK('Competition Data'!H753),\"\",'Competition Data'!H753)","v":""},{"$f":"IF(ISBLANK('Competition Data'!B753),\"\",'Competition Data'!B753)","v":""},{"$f":"IF(ISBLANK('Competition Data'!C753),\"\",'Competition Data'!C753)","v":""},null,{"$f":"IF(ISBLANK('Competition Data'!D753),\"\",'Competition Data'!D753)","v":""},{"$f":"IF(ISBLANK('Competition Data'!E753),\"\",'Competition Data'!E753)","v":""},{"$f":"IF(ISBLANK('Competition Data'!F753),\"\",'Competition Data'!F753)","v":""}," ()",{"$f":"IF(ISBLANK('Competition Data'!I753),\"\",'Competition Data'!I753)","v":""}]
["",{"$f":"IF(ISBLANK('Competition Data'!A754),\"\",'Competition Data'!A754)","v":""},{"$f":"IF(ISBLANK('Competition Data'!H754),\"\",'Competition Data'!H754)","v":""},{"$f":"IF(ISBLANK('Competition Data'!B754),\"\",'Competition Data'!B754)","v":""},{"$f":"IF(ISBLANK('Competition Data'!C754),\"\",'Competition Data'!C754)","v":""},null,{"$f":"IF(ISBLANK('Competition Data'!D754),\"\",'Competition Data'!D754)","v":""},{"$f":"IF(ISBLANK('Competition Data'!E754),\"\",'Competition Data'!E754)","v":""},{"$f":"IF(ISBLANK('Competition Data'!F754),\"\",'Competition Data'!F754)","v":""}," ()",{"$f":"IF(ISBLANK('Competition Data'!I754),\"\",'Competition Data'!I754)","v":""}]
["",{"$f":"IF(ISBLANK('Competition Data'!A755),\"\",'Competition Data'!A755)","v":""},{"$f":"IF(ISBLANK('Competition Data'!H755),\"\",'Competition Data'!H755)","v":""},{"$f":"IF(ISBLANK('Competition Data'!B755),\"\",'Competition Data'!B755)","v":""},{"$f":"IF(ISBLANK('Competition Data'!C755),\"\",'Competition Data'!C755)","v":""},null,{"$f":"IF(ISBLANK('Competition Data'!D755),\"\",'Competition Data'!D755)","v":""},{"$f":"IF(ISBLANK('Competition Data'!E755),\"\",'Competition Data'!E755)","v":""},{"$f":"IF(ISBLANK('Competition Data'!F755),\"\",'Competition Data'!F755)","v":""}," ()",{"$f":"IF(ISBLANK('Competition Data'!I755),\"\",'Competition Data'!I755)","v":""}]
[{"$f":"CONCATENATE(B768,D768,E768)","v":""},{"$f":"IF(ISBLANK('Competition Data'!A756),\"\",'Competition Data'!A756)","v":""},{"$f":"IF(ISBLANK('Competition Data'!H756),\"\",'Competition Data'!H756)","v":""},{"$f":"IF(ISBLANK('Competition Data'!B756),\"\",'Competition Data'!B756)","v":""},{"$f":"IF(ISBLANK('Competition Data'!C756),\"\",'Competition Data'!C756)","v":""},null,{"$f":"IF(ISBLANK('Competition Data'!D756),\"\",'Competition Data'!D756)","v":""},{"$f":"IF(ISBLANK('Competition Data'!E756),\"\",'Competition Data'!E756)","v":""},{"$f":"IF(ISBLANK('Competition Data'!F756),\"\",'Competition Data'!F756)","v":""},{"$f":"CONCATENATE(B768,\" (\",E768,\")\")","v":" ()"},{"$f":"IF(ISBLANK('Competition Data'!I756),\"\",'Competition Data'!I756)","v":""}]
["",{"$f":"IF(ISBLANK('Competition Data'!A757),\"\",'Competition Data'!A757)","v":""},{"$f":"IF(ISBLANK('Competition Data'!H757),\"\",'Competition Data'!H757)","v":""},{"$f":"IF(ISBLANK('Competition Data'!B757),\"\",'Competition Data'!B757)","v":""},{"$f":"IF(ISBLANK('Competition Data'!C757),\"\",'Competition Data'!C757)","v":""},null,{"$f":"IF(ISBLANK('Competition Data'!D757),\"\",'Competition Data'!D757)","v":""},{"$f":"IF(ISBLANK('Competition Data'!E757),\"\",'Competition Data'!E757)","v":""},{"$f":"IF(ISBLANK('Competition Data'!F757),\"\",'Competition Data'!F757)","v":""}," ()",{"$f":"IF(ISBLANK('Competition Data'!I757),\"\",'Competition Data'!I757)","v":""}]
["",{"$f":"IF(ISBLANK('Competition Data'!A758),\"\",'Competition Data'!A758)","v":""},{"$f":"IF(ISBLANK('Competition Data'!H758),\"\",'Competition Data'!H758)","v":""},{"$f":"IF(ISBLANK('Competition Data'!B758),\"\",'Competition Data'!B758)","v":""},{"$f":"IF(ISBLANK('Competition Data'!C758),\"\",'Competition Data'!C758)","v":""},null,{"$f":"IF(ISBLANK('Competition Data'!D758),\"\",'Competition Data'!D758)","v":""},{"$f":"IF(ISBLANK('Competition Data'!E758),\"\",'Competition Data'!E758)","v":""},{"$f":"IF(ISBLANK('Competition Data'!F758),\"\",'Competition Data'!F758)","v":""}," ()",{"$f":"IF(ISBLANK('Competition Data'!I758),\"\",'Competition Data'!I758)","v":""}]
["",{"$f":"IF(ISBLANK('Competition Data'!A759),\"\",'Competition Data'!A759)","v":""},{"$f":"IF(ISBLANK('Competition Data'!H759),\"\",'Competition Data'!H759)","v":""},{"$f":"IF(ISBLANK('Competition Data'!B759),\"\",'Competition Data'!B759)","v":""},{"$f":"IF(ISBLANK('Competition Data'!C759),\"\",'Competition Data'!C759)","v":""},null,{"$f":"IF(ISBLANK('Competition Data'!D759),\"\",'Competition Data'!D759)","v":""},{"$f":"IF(ISBLANK('Competition Data'!E759),\"\",'Competition Data'!E759)","v":""},{"$f":"IF(ISBLANK('Competition Data'!F759),\"\",'Competition Data'!F759)","v":""}," ()",{"$f":"IF(ISBLANK('Competition Data'!I759),\"\",'Competition Data'!I759)","v":""}]
["",{"$f":"IF(ISBLANK('Competition Data'!A760),\"\",'Competition Data'!A760)","v":""},{"$f":"IF(ISBLANK('Competition Data'!H760),\"\",'Competition Data'!H760)","v":""},{"$f":"IF(ISBLANK('Competition Data'!B760),\"\",'Competition Data'!B760)","v":""},{"$f":"IF(ISBLANK('Competition Data'!C760),\"\",'Competition Data'!C760)","v":""},null,{"$f":"IF(ISBLANK('Competition Data'!D760),\"\",'Competition Data'!D760)","v":""},{"$f":"IF(ISBLANK('Competition Data'!E760),\"\",'Competition Data'!E760)","v":""},{"$f":"IF(ISBLANK('Competition Data'!F760),\"\",'Competition Data'!F760)","v":""}," ()",{"$f":"IF(ISBLANK('Competition Data'!I760),\"\",'Competition Data'!I760)","v":""}]
["",{"$f":"IF(ISBLANK('Competition Data'!A761),\"\",'Competition Data'!A761)","v":""},{"$f":"IF(ISBLANK('Competition Data'!H761),\"\",'Competition Data'!H761)","v":""},{"$f":"IF(ISBLANK('Competition Data'!B761),\"\",'Competition Data'!B761)","v":""},{"$f":"IF(ISBLANK('Competition Data'!C761),\"\",'Competition Data'!C761)","v":""},null,{"$f":"IF(ISBLANK('Competition Data'!D761),\"\",'Competition Data'!D761)","v":""},{"$f":"IF(ISBLANK('Competition Data'!E761),\"\",'Competition Data'!E761)","v":""},{"$f":"IF(ISBLANK('Competition Data'!F761),\"\",'Competition Data'!F761)","v":""}," ()",{"$f":"IF(ISBLANK('Competition Data'!I761),\"\",'Competition Data'!I761)","v":""}]
["",{"$f":"IF(ISBLANK('Competition Data'!A762),\"\",'Competition Data'!A762)","v":""},{"$f":"IF(ISBLANK('Competition Data'!H762),\"\",'Competition Data'!H762)","v":""},{"$f":"IF(ISBLANK('Competition Data'!B762),\"\",'Competition Data'!B762)","v":""},{"$f":"IF(ISBLANK('Competition Data'!C762),\"\",'Competition Data'!C762)","v":""},null,{"$f":"IF(ISBLANK('Competition Data'!D762),\"\",'Competition Data'!D762)","v":""},{"$f":"IF(ISBLANK('Competition Data'!E762),\"\",'Competition Data'!E762)","v":""},{"$f":"IF(ISBLANK('Competition Data'!F762),\"\",'Competition Data'!F762)","v":""}," ()",{"$f":"IF(ISBLANK('Competition Data'!I762),\"\",'Competition Data'!I762)","v":""}]
["",{"$f":"IF(ISBLANK('Competition Data'!A763),\"\",'Competition Data'!A763)","v":""},{"$f":"IF(ISBLANK('Competition Data'!H763),\"\",'Competition Data'!H763)","v":""},{"$f":"IF(ISBLANK('Competition Data'!B763),\"\",'Competition Data'!B763)","v":""},{"$f":"IF(ISBLANK('Competition Data'!C763),\"\",'Competition Data'!C763)","v":""},null,{"$f":"IF(ISBLANK('Competition Data'!D763),\"\",'Competition Data'!D763)","v":""},{"$f":"IF(ISBLANK('Competition Data'!E763),\"\",'Competition Data'!E763)","v":""},{"$f":"IF(ISBLANK('Competition Data'!F763),\"\",'Competition Data'!F763)","v":""}," ()",{"$f":"IF(ISBLANK('Competition Data'!I763),\"\",'Competition Data'!I763)","v":""}]
["",{"$f":"IF(ISBLANK('Competition Data'!A764),\"\",'Competition Data'!A764)","v":""},{"$f":"IF(ISBLANK('Competition Data'!H764),\"\",'Competition Data'!H764)","v":""},{"$f":"IF(ISBLANK('Competition Data'!B764),\"\",'Competition Data'!B764)","v":""},{"$f":"IF(ISBLANK('Competition Data'!C764),\"\",'Competition Data'!C764)","v":""},null,{"$f":"IF(ISBLANK('Competition Data'!D764),\"\",'Competition Data'!D764)","v":""},{"$f":"IF(ISBLANK('Competition Data'!E764),\"\",'Competition Data'!E764)","v":""},{"$f":"IF(ISBLANK('Competition Data'!F764),\"\",'Competition Data'!F764)","v":""}," ()",{"$f":"IF(ISBLANK('Competition Data'!I764),\"\",'Competition Data'!I764)","v":""}]
["",{"$f":"IF(ISBLANK('Competition Data'!A765),\"\",'Competition Data'!A765)","v":""},{"$f":"IF(ISBLANK('Competition Data'!H765),\"\",'Competition Data'!H765)","v":""},{"$f":"IF(ISBLANK('Competition Data'!B765),\"\",'Competition Data'!B765)","v":""},{"$f":"IF(ISBLANK('Competition Data'!C765),\"\",'Competition Data'!C765)","v":""},null,{"$f":"IF(ISBLANK('Competition Data'!D765),\"\",'Competition Data'!D765)","v":""},{"$f":"IF(ISBLANK('Competition Data'!E765),\"\",'Competition Data'!E765)","v":""},{"$f":"IF(ISBLANK('Competition Data'!F765),\"\",'Competition Data'!F765)","v":""}," ()",{"$f":"IF(ISBLANK('Competition Data'!I765),\"\",'Competition Data'!I765)","v":""}]
["",{"$f":"IF(ISBLANK('Competition Data'!A766),\"\",'Competition Data'!A766)","v":""},{"$f":"IF(ISBLANK('Competition Data'!H766),\"\",'Competition Data'!H766)","v":""},{"$f":"IF(ISBLANK('Competition Data'!B766),\"\",'Competition Data'!B766)","v":""},{"$f":"IF(ISBLANK('Competition Data'!C766),\"\",'Competition Data'!C766)","v":""},null,{"$f":"IF(ISBLANK('Competition Data'!D766),\"\",'Competition Data'!D766)","v":""},{"$f":"IF(ISBLANK('Competition Data'!E766),\"\",'Competition Data'!E766)","v":""},{"$f":"IF(ISBLANK('Competition Data'!F766),\"\",'Competition Data'!F766)","v":""}," ()",{"$f":"IF(ISBLANK('Competition Data'!I766),\"\",'Competition Data'!I766)","v":""}]
["",{"$f":"IF(ISBLANK('Competition Data'!A767),\"\",'Competition Data'!A767)","v":""},{"$f":"IF(ISBLANK('Competition Data'!H767),\"\",'Competition Data'!H767)","v":""},{"$f":"IF(ISBLANK('Competition Data'!B767),\"\",'Competition Data'!B767)","v":""},{"$f":"IF(ISBLANK('Competition Data'!C767),\"\",'Competition Data'!C767)","v":""},null,{"$f":"IF(ISBLANK('Competition Data'!D767),\"\",'Competition Data'!D767)","v":""},{"$f":"IF(ISBLANK('Competition Data'!E767),\"\",'Competition Data'!E767)","v":""},{"$f":"IF(ISBLANK('Competition Data'!F767),\"\",'Competition Data'!F767)","v":""}," ()",{"$f":"IF(ISBLANK('Competition Data'!I767),\"\",'Competition Data'!I767)","v":""}]
["",{"$f":"IF(ISBLANK('Competition Data'!A768),\"\",'Competition Data'!A768)","v":""},{"$f":"IF(ISBLANK('Competition Data'!H768),\"\",'Competition Data'!H768)","v":""},{"$f":"IF(ISBLANK('Competition Data'!B768),\"\",'Competition Data'!B768)","v":""},{"$f":"IF(ISBLANK('Competition Data'!C768),\"\",'Competition Data'!C768)","v":""},null,{"$f":"IF(ISBLANK('Competition Data'!D768),\"\",'Competition Data'!D768)","v":""},{"$f":"IF(ISBLANK('Competition Data'!E768),\"\",'Competition Data'!E768)","v":""},{"$f":"IF(ISBLANK('Competition Data'!F768),\"\",'Competition Data'!F768)","v":""}," ()",{"$f":"IF(ISBLANK('Competition Data'!I768),\"\",'Competition Data'!I768)","v":""}]
["",{"$f":"IF(ISBLANK('Competition Data'!A769),\"\",'Competition Data'!A769)","v":""},{"$f":"IF(ISBLANK('Competition Data'!H769),\"\",'Competition Data'!H769)","v":""},{"$f":"IF(ISBLANK('Competition Data'!B769),\"\",'Competition Data'!B769)","v":""},{"$f":"IF(ISBLANK('Competition Data'!C769),\"\",'Competition Data'!C769)","v":""},null,{"$f":"IF(ISBLANK('Competition Data'!D769),\"\",'Competition Data'!D769)","v":""},{"$f":"IF(ISBLANK('Competition Data'!E769),\"\",'Competition Data'!E769)","v":""},{"$f":"IF(ISBLANK('Competition Data'!F769),\"\",'Competition Data'!F769)","v":""}," ()",{"$f":"IF(ISBLANK('Competition Data'!I769),\"\",'Competition Data'!I769)","v":""}]
["",{"$f":"IF(ISBLANK('Competition Data'!A770),\"\",'Competition Data'!A770)","v":""},{"$f":"IF(ISBLANK('Competition Data'!H770),\"\",'Competition Data'!H770)","v":""},{"$f":"IF(ISBLANK('Competition Data'!B770),\"\",'Competition Data'!B770)","v":""},{"$f":"IF(ISBLANK('Competition Data'!C770),\"\",'Competition Data'!C770)","v":""},null,{"$f":"IF(ISBLANK('Competition Data'!D770),\"\",'Competition Data'!D770)","v":""},{"$f":"IF(ISBLANK('Competition Data'!E770),\"\",'Competition Data'!E770)","v":""},{"$f":"IF(ISBLANK('Competition Data'!F770),\"\",'Competition Data'!F770)","v":""}," ()",{"$f":"IF(ISBLANK('Competition Data'!I770),\"\",'Competition Data'!I770)","v":""}]
["",{"$f":"IF(ISBLANK('Competition Data'!A771),\"\",'Competition Data'!A771)","v":""},{"$f":"IF(ISBLANK('Competition Data'!H771),\"\",'Competition Data'!H771)","v":""},{"$f":"IF(ISBLANK('Competition Data'!B771),\"\",'Competition Data'!B771)","v":""},{"$f":"IF(ISBLANK('Competition Data'!C771),\"\",'Competition Data'!C771)","v":""},null,{"$f":"IF(ISBLANK('Competition Data'!D771),\"\",'Competition Data'!D771)","v":""},{"$f":"IF(ISBLANK('Competition Data'!E771),\"\",'Competition Data'!E771)","v":""},{"$f":"IF(ISBLANK('Competition Data'!F771),\"\",'Competition Data'!F771)","v":""}," ()",{"$f":"IF(ISBLANK('Competition Data'!I771),\"\",'Competition Data'!I771)","v":""}]
["",{"$f":"IF(ISBLANK('Competition Data'!A772),\"\",'Competition Data'!A772)","v":""},{"$f":"IF(ISBLANK('Competition Data'!H772),\"\",'Competition Data'!H772)","v":""},{"$f":"IF(ISBLANK('Competition Data'!B772),\"\",'Competition Data'!B772)","v":""},{"$f":"IF(ISBLANK('Competition Data'!C772),\"\",'Competition Data'!C772)","v":""},null,{"$f":"IF(ISBLANK('Competition Data'!D772),\"\",'Competition Data'!D772)","v":""},{"$f":"IF(ISBLANK('Competition Data'!E772),\"\",'Competition Data'!E772)","v":""},{"$f":"IF(ISBLANK('Competition Data'!F772),\"\",'Competition Data'!F772)","v":""}," ()",{"$f":"IF(ISBLANK('Competition Data'!I772),\"\",'Competition Data'!I772)","v":""}]
["",{"$f":"IF(ISBLANK('Competition Data'!A773),\"\",'Competition Data'!A773)","v":""},{"$f":"IF(ISBLANK('Competition Data'!H773),\"\",'Competition Data'!H773)","v":""},{"$f":"IF(ISBLANK('Competition Data'!B773),\"\",'Competition Data'!B773)","v":""},{"$f":"IF(ISBLANK('Competition Data'!C773),\"\",'Competition Data'!C773)","v":""},null,{"$f":"IF(ISBLANK('Competition Data'!D773),\"\",'Competition Data'!D773)","v":""},{"$f":"IF(ISBLANK('Competition Data'!E773),\"\",'Competition Data'!E773)","v":""},{"$f":"IF(ISBLANK('Competition Data'!F773),\"\",'Competition Data'!F773)","v":""}," ()",{"$f":"IF(ISBLANK('Competition Data'!I773),\"\",'Competition Data'!I773)","v":""}]
["",{"$f":"IF(ISBLANK('Competition Data'!A774),\"\",'Competition Data'!A774)","v":""},{"$f":"IF(ISBLANK('Competition Data'!H774),\"\",'Competition Data'!H774)","v":""},{"$f":"IF(ISBLANK('Competition Data'!B774),\"\",'Competition Data'!B774)","v":""},{"$f":"IF(ISBLANK('Competition Data'!C774),\"\",'Competition Data'!C774)","v":""},null,{"$f":"IF(ISBLANK('Competition Data'!D774),\"\",'Competition Data'!D774)","v":""},{"$f":"IF(ISBLANK('Competition Data'!E774),\"\",'Competition Data'!E774)","v":""},{"$f":"IF(ISBLANK('Competition Data'!F774),\"\",'Competition Data'!F774)","v":""}," ()",{"$f":"IF(ISBLANK('Competition Data'!I774),\"\",'Competition Data'!I774)","v":""}]
["",{"$f":"IF(ISBLANK('Competition Data'!A775),\"\",'Competition Data'!A775)","v":""},{"$f":"IF(ISBLANK('Competition Data'!H775),\"\",'Competition Data'!H775)","v":""},{"$f":"IF(ISBLANK('Competition Data'!B775),\"\",'Competition Data'!B775)","v":""},{"$f":"IF(ISBLANK('Competition Data'!C775),\"\",'Competition Data'!C775)","v":""},null,{"$f":"IF(ISBLANK('Competition Data'!D775),\"\",'Competition Data'!D775)","v":""},{"$f":"IF(ISBLANK('Competition Data'!E775),\"\",'Competition Data'!E775)","v":""},{"$f":"IF(ISBLANK('Competition Data'!F775),\"\",'Competition Data'!F775)","v":""}," ()",{"$f":"IF(ISBLANK('Competition Data'!I775),\"\",'Competition Data'!I775)","v":""}]
["",{"$f":"IF(ISBLANK('Competition Data'!A776),\"\",'Competition Data'!A776)","v":""},{"$f":"IF(ISBLANK('Competition Data'!H776),\"\",'Competition Data'!H776)","v":""},{"$f":"IF(ISBLANK('Competition Data'!B776),\"\",'Competition Data'!B776)","v":""},{"$f":"IF(ISBLANK('Competition Data'!C776),\"\",'Competition Data'!C776)","v":""},null,{"$f":"IF(ISBLANK('Competition Data'!D776),\"\",'Competition Data'!D776)","v":""},{"$f":"IF(ISBLANK('Competition Data'!E776),\"\",'Competition Data'!E776)","v":""},{"$f":"IF(ISBLANK('Competition Data'!F776),\"\",'Competition Data'!F776)","v":""}," ()",{"$f":"IF(ISBLANK('Competition Data'!I776),\"\",'Competition Data'!I776)","v":""}]

{"sheet":"Lists & wording","index":5,"n_rows":71,"n_cols":18,"rows_kept":71,"cut":false,"hidden":true,"merged":[]}
["Site Names",null,"Service windows",null,"Service Types",null,null,null,null,null,null,null,null,null,null,null,null,{"$f":"IF(A3=\"\",\"\",MAX(A$1:A1)+1)","v":1}]
["Distinct",null,"Distinct",null,"Distinct",null,null,null,null,null,null,null,null,null,null,null,null,{"$f":"IF(A4=\"\",\"\",MAX(A$1:A2)+1)","v":1}]
[{"$f":"IFERROR(INDEX('Competition Data'!$A$2:$A$2946, MATCH(0, INDEX(COUNTIF($A$2:A2, 'Competition Data'!$A$2:$A$2946), 0, 0), 0)), \"\")","v":"AIRE DR (ADJ NO 2)"},{"$f":"IF(A3=0,\"\",A3)","v":"AIRE DR (ADJ NO 2)"},"W24/25",null,{"$f":"IFERROR(INDEX('Competition Data'!$C$2:$C$2946, MATCH(0, INDEX(COUNTIF($E$2:E2, 'Competition Data'!$C$2:$C$2946), 0, 0), 0)), \"\")","v":"Peak Reduction"},{"$f":"IF(E3=0,\"\",E3)","v":"Peak Reduction"},null,null,null,"Message for success","Your tendered price is within the ceiling price. \nNote: This is not a guarantee that your submission will be accepted.",null,null,null,null,null,null,{"$f":"IF(A5=\"\",\"\",MAX(A$1:A3)+1)","v":1}]
[{"$f":"IFERROR(INDEX('Competition Data'!$A$2:$A$2946, MATCH(0, INDEX(COUNTIF($A$2:A3, 'Competition Data'!$A$2:$A$2946), 0, 0), 0)), \"\")","v":"ALDER RD"},{"$f":"IF(A4=0,\"\",A4)","v":"ALDER RD"},"FY25",null,{"$f":"IFERROR(INDEX('Competition Data'!$C$2:$C$2946, MATCH(0, INDEX(COUNTIF($E$2:E3, 'Competition Data'!$C$2:$C$2946), 0, 0), 0)), \"\")","v":"Scheduled Utilisation"},{"$f":"IF(E4=0,\"\",E4)","v":"Scheduled Utilisation"},null,null,null,"Message for failure","Your tendered price is not within the ceiling price.\nYou may wish to concider revising your costs in order to improve the likelyhood of being a sucessful participant."]
[{"$f":"IFERROR(INDEX('Competition Data'!$A$2:$A$2946, MATCH(0, INDEX(COUNTIF($A$2:A4, 'Competition Data'!$A$2:$A$2946), 0, 0), 0)), \"\")","v":"Alston"},"Alston","S25",null,{"$f":"IFERROR(INDEX('Competition Data'!$C$2:$C$2946, MATCH(0, INDEX(COUNTIF($E$2:E4, 'Competition Data'!$C$2:$C$2946), 0, 0), 0)), \"\")","v":"Operational Utilisation"},"Operational Utilisation"]
[{"$f":"IFERROR(INDEX('Competition Data'!$A$2:$A$2946, MATCH(0, INDEX(COUNTIF($A$2:A5, 'Competition Data'!$A$2:$A$2946), 0, 0), 0)), \"\")","v":"AMBLESIDE-CALGARTH-MINTSFEET-WINDERMERE Group"},"AMBLESIDE-CALGARTH-MINTSFEET-WINDERMERE Group","W25/26",null,{"$f":"IFERROR(INDEX('Competition Data'!$C$2:$C$2946, MATCH(0, INDEX(COUNTIF($E$2:E5, 'Competition Data'!$C$2:$C$2946), 0, 0), 0)), \"\")","v":"Variable Availability + Operational Utilisation"},{"$f":"IF(E6=0,\"\",E6)","v":"Variable Availability + Operational Utilisation"},null,null,null,"Message for SU, OU, PR product","Ceiling Price is "]
[{"$f":"IFERROR(INDEX('Competition Data'!$A$2:$A$2946, MATCH(0, INDEX(COUNTIF($A$2:A6, 'Competition Data'!$A$2:$A$2946), 0, 0), 0)), \"\")","v":"Ancoats North T11 & T12"},"Ancoats North T11 & T12","FY26",null,{"$f":"IFERROR(INDEX('Competition Data'!$C$2:$C$2946, MATCH(0, INDEX(COUNTIF($E$2:E6, 'Competition Data'!$C$2:$C$2946), 0, 0), 0)), \"\")","v":0}]
[{"$f":"IFERROR(INDEX('Competition Data'!$A$2:$A$2946, MATCH(0, INDEX(COUNTIF($A$2:A7, 'Competition Data'!$A$2:$A$2946), 0, 0), 0)), \"\")","v":"Ancoats North T11 & T12-CANNON ST-STRANGEWAYS-Ancoats North T14 Group"},"Ancoats North T11 & T12-CANNON ST-STRANGEWAYS-Ancoats North T14 Group","S26",null,{"$f":"IFERROR(INDEX('Competition Data'!$C$2:$C$2946, MATCH(0, INDEX(COUNTIF($E$2:E7, 'Competition Data'!$C$2:$C$2946), 0, 0), 0)), \"\")","v":""}]
[{"$f":"IFERROR(INDEX('Competition Data'!$A$2:$A$2946, MATCH(0, INDEX(COUNTIF($A$2:A8, 'Competition Data'!$A$2:$A$2946), 0, 0), 0)), \"\")","v":"ANCOATS NORTH T14"},"ANCOATS NORTH T14","W26/27",null,{"$f":"IFERROR(INDEX('Competition Data'!$C$2:$C$2946, MATCH(0, INDEX(COUNTIF($E$2:E8, 'Competition Data'!$C$2:$C$2946), 0, 0), 0)), \"\")","v":""}]
[{"$f":"IFERROR(INDEX('Competition Data'!$A$2:$A$2946, MATCH(0, INDEX(COUNTIF($A$2:A9, 'Competition Data'!$A$2:$A$2946), 0, 0), 0)), \"\")","v":"ANDREW ST"},"ANDREW ST","FY27",null,{"$f":"IFERROR(INDEX('Competition Data'!$C$2:$C$2946, MATCH(0, INDEX(COUNTIF($E$2:E9, 'Competition Data'!$C$2:$C$2946), 0, 0), 0)), \"\")","v":""}]
[{"$f":"IFERROR(INDEX('Competition Data'!$A$2:$A$2946, MATCH(0, INDEX(COUNTIF($A$2:A10, 'Competition Data'!$A$2:$A$2946), 0, 0), 0)), \"\")","v":"Ardwick"},"Ardwick","S27",null,{"$f":"IFERROR(INDEX('Competition Data'!$C$2:$C$2946, MATCH(0, INDEX(COUNTIF($E$2:E10, 'Competition Data'!$C$2:$C$2946), 0, 0), 0)), \"\")","v":""},null,null,null,null,"No Tender matching these parameters"]
[{"$f":"IFERROR(INDEX('Competition Data'!$A$2:$A$2946, MATCH(0, INDEX(COUNTIF($A$2:A11, 'Competition Data'!$A$2:$A$2946), 0, 0), 0)), \"\")","v":"ARMISTEAD ST"},"ARMISTEAD ST","W27/28",null,{"$f":"IFERROR(INDEX('Competition Data'!$C$2:$C$2946, MATCH(0, INDEX(COUNTIF($E$2:E11, 'Competition Data'!$C$2:$C$2946), 0, 0), 0)), \"\")","v":""}]
[{"$f":"IFERROR(INDEX('Competition Data'!$A$2:$A$2946, MATCH(0, INDEX(COUNTIF($A$2:A12, 'Competition Data'!$A$2:$A$2946), 0, 0), 0)), \"\")","v":"ASH GR"},"ASH GR","FY28",null,{"$f":"IFERROR(INDEX('Competition Data'!$C$2:$C$2946, MATCH(0, INDEX(COUNTIF($E$2:E12, 'Competition Data'!$C$2:$C$2946), 0, 0), 0)), \"\")","v":""}]
[{"$f":"IFERROR(INDEX('Competition Data'!$A$2:$A$2946, MATCH(0, INDEX(COUNTIF($A$2:A13, 'Competition Data'!$A$2:$A$2946), 0, 0), 0)), \"\")","v":"ASHLEY RD (NO 125)"},"ASHLEY RD (NO 125)",null,null,{"$f":"IFERROR(INDEX('Competition Data'!$C$2:$C$2946, MATCH(0, INDEX(COUNTIF($E$2:E13, 'Competition Data'!$C$2:$C$2946), 0, 0), 0)), \"\")","v":""}]
[{"$f":"IFERROR(INDEX('Competition Data'!$A$2:$A$2946, MATCH(0, INDEX(COUNTIF($A$2:A14, 'Competition Data'!$A$2:$A$2946), 0, 0), 0)), \"\")","v":"Ashton (Golborne)"},"Ashton (Golborne)",null,null,{"$f":"IFERROR(INDEX('Competition Data'!$C$2:$C$9946, MATCH(0, INDEX(COUNTIF($A$2:E14, 'Competition Data'!$C$2:$C$9946), 0, 0), 0)), \"\")","v":""}]
[{"$f":"IFERROR(INDEX('Competition Data'!$A$2:$A$2946, MATCH(0, INDEX(COUNTIF($A$2:A15, 'Competition Data'!$A$2:$A$2946), 0, 0), 0)), \"\")","v":"Ashton (Ribble)-MOORSIDE-CATTERALL WATERWORKS Group"},"Ashton (Ribble)-MOORSIDE-CATTERALL WATERWORKS Group",null,null,{"$f":"IFERROR(INDEX('Competition Data'!$C$2:$C$9946, MATCH(0, INDEX(COUNTIF($A$2:E15, 'Competition Data'!$C$2:$C$9946), 0, 0), 0)), \"\")","v":""}]
[{"$f":"IFERROR(INDEX('Competition Data'!$A$2:$A$2946, MATCH(0, INDEX(COUNTIF($A$2:A16, 'Competition Data'!$A$2:$A$2946), 0, 0), 0)), \"\")","v":"Ashton On Mersey"},"Ashton On Mersey",null,null,{"$f":"IFERROR(INDEX('Competition Data'!$C$2:$C$9946, MATCH(0, INDEX(COUNTIF($A$2:E16, 'Competition Data'!$C$2:$C$9946), 0, 0), 0)), \"\")","v":""}]
[{"$f":"IFERROR(INDEX('Competition Data'!$A$2:$A$2946, MATCH(0, INDEX(COUNTIF($A$2:A17, 'Competition Data'!$A$2:$A$2946), 0, 0), 0)), \"\")","v":"Askerton Castle"},"Askerton Castle",null,null,{"$f":"IFERROR(INDEX('Competition Data'!$C$2:$C$9946, MATCH(0, INDEX(COUNTIF($A$2:E17, 'Competition Data'!$C$2:$C$9946), 0, 0), 0)), \"\")","v":""}]
[{"$f":"IFERROR(INDEX('Competition Data'!$A$2:$A$2946, MATCH(0, INDEX(COUNTIF($A$2:A18, 'Competition Data'!$A$2:$A$2946), 0, 0), 0)), \"\")","v":"ATE GRIMSARGH"},"ATE GRIMSARGH",null,null,{"$f":"IFERROR(INDEX('Competition Data'!$C$2:$C$9946, MATCH(0, INDEX(COUNTIF($A$2:E18, 'Competition Data'!$C$2:$C$9946), 0, 0), 0)), \"\")","v":""}]
[{"$f":"IFERROR(INDEX('Competition Data'!$A$2:$A$2946, MATCH(0, INDEX(COUNTIF($A$2:A19, 'Competition Data'!$A$2:$A$2946), 0, 0), 0)), \"\")","v":"BACK BOWNESS RD"},"BACK BOWNESS RD",null,null,{"$f":"IFERROR(INDEX('Competition Data'!$C$2:$C$9946, MATCH(0, INDEX(COUNTIF($A$2:E19, 'Competition Data'!$C$2:$C$9946), 0, 0), 0)), \"\")","v":""}]
[{"$f":"IFERROR(INDEX('Competition Data'!$A$2:$A$2946, MATCH(0, INDEX(COUNTIF($A$2:A20, 'Competition Data'!$A$2:$A$2946), 0, 0), 0)), \"\")","v":"BACK HULTON LN S"},"BACK HULTON LN S",null,null,{"$f":"IFERROR(INDEX('Competition Data'!$C$2:$C$9946, MATCH(0, INDEX(COUNTIF($A$2:E20, 'Competition Data'!$C$2:$C$9946), 0, 0), 0)), \"\")","v":""}]
[{"$f":"IFERROR(INDEX('Competition Data'!$A$2:$A$2946, MATCH(0, INDEX(COUNTIF($A$2:A21, 'Competition Data'!$A$2:$A$2946), 0, 0), 0)), \"\")","v":"BACK TOTTINGTON RD"},"BACK TOTTINGTON RD",null,null,{"$f":"IFERROR(INDEX('Competition Data'!$C$2:$C$9946, MATCH(0, INDEX(COUNTIF($A$2:E21, 'Competition Data'!$C$2:$C$9946), 0, 0), 0)), \"\")","v":""}]
[{"$f":"IFERROR(INDEX('Competition Data'!$A$2:$A$2946, MATCH(0, INDEX(COUNTIF($A$2:A22, 'Competition Data'!$A$2:$A$2946), 0, 0), 0)), \"\")","v":"BARBARA ST"},"BARBARA ST",null,null,{"$f":"IFERROR(INDEX('Competition Data'!$C$2:$C$9946, MATCH(0, INDEX(COUNTIF($A$2:E22, 'Competition Data'!$C$2:$C$9946), 0, 0), 0)), \"\")","v":""}]
[{"$f":"IFERROR(INDEX('Competition Data'!$A$2:$A$2946, MATCH(0, INDEX(COUNTIF($A$2:A23, 'Competition Data'!$A$2:$A$2946), 0, 0), 0)), \"\")","v":"BARLEY HALL"},"BARLEY HALL",null,null,{"$f":"IFERROR(INDEX('Competition Data'!$C$2:$C$9946, MATCH(0, INDEX(COUNTIF($A$2:E23, 'Competition Data'!$C$2:$C$9946), 0, 0), 0)), \"\")","v":""}]
[{"$f":"IFERROR(INDEX('Competition Data'!$A$2:$A$2946, MATCH(0, INDEX(COUNTIF($A$2:A24, 'Competition Data'!$A$2:$A$2946), 0, 0), 0)), \"\")","v":"BARNFIELD RD"},"BARNFIELD RD"]
[{"$f":"IFERROR(INDEX('Competition Data'!$A$2:$A$2946, MATCH(0, INDEX(COUNTIF($A$2:A25, 'Competition Data'!$A$2:$A$2946), 0, 0), 0)), \"\")","v":"BARTON GRANGE"},"BARTON GRANGE"]
[{"$f":"IFERROR(INDEX('Competition Data'!$A$2:$A$2946, MATCH(0, INDEX(COUNTIF($A$2:A26, 'Competition Data'!$A$2:$A$2946), 0, 0), 0)), \"\")","v":"BCWW DUNCOMBE RD"},"BCWW DUNCOMBE RD"]
[{"$f":"IFERROR(INDEX('Competition Data'!$A$2:$A$2946, MATCH(0, INDEX(COUNTIF($A$2:A27, 'Competition Data'!$A$2:$A$2946), 0, 0), 0)), \"\")","v":"BELL CL"},"BELL CL"]
[{"$f":"IFERROR(INDEX('Competition Data'!$A$2:$A$2946, MATCH(0, INDEX(COUNTIF($A$2:A28, 'Competition Data'!$A$2:$A$2946), 0, 0), 0)), \"\")","v":"Bentham"},"Bentham"]
[{"$f":"IFERROR(INDEX('Competition Data'!$A$2:$A$2946, MATCH(0, INDEX(COUNTIF($A$2:A29, 'Competition Data'!$A$2:$A$2946), 0, 0), 0)), \"\")","v":"BERWICK AVE"},"BERWICK AVE"]
[{"$f":"IFERROR(INDEX('Competition Data'!$A$2:$A$2946, MATCH(0, INDEX(COUNTIF($A$2:A30, 'Competition Data'!$A$2:$A$2946), 0, 0), 0)), \"\")","v":"BIRTWISTLE ST"},"BIRTWISTLE ST"]
[{"$f":"IFERROR(INDEX('Competition Data'!$A$2:$A$2946, MATCH(0, INDEX(COUNTIF($A$2:A31, 'Competition Data'!$A$2:$A$2946), 0, 0), 0)), \"\")","v":"BK HAROLD ST"},"BK HAROLD ST"]
[{"$f":"IFERROR(INDEX('Competition Data'!$A$2:$A$2946, MATCH(0, INDEX(COUNTIF($A$2:A32, 'Competition Data'!$A$2:$A$2946), 0, 0), 0)), \"\")","v":"BK MANCHESTER RD"},"BK MANCHESTER RD"]
[{"$f":"IFERROR(INDEX('Competition Data'!$A$2:$A$2946, MATCH(0, INDEX(COUNTIF($A$2:A33, 'Competition Data'!$A$2:$A$2946), 0, 0), 0)), \"\")","v":"Blackfriars"},"Blackfriars"]
[{"$f":"IFERROR(INDEX('Competition Data'!$A$2:$A$2946, MATCH(0, INDEX(COUNTIF($A$2:A34, 'Competition Data'!$A$2:$A$2946), 0, 0), 0)), \"\")","v":"BLACKLEY-HARPURHEY Group"},"BLACKLEY-HARPURHEY Group"]
[{"$f":"IFERROR(INDEX('Competition Data'!$A$2:$A$2946, MATCH(0, INDEX(COUNTIF($A$2:A35, 'Competition Data'!$A$2:$A$2946), 0, 0), 0)), \"\")","v":"BOARS HEAD"},"BOARS HEAD"]
[{"$f":"IFERROR(INDEX('Competition Data'!$A$2:$A$2946, MATCH(0, INDEX(COUNTIF($A$2:A36, 'Competition Data'!$A$2:$A$2946), 0, 0), 0)), \"\")","v":"BOLEFOOT"},"BOLEFOOT",null,null,{"$f":"IF(A37=\"\",F38,A37)","v":"BOLEFOOT"}]
[{"$f":"IFERROR(INDEX('Competition Data'!$A$2:$A$2946, MATCH(0, INDEX(COUNTIF($A$2:A37, 'Competition Data'!$A$2:$A$2946), 0, 0), 0)), \"\")","v":"Bolton By Bowland"},"Bolton By Bowland"]
[{"$f":"IFERROR(INDEX('Competition Data'!$A$2:$A$2946, MATCH(0, INDEX(COUNTIF($A$2:A38, 'Competition Data'!$A$2:$A$2946), 0, 0), 0)), \"\")","v":"BRADFORD ST"},"BRADFORD ST"]
[{"$f":"IFERROR(INDEX('Competition Data'!$A$2:$A$2946, MATCH(0, INDEX(COUNTIF($A$2:A39, 'Competition Data'!$A$2:$A$2946), 0, 0), 0)), \"\")","v":"BRANDLESHOLME RD N"},"BRANDLESHOLME RD N"]
[{"$f":"IFERROR(INDEX('Competition Data'!$A$2:$A$2946, MATCH(0, INDEX(COUNTIF($A$2:A40, 'Competition Data'!$A$2:$A$2946), 0, 0), 0)), \"\")","v":"BRIDGEWATER ST"},"BRIDGEWATER ST"]
[{"$f":"IFERROR(INDEX('Competition Data'!$A$2:$A$2946, MATCH(0, INDEX(COUNTIF($A$2:A41, 'Competition Data'!$A$2:$A$2946), 0, 0), 0)), \"\")","v":"BROADFIELD ST"},"BROADFIELD ST"]
[{"$f":"IFERROR(INDEX('Competition Data'!$A$2:$A$2946, MATCH(0, INDEX(COUNTIF($A$2:A42, 'Competition Data'!$A$2:$A$2946), 0, 0), 0)), \"\")","v":"BROOK TERR"},"BROOK TERR"]
[{"$f":"IFERROR(INDEX('Competition Data'!$A$2:$A$2946, MATCH(0, INDEX(COUNTIF($A$2:A43, 'Competition Data'!$A$2:$A$2946), 0, 0), 0)), \"\")","v":"BROOKES LN"},"BROOKES LN"]
[{"$f":"IFERROR(INDEX('Competition Data'!$A$2:$A$2946, MATCH(0, INDEX(COUNTIF($A$2:A44, 'Competition Data'!$A$2:$A$2946), 0, 0), 0)), \"\")","v":"BROOKFIELD ST"},"BROOKFIELD ST"]
[{"$f":"IFERROR(INDEX('Competition Data'!$A$2:$A$2946, MATCH(0, INDEX(COUNTIF($A$2:A45, 'Competition Data'!$A$2:$A$2946), 0, 0), 0)), \"\")","v":"BROOMFIELD RD"},"BROOMFIELD RD"]
[{"$f":"IFERROR(INDEX('Competition Data'!$A$2:$A$2946, MATCH(0, INDEX(COUNTIF($A$2:A46, 'Competition Data'!$A$2:$A$2946), 0, 0), 0)), \"\")","v":"BROWNLEY RD"},"BROWNLEY RD"]
[{"$f":"IFERROR(INDEX('Competition Data'!$A$2:$A$2946, MATCH(0, INDEX(COUNTIF($A$2:A47, 'Competition Data'!$A$2:$A$2946), 0, 0), 0)), \"\")","v":"BUCK ST"},"BUCK ST"]
[{"$f":"IFERROR(INDEX('Competition Data'!$A$2:$A$2946, MATCH(0, INDEX(COUNTIF($A$2:A48, 'Competition Data'!$A$2:$A$2946), 0, 0), 0)), \"\")","v":"BULLS HEAD (WILPSHIRE)"},"BULLS HEAD (WILPSHIRE)"]
[{"$f":"IFERROR(INDEX('Competition Data'!$A$2:$A$2946, MATCH(0, INDEX(COUNTIF($A$2:A49, 'Competition Data'!$A$2:$A$2946), 0, 0), 0)), \"\")","v":"Burrow Beck"},"Burrow Beck"]
[{"$f":"IFERROR(INDEX('Competition Data'!$A$2:$A$2946, MATCH(0, INDEX(COUNTIF($A$2:A50, 'Competition Data'!$A$2:$A$2946), 0, 0), 0)), \"\")","v":"CAPONTREE-WESTLINTON-Morton Park & Pirelli Group"},"CAPONTREE-WESTLINTON-Morton Park & Pirelli Group"]
[{"$f":"IFERROR(INDEX('Competition Data'!$A$2:$A$2946, MATCH(0, INDEX(COUNTIF($A$2:A51, 'Competition Data'!$A$2:$A$2946), 0, 0), 0)), \"\")","v":"Carlisle North BSP"},"Carlisle North BSP"]
[{"$f":"IFERROR(INDEX('Competition Data'!$A$2:$A$2946, MATCH(0, INDEX(COUNTIF($A$2:A52, 'Competition Data'!$A$2:$A$2946), 0, 0), 0)), \"\")","v":"CARLTON AVE"},"CARLTON AVE"]
[{"$f":"IFERROR(INDEX('Competition Data'!$A$2:$A$2946, MATCH(0, INDEX(COUNTIF($A$2:A53, 'Competition Data'!$A$2:$A$2946), 0, 0), 0)), \"\")","v":"Catterall Waterworks"}]
[{"$f":"IFERROR(INDEX('Competition Data'!$A$2:$A$2946, MATCH(0, INDEX(COUNTIF($A$2:A54, 'Competition Data'!$A$2:$A$2946), 0, 0), 0)), \"\")","v":"CEDAR ST"}]
[{"$f":"IFERROR(INDEX('Competition Data'!$A$2:$A$2946, MATCH(0, INDEX(COUNTIF($A$2:A55, 'Competition Data'!$A$2:$A$2946), 0, 0), 0)), \"\")","v":"Cheetham Hill"}]
[{"$f":"IFERROR(INDEX('Competition Data'!$A$2:$A$2946, MATCH(0, INDEX(COUNTIF($A$2:A56, 'Competition Data'!$A$2:$A$2946), 0, 0), 0)), \"\")","v":"CHELSEA RD"}]
[{"$f":"IFERROR(INDEX('Competition Data'!$A$2:$A$2946, MATCH(0, INDEX(COUNTIF($A$2:A57, 'Competition Data'!$A$2:$A$2946), 0, 0), 0)), \"\")","v":"CHORLEY SOUTH"}]
[{"$f":"IFERROR(INDEX('Competition Data'!$A$2:$A$2946, MATCH(0, INDEX(COUNTIF($A$2:A58, 'Competition Data'!$A$2:$A$2946), 0, 0), 0)), \"\")","v":"CHORLEY ST"}]
[{"$f":"IFERROR(INDEX('Competition Data'!$A$2:$A$2946, MATCH(0, INDEX(COUNTIF($A$2:A59, 'Competition Data'!$A$2:$A$2946), 0, 0), 0)), \"\")","v":"Church"}]
[{"$f":"IFERROR(INDEX('Competition Data'!$A$2:$A$2946, MATCH(0, INDEX(COUNTIF($A$2:A60, 'Competition Data'!$A$2:$A$2946), 0, 0), 0)), \"\")","v":"CHURCH HILL"}]
[{"$f":"IFERROR(INDEX('Competition Data'!$A$2:$A$2946, MATCH(0, INDEX(COUNTIF($A$2:A61, 'Competition Data'!$A$2:$A$2946), 0, 0), 0)), \"\")","v":"Claughton"}]
[{"$f":"IFERROR(INDEX('Competition Data'!$A$2:$A$2946, MATCH(0, INDEX(COUNTIF($A$2:A62, 'Competition Data'!$A$2:$A$2946), 0, 0), 0)), \"\")","v":"CLEVELAND DR"}]
[{"$f":"IFERROR(INDEX('Competition Data'!$A$2:$A$2946, MATCH(0, INDEX(COUNTIF($A$2:A63, 'Competition Data'!$A$2:$A$2946), 0, 0), 0)), \"\")","v":"CLIFFORD ST"}]
[{"$f":"IFERROR(INDEX('Competition Data'!$A$2:$A$2946, MATCH(0, INDEX(COUNTIF($A$2:A64, 'Competition Data'!$A$2:$A$2946), 0, 0), 0)), \"\")","v":"CLIFTON ARMS (BLACKPOOL)"}]
[{"$f":"IFERROR(INDEX('Competition Data'!$A$2:$A$2946, MATCH(0, INDEX(COUNTIF($A$2:A65, 'Competition Data'!$A$2:$A$2946), 0, 0), 0)), \"\")","v":"Coniston"}]
[{"$f":"IFERROR(INDEX('Competition Data'!$A$2:$A$2946, MATCH(0, INDEX(COUNTIF($A$2:A66, 'Competition Data'!$A$2:$A$2946), 0, 0), 0)), \"\")","v":"COPLEY NO 1"}]
[{"$f":"IFERROR(INDEX('Competition Data'!$A$2:$A$2946, MATCH(0, INDEX(COUNTIF($A$2:A67, 'Competition Data'!$A$2:$A$2946), 0, 0), 0)), \"\")","v":"CROMWELL ST"}]
[{"$f":"IFERROR(INDEX('Competition Data'!$A$2:$A$2946, MATCH(0, INDEX(COUNTIF($A$2:A68, 'Competition Data'!$A$2:$A$2946), 0, 0), 0)), \"\")","v":"DIALSTONE LN"}]
[{"$f":"IFERROR(INDEX('Competition Data'!$A$2:$A$2946, MATCH(0, INDEX(COUNTIF($A$2:A69, 'Competition Data'!$A$2:$A$2946), 0, 0), 0)), \"\")","v":"DIDSBURY-WITHINGTON-FALLOWFIELD Group"}]
[{"$f":"IFERROR(INDEX('Competition Data'!$A$2:$A$2946, MATCH(0, INDEX(COUNTIF($A$2:A70, 'Competition Data'!$A$2:$A$2946), 0, 0), 0)), \"\")","v":"DORSET ST"}]

{"sheet":"result period from comp name","index":6,"n_rows":220,"n_cols":25,"rows_kept":220,"cut":false,"hidden":true,"merged":[]}
["Select_name","Result_period",null,null,null,null,null,null,null,null,null,null,null,null,null,null,null,null,null,"Data Validation Formula"]
["= Unique(Competition_name)'","= TOROW'",null,null,null,null,null,null,null,null,null,null,null,null,null,null,null,null,null,"Yealand",{"$f":"_xlfn.ANCHORARRAY( _xlfn.XLOOKUP(T2, select_name_for_result_period, result_period_from_select_name))","v":"FY27"},"FY28","S27","W26/27","W27/28"]
[{"$f":" _xlfn.UNIQUE(Competition_Name)","v":"AIRE DR (ADJ NO 2)"},{"$f":" _xlfn.TOROW(_xlfn.UNIQUE(_xlfn._xlws.FILTER(Period, Competition_Name=A3, \"Empty List\")))","v":"W26/27"},null,null,null,null,null,null,null,null,null,null,null,null,null,null,null,null,null,"https://www.youtube.com/watch?v=U3WnM2JCrVc"]
["ALDER RD",{"$f":" _xlfn.TOROW(_xlfn.UNIQUE(_xlfn._xlws.FILTER(Period, Competition_Name=A4, \"Empty List\")))","v":"W26/27"}]
["Alston",{"$f":" _xlfn.TOROW(_xlfn.UNIQUE(_xlfn._xlws.FILTER(Period, Competition_Name=A5, \"Empty List\")))","v":"FY27"},"FY28","S27","W26/27","W27/28"]
["AMBLESIDE-CALGARTH-MINTSFEET-WINDERMERE Group",{"$f":" _xlfn.TOROW(_xlfn.UNIQUE(_xlfn._xlws.FILTER(Period, Competition_Name=A6, \"Empty List\")))","v":"W26/27"},"W27/28"]
["Ancoats North T11 & T12",{"$f":" _xlfn.TOROW(_xlfn.UNIQUE(_xlfn._xlws.FILTER(Period, Competition_Name=A7, \"Empty List\")))","v":"W26/27"},"W27/28"]
["Ancoats North T11 & T12-CANNON ST-STRANGEWAYS-Ancoats North T14 Group",{"$f":" _xlfn.TOROW(_xlfn.UNIQUE(_xlfn._xlws.FILTER(Period, Competition_Name=A8, \"Empty List\")))","v":"W26/27"},"W27/28"]
["ANCOATS NORTH T14",{"$f":" _xlfn.TOROW(_xlfn.UNIQUE(_xlfn._xlws.FILTER(Period, Competition_Name=A9, \"Empty List\")))","v":"W27/28"}]
["ANDREW ST",{"$f":" _xlfn.TOROW(_xlfn.UNIQUE(_xlfn._xlws.FILTER(Period, Competition_Name=A10, \"Empty List\")))","v":"W26/27"}]
["Ardwick",{"$f":" _xlfn.TOROW(_xlfn.UNIQUE(_xlfn._xlws.FILTER(Period, Competition_Name=A11, \"Empty List\")))","v":"W26/27"},"W27/28"]
["ARMISTEAD ST",{"$f":" _xlfn.TOROW(_xlfn.UNIQUE(_xlfn._xlws.FILTER(Period, Competition_Name=A12, \"Empty List\")))","v":"W26/27"}]
["ASH GR",{"$f":" _xlfn.TOROW(_xlfn.UNIQUE(_xlfn._xlws.FILTER(Period, Competition_Name=A13, \"Empty List\")))","v":"W26/27"}]
["ASHLEY RD (NO 125)",{"$f":" _xlfn.TOROW(_xlfn.UNIQUE(_xlfn._xlws.FILTER(Period, Competition_Name=A14, \"Empty List\")))","v":"W26/27"}]
["Ashton (Golborne)",{"$f":" _xlfn.TOROW(_xlfn.UNIQUE(_xlfn._xlws.FILTER(Period, Competition_Name=A15, \"Empty List\")))","v":"W26/27"},"W27/28"]
["Ashton (Ribble)-MOORSIDE-CATTERALL WATERWORKS Group",{"$f":" _xlfn.TOROW(_xlfn.UNIQUE(_xlfn._xlws.FILTER(Period, Competition_Name=A16, \"Empty List\")))","v":"S27"},"W26/27","W27/28"]
["Ashton On Mersey",{"$f":" _xlfn.TOROW(_xlfn.UNIQUE(_xlfn._xlws.FILTER(Period, Competition_Name=A17, \"Empty List\")))","v":"W26/27"},"W27/28"]
["Askerton Castle",{"$f":" _xlfn.TOROW(_xlfn.UNIQUE(_xlfn._xlws.FILTER(Period, Competition_Name=A18, \"Empty List\")))","v":"FY27"},"FY28"]
["ATE GRIMSARGH",{"$f":" _xlfn.TOROW(_xlfn.UNIQUE(_xlfn._xlws.FILTER(Period, Competition_Name=A19, \"Empty List\")))","v":"W26/27"}]
["BACK BOWNESS RD",{"$f":" _xlfn.TOROW(_xlfn.UNIQUE(_xlfn._xlws.FILTER(Period, Competition_Name=A20, \"Empty List\")))","v":"W26/27"}]
["BACK HULTON LN S",{"$f":" _xlfn.TOROW(_xlfn.UNIQUE(_xlfn._xlws.FILTER(Period, Competition_Name=A21, \"Empty List\")))","v":"W26/27"}]
["BACK TOTTINGTON RD",{"$f":" _xlfn.TOROW(_xlfn.UNIQUE(_xlfn._xlws.FILTER(Period, Competition_Name=A22, \"Empty List\")))","v":"W26/27"}]
["BARBARA ST",{"$f":" _xlfn.TOROW(_xlfn.UNIQUE(_xlfn._xlws.FILTER(Period, Competition_Name=A23, \"Empty List\")))","v":"W27/28"}]
["BARLEY HALL",{"$f":" _xlfn.TOROW(_xlfn.UNIQUE(_xlfn._xlws.FILTER(Period, Competition_Name=A24, \"Empty List\")))","v":"W26/27"}]
["BARNFIELD RD",{"$f":" _xlfn.TOROW(_xlfn.UNIQUE(_xlfn._xlws.FILTER(Period, Competition_Name=A25, \"Empty List\")))","v":"W26/27"}]
["BARTON GRANGE",{"$f":" _xlfn.TOROW(_xlfn.UNIQUE(_xlfn._xlws.FILTER(Period, Competition_Name=A26, \"Empty List\")))","v":"W26/27"}]
["BCWW DUNCOMBE RD",{"$f":" _xlfn.TOROW(_xlfn.UNIQUE(_xlfn._xlws.FILTER(Period, Competition_Name=A27, \"Empty List\")))","v":"W26/27"}]
["BELL CL",{"$f":" _xlfn.TOROW(_xlfn.UNIQUE(_xlfn._xlws.FILTER(Period, Competition_Name=A28, \"Empty List\")))","v":"W26/27"}]
["Bentham",{"$f":" _xlfn.TOROW(_xlfn.UNIQUE(_xlfn._xlws.FILTER(Period, Competition_Name=A29, \"Empty List\")))","v":"FY27"},"FY28"]
["BERWICK AVE",{"$f":" _xlfn.TOROW(_xlfn.UNIQUE(_xlfn._xlws.FILTER(Period, Competition_Name=A30, \"Empty List\")))","v":"W26/27"}]
["BIRTWISTLE ST",{"$f":" _xlfn.TOROW(_xlfn.UNIQUE(_xlfn._xlws.FILTER(Period, Competition_Name=A31, \"Empty List\")))","v":"W26/27"}]
["BK HAROLD ST",{"$f":" _xlfn.TOROW(_xlfn.UNIQUE(_xlfn._xlws.FILTER(Period, Competition_Name=A32, \"Empty List\")))","v":"W26/27"}]
["BK MANCHESTER RD",{"$f":" _xlfn.TOROW(_xlfn.UNIQUE(_xlfn._xlws.FILTER(Period, Competition_Name=A33, \"Empty List\")))","v":"W26/27"}]
["Blackfriars",{"$f":" _xlfn.TOROW(_xlfn.UNIQUE(_xlfn._xlws.FILTER(Period, Competition_Name=A34, \"Empty List\")))","v":"W27/28"}]
["BLACKLEY-HARPURHEY Group",{"$f":" _xlfn.TOROW(_xlfn.UNIQUE(_xlfn._xlws.FILTER(Period, Competition_Name=A35, \"Empty List\")))","v":"W27/28"}]
["BOARS HEAD",{"$f":" _xlfn.TOROW(_xlfn.UNIQUE(_xlfn._xlws.FILTER(Period, Competition_Name=A36, \"Empty List\")))","v":"W26/27"}]
["BOLEFOOT",{"$f":" _xlfn.TOROW(_xlfn.UNIQUE(_xlfn._xlws.FILTER(Period, Competition_Name=A37, \"Empty List\")))","v":"W26/27"}]
["Bolton By Bowland",{"$f":" _xlfn.TOROW(_xlfn.UNIQUE(_xlfn._xlws.FILTER(Period, Competition_Name=A38, \"Empty List\")))","v":"FY27"},"FY28","W26/27","W27/28"]
["BRADFORD ST",{"$f":" _xlfn.TOROW(_xlfn.UNIQUE(_xlfn._xlws.FILTER(Period, Competition_Name=A39, \"Empty List\")))","v":"W26/27"}]
["BRANDLESHOLME RD N",{"$f":" _xlfn.TOROW(_xlfn.UNIQUE(_xlfn._xlws.FILTER(Period, Competition_Name=A40, \"Empty List\")))","v":"W26/27"}]
["BRIDGEWATER ST",{"$f":" _xlfn.TOROW(_xlfn.UNIQUE(_xlfn._xlws.FILTER(Period, Competition_Name=A41, \"Empty List\")))","v":"W26/27"}]
["BROADFIELD ST",{"$f":" _xlfn.TOROW(_xlfn.UNIQUE(_xlfn._xlws.FILTER(Period, Competition_Name=A42, \"Empty List\")))","v":"W26/27"}]
["BROOK TERR",{"$f":" _xlfn.TOROW(_xlfn.UNIQUE(_xlfn._xlws.FILTER(Period, Competition_Name=A43, \"Empty List\")))","v":"W26/27"}]
["BROOKES LN",{"$f":" _xlfn.TOROW(_xlfn.UNIQUE(_xlfn._xlws.FILTER(Period, Competition_Name=A44, \"Empty List\")))","v":"W26/27"}]
["BROOKFIELD ST",{"$f":" _xlfn.TOROW(_xlfn.UNIQUE(_xlfn._xlws.FILTER(Period, Competition_Name=A45, \"Empty List\")))","v":"W26/27"}]
["BROOMFIELD RD",{"$f":" _xlfn.TOROW(_xlfn.UNIQUE(_xlfn._xlws.FILTER(Period, Competition_Name=A46, \"Empty List\")))","v":"W26/27"}]
["BROWNLEY RD",{"$f":" _xlfn.TOROW(_xlfn.UNIQUE(_xlfn._xlws.FILTER(Period, Competition_Name=A47, \"Empty List\")))","v":"W26/27"}]
["BUCK ST",{"$f":" _xlfn.TOROW(_xlfn.UNIQUE(_xlfn._xlws.FILTER(Period, Competition_Name=A48, \"Empty List\")))","v":"W26/27"}]
["BULLS HEAD (WILPSHIRE)",{"$f":" _xlfn.TOROW(_xlfn.UNIQUE(_xlfn._xlws.FILTER(Period, Competition_Name=A49, \"Empty List\")))","v":"W26/27"}]
["Burrow Beck",{"$f":" _xlfn.TOROW(_xlfn.UNIQUE(_xlfn._xlws.FILTER(Period, Competition_Name=A50, \"Empty List\")))","v":"S27"},"W26/27","W27/28"]
["CAPONTREE-WESTLINTON-Morton Park & Pirelli Group",{"$f":" _xlfn.TOROW(_xlfn.UNIQUE(_xlfn._xlws.FILTER(Period, Competition_Name=A51, \"Empty List\")))","v":"S27"},"W26/27","W27/28"]
["Carlisle North BSP",{"$f":" _xlfn.TOROW(_xlfn.UNIQUE(_xlfn._xlws.FILTER(Period, Competition_Name=A52, \"Empty List\")))","v":"S27"}]
["CARLTON AVE",{"$f":" _xlfn.TOROW(_xlfn.UNIQUE(_xlfn._xlws.FILTER(Period, Competition_Name=A53, \"Empty List\")))","v":"W26/27"}]
["Catterall Waterworks",{"$f":" _xlfn.TOROW(_xlfn.UNIQUE(_xlfn._xlws.FILTER(Period, Competition_Name=A54, \"Empty List\")))","v":"FY27"},"FY28","S27","W26/27","W27/28"]
["CEDAR ST",{"$f":" _xlfn.TOROW(_xlfn.UNIQUE(_xlfn._xlws.FILTER(Period, Competition_Name=A55, \"Empty List\")))","v":"W26/27"}]
["Cheetham Hill",{"$f":" _xlfn.TOROW(_xlfn.UNIQUE(_xlfn._xlws.FILTER(Period, Competition_Name=A56, \"Empty List\")))","v":"W26/27"},"W27/28"]
["CHELSEA RD",{"$f":" _xlfn.TOROW(_xlfn.UNIQUE(_xlfn._xlws.FILTER(Period, Competition_Name=A57, \"Empty List\")))","v":"W26/27"}]
["CHORLEY SOUTH",{"$f":" _xlfn.TOROW(_xlfn.UNIQUE(_xlfn._xlws.FILTER(Period, Competition_Name=A58, \"Empty List\")))","v":"W27/28"}]
["CHORLEY ST",{"$f":" _xlfn.TOROW(_xlfn.UNIQUE(_xlfn._xlws.FILTER(Period, Competition_Name=A59, \"Empty List\")))","v":"W26/27"}]
["Church",{"$f":" _xlfn.TOROW(_xlfn.UNIQUE(_xlfn._xlws.FILTER(Period, Competition_Name=A60, \"Empty List\")))","v":"FY27"},"FY28"]
["CHURCH HILL",{"$f":" _xlfn.TOROW(_xlfn.UNIQUE(_xlfn._xlws.FILTER(Period, Competition_Name=A61, \"Empty List\")))","v":"W26/27"}]
["Claughton",{"$f":" _xlfn.TOROW(_xlfn.UNIQUE(_xlfn._xlws.FILTER(Period, Competition_Name=A62, \"Empty List\")))","v":"FY27"},"FY28"]
["CLEVELAND DR",{"$f":" _xlfn.TOROW(_xlfn.UNIQUE(_xlfn._xlws.FILTER(Period, Competition_Name=A63, \"Empty List\")))","v":"W26/27"}]
["CLIFFORD ST",{"$f":" _xlfn.TOROW(_xlfn.UNIQUE(_xlfn._xlws.FILTER(Period, Competition_Name=A64, \"Empty List\")))","v":"W26/27"}]
["CLIFTON ARMS (BLACKPOOL)",{"$f":" _xlfn.TOROW(_xlfn.UNIQUE(_xlfn._xlws.FILTER(Period, Competition_Name=A65, \"Empty List\")))","v":"W26/27"}]
["Coniston",{"$f":" _xlfn.TOROW(_xlfn.UNIQUE(_xlfn._xlws.FILTER(Period, Competition_Name=A66, \"Empty List\")))","v":"FY27"},"FY28","S27","W26/27","W27/28"]
["COPLEY NO 1",{"$f":" _xlfn.TOROW(_xlfn.UNIQUE(_xlfn._xlws.FILTER(Period, Competition_Name=A67, \"Empty List\")))","v":"W26/27"}]
["CROMWELL ST",{"$f":" _xlfn.TOROW(_xlfn.UNIQUE(_xlfn._xlws.FILTER(Period, Competition_Name=A68, \"Empty List\")))","v":"W26/27"}]
["DIALSTONE LN",{"$f":" _xlfn.TOROW(_xlfn.UNIQUE(_xlfn._xlws.FILTER(Period, Competition_Name=A69, \"Empty List\")))","v":"W26/27"}]
["DIDSBURY-WITHINGTON-FALLOWFIELD Group",{"$f":" _xlfn.TOROW(_xlfn.UNIQUE(_xlfn._xlws.FILTER(Period, Competition_Name=A70, \"Empty List\")))","v":"W26/27"},"W27/28"]
["DORSET ST",{"$f":" _xlfn.TOROW(_xlfn.UNIQUE(_xlfn._xlws.FILTER(Period, Competition_Name=A71, \"Empty List\")))","v":"W26/27"}]
["Dumplington",{"$f":" _xlfn.TOROW(_xlfn.UNIQUE(_xlfn._xlws.FILTER(Period, Competition_Name=A72, \"Empty List\")))","v":"S27"},"W27/28"]
["DUNKIRK AVE",{"$f":" _xlfn.TOROW(_xlfn.UNIQUE(_xlfn._xlws.FILTER(Period, Competition_Name=A73, \"Empty List\")))","v":"W26/27"}]
["Easton",{"$f":" _xlfn.TOROW(_xlfn.UNIQUE(_xlfn._xlws.FILTER(Period, Competition_Name=A74, \"Empty List\")))","v":"S27"},"W26/27","W27/28"]
["Egremont",{"$f":" _xlfn.TOROW(_xlfn.UNIQUE(_xlfn._xlws.FILTER(Period, Competition_Name=A75, \"Empty List\")))","v":"W26/27"},"W27/28"]
["EMPIRE MILL",{"$f":" _xlfn.TOROW(_xlfn.UNIQUE(_xlfn._xlws.FILTER(Period, Competition_Name=A76, \"Empty List\")))","v":"W26/27"}]
["ESKRICK ST",{"$f":" _xlfn.TOROW(_xlfn.UNIQUE(_xlfn._xlws.FILTER(Period, Competition_Name=A77, \"Empty List\")))","v":"W26/27"}]
["FAIRSNAPE DR",{"$f":" _xlfn.TOROW(_xlfn.UNIQUE(_xlfn._xlws.FILTER(Period, Competition_Name=A78, \"Empty List\")))","v":"W26/27"}]
["Fallowfield",{"$f":" _xlfn.TOROW(_xlfn.UNIQUE(_xlfn._xlws.FILTER(Period, Competition_Name=A79, \"Empty List\")))","v":"W27/28"}]
["FAR MOOR",{"$f":" _xlfn.TOROW(_xlfn.UNIQUE(_xlfn._xlws.FILTER(Period, Competition_Name=A80, \"Empty List\")))","v":"W26/27"}]
["Flat Lane",{"$f":" _xlfn.TOROW(_xlfn.UNIQUE(_xlfn._xlws.FILTER(Period, Competition_Name=A81, \"Empty List\")))","v":"FY27"},"FY28"]
["FLEET ST",{"$f":" _xlfn.TOROW(_xlfn.UNIQUE(_xlfn._xlws.FILTER(Period, Competition_Name=A82, \"Empty List\")))","v":"W26/27"}]
["Frederick Rd",{"$f":" _xlfn.TOROW(_xlfn.UNIQUE(_xlfn._xlws.FILTER(Period, Competition_Name=A83, \"Empty List\")))","v":"W27/28"}]
["Frederick Rd BSP",{"$f":" _xlfn.TOROW(_xlfn.UNIQUE(_xlfn._xlws.FILTER(Period, Competition_Name=A84, \"Empty List\")))","v":"S27"},"W26/27","W27/28"]
["FULSTONE MEWS",{"$f":" _xlfn.TOROW(_xlfn.UNIQUE(_xlfn._xlws.FILTER(Period, Competition_Name=A85, \"Empty List\")))","v":"W26/27"}]
["Gillsrow",{"$f":" _xlfn.TOROW(_xlfn.UNIQUE(_xlfn._xlws.FILTER(Period, Competition_Name=A86, \"Empty List\")))","v":"FY27"},"FY28"]
["GIRLS GRAMMAR SCHOOL",{"$f":" _xlfn.TOROW(_xlfn.UNIQUE(_xlfn._xlws.FILTER(Period, Competition_Name=A87, \"Empty List\")))","v":"W26/27"}]
["GLENMOOR RD",{"$f":" _xlfn.TOROW(_xlfn.UNIQUE(_xlfn._xlws.FILTER(Period, Competition_Name=A88, \"Empty List\")))","v":"W26/27"}]
["GOLDSMITH RD",{"$f":" _xlfn.TOROW(_xlfn.UNIQUE(_xlfn._xlws.FILTER(Period, Competition_Name=A89, \"Empty List\")))","v":"W26/27"}]
["GOODSHAW AVE",{"$f":" _xlfn.TOROW(_xlfn.UNIQUE(_xlfn._xlws.FILTER(Period, Competition_Name=A90, \"Empty List\")))","v":"W26/27"}]
["GRANGE PARK RD",{"$f":" _xlfn.TOROW(_xlfn.UNIQUE(_xlfn._xlws.FILTER(Period, Competition_Name=A91, \"Empty List\")))","v":"W26/27"}]
["GRASSCROFT CLOUGH",{"$f":" _xlfn.TOROW(_xlfn.UNIQUE(_xlfn._xlws.FILTER(Period, Competition_Name=A92, \"Empty List\")))","v":"W26/27"}]
["GRAYMARSH DR",{"$f":" _xlfn.TOROW(_xlfn.UNIQUE(_xlfn._xlws.FILTER(Period, Competition_Name=A93, \"Empty List\")))","v":"W26/27"}]
["Green St T12 & T13",{"$f":" _xlfn.TOROW(_xlfn.UNIQUE(_xlfn._xlws.FILTER(Period, Competition_Name=A94, \"Empty List\")))","v":"W27/28"}]
["GREENACRES RD",{"$f":" _xlfn.TOROW(_xlfn.UNIQUE(_xlfn._xlws.FILTER(Period, Competition_Name=A95, \"Empty List\")))","v":"W26/27"}]
["GREENBROOK ST BURY",{"$f":" _xlfn.TOROW(_xlfn.UNIQUE(_xlfn._xlws.FILTER(Period, Competition_Name=A96, \"Empty List\")))","v":"W26/27"}]
["GREENWOOD HS",{"$f":" _xlfn.TOROW(_xlfn.UNIQUE(_xlfn._xlws.FILTER(Period, Competition_Name=A97, \"Empty List\")))","v":"W26/27"}]
["HALL CROSS",{"$f":" _xlfn.TOROW(_xlfn.UNIQUE(_xlfn._xlws.FILTER(Period, Competition_Name=A98, \"Empty List\")))","v":"W27/28"}]
["Hattersley",{"$f":" _xlfn.TOROW(_xlfn.UNIQUE(_xlfn._xlws.FILTER(Period, Competition_Name=A99, \"Empty List\")))","v":"W26/27"},"W27/28"]
["HAWKSLEY TERR",{"$f":" _xlfn.TOROW(_xlfn.UNIQUE(_xlfn._xlws.FILTER(Period, Competition_Name=A100, \"Empty List\")))","v":"W26/27"}]
["HAWTHORNE AVE",{"$f":" _xlfn.TOROW(_xlfn.UNIQUE(_xlfn._xlws.FILTER(Period, Competition_Name=A101, \"Empty List\")))","v":"W26/27"}]
["HAYNES ST",{"$f":" _xlfn.TOROW(_xlfn.UNIQUE(_xlfn._xlws.FILTER(Period, Competition_Name=A102, \"Empty List\")))","v":"W26/27"}]
["HEALEYS CORNER",{"$f":" _xlfn.TOROW(_xlfn.UNIQUE(_xlfn._xlws.FILTER(Period, Competition_Name=A103, \"Empty List\")))","v":"W26/27"}]
["Helwith Bridge",{"$f":" _xlfn.TOROW(_xlfn.UNIQUE(_xlfn._xlws.FILTER(Period, Competition_Name=A104, \"Empty List\")))","v":"FY27"},"FY28"]
["HEMSWORTH RD",{"$f":" _xlfn.TOROW(_xlfn.UNIQUE(_xlfn._xlws.FILTER(Period, Competition_Name=A105, \"Empty List\")))","v":"W26/27"}]
["HIGHER WALTON",{"$f":" _xlfn.TOROW(_xlfn.UNIQUE(_xlfn._xlws.FILTER(Period, Competition_Name=A106, \"Empty List\")))","v":"W27/28"}]
["HIGHFIELD AVE (RR 28)",{"$f":" _xlfn.TOROW(_xlfn.UNIQUE(_xlfn._xlws.FILTER(Period, Competition_Name=A107, \"Empty List\")))","v":"W26/27"}]
["HUNT RD",{"$f":" _xlfn.TOROW(_xlfn.UNIQUE(_xlfn._xlws.FILTER(Period, Competition_Name=A108, \"Empty List\")))","v":"W26/27"}]
["HUNTERS RD",{"$f":" _xlfn.TOROW(_xlfn.UNIQUE(_xlfn._xlws.FILTER(Period, Competition_Name=A109, \"Empty List\")))","v":"W26/27"}]
["ILFORD ST",{"$f":" _xlfn.TOROW(_xlfn.UNIQUE(_xlfn._xlws.FILTER(Period, Competition_Name=A110, \"Empty List\")))","v":"W26/27"}]
["INCLINE RD",{"$f":" _xlfn.TOROW(_xlfn.UNIQUE(_xlfn._xlws.FILTER(Period, Competition_Name=A111, \"Empty List\")))","v":"W26/27"}]
["Ingleton",{"$f":" _xlfn.TOROW(_xlfn.UNIQUE(_xlfn._xlws.FILTER(Period, Competition_Name=A112, \"Empty List\")))","v":"FY27"},"FY28"]
["JOHNS AVE",{"$f":" _xlfn.TOROW(_xlfn.UNIQUE(_xlfn._xlws.FILTER(Period, Competition_Name=A113, \"Empty List\")))","v":"W26/27"}]
["Kendal",{"$f":" _xlfn.TOROW(_xlfn.UNIQUE(_xlfn._xlws.FILTER(Period, Competition_Name=A114, \"Empty List\")))","v":"W26/27"},"W27/28"]
["KENDAL DR",{"$f":" _xlfn.TOROW(_xlfn.UNIQUE(_xlfn._xlws.FILTER(Period, Competition_Name=A115, \"Empty List\")))","v":"W26/27"}]
["KINGSLEA RD",{"$f":" _xlfn.TOROW(_xlfn.UNIQUE(_xlfn._xlws.FILTER(Period, Competition_Name=A116, \"Empty List\")))","v":"W26/27"}]
["KINGSTON AVE_LANCASHIRE",{"$f":" _xlfn.TOROW(_xlfn.UNIQUE(_xlfn._xlws.FILTER(Period, Competition_Name=A117, \"Empty List\")))","v":"W26/27"}]
["KINGSTON AVE_MANCHESTER",{"$f":" _xlfn.TOROW(_xlfn.UNIQUE(_xlfn._xlws.FILTER(Period, Competition_Name=A118, \"Empty List\")))","v":"W26/27"}]
["KIRKMAN CL",{"$f":" _xlfn.TOROW(_xlfn.UNIQUE(_xlfn._xlws.FILTER(Period, Competition_Name=A119, \"Empty List\")))","v":"W26/27"}]
["LANCASTER PRIMARY",{"$f":" _xlfn.TOROW(_xlfn.UNIQUE(_xlfn._xlws.FILTER(Period, Competition_Name=A120, \"Empty List\")))","v":"W27/28"}]
["LANGLEY",{"$f":" _xlfn.TOROW(_xlfn.UNIQUE(_xlfn._xlws.FILTER(Period, Competition_Name=A121, \"Empty List\")))","v":"W26/27"}]
["LEYLAND RD",{"$f":" _xlfn.TOROW(_xlfn.UNIQUE(_xlfn._xlws.FILTER(Period, Competition_Name=A122, \"Empty List\")))","v":"W26/27"}]
["LINCOLN CL",{"$f":" _xlfn.TOROW(_xlfn.UNIQUE(_xlfn._xlws.FILTER(Period, Competition_Name=A123, \"Empty List\")))","v":"W26/27"}]
["Longsight",{"$f":" _xlfn.TOROW(_xlfn.UNIQUE(_xlfn._xlws.FILTER(Period, Competition_Name=A124, \"Empty List\")))","v":"W26/27"},"W27/28"]
["Longsight BSP",{"$f":" _xlfn.TOROW(_xlfn.UNIQUE(_xlfn._xlws.FILTER(Period, Competition_Name=A125, \"Empty List\")))","v":"S27"},"W26/27","W27/28"]
["LYONS FOLD",{"$f":" _xlfn.TOROW(_xlfn.UNIQUE(_xlfn._xlws.FILTER(Period, Competition_Name=A126, \"Empty List\")))","v":"W26/27"}]
["MAFEKING ST",{"$f":" _xlfn.TOROW(_xlfn.UNIQUE(_xlfn._xlws.FILTER(Period, Competition_Name=A127, \"Empty List\")))","v":"W26/27"}]
["MAPLE RD",{"$f":" _xlfn.TOROW(_xlfn.UNIQUE(_xlfn._xlws.FILTER(Period, Competition_Name=A128, \"Empty List\")))","v":"W26/27"}]
["MARLBOROUGH RD ENG WKS",{"$f":" _xlfn.TOROW(_xlfn.UNIQUE(_xlfn._xlws.FILTER(Period, Competition_Name=A129, \"Empty List\")))","v":"W26/27"}]
["Marple",{"$f":" _xlfn.TOROW(_xlfn.UNIQUE(_xlfn._xlws.FILTER(Period, Competition_Name=A130, \"Empty List\")))","v":"FY27"},"FY28"]
["MAY ST",{"$f":" _xlfn.TOROW(_xlfn.UNIQUE(_xlfn._xlws.FILTER(Period, Competition_Name=A131, \"Empty List\")))","v":"W26/27"}]
["MAYORLOWE AVE",{"$f":" _xlfn.TOROW(_xlfn.UNIQUE(_xlfn._xlws.FILTER(Period, Competition_Name=A132, \"Empty List\")))","v":"W26/27"}]
["Melling",{"$f":" _xlfn.TOROW(_xlfn.UNIQUE(_xlfn._xlws.FILTER(Period, Competition_Name=A133, \"Empty List\")))","v":"FY27"},"FY28"]
["MIDDLETON OLD RD",{"$f":" _xlfn.TOROW(_xlfn.UNIQUE(_xlfn._xlws.FILTER(Period, Competition_Name=A134, \"Empty List\")))","v":"W26/27"}]
["MIDWAY HOTEL",{"$f":" _xlfn.TOROW(_xlfn.UNIQUE(_xlfn._xlws.FILTER(Period, Competition_Name=A135, \"Empty List\")))","v":"W26/27"}]
["MILL ST",{"$f":" _xlfn.TOROW(_xlfn.UNIQUE(_xlfn._xlws.FILTER(Period, Competition_Name=A136, \"Empty List\")))","v":"W26/27"}]
["MILTON GR",{"$f":" _xlfn.TOROW(_xlfn.UNIQUE(_xlfn._xlws.FILTER(Period, Competition_Name=A137, \"Empty List\")))","v":"W26/27"}]
["Mintsfeet",{"$f":" _xlfn.TOROW(_xlfn.UNIQUE(_xlfn._xlws.FILTER(Period, Competition_Name=A138, \"Empty List\")))","v":"S27"},"W26/27","W27/28"]
["Moorside",{"$f":" _xlfn.TOROW(_xlfn.UNIQUE(_xlfn._xlws.FILTER(Period, Competition_Name=A139, \"Empty List\")))","v":"W27/28"}]
["MOSS LN SWINTON",{"$f":" _xlfn.TOROW(_xlfn.UNIQUE(_xlfn._xlws.FILTER(Period, Competition_Name=A140, \"Empty List\")))","v":"W26/27"}]
["Moss Side (Leyland) & Seven Stars",{"$f":" _xlfn.TOROW(_xlfn.UNIQUE(_xlfn._xlws.FILTER(Period, Competition_Name=A141, \"Empty List\")))","v":"W26/27"},"W27/28"]
["MOSS ST",{"$f":" _xlfn.TOROW(_xlfn.UNIQUE(_xlfn._xlws.FILTER(Period, Competition_Name=A142, \"Empty List\")))","v":"W26/27"}]
["Newbiggin on Lune",{"$f":" _xlfn.TOROW(_xlfn.UNIQUE(_xlfn._xlws.FILTER(Period, Competition_Name=A143, \"Empty List\")))","v":"FY27"},"FY28"]
["Newby",{"$f":" _xlfn.TOROW(_xlfn.UNIQUE(_xlfn._xlws.FILTER(Period, Competition_Name=A144, \"Empty List\")))","v":"FY27"},"FY28"]
["Newton",{"$f":" _xlfn.TOROW(_xlfn.UNIQUE(_xlfn._xlws.FILTER(Period, Competition_Name=A145, \"Empty List\")))","v":"S27"},"W26/27","W27/28"]
["Newtongate T11 & T12",{"$f":" _xlfn.TOROW(_xlfn.UNIQUE(_xlfn._xlws.FILTER(Period, Competition_Name=A146, \"Empty List\")))","v":"W26/27"},"W27/28"]
["Newtongate T13",{"$f":" _xlfn.TOROW(_xlfn.UNIQUE(_xlfn._xlws.FILTER(Period, Competition_Name=A147, \"Empty List\")))","v":"S27"},"W26/27","W27/28"]
["NORBURY ST",{"$f":" _xlfn.TOROW(_xlfn.UNIQUE(_xlfn._xlws.FILTER(Period, Competition_Name=A148, \"Empty List\")))","v":"W26/27"}]
["NORTH SCALE",{"$f":" _xlfn.TOROW(_xlfn.UNIQUE(_xlfn._xlws.FILTER(Period, Competition_Name=A149, \"Empty List\")))","v":"W26/27"}]
["NUTHURST RD 193",{"$f":" _xlfn.TOROW(_xlfn.UNIQUE(_xlfn._xlws.FILTER(Period, Competition_Name=A150, \"Empty List\")))","v":"W26/27"}]
["OLD HALL LN WORSLEY",{"$f":" _xlfn.TOROW(_xlfn.UNIQUE(_xlfn._xlws.FILTER(Period, Competition_Name=A151, \"Empty List\")))","v":"W26/27"}]
["OPENSHAW",{"$f":" _xlfn.TOROW(_xlfn.UNIQUE(_xlfn._xlws.FILTER(Period, Competition_Name=A152, \"Empty List\")))","v":"W27/28"}]
["PARKEND RD",{"$f":" _xlfn.TOROW(_xlfn.UNIQUE(_xlfn._xlws.FILTER(Period, Competition_Name=A153, \"Empty List\")))","v":"W26/27"}]
["Peel BSP",{"$f":" _xlfn.TOROW(_xlfn.UNIQUE(_xlfn._xlws.FILTER(Period, Competition_Name=A154, \"Empty List\")))","v":"W27/28"}]
["Peel St",{"$f":" _xlfn.TOROW(_xlfn.UNIQUE(_xlfn._xlws.FILTER(Period, Competition_Name=A155, \"Empty List\")))","v":"W27/28"}]
["Phillips Lane",{"$f":" _xlfn.TOROW(_xlfn.UNIQUE(_xlfn._xlws.FILTER(Period, Competition_Name=A156, \"Empty List\")))","v":"W26/27"},"W27/28"]
["PICKMERE RD",{"$f":" _xlfn.TOROW(_xlfn.UNIQUE(_xlfn._xlws.FILTER(Period, Competition_Name=A157, \"Empty List\")))","v":"W26/27"}]
["PILLING LN",{"$f":" _xlfn.TOROW(_xlfn.UNIQUE(_xlfn._xlws.FILTER(Period, Competition_Name=A158, \"Empty List\")))","v":"W26/27"}]
["PIMHOLE RD",{"$f":" _xlfn.TOROW(_xlfn.UNIQUE(_xlfn._xlws.FILTER(Period, Competition_Name=A159, \"Empty List\")))","v":"W26/27"}]
["PINEWOOD RD",{"$f":" _xlfn.TOROW(_xlfn.UNIQUE(_xlfn._xlws.FILTER(Period, Competition_Name=A160, \"Empty List\")))","v":"W26/27"}]
["PIPPIT LN",{"$f":" _xlfn.TOROW(_xlfn.UNIQUE(_xlfn._xlws.FILTER(Period, Competition_Name=A161, \"Empty List\")))","v":"W26/27"}]
["PITT ST",{"$f":" _xlfn.TOROW(_xlfn.UNIQUE(_xlfn._xlws.FILTER(Period, Competition_Name=A162, \"Empty List\")))","v":"W26/27"}]
["PLATT LN HOLY TRINITY",{"$f":" _xlfn.TOROW(_xlfn.UNIQUE(_xlfn._xlws.FILTER(Period, Competition_Name=A163, \"Empty List\")))","v":"W26/27"}]
["POPE LN",{"$f":" _xlfn.TOROW(_xlfn.UNIQUE(_xlfn._xlws.FILTER(Period, Competition_Name=A164, \"Empty List\")))","v":"W26/27"}]
["Queens Park",{"$f":" _xlfn.TOROW(_xlfn.UNIQUE(_xlfn._xlws.FILTER(Period, Competition_Name=A165, \"Empty List\")))","v":"W26/27"}]
["QUEENSWAY (WARTON)",{"$f":" _xlfn.TOROW(_xlfn.UNIQUE(_xlfn._xlws.FILTER(Period, Competition_Name=A166, \"Empty List\")))","v":"W26/27"}]
["REDESMERE DR",{"$f":" _xlfn.TOROW(_xlfn.UNIQUE(_xlfn._xlws.FILTER(Period, Competition_Name=A167, \"Empty List\")))","v":"W26/27"}]
["RIBBLESDALE",{"$f":" _xlfn.TOROW(_xlfn.UNIQUE(_xlfn._xlws.FILTER(Period, Competition_Name=A168, \"Empty List\")))","v":"W27/28"}]
["Risley",{"$f":" _xlfn.TOROW(_xlfn.UNIQUE(_xlfn._xlws.FILTER(Period, Competition_Name=A169, \"Empty List\")))","v":"W26/27"},"W27/28"]
["Romiley",{"$f":" _xlfn.TOROW(_xlfn.UNIQUE(_xlfn._xlws.FILTER(Period, Competition_Name=A170, \"Empty List\")))","v":"W26/27"},"W27/28"]
["ROSEWOOD AVE",{"$f":" _xlfn.TOROW(_xlfn.UNIQUE(_xlfn._xlws.FILTER(Period, Competition_Name=A171, \"Empty List\")))","v":"W26/27"}]
["Rossall",{"$f":" _xlfn.TOROW(_xlfn.UNIQUE(_xlfn._xlws.FILTER(Period, Competition_Name=A172, \"Empty List\")))","v":"FY27"},"FY28"]
["RUSSELL ST",{"$f":" _xlfn.TOROW(_xlfn.UNIQUE(_xlfn._xlws.FILTER(Period, Competition_Name=A173, \"Empty List\")))","v":"W26/27"}]
["SALE RD",{"$f":" _xlfn.TOROW(_xlfn.UNIQUE(_xlfn._xlws.FILTER(Period, Competition_Name=A174, \"Empty List\")))","v":"W26/27"}]
["SANDHURST AVE",{"$f":" _xlfn.TOROW(_xlfn.UNIQUE(_xlfn._xlws.FILTER(Period, Competition_Name=A175, \"Empty List\")))","v":"W26/27"}]
["SAVILLE RD",{"$f":" _xlfn.TOROW(_xlfn.UNIQUE(_xlfn._xlws.FILTER(Period, Competition_Name=A176, \"Empty List\")))","v":"W26/27"}]
["Scarisbrick",{"$f":" _xlfn.TOROW(_xlfn.UNIQUE(_xlfn._xlws.FILTER(Period, Competition_Name=A177, \"Empty List\")))","v":"FY27"},"FY28"]
["SCOTT DR",{"$f":" _xlfn.TOROW(_xlfn.UNIQUE(_xlfn._xlws.FILTER(Period, Competition_Name=A178, \"Empty List\")))","v":"W26/27"}]
["Sebergham",{"$f":" _xlfn.TOROW(_xlfn.UNIQUE(_xlfn._xlws.FILTER(Period, Competition_Name=A179, \"Empty List\")))","v":"FY27"},"FY28"]
["Sedbergh",{"$f":" _xlfn.TOROW(_xlfn.UNIQUE(_xlfn._xlws.FILTER(Period, Competition_Name=A180, \"Empty List\")))","v":"FY27"},"FY28"]
["Settle",{"$f":" _xlfn.TOROW(_xlfn.UNIQUE(_xlfn._xlws.FILTER(Period, Competition_Name=A181, \"Empty List\")))","v":"FY27"},"FY28","S27","W26/27","W27/28"]
["SHAWFIELD LN",{"$f":" _xlfn.TOROW(_xlfn.UNIQUE(_xlfn._xlws.FILTER(Period, Competition_Name=A182, \"Empty List\")))","v":"W26/27"}]
["SLADE HALL RD",{"$f":" _xlfn.TOROW(_xlfn.UNIQUE(_xlfn._xlws.FILTER(Period, Competition_Name=A183, \"Empty List\")))","v":"W26/27"}]
["SOUTH WEST MACC",{"$f":" _xlfn.TOROW(_xlfn.UNIQUE(_xlfn._xlws.FILTER(Period, Competition_Name=A184, \"Empty List\")))","v":"W27/28"}]
["SPA RD",{"$f":" _xlfn.TOROW(_xlfn.UNIQUE(_xlfn._xlws.FILTER(Period, Competition_Name=A185, \"Empty List\")))","v":"W26/27"}]
["SPENDMORE LN W",{"$f":" _xlfn.TOROW(_xlfn.UNIQUE(_xlfn._xlws.FILTER(Period, Competition_Name=A186, \"Empty List\")))","v":"W26/27"}]
["Spring Garden St 11kV-BURROW BECK-Spring Garden St 6.6kV Group",{"$f":" _xlfn.TOROW(_xlfn.UNIQUE(_xlfn._xlws.FILTER(Period, Competition_Name=A187, \"Empty List\")))","v":"S27"},"W26/27","W27/28"]
["SPRINGFIELD",{"$f":" _xlfn.TOROW(_xlfn.UNIQUE(_xlfn._xlws.FILTER(Period, Competition_Name=A188, \"Empty List\")))","v":"W26/27"}]
["ST ANDREWS AVE",{"$f":" _xlfn.TOROW(_xlfn.UNIQUE(_xlfn._xlws.FILTER(Period, Competition_Name=A189, \"Empty List\")))","v":"W26/27"}]
["ST ANDREWS ST",{"$f":" _xlfn.TOROW(_xlfn.UNIQUE(_xlfn._xlws.FILTER(Period, Competition_Name=A190, \"Empty List\")))","v":"W26/27"}]
["ST ANNES RD",{"$f":" _xlfn.TOROW(_xlfn.UNIQUE(_xlfn._xlws.FILTER(Period, Competition_Name=A191, \"Empty List\")))","v":"W26/27"}]
["ST JUDES",{"$f":" _xlfn.TOROW(_xlfn.UNIQUE(_xlfn._xlws.FILTER(Period, Competition_Name=A192, \"Empty List\")))","v":"W26/27"}]
["STOCK GR",{"$f":" _xlfn.TOROW(_xlfn.UNIQUE(_xlfn._xlws.FILTER(Period, Competition_Name=A193, \"Empty List\")))","v":"W26/27"}]
["STRAWBERRY BANK-HYNDBURN RD-CHURCH-KAY ST-BLACKBURN RD CLAYTON-Great Harwood Group",{"$f":" _xlfn.TOROW(_xlfn.UNIQUE(_xlfn._xlws.FILTER(Period, Competition_Name=A194, \"Empty List\")))","v":"W26/27"},"W27/28"]
["Stuart St",{"$f":" _xlfn.TOROW(_xlfn.UNIQUE(_xlfn._xlws.FILTER(Period, Competition_Name=A195, \"Empty List\")))","v":"W26/27"},"W27/28"]
["SYCAMORE EST",{"$f":" _xlfn.TOROW(_xlfn.UNIQUE(_xlfn._xlws.FILTER(Period, Competition_Name=A196, \"Empty List\")))","v":"W26/27"}]
["TATE ST",{"$f":" _xlfn.TOROW(_xlfn.UNIQUE(_xlfn._xlws.FILTER(Period, Competition_Name=A197, \"Empty List\")))","v":"W26/27"}]
["TRAMWAY RD",{"$f":" _xlfn.TOROW(_xlfn.UNIQUE(_xlfn._xlws.FILTER(Period, Competition_Name=A198, \"Empty List\")))","v":"W26/27"}]
["TURNBERRY DR",{"$f":" _xlfn.TOROW(_xlfn.UNIQUE(_xlfn._xlws.FILTER(Period, Competition_Name=A199, \"Empty List\")))","v":"W26/27"}]
["TWINING BROOK RD",{"$f":" _xlfn.TOROW(_xlfn.UNIQUE(_xlfn._xlws.FILTER(Period, Competition_Name=A200, \"Empty List\")))","v":"W26/27"}]
["ULLSWATER RD",{"$f":" _xlfn.TOROW(_xlfn.UNIQUE(_xlfn._xlws.FILTER(Period, Competition_Name=A201, \"Empty List\")))","v":"W26/27"}]
["UNION BRIDGE",{"$f":" _xlfn.TOROW(_xlfn.UNIQUE(_xlfn._xlws.FILTER(Period, Competition_Name=A202, \"Empty List\")))","v":"W26/27"}]
["UNION RD",{"$f":" _xlfn.TOROW(_xlfn.UNIQUE(_xlfn._xlws.FILTER(Period, Competition_Name=A203, \"Empty List\")))","v":"W26/27"}]
["Victoria Park",{"$f":" _xlfn.TOROW(_xlfn.UNIQUE(_xlfn._xlws.FILTER(Period, Competition_Name=A204, \"Empty List\")))","v":"S27"},"W26/27","W27/28"]
["VIEW RD",{"$f":" _xlfn.TOROW(_xlfn.UNIQUE(_xlfn._xlws.FILTER(Period, Competition_Name=A205, \"Empty List\")))","v":"W26/27"}]
["WALMSLEY AVE",{"$f":" _xlfn.TOROW(_xlfn.UNIQUE(_xlfn._xlws.FILTER(Period, Competition_Name=A206, \"Empty List\")))","v":"W26/27"}]
["WASH BROW",{"$f":" _xlfn.TOROW(_xlfn.UNIQUE(_xlfn._xlws.FILTER(Period, Competition_Name=A207, \"Empty List\")))","v":"W26/27"}]
["WASHINGTON ST",{"$f":" _xlfn.TOROW(_xlfn.UNIQUE(_xlfn._xlws.FILTER(Period, Competition_Name=A208, \"Empty List\")))","v":"W26/27"}]
["WELLINGTON RD",{"$f":" _xlfn.TOROW(_xlfn.UNIQUE(_xlfn._xlws.FILTER(Period, Competition_Name=A209, \"Empty List\")))","v":"W26/27"}]
["Westhoughton",{"$f":" _xlfn.TOROW(_xlfn.UNIQUE(_xlfn._xlws.FILTER(Period, Competition_Name=A210, \"Empty List\")))","v":"W27/28"}]
["Whasset",{"$f":" _xlfn.TOROW(_xlfn.UNIQUE(_xlfn._xlws.FILTER(Period, Competition_Name=A211, \"Empty List\")))","v":"S27"},"W27/28"]
["WHITE HORSE YARD",{"$f":" _xlfn.TOROW(_xlfn.UNIQUE(_xlfn._xlws.FILTER(Period, Competition_Name=A212, \"Empty List\")))","v":"W26/27"}]
["Wigan BSP",{"$f":" _xlfn.TOROW(_xlfn.UNIQUE(_xlfn._xlws.FILTER(Period, Competition_Name=A213, \"Empty List\")))","v":"S27"},"W26/27","W27/28"]
["WINDSOR WAY",{"$f":" _xlfn.TOROW(_xlfn.UNIQUE(_xlfn._xlws.FILTER(Period, Competition_Name=A214, \"Empty List\")))","v":"W26/27"}]
["WITHINGTON",{"$f":" _xlfn.TOROW(_xlfn.UNIQUE(_xlfn._xlws.FILTER(Period, Competition_Name=A215, \"Empty List\")))","v":"W27/28"}]
["WOODHOUSES O/D",{"$f":" _xlfn.TOROW(_xlfn.UNIQUE(_xlfn._xlws.FILTER(Period, Competition_Name=A216, \"Empty List\")))","v":"W26/27"}]
["WOODLANDS DR (B)",{"$f":" _xlfn.TOROW(_xlfn.UNIQUE(_xlfn._xlws.FILTER(Period, Competition_Name=A217, \"Empty List\")))","v":"W26/27"}]
["WORDSWORTH RD",{"$f":" _xlfn.TOROW(_xlfn.UNIQUE(_xlfn._xlws.FILTER(Period, Competition_Name=A218, \"Empty List\")))","v":"W26/27"}]
["Yealand",{"$f":" _xlfn.TOROW(_xlfn.UNIQUE(_xlfn._xlws.FILTER(Period, Competition_Name=A219, \"Empty List\")))","v":"FY27"},"FY28","S27","W26/27","W27/28"]
[0,{"$f":" _xlfn.TOROW(_xlfn.UNIQUE(_xlfn._xlws.FILTER(Period, Competition_Name=A220, \"Empty List\")))","v":0}]

{"sheet":"result type from comp name","index":7,"n_rows":222,"n_cols":21,"rows_kept":222,"cut":false,"hidden":true,"merged":[]}
["Select_name","Result_period",null,null,null,null,null,null,null,null,null,null,null,null,null,null,null,null,null,"Data Validation Formula"]
["= Unique(competition_type)'","= TOROW'",null,null,null,null,null,null,null,null,null,null,null,null,null,null,null,null,null,"moss lane",{"$f":"_xlfn.ANCHORARRAY( _xlfn.XLOOKUP(T4, select_name_for_result_type, result_type_from_select_name))","v":0}]
[{"$f":" _xlfn.UNIQUE(Competition_Name)","v":"AIRE DR (ADJ NO 2)"},{"$f":" _xlfn.TOROW(_xlfn.UNIQUE(_xlfn._xlws.FILTER(Competition_type, Competition_Name=A3, \"Empty List\")))","v":"Peak Reduction"},"Scheduled Utilisation"]
["ALDER RD",{"$f":" _xlfn.TOROW(_xlfn.UNIQUE(_xlfn._xlws.FILTER(Competition_type, Competition_Name=A4, \"Empty List\")))","v":"Peak Reduction"},"Scheduled Utilisation"]
["Alston",{"$f":" _xlfn.TOROW(_xlfn.UNIQUE(_xlfn._xlws.FILTER(Competition_type, Competition_Name=A5, \"Empty List\")))","v":"Operational Utilisation"},"Variable Availability + Operational Utilisation","Peak Reduction"]
["AMBLESIDE-CALGARTH-MINTSFEET-WINDERMERE Group",{"$f":" _xlfn.TOROW(_xlfn.UNIQUE(_xlfn._xlws.FILTER(Competition_type, Competition_Name=A6, \"Empty List\")))","v":"Variable Availability + Operational Utilisation"},"Peak Reduction"]
["Ancoats North T11 & T12",{"$f":" _xlfn.TOROW(_xlfn.UNIQUE(_xlfn._xlws.FILTER(Competition_type, Competition_Name=A7, \"Empty List\")))","v":"Variable Availability + Operational Utilisation"},"Peak Reduction"]
["Ancoats North T11 & T12-CANNON ST-STRANGEWAYS-Ancoats North T14 Group",{"$f":" _xlfn.TOROW(_xlfn.UNIQUE(_xlfn._xlws.FILTER(Competition_type, Competition_Name=A8, \"Empty List\")))","v":"Variable Availability + Operational Utilisation"},"Peak Reduction"]
["ANCOATS NORTH T14",{"$f":" _xlfn.TOROW(_xlfn.UNIQUE(_xlfn._xlws.FILTER(Competition_type, Competition_Name=A9, \"Empty List\")))","v":"Peak Reduction"},"Scheduled Utilisation"]
["ANDREW ST",{"$f":" _xlfn.TOROW(_xlfn.UNIQUE(_xlfn._xlws.FILTER(Competition_type, Competition_Name=A10, \"Empty List\")))","v":"Peak Reduction"},"Scheduled Utilisation"]
["Ardwick",{"$f":" _xlfn.TOROW(_xlfn.UNIQUE(_xlfn._xlws.FILTER(Competition_type, Competition_Name=A11, \"Empty List\")))","v":"Variable Availability + Operational Utilisation"},"Peak Reduction"]
["ARMISTEAD ST",{"$f":" _xlfn.TOROW(_xlfn.UNIQUE(_xlfn._xlws.FILTER(Competition_type, Competition_Name=A12, \"Empty List\")))","v":"Peak Reduction"},"Scheduled Utilisation"]
["ASH GR",{"$f":" _xlfn.TOROW(_xlfn.UNIQUE(_xlfn._xlws.FILTER(Competition_type, Competition_Name=A13, \"Empty List\")))","v":"Peak Reduction"},"Scheduled Utilisation"]
["ASHLEY RD (NO 125)",{"$f":" _xlfn.TOROW(_xlfn.UNIQUE(_xlfn._xlws.FILTER(Competition_type, Competition_Name=A14, \"Empty List\")))","v":"Peak Reduction"},"Scheduled Utilisation"]
["Ashton (Golborne)",{"$f":" _xlfn.TOROW(_xlfn.UNIQUE(_xlfn._xlws.FILTER(Competition_type, Competition_Name=A15, \"Empty List\")))","v":"Variable Availability + Operational Utilisation"},"Peak Reduction"]
["Ashton (Ribble)-MOORSIDE-CATTERALL WATERWORKS Group",{"$f":" _xlfn.TOROW(_xlfn.UNIQUE(_xlfn._xlws.FILTER(Competition_type, Competition_Name=A16, \"Empty List\")))","v":"Variable Availability + Operational Utilisation"},"Peak Reduction"]
["Ashton On Mersey",{"$f":" _xlfn.TOROW(_xlfn.UNIQUE(_xlfn._xlws.FILTER(Competition_type, Competition_Name=A17, \"Empty List\")))","v":"Variable Availability + Operational Utilisation"},"Peak Reduction"]
["Askerton Castle",{"$f":" _xlfn.TOROW(_xlfn.UNIQUE(_xlfn._xlws.FILTER(Competition_type, Competition_Name=A18, \"Empty List\")))","v":"Operational Utilisation"}]
["ATE GRIMSARGH",{"$f":" _xlfn.TOROW(_xlfn.UNIQUE(_xlfn._xlws.FILTER(Competition_type, Competition_Name=A19, \"Empty List\")))","v":"Peak Reduction"},"Scheduled Utilisation"]
["BACK BOWNESS RD",{"$f":" _xlfn.TOROW(_xlfn.UNIQUE(_xlfn._xlws.FILTER(Competition_type, Competition_Name=A20, \"Empty List\")))","v":"Peak Reduction"},"Scheduled Utilisation"]
["BACK HULTON LN S",{"$f":" _xlfn.TOROW(_xlfn.UNIQUE(_xlfn._xlws.FILTER(Competition_type, Competition_Name=A21, \"Empty List\")))","v":"Peak Reduction"},"Scheduled Utilisation"]
["BACK TOTTINGTON RD",{"$f":" _xlfn.TOROW(_xlfn.UNIQUE(_xlfn._xlws.FILTER(Competition_type, Competition_Name=A22, \"Empty List\")))","v":"Peak Reduction"},"Scheduled Utilisation"]
["BARBARA ST",{"$f":" _xlfn.TOROW(_xlfn.UNIQUE(_xlfn._xlws.FILTER(Competition_type, Competition_Name=A23, \"Empty List\")))","v":"Peak Reduction"},"Scheduled Utilisation"]
["BARLEY HALL",{"$f":" _xlfn.TOROW(_xlfn.UNIQUE(_xlfn._xlws.FILTER(Competition_type, Competition_Name=A24, \"Empty List\")))","v":"Peak Reduction"},"Scheduled Utilisation"]
["BARNFIELD RD",{"$f":" _xlfn.TOROW(_xlfn.UNIQUE(_xlfn._xlws.FILTER(Competition_type, Competition_Name=A25, \"Empty List\")))","v":"Peak Reduction"},"Scheduled Utilisation"]
["BARTON GRANGE",{"$f":" _xlfn.TOROW(_xlfn.UNIQUE(_xlfn._xlws.FILTER(Competition_type, Competition_Name=A26, \"Empty List\")))","v":"Peak Reduction"},"Scheduled Utilisation"]
["BCWW DUNCOMBE RD",{"$f":" _xlfn.TOROW(_xlfn.UNIQUE(_xlfn._xlws.FILTER(Competition_type, Competition_Name=A27, \"Empty List\")))","v":"Peak Reduction"},"Scheduled Utilisation"]
["BELL CL",{"$f":" _xlfn.TOROW(_xlfn.UNIQUE(_xlfn._xlws.FILTER(Competition_type, Competition_Name=A28, \"Empty List\")))","v":"Peak Reduction"},"Scheduled Utilisation"]
["Bentham",{"$f":" _xlfn.TOROW(_xlfn.UNIQUE(_xlfn._xlws.FILTER(Competition_type, Competition_Name=A29, \"Empty List\")))","v":"Operational Utilisation"}]
["BERWICK AVE",{"$f":" _xlfn.TOROW(_xlfn.UNIQUE(_xlfn._xlws.FILTER(Competition_type, Competition_Name=A30, \"Empty List\")))","v":"Peak Reduction"},"Scheduled Utilisation"]
["BIRTWISTLE ST",{"$f":" _xlfn.TOROW(_xlfn.UNIQUE(_xlfn._xlws.FILTER(Competition_type, Competition_Name=A31, \"Empty List\")))","v":"Peak Reduction"},"Scheduled Utilisation"]
["BK HAROLD ST",{"$f":" _xlfn.TOROW(_xlfn.UNIQUE(_xlfn._xlws.FILTER(Competition_type, Competition_Name=A32, \"Empty List\")))","v":"Peak Reduction"},"Scheduled Utilisation"]
["BK MANCHESTER RD",{"$f":" _xlfn.TOROW(_xlfn.UNIQUE(_xlfn._xlws.FILTER(Competition_type, Competition_Name=A33, \"Empty List\")))","v":"Peak Reduction"},"Scheduled Utilisation"]
["Blackfriars",{"$f":" _xlfn.TOROW(_xlfn.UNIQUE(_xlfn._xlws.FILTER(Competition_type, Competition_Name=A34, \"Empty List\")))","v":"Variable Availability + Operational Utilisation"},"Peak Reduction"]
["BLACKLEY-HARPURHEY Group",{"$f":" _xlfn.TOROW(_xlfn.UNIQUE(_xlfn._xlws.FILTER(Competition_type, Competition_Name=A35, \"Empty List\")))","v":"Variable Availability + Operational Utilisation"},"Peak Reduction"]
["BOARS HEAD",{"$f":" _xlfn.TOROW(_xlfn.UNIQUE(_xlfn._xlws.FILTER(Competition_type, Competition_Name=A36, \"Empty List\")))","v":"Peak Reduction"},"Scheduled Utilisation"]
["BOLEFOOT",{"$f":" _xlfn.TOROW(_xlfn.UNIQUE(_xlfn._xlws.FILTER(Competition_type, Competition_Name=A37, \"Empty List\")))","v":"Peak Reduction"},"Scheduled Utilisation"]
["Bolton By Bowland",{"$f":" _xlfn.TOROW(_xlfn.UNIQUE(_xlfn._xlws.FILTER(Competition_type, Competition_Name=A38, \"Empty List\")))","v":"Operational Utilisation"},"Variable Availability + Operational Utilisation","Peak Reduction"]
["BRADFORD ST",{"$f":" _xlfn.TOROW(_xlfn.UNIQUE(_xlfn._xlws.FILTER(Competition_type, Competition_Name=A39, \"Empty List\")))","v":"Peak Reduction"},"Scheduled Utilisation"]
["BRANDLESHOLME RD N",{"$f":" _xlfn.TOROW(_xlfn.UNIQUE(_xlfn._xlws.FILTER(Competition_type, Competition_Name=A40, \"Empty List\")))","v":"Peak Reduction"},"Scheduled Utilisation"]
["BRIDGEWATER ST",{"$f":" _xlfn.TOROW(_xlfn.UNIQUE(_xlfn._xlws.FILTER(Competition_type, Competition_Name=A41, \"Empty List\")))","v":"Peak Reduction"},"Scheduled Utilisation"]
["BROADFIELD ST",{"$f":" _xlfn.TOROW(_xlfn.UNIQUE(_xlfn._xlws.FILTER(Competition_type, Competition_Name=A42, \"Empty List\")))","v":"Peak Reduction"},"Scheduled Utilisation"]
["BROOK TERR",{"$f":" _xlfn.TOROW(_xlfn.UNIQUE(_xlfn._xlws.FILTER(Competition_type, Competition_Name=A43, \"Empty List\")))","v":"Peak Reduction"},"Scheduled Utilisation"]
["BROOKES LN",{"$f":" _xlfn.TOROW(_xlfn.UNIQUE(_xlfn._xlws.FILTER(Competition_type, Competition_Name=A44, \"Empty List\")))","v":"Peak Reduction"},"Scheduled Utilisation"]
["BROOKFIELD ST",{"$f":" _xlfn.TOROW(_xlfn.UNIQUE(_xlfn._xlws.FILTER(Competition_type, Competition_Name=A45, \"Empty List\")))","v":"Peak Reduction"},"Scheduled Utilisation"]
["BROOMFIELD RD",{"$f":" _xlfn.TOROW(_xlfn.UNIQUE(_xlfn._xlws.FILTER(Competition_type, Competition_Name=A46, \"Empty List\")))","v":"Peak Reduction"},"Scheduled Utilisation"]
["BROWNLEY RD",{"$f":" _xlfn.TOROW(_xlfn.UNIQUE(_xlfn._xlws.FILTER(Competition_type, Competition_Name=A47, \"Empty List\")))","v":"Peak Reduction"},"Scheduled Utilisation"]
["BUCK ST",{"$f":" _xlfn.TOROW(_xlfn.UNIQUE(_xlfn._xlws.FILTER(Competition_type, Competition_Name=A48, \"Empty List\")))","v":"Peak Reduction"},"Scheduled Utilisation"]
["BULLS HEAD (WILPSHIRE)",{"$f":" _xlfn.TOROW(_xlfn.UNIQUE(_xlfn._xlws.FILTER(Competition_type, Competition_Name=A49, \"Empty List\")))","v":"Peak Reduction"},"Scheduled Utilisation"]
["Burrow Beck",{"$f":" _xlfn.TOROW(_xlfn.UNIQUE(_xlfn._xlws.FILTER(Competition_type, Competition_Name=A50, \"Empty List\")))","v":"Variable Availability + Operational Utilisation"},"Peak Reduction"]
["CAPONTREE-WESTLINTON-Morton Park & Pirelli Group",{"$f":" _xlfn.TOROW(_xlfn.UNIQUE(_xlfn._xlws.FILTER(Competition_type, Competition_Name=A51, \"Empty List\")))","v":"Variable Availability + Operational Utilisation"},"Peak Reduction"]
["Carlisle North BSP",{"$f":" _xlfn.TOROW(_xlfn.UNIQUE(_xlfn._xlws.FILTER(Competition_type, Competition_Name=A52, \"Empty List\")))","v":"Variable Availability + Operational Utilisation"},"Peak Reduction"]
["CARLTON AVE",{"$f":" _xlfn.TOROW(_xlfn.UNIQUE(_xlfn._xlws.FILTER(Competition_type, Competition_Name=A53, \"Empty List\")))","v":"Peak Reduction"},"Scheduled Utilisation"]
["Catterall Waterworks",{"$f":" _xlfn.TOROW(_xlfn.UNIQUE(_xlfn._xlws.FILTER(Competition_type, Competition_Name=A54, \"Empty List\")))","v":"Operational Utilisation"},"Variable Availability + Operational Utilisation","Peak Reduction"]
["CEDAR ST",{"$f":" _xlfn.TOROW(_xlfn.UNIQUE(_xlfn._xlws.FILTER(Competition_type, Competition_Name=A55, \"Empty List\")))","v":"Peak Reduction"},"Scheduled Utilisation"]
["Cheetham Hill",{"$f":" _xlfn.TOROW(_xlfn.UNIQUE(_xlfn._xlws.FILTER(Competition_type, Competition_Name=A56, \"Empty List\")))","v":"Variable Availability + Operational Utilisation"},"Peak Reduction"]
["CHELSEA RD",{"$f":" _xlfn.TOROW(_xlfn.UNIQUE(_xlfn._xlws.FILTER(Competition_type, Competition_Name=A57, \"Empty List\")))","v":"Peak Reduction"},"Scheduled Utilisation"]
["CHORLEY SOUTH",{"$f":" _xlfn.TOROW(_xlfn.UNIQUE(_xlfn._xlws.FILTER(Competition_type, Competition_Name=A58, \"Empty List\")))","v":"Peak Reduction"},"Scheduled Utilisation"]
["CHORLEY ST",{"$f":" _xlfn.TOROW(_xlfn.UNIQUE(_xlfn._xlws.FILTER(Competition_type, Competition_Name=A59, \"Empty List\")))","v":"Peak Reduction"},"Scheduled Utilisation"]
["Church",{"$f":" _xlfn.TOROW(_xlfn.UNIQUE(_xlfn._xlws.FILTER(Competition_type, Competition_Name=A60, \"Empty List\")))","v":"Operational Utilisation"}]
["CHURCH HILL",{"$f":" _xlfn.TOROW(_xlfn.UNIQUE(_xlfn._xlws.FILTER(Competition_type, Competition_Name=A61, \"Empty List\")))","v":"Peak Reduction"},"Scheduled Utilisation"]
["Claughton",{"$f":" _xlfn.TOROW(_xlfn.UNIQUE(_xlfn._xlws.FILTER(Competition_type, Competition_Name=A62, \"Empty List\")))","v":"Operational Utilisation"}]
["CLEVELAND DR",{"$f":" _xlfn.TOROW(_xlfn.UNIQUE(_xlfn._xlws.FILTER(Competition_type, Competition_Name=A63, \"Empty List\")))","v":"Peak Reduction"},"Scheduled Utilisation"]
["CLIFFORD ST",{"$f":" _xlfn.TOROW(_xlfn.UNIQUE(_xlfn._xlws.FILTER(Competition_type, Competition_Name=A64, \"Empty List\")))","v":"Peak Reduction"},"Scheduled Utilisation"]
["CLIFTON ARMS (BLACKPOOL)",{"$f":" _xlfn.TOROW(_xlfn.UNIQUE(_xlfn._xlws.FILTER(Competition_type, Competition_Name=A65, \"Empty List\")))","v":"Peak Reduction"},"Scheduled Utilisation"]
["Coniston",{"$f":" _xlfn.TOROW(_xlfn.UNIQUE(_xlfn._xlws.FILTER(Competition_type, Competition_Name=A66, \"Empty List\")))","v":"Operational Utilisation"},"Variable Availability + Operational Utilisation","Peak Reduction"]
["COPLEY NO 1",{"$f":" _xlfn.TOROW(_xlfn.UNIQUE(_xlfn._xlws.FILTER(Competition_type, Competition_Name=A67, \"Empty List\")))","v":"Peak Reduction"},"Scheduled Utilisation"]
["CROMWELL ST",{"$f":" _xlfn.TOROW(_xlfn.UNIQUE(_xlfn._xlws.FILTER(Competition_type, Competition_Name=A68, \"Empty List\")))","v":"Peak Reduction"},"Scheduled Utilisation"]
["DIALSTONE LN",{"$f":" _xlfn.TOROW(_xlfn.UNIQUE(_xlfn._xlws.FILTER(Competition_type, Competition_Name=A69, \"Empty List\")))","v":"Peak Reduction"},"Scheduled Utilisation"]
["DIDSBURY-WITHINGTON-FALLOWFIELD Group",{"$f":" _xlfn.TOROW(_xlfn.UNIQUE(_xlfn._xlws.FILTER(Competition_type, Competition_Name=A70, \"Empty List\")))","v":"Variable Availability + Operational Utilisation"},"Peak Reduction"]
["DORSET ST",{"$f":" _xlfn.TOROW(_xlfn.UNIQUE(_xlfn._xlws.FILTER(Competition_type, Competition_Name=A71, \"Empty List\")))","v":"Peak Reduction"},"Scheduled Utilisation"]
["Dumplington",{"$f":" _xlfn.TOROW(_xlfn.UNIQUE(_xlfn._xlws.FILTER(Competition_type, Competition_Name=A72, \"Empty List\")))","v":"Variable Availability + Operational Utilisation"},"Peak Reduction"]
["DUNKIRK AVE",{"$f":" _xlfn.TOROW(_xlfn.UNIQUE(_xlfn._xlws.FILTER(Competition_type, Competition_Name=A73, \"Empty List\")))","v":"Peak Reduction"},"Scheduled Utilisation"]
["Easton",{"$f":" _xlfn.TOROW(_xlfn.UNIQUE(_xlfn._xlws.FILTER(Competition_type, Competition_Name=A74, \"Empty List\")))","v":"Variable Availability + Operational Utilisation"},"Peak Reduction"]
["Egremont",{"$f":" _xlfn.TOROW(_xlfn.UNIQUE(_xlfn._xlws.FILTER(Competition_type, Competition_Name=A75, \"Empty List\")))","v":"Variable Availability + Operational Utilisation"},"Peak Reduction"]
["EMPIRE MILL",{"$f":" _xlfn.TOROW(_xlfn.UNIQUE(_xlfn._xlws.FILTER(Competition_type, Competition_Name=A76, \"Empty List\")))","v":"Peak Reduction"},"Scheduled Utilisation"]
["ESKRICK ST",{"$f":" _xlfn.TOROW(_xlfn.UNIQUE(_xlfn._xlws.FILTER(Competition_type, Competition_Name=A77, \"Empty List\")))","v":"Peak Reduction"},"Scheduled Utilisation"]
["FAIRSNAPE DR",{"$f":" _xlfn.TOROW(_xlfn.UNIQUE(_xlfn._xlws.FILTER(Competition_type, Competition_Name=A78, \"Empty List\")))","v":"Peak Reduction"},"Scheduled Utilisation"]
["Fallowfield",{"$f":" _xlfn.TOROW(_xlfn.UNIQUE(_xlfn._xlws.FILTER(Competition_type, Competition_Name=A79, \"Empty List\")))","v":"Variable Availability + Operational Utilisation"},"Peak Reduction"]
["FAR MOOR",{"$f":" _xlfn.TOROW(_xlfn.UNIQUE(_xlfn._xlws.FILTER(Competition_type, Competition_Name=A80, \"Empty List\")))","v":"Peak Reduction"},"Scheduled Utilisation"]
["Flat Lane",{"$f":" _xlfn.TOROW(_xlfn.UNIQUE(_xlfn._xlws.FILTER(Competition_type, Competition_Name=A81, \"Empty List\")))","v":"Operational Utilisation"}]
["FLEET ST",{"$f":" _xlfn.TOROW(_xlfn.UNIQUE(_xlfn._xlws.FILTER(Competition_type, Competition_Name=A82, \"Empty List\")))","v":"Peak Reduction"},"Scheduled Utilisation"]
["Frederick Rd",{"$f":" _xlfn.TOROW(_xlfn.UNIQUE(_xlfn._xlws.FILTER(Competition_type, Competition_Name=A83, \"Empty List\")))","v":"Variable Availability + Operational Utilisation"},"Peak Reduction"]
["Frederick Rd BSP",{"$f":" _xlfn.TOROW(_xlfn.UNIQUE(_xlfn._xlws.FILTER(Competition_type, Competition_Name=A84, \"Empty List\")))","v":"Variable Availability + Operational Utilisation"},"Peak Reduction"]
["FULSTONE MEWS",{"$f":" _xlfn.TOROW(_xlfn.UNIQUE(_xlfn._xlws.FILTER(Competition_type, Competition_Name=A85, \"Empty List\")))","v":"Peak Reduction"},"Scheduled Utilisation"]
["Gillsrow",{"$f":" _xlfn.TOROW(_xlfn.UNIQUE(_xlfn._xlws.FILTER(Competition_type, Competition_Name=A86, \"Empty List\")))","v":"Operational Utilisation"}]
["GIRLS GRAMMAR SCHOOL",{"$f":" _xlfn.TOROW(_xlfn.UNIQUE(_xlfn._xlws.FILTER(Competition_type, Competition_Name=A87, \"Empty List\")))","v":"Peak Reduction"},"Scheduled Utilisation"]
["GLENMOOR RD",{"$f":" _xlfn.TOROW(_xlfn.UNIQUE(_xlfn._xlws.FILTER(Competition_type, Competition_Name=A88, \"Empty List\")))","v":"Peak Reduction"},"Scheduled Utilisation"]
["GOLDSMITH RD",{"$f":" _xlfn.TOROW(_xlfn.UNIQUE(_xlfn._xlws.FILTER(Competition_type, Competition_Name=A89, \"Empty List\")))","v":"Peak Reduction"},"Scheduled Utilisation"]
["GOODSHAW AVE",{"$f":" _xlfn.TOROW(_xlfn.UNIQUE(_xlfn._xlws.FILTER(Competition_type, Competition_Name=A90, \"Empty List\")))","v":"Peak Reduction"},"Scheduled Utilisation"]
["GRANGE PARK RD",{"$f":" _xlfn.TOROW(_xlfn.UNIQUE(_xlfn._xlws.FILTER(Competition_type, Competition_Name=A91, \"Empty List\")))","v":"Peak Reduction"},"Scheduled Utilisation"]
["GRASSCROFT CLOUGH",{"$f":" _xlfn.TOROW(_xlfn.UNIQUE(_xlfn._xlws.FILTER(Competition_type, Competition_Name=A92, \"Empty List\")))","v":"Peak Reduction"},"Scheduled Utilisation"]
["GRAYMARSH DR",{"$f":" _xlfn.TOROW(_xlfn.UNIQUE(_xlfn._xlws.FILTER(Competition_type, Competition_Name=A93, \"Empty List\")))","v":"Peak Reduction"},"Scheduled Utilisation"]
["Green St T12 & T13",{"$f":" _xlfn.TOROW(_xlfn.UNIQUE(_xlfn._xlws.FILTER(Competition_type, Competition_Name=A94, \"Empty List\")))","v":"Variable Availability + Operational Utilisation"},"Peak Reduction"]
["GREENACRES RD",{"$f":" _xlfn.TOROW(_xlfn.UNIQUE(_xlfn._xlws.FILTER(Competition_type, Competition_Name=A95, \"Empty List\")))","v":"Peak Reduction"},"Scheduled Utilisation"]
["GREENBROOK ST BURY",{"$f":" _xlfn.TOROW(_xlfn.UNIQUE(_xlfn._xlws.FILTER(Competition_type, Competition_Name=A96, \"Empty List\")))","v":"Peak Reduction"},"Scheduled Utilisation"]
["GREENWOOD HS",{"$f":" _xlfn.TOROW(_xlfn.UNIQUE(_xlfn._xlws.FILTER(Competition_type, Competition_Name=A97, \"Empty List\")))","v":"Peak Reduction"},"Scheduled Utilisation"]
["HALL CROSS",{"$f":" _xlfn.TOROW(_xlfn.UNIQUE(_xlfn._xlws.FILTER(Competition_type, Competition_Name=A98, \"Empty List\")))","v":"Peak Reduction"},"Scheduled Utilisation"]
["Hattersley",{"$f":" _xlfn.TOROW(_xlfn.UNIQUE(_xlfn._xlws.FILTER(Competition_type, Competition_Name=A99, \"Empty List\")))","v":"Variable Availability + Operational Utilisation"},"Peak Reduction"]
["HAWKSLEY TERR",{"$f":" _xlfn.TOROW(_xlfn.UNIQUE(_xlfn._xlws.FILTER(Competition_type, Competition_Name=A100, \"Empty List\")))","v":"Peak Reduction"},"Scheduled Utilisation"]
["HAWTHORNE AVE",{"$f":" _xlfn.TOROW(_xlfn.UNIQUE(_xlfn._xlws.FILTER(Competition_type, Competition_Name=A101, \"Empty List\")))","v":"Peak Reduction"},"Scheduled Utilisation"]
["HAYNES ST",{"$f":" _xlfn.TOROW(_xlfn.UNIQUE(_xlfn._xlws.FILTER(Competition_type, Competition_Name=A102, \"Empty List\")))","v":"Peak Reduction"},"Scheduled Utilisation"]
["HEALEYS CORNER",{"$f":" _xlfn.TOROW(_xlfn.UNIQUE(_xlfn._xlws.FILTER(Competition_type, Competition_Name=A103, \"Empty List\")))","v":"Peak Reduction"},"Scheduled Utilisation"]
["Helwith Bridge",{"$f":" _xlfn.TOROW(_xlfn.UNIQUE(_xlfn._xlws.FILTER(Competition_type, Competition_Name=A104, \"Empty List\")))","v":"Operational Utilisation"}]
["HEMSWORTH RD",{"$f":" _xlfn.TOROW(_xlfn.UNIQUE(_xlfn._xlws.FILTER(Competition_type, Competition_Name=A105, \"Empty List\")))","v":"Peak Reduction"},"Scheduled Utilisation"]
["HIGHER WALTON",{"$f":" _xlfn.TOROW(_xlfn.UNIQUE(_xlfn._xlws.FILTER(Competition_type, Competition_Name=A106, \"Empty List\")))","v":"Peak Reduction"},"Scheduled Utilisation"]
["HIGHFIELD AVE (RR 28)",{"$f":" _xlfn.TOROW(_xlfn.UNIQUE(_xlfn._xlws.FILTER(Competition_type, Competition_Name=A107, \"Empty List\")))","v":"Peak Reduction"},"Scheduled Utilisation"]
["HUNT RD",{"$f":" _xlfn.TOROW(_xlfn.UNIQUE(_xlfn._xlws.FILTER(Competition_type, Competition_Name=A108, \"Empty List\")))","v":"Peak Reduction"},"Scheduled Utilisation"]
["HUNTERS RD",{"$f":" _xlfn.TOROW(_xlfn.UNIQUE(_xlfn._xlws.FILTER(Competition_type, Competition_Name=A109, \"Empty List\")))","v":"Peak Reduction"},"Scheduled Utilisation"]
["ILFORD ST",{"$f":" _xlfn.TOROW(_xlfn.UNIQUE(_xlfn._xlws.FILTER(Competition_type, Competition_Name=A110, \"Empty List\")))","v":"Peak Reduction"},"Scheduled Utilisation"]
["INCLINE RD",{"$f":" _xlfn.TOROW(_xlfn.UNIQUE(_xlfn._xlws.FILTER(Competition_type, Competition_Name=A111, \"Empty List\")))","v":"Peak Reduction"},"Scheduled Utilisation"]
["Ingleton",{"$f":" _xlfn.TOROW(_xlfn.UNIQUE(_xlfn._xlws.FILTER(Competition_type, Competition_Name=A112, \"Empty List\")))","v":"Operational Utilisation"}]
["JOHNS AVE",{"$f":" _xlfn.TOROW(_xlfn.UNIQUE(_xlfn._xlws.FILTER(Competition_type, Competition_Name=A113, \"Empty List\")))","v":"Peak Reduction"},"Scheduled Utilisation"]
["Kendal",{"$f":" _xlfn.TOROW(_xlfn.UNIQUE(_xlfn._xlws.FILTER(Competition_type, Competition_Name=A114, \"Empty List\")))","v":"Variable Availability + Operational Utilisation"},"Peak Reduction"]
["KENDAL DR",{"$f":" _xlfn.TOROW(_xlfn.UNIQUE(_xlfn._xlws.FILTER(Competition_type, Competition_Name=A115, \"Empty List\")))","v":"Peak Reduction"},"Scheduled Utilisation"]
["KINGSLEA RD",{"$f":" _xlfn.TOROW(_xlfn.UNIQUE(_xlfn._xlws.FILTER(Competition_type, Competition_Name=A116, \"Empty List\")))","v":"Peak Reduction"},"Scheduled Utilisation"]
["KINGSTON AVE_LANCASHIRE",{"$f":" _xlfn.TOROW(_xlfn.UNIQUE(_xlfn._xlws.FILTER(Competition_type, Competition_Name=A117, \"Empty List\")))","v":"Peak Reduction"},"Scheduled Utilisation"]
["KINGSTON AVE_MANCHESTER",{"$f":" _xlfn.TOROW(_xlfn.UNIQUE(_xlfn._xlws.FILTER(Competition_type, Competition_Name=A118, \"Empty List\")))","v":"Peak Reduction"},"Scheduled Utilisation"]
["KIRKMAN CL",{"$f":" _xlfn.TOROW(_xlfn.UNIQUE(_xlfn._xlws.FILTER(Competition_type, Competition_Name=A119, \"Empty List\")))","v":"Peak Reduction"},"Scheduled Utilisation"]
["LANCASTER PRIMARY",{"$f":" _xlfn.TOROW(_xlfn.UNIQUE(_xlfn._xlws.FILTER(Competition_type, Competition_Name=A120, \"Empty List\")))","v":"Peak Reduction"},"Scheduled Utilisation"]
["LANGLEY",{"$f":" _xlfn.TOROW(_xlfn.UNIQUE(_xlfn._xlws.FILTER(Competition_type, Competition_Name=A121, \"Empty List\")))","v":"Peak Reduction"},"Scheduled Utilisation"]
["LEYLAND RD",{"$f":" _xlfn.TOROW(_xlfn.UNIQUE(_xlfn._xlws.FILTER(Competition_type, Competition_Name=A122, \"Empty List\")))","v":"Peak Reduction"},"Scheduled Utilisation"]
["LINCOLN CL",{"$f":" _xlfn.TOROW(_xlfn.UNIQUE(_xlfn._xlws.FILTER(Competition_type, Competition_Name=A123, \"Empty List\")))","v":"Peak Reduction"},"Scheduled Utilisation"]
["Longsight",{"$f":" _xlfn.TOROW(_xlfn.UNIQUE(_xlfn._xlws.FILTER(Competition_type, Competition_Name=A124, \"Empty List\")))","v":"Variable Availability + Operational Utilisation"},"Peak Reduction"]
["Longsight BSP",{"$f":" _xlfn.TOROW(_xlfn.UNIQUE(_xlfn._xlws.FILTER(Competition_type, Competition_Name=A125, \"Empty List\")))","v":"Variable Availability + Operational Utilisation"},"Peak Reduction"]
["LYONS FOLD",{"$f":" _xlfn.TOROW(_xlfn.UNIQUE(_xlfn._xlws.FILTER(Competition_type, Competition_Name=A126, \"Empty List\")))","v":"Peak Reduction"},"Scheduled Utilisation"]
["MAFEKING ST",{"$f":" _xlfn.TOROW(_xlfn.UNIQUE(_xlfn._xlws.FILTER(Competition_type, Competition_Name=A127, \"Empty List\")))","v":"Peak Reduction"},"Scheduled Utilisation"]
["MAPLE RD",{"$f":" _xlfn.TOROW(_xlfn.UNIQUE(_xlfn._xlws.FILTER(Competition_type, Competition_Name=A128, \"Empty List\")))","v":"Peak Reduction"},"Scheduled Utilisation"]
["MARLBOROUGH RD ENG WKS",{"$f":" _xlfn.TOROW(_xlfn.UNIQUE(_xlfn._xlws.FILTER(Competition_type, Competition_Name=A129, \"Empty List\")))","v":"Peak Reduction"},"Scheduled Utilisation"]
["Marple",{"$f":" _xlfn.TOROW(_xlfn.UNIQUE(_xlfn._xlws.FILTER(Competition_type, Competition_Name=A130, \"Empty List\")))","v":"Operational Utilisation"}]
["MAY ST",{"$f":" _xlfn.TOROW(_xlfn.UNIQUE(_xlfn._xlws.FILTER(Competition_type, Competition_Name=A131, \"Empty List\")))","v":"Peak Reduction"},"Scheduled Utilisation"]
["MAYORLOWE AVE",{"$f":" _xlfn.TOROW(_xlfn.UNIQUE(_xlfn._xlws.FILTER(Competition_type, Competition_Name=A132, \"Empty List\")))","v":"Peak Reduction"},"Scheduled Utilisation"]
["Melling",{"$f":" _xlfn.TOROW(_xlfn.UNIQUE(_xlfn._xlws.FILTER(Competition_type, Competition_Name=A133, \"Empty List\")))","v":"Operational Utilisation"}]
["MIDDLETON OLD RD",{"$f":" _xlfn.TOROW(_xlfn.UNIQUE(_xlfn._xlws.FILTER(Competition_type, Competition_Name=A134, \"Empty List\")))","v":"Peak Reduction"},"Scheduled Utilisation"]
["MIDWAY HOTEL",{"$f":" _xlfn.TOROW(_xlfn.UNIQUE(_xlfn._xlws.FILTER(Competition_type, Competition_Name=A135, \"Empty List\")))","v":"Peak Reduction"},"Scheduled Utilisation"]
["MILL ST",{"$f":" _xlfn.TOROW(_xlfn.UNIQUE(_xlfn._xlws.FILTER(Competition_type, Competition_Name=A136, \"Empty List\")))","v":"Peak Reduction"},"Scheduled Utilisation"]
["MILTON GR",{"$f":" _xlfn.TOROW(_xlfn.UNIQUE(_xlfn._xlws.FILTER(Competition_type, Competition_Name=A137, \"Empty List\")))","v":"Peak Reduction"},"Scheduled Utilisation"]
["Mintsfeet",{"$f":" _xlfn.TOROW(_xlfn.UNIQUE(_xlfn._xlws.FILTER(Competition_type, Competition_Name=A138, \"Empty List\")))","v":"Variable Availability + Operational Utilisation"},"Peak Reduction"]
["Moorside",{"$f":" _xlfn.TOROW(_xlfn.UNIQUE(_xlfn._xlws.FILTER(Competition_type, Competition_Name=A139, \"Empty List\")))","v":"Variable Availability + Operational Utilisation"},"Peak Reduction"]
["MOSS LN SWINTON",{"$f":" _xlfn.TOROW(_xlfn.UNIQUE(_xlfn._xlws.FILTER(Competition_type, Competition_Name=A140, \"Empty List\")))","v":"Peak Reduction"},"Scheduled Utilisation"]
["Moss Side (Leyland) & Seven Stars",{"$f":" _xlfn.TOROW(_xlfn.UNIQUE(_xlfn._xlws.FILTER(Competition_type, Competition_Name=A141, \"Empty List\")))","v":"Variable Availability + Operational Utilisation"},"Peak Reduction"]
["MOSS ST",{"$f":" _xlfn.TOROW(_xlfn.UNIQUE(_xlfn._xlws.FILTER(Competition_type, Competition_Name=A142, \"Empty List\")))","v":"Peak Reduction"},"Scheduled Utilisation"]
["Newbiggin on Lune",{"$f":" _xlfn.TOROW(_xlfn.UNIQUE(_xlfn._xlws.FILTER(Competition_type, Competition_Name=A143, \"Empty List\")))","v":"Operational Utilisation"}]
["Newby",{"$f":" _xlfn.TOROW(_xlfn.UNIQUE(_xlfn._xlws.FILTER(Competition_type, Competition_Name=A144, \"Empty List\")))","v":"Operational Utilisation"}]
["Newton",{"$f":" _xlfn.TOROW(_xlfn.UNIQUE(_xlfn._xlws.FILTER(Competition_type, Competition_Name=A145, \"Empty List\")))","v":"Variable Availability + Operational Utilisation"},"Peak Reduction"]
["Newtongate T11 & T12",{"$f":" _xlfn.TOROW(_xlfn.UNIQUE(_xlfn._xlws.FILTER(Competition_type, Competition_Name=A146, \"Empty List\")))","v":"Variable Availability + Operational Utilisation"},"Peak Reduction"]
["Newtongate T13",{"$f":" _xlfn.TOROW(_xlfn.UNIQUE(_xlfn._xlws.FILTER(Competition_type, Competition_Name=A147, \"Empty List\")))","v":"Variable Availability + Operational Utilisation"},"Peak Reduction"]
["NORBURY ST",{"$f":" _xlfn.TOROW(_xlfn.UNIQUE(_xlfn._xlws.FILTER(Competition_type, Competition_Name=A148, \"Empty List\")))","v":"Peak Reduction"},"Scheduled Utilisation"]
["NORTH SCALE",{"$f":" _xlfn.TOROW(_xlfn.UNIQUE(_xlfn._xlws.FILTER(Competition_type, Competition_Name=A149, \"Empty List\")))","v":"Peak Reduction"},"Scheduled Utilisation"]
["NUTHURST RD 193",{"$f":" _xlfn.TOROW(_xlfn.UNIQUE(_xlfn._xlws.FILTER(Competition_type, Competition_Name=A150, \"Empty List\")))","v":"Peak Reduction"},"Scheduled Utilisation"]
["OLD HALL LN WORSLEY",{"$f":" _xlfn.TOROW(_xlfn.UNIQUE(_xlfn._xlws.FILTER(Competition_type, Competition_Name=A151, \"Empty List\")))","v":"Peak Reduction"},"Scheduled Utilisation"]
["OPENSHAW",{"$f":" _xlfn.TOROW(_xlfn.UNIQUE(_xlfn._xlws.FILTER(Competition_type, Competition_Name=A152, \"Empty List\")))","v":"Peak Reduction"},"Scheduled Utilisation"]
["PARKEND RD",{"$f":" _xlfn.TOROW(_xlfn.UNIQUE(_xlfn._xlws.FILTER(Competition_type, Competition_Name=A153, \"Empty List\")))","v":"Peak Reduction"},"Scheduled Utilisation"]
["Peel BSP",{"$f":" _xlfn.TOROW(_xlfn.UNIQUE(_xlfn._xlws.FILTER(Competition_type, Competition_Name=A154, \"Empty List\")))","v":"Variable Availability + Operational Utilisation"},"Peak Reduction"]
["Peel St",{"$f":" _xlfn.TOROW(_xlfn.UNIQUE(_xlfn._xlws.FILTER(Competition_type, Competition_Name=A155, \"Empty List\")))","v":"Variable Availability + Operational Utilisation"},"Peak Reduction"]
["Phillips Lane",{"$f":" _xlfn.TOROW(_xlfn.UNIQUE(_xlfn._xlws.FILTER(Competition_type, Competition_Name=A156, \"Empty List\")))","v":"Variable Availability + Operational Utilisation"},"Peak Reduction"]
["PICKMERE RD",{"$f":" _xlfn.TOROW(_xlfn.UNIQUE(_xlfn._xlws.FILTER(Competition_type, Competition_Name=A157, \"Empty List\")))","v":"Peak Reduction"},"Scheduled Utilisation"]
["PILLING LN",{"$f":" _xlfn.TOROW(_xlfn.UNIQUE(_xlfn._xlws.FILTER(Competition_type, Competition_Name=A158, \"Empty List\")))","v":"Peak Reduction"},"Scheduled Utilisation"]
["PIMHOLE RD",{"$f":" _xlfn.TOROW(_xlfn.UNIQUE(_xlfn._xlws.FILTER(Competition_type, Competition_Name=A159, \"Empty List\")))","v":"Peak Reduction"},"Scheduled Utilisation"]
["PINEWOOD RD",{"$f":" _xlfn.TOROW(_xlfn.UNIQUE(_xlfn._xlws.FILTER(Competition_type, Competition_Name=A160, \"Empty List\")))","v":"Peak Reduction"},"Scheduled Utilisation"]
["PIPPIT LN",{"$f":" _xlfn.TOROW(_xlfn.UNIQUE(_xlfn._xlws.FILTER(Competition_type, Competition_Name=A161, \"Empty List\")))","v":"Peak Reduction"},"Scheduled Utilisation"]
["PITT ST",{"$f":" _xlfn.TOROW(_xlfn.UNIQUE(_xlfn._xlws.FILTER(Competition_type, Competition_Name=A162, \"Empty List\")))","v":"Peak Reduction"},"Scheduled Utilisation"]
["PLATT LN HOLY TRINITY",{"$f":" _xlfn.TOROW(_xlfn.UNIQUE(_xlfn._xlws.FILTER(Competition_type, Competition_Name=A163, \"Empty List\")))","v":"Peak Reduction"},"Scheduled Utilisation"]
["POPE LN",{"$f":" _xlfn.TOROW(_xlfn.UNIQUE(_xlfn._xlws.FILTER(Competition_type, Competition_Name=A164, \"Empty List\")))","v":"Peak Reduction"},"Scheduled Utilisation"]
["Queens Park",{"$f":" _xlfn.TOROW(_xlfn.UNIQUE(_xlfn._xlws.FILTER(Competition_type, Competition_Name=A165, \"Empty List\")))","v":"Variable Availability + Operational Utilisation"},"Peak Reduction"]
["QUEENSWAY (WARTON)",{"$f":" _xlfn.TOROW(_xlfn.UNIQUE(_xlfn._xlws.FILTER(Competition_type, Competition_Name=A166, \"Empty List\")))","v":"Peak Reduction"},"Scheduled Utilisation"]
["REDESMERE DR",{"$f":" _xlfn.TOROW(_xlfn.UNIQUE(_xlfn._xlws.FILTER(Competition_type, Competition_Name=A167, \"Empty List\")))","v":"Peak Reduction"},"Scheduled Utilisation"]
["RIBBLESDALE",{"$f":" _xlfn.TOROW(_xlfn.UNIQUE(_xlfn._xlws.FILTER(Competition_type, Competition_Name=A168, \"Empty List\")))","v":"Peak Reduction"},"Scheduled Utilisation"]
["Risley",{"$f":" _xlfn.TOROW(_xlfn.UNIQUE(_xlfn._xlws.FILTER(Competition_type, Competition_Name=A169, \"Empty List\")))","v":"Variable Availability + Operational Utilisation"},"Peak Reduction"]
["Romiley",{"$f":" _xlfn.TOROW(_xlfn.UNIQUE(_xlfn._xlws.FILTER(Competition_type, Competition_Name=A170, \"Empty List\")))","v":"Variable Availability + Operational Utilisation"},"Peak Reduction"]
["ROSEWOOD AVE",{"$f":" _xlfn.TOROW(_xlfn.UNIQUE(_xlfn._xlws.FILTER(Competition_type, Competition_Name=A171, \"Empty List\")))","v":"Peak Reduction"},"Scheduled Utilisation"]
["Rossall",{"$f":" _xlfn.TOROW(_xlfn.UNIQUE(_xlfn._xlws.FILTER(Competition_type, Competition_Name=A172, \"Empty List\")))","v":"Operational Utilisation"}]
["RUSSELL ST",{"$f":" _xlfn.TOROW(_xlfn.UNIQUE(_xlfn._xlws.FILTER(Competition_type, Competition_Name=A173, \"Empty List\")))","v":"Peak Reduction"},"Scheduled Utilisation"]
["SALE RD",{"$f":" _xlfn.TOROW(_xlfn.UNIQUE(_xlfn._xlws.FILTER(Competition_type, Competition_Name=A174, \"Empty List\")))","v":"Peak Reduction"},"Scheduled Utilisation"]
["SANDHURST AVE",{"$f":" _xlfn.TOROW(_xlfn.UNIQUE(_xlfn._xlws.FILTER(Competition_type, Competition_Name=A175, \"Empty List\")))","v":"Peak Reduction"},"Scheduled Utilisation"]
["SAVILLE RD",{"$f":" _xlfn.TOROW(_xlfn.UNIQUE(_xlfn._xlws.FILTER(Competition_type, Competition_Name=A176, \"Empty List\")))","v":"Peak Reduction"},"Scheduled Utilisation"]
["Scarisbrick",{"$f":" _xlfn.TOROW(_xlfn.UNIQUE(_xlfn._xlws.FILTER(Competition_type, Competition_Name=A177, \"Empty List\")))","v":"Operational Utilisation"}]
["SCOTT DR",{"$f":" _xlfn.TOROW(_xlfn.UNIQUE(_xlfn._xlws.FILTER(Competition_type, Competition_Name=A178, \"Empty List\")))","v":"Peak Reduction"},"Scheduled Utilisation"]
["Sebergham",{"$f":" _xlfn.TOROW(_xlfn.UNIQUE(_xlfn._xlws.FILTER(Competition_type, Competition_Name=A179, \"Empty List\")))","v":"Operational Utilisation"}]
["Sedbergh",{"$f":" _xlfn.TOROW(_xlfn.UNIQUE(_xlfn._xlws.FILTER(Competition_type, Competition_Name=A180, \"Empty List\")))","v":"Operational Utilisation"}]
["Settle",{"$f":" _xlfn.TOROW(_xlfn.UNIQUE(_xlfn._xlws.FILTER(Competition_type, Competition_Name=A181, \"Empty List\")))","v":"Operational Utilisation"},"Variable Availability + Operational Utilisation","Peak Reduction"]
["SHAWFIELD LN",{"$f":" _xlfn.TOROW(_xlfn.UNIQUE(_xlfn._xlws.FILTER(Competition_type, Competition_Name=A182, \"Empty List\")))","v":"Peak Reduction"},"Scheduled Utilisation"]
["SLADE HALL RD",{"$f":" _xlfn.TOROW(_xlfn.UNIQUE(_xlfn._xlws.FILTER(Competition_type, Competition_Name=A183, \"Empty List\")))","v":"Peak Reduction"},"Scheduled Utilisation"]
["SOUTH WEST MACC",{"$f":" _xlfn.TOROW(_xlfn.UNIQUE(_xlfn._xlws.FILTER(Competition_type, Competition_Name=A184, \"Empty List\")))","v":"Peak Reduction"},"Scheduled Utilisation"]
["SPA RD",{"$f":" _xlfn.TOROW(_xlfn.UNIQUE(_xlfn._xlws.FILTER(Competition_type, Competition_Name=A185, \"Empty List\")))","v":"Peak Reduction"},"Scheduled Utilisation"]
["SPENDMORE LN W",{"$f":" _xlfn.TOROW(_xlfn.UNIQUE(_xlfn._xlws.FILTER(Competition_type, Competition_Name=A186, \"Empty List\")))","v":"Peak Reduction"},"Scheduled Utilisation"]
["Spring Garden St 11kV-BURROW BECK-Spring Garden St 6.6kV Group",{"$f":" _xlfn.TOROW(_xlfn.UNIQUE(_xlfn._xlws.FILTER(Competition_type, Competition_Name=A187, \"Empty List\")))","v":"Variable Availability + Operational Utilisation"},"Peak Reduction"]
["SPRINGFIELD",{"$f":" _xlfn.TOROW(_xlfn.UNIQUE(_xlfn._xlws.FILTER(Competition_type, Competition_Name=A188, \"Empty List\")))","v":"Peak Reduction"},"Scheduled Utilisation"]
["ST ANDREWS AVE",{"$f":" _xlfn.TOROW(_xlfn.UNIQUE(_xlfn._xlws.FILTER(Competition_type, Competition_Name=A189, \"Empty List\")))","v":"Peak Reduction"},"Scheduled Utilisation"]
["ST ANDREWS ST",{"$f":" _xlfn.TOROW(_xlfn.UNIQUE(_xlfn._xlws.FILTER(Competition_type, Competition_Name=A190, \"Empty List\")))","v":"Peak Reduction"},"Scheduled Utilisation"]
["ST ANNES RD",{"$f":" _xlfn.TOROW(_xlfn.UNIQUE(_xlfn._xlws.FILTER(Competition_type, Competition_Name=A191, \"Empty List\")))","v":"Peak Reduction"},"Scheduled Utilisation"]
["ST JUDES",{"$f":" _xlfn.TOROW(_xlfn.UNIQUE(_xlfn._xlws.FILTER(Competition_type, Competition_Name=A192, \"Empty List\")))","v":"Peak Reduction"},"Scheduled Utilisation"]
["STOCK GR",{"$f":" _xlfn.TOROW(_xlfn.UNIQUE(_xlfn._xlws.FILTER(Competition_type, Competition_Name=A193, \"Empty List\")))","v":"Peak Reduction"},"Scheduled Utilisation"]
["STRAWBERRY BANK-HYNDBURN RD-CHURCH-KAY ST-BLACKBURN RD CLAYTON-Great Harwood Group",{"$f":" _xlfn.TOROW(_xlfn.UNIQUE(_xlfn._xlws.FILTER(Competition_type, Competition_Name=A194, \"Empty List\")))","v":"Variable Availability + Operational Utilisation"},"Peak Reduction"]
["Stuart St",{"$f":" _xlfn.TOROW(_xlfn.UNIQUE(_xlfn._xlws.FILTER(Competition_type, Competition_Name=A195, \"Empty List\")))","v":"Variable Availability + Operational Utilisation"},"Peak Reduction"]
["SYCAMORE EST",{"$f":" _xlfn.TOROW(_xlfn.UNIQUE(_xlfn._xlws.FILTER(Competition_type, Competition_Name=A196, \"Empty List\")))","v":"Peak Reduction"},"Scheduled Utilisation"]
["TATE ST",{"$f":" _xlfn.TOROW(_xlfn.UNIQUE(_xlfn._xlws.FILTER(Competition_type, Competition_Name=A197, \"Empty List\")))","v":"Peak Reduction"},"Scheduled Utilisation"]
["TRAMWAY RD",{"$f":" _xlfn.TOROW(_xlfn.UNIQUE(_xlfn._xlws.FILTER(Competition_type, Competition_Name=A198, \"Empty List\")))","v":"Peak Reduction"},"Scheduled Utilisation"]
["TURNBERRY DR",{"$f":" _xlfn.TOROW(_xlfn.UNIQUE(_xlfn._xlws.FILTER(Competition_type, Competition_Name=A199, \"Empty List\")))","v":"Peak Reduction"},"Scheduled Utilisation"]
["TWINING BROOK RD",{"$f":" _xlfn.TOROW(_xlfn.UNIQUE(_xlfn._xlws.FILTER(Competition_type, Competition_Name=A200, \"Empty List\")))","v":"Peak Reduction"},"Scheduled Utilisation"]
["ULLSWATER RD",{"$f":" _xlfn.TOROW(_xlfn.UNIQUE(_xlfn._xlws.FILTER(Competition_type, Competition_Name=A201, \"Empty List\")))","v":"Peak Reduction"},"Scheduled Utilisation"]
["UNION BRIDGE",{"$f":" _xlfn.TOROW(_xlfn.UNIQUE(_xlfn._xlws.FILTER(Competition_type, Competition_Name=A202, \"Empty List\")))","v":"Peak Reduction"},"Scheduled Utilisation"]
["UNION RD",{"$f":" _xlfn.TOROW(_xlfn.UNIQUE(_xlfn._xlws.FILTER(Competition_type, Competition_Name=A203, \"Empty List\")))","v":"Peak Reduction"},"Scheduled Utilisation"]
["Victoria Park",{"$f":" _xlfn.TOROW(_xlfn.UNIQUE(_xlfn._xlws.FILTER(Competition_type, Competition_Name=A204, \"Empty List\")))","v":"Variable Availability + Operational Utilisation"},"Peak Reduction"]
["VIEW RD",{"$f":" _xlfn.TOROW(_xlfn.UNIQUE(_xlfn._xlws.FILTER(Competition_type, Competition_Name=A205, \"Empty List\")))","v":"Peak Reduction"},"Scheduled Utilisation"]
["WALMSLEY AVE",{"$f":" _xlfn.TOROW(_xlfn.UNIQUE(_xlfn._xlws.FILTER(Competition_type, Competition_Name=A206, \"Empty List\")))","v":"Peak Reduction"},"Scheduled Utilisation"]
["WASH BROW",{"$f":" _xlfn.TOROW(_xlfn.UNIQUE(_xlfn._xlws.FILTER(Competition_type, Competition_Name=A207, \"Empty List\")))","v":"Peak Reduction"},"Scheduled Utilisation"]
["WASHINGTON ST",{"$f":" _xlfn.TOROW(_xlfn.UNIQUE(_xlfn._xlws.FILTER(Competition_type, Competition_Name=A208, \"Empty List\")))","v":"Peak Reduction"},"Scheduled Utilisation"]
["WELLINGTON RD",{"$f":" _xlfn.TOROW(_xlfn.UNIQUE(_xlfn._xlws.FILTER(Competition_type, Competition_Name=A209, \"Empty List\")))","v":"Peak Reduction"},"Scheduled Utilisation"]
["Westhoughton",{"$f":" _xlfn.TOROW(_xlfn.UNIQUE(_xlfn._xlws.FILTER(Competition_type, Competition_Name=A210, \"Empty List\")))","v":"Variable Availability + Operational Utilisation"},"Peak Reduction"]
["Whasset",{"$f":" _xlfn.TOROW(_xlfn.UNIQUE(_xlfn._xlws.FILTER(Competition_type, Competition_Name=A211, \"Empty List\")))","v":"Variable Availability + Operational Utilisation"},"Peak Reduction"]
["WHITE HORSE YARD",{"$f":" _xlfn.TOROW(_xlfn.UNIQUE(_xlfn._xlws.FILTER(Competition_type, Competition_Name=A212, \"Empty List\")))","v":"Peak Reduction"},"Scheduled Utilisation"]
["Wigan BSP",{"$f":" _xlfn.TOROW(_xlfn.UNIQUE(_xlfn._xlws.FILTER(Competition_type, Competition_Name=A213, \"Empty List\")))","v":"Variable Availability + Operational Utilisation"},"Peak Reduction"]
["WINDSOR WAY",{"$f":" _xlfn.TOROW(_xlfn.UNIQUE(_xlfn._xlws.FILTER(Competition_type, Competition_Name=A214, \"Empty List\")))","v":"Peak Reduction"},"Scheduled Utilisation"]
["WITHINGTON",{"$f":" _xlfn.TOROW(_xlfn.UNIQUE(_xlfn._xlws.FILTER(Competition_type, Competition_Name=A215, \"Empty List\")))","v":"Peak Reduction"},"Scheduled Utilisation"]
["WOODHOUSES O/D",{"$f":" _xlfn.TOROW(_xlfn.UNIQUE(_xlfn._xlws.FILTER(Competition_type, Competition_Name=A216, \"Empty List\")))","v":"Peak Reduction"},"Scheduled Utilisation"]
["WOODLANDS DR (B)",{"$f":" _xlfn.TOROW(_xlfn.UNIQUE(_xlfn._xlws.FILTER(Competition_type, Competition_Name=A217, \"Empty List\")))","v":"Peak Reduction"},"Scheduled Utilisation"]
["WORDSWORTH RD",{"$f":" _xlfn.TOROW(_xlfn.UNIQUE(_xlfn._xlws.FILTER(Competition_type, Competition_Name=A218, \"Empty List\")))","v":"Peak Reduction"},"Scheduled Utilisation"]
["Yealand",{"$f":" _xlfn.TOROW(_xlfn.UNIQUE(_xlfn._xlws.FILTER(Competition_type, Competition_Name=A219, \"Empty List\")))","v":"Operational Utilisation"},"Variable Availability + Operational Utilisation","Peak Reduction"]
[0,{"$f":" _xlfn.TOROW(_xlfn.UNIQUE(_xlfn._xlws.FILTER(Competition_type, Competition_Name=A220, \"Empty List\")))","v":0}]
[null,{"$f":" _xlfn.TOROW(_xlfn.UNIQUE(_xlfn._xlws.FILTER(Competition_type, Competition_Name=A221, \"Empty List\")))","v":0}]
[null,{"$f":" _xlfn.TOROW(_xlfn.UNIQUE(_xlfn._xlws.FILTER(Competition_type, Competition_Name=A222, \"Empty List\")))","v":0}]

{"sheet":"Enhance logic (Do not use)","index":8,"n_rows":17,"n_cols":10,"rows_kept":17,"cut":false,"hidden":true,"merged":[[7,7,7,8],[8,7,8,8],[9,3,9,4],[14,0,14,2],[14,3,15,3],[14,4,14,7],[14,8,15,8],[3,6,3,7],[4,0,6,0],[4,3,4,4],[4,7,4,8],[5,3,5,4],[5,7,5,8],[6,3,6,4],[6,7,6,8]]}
[]
[null,"Tender Finder","Yes"]
[]
[null,"Insert Bid Details Here",null,null,null,null,"Competition details (auto-populated)"]
["Competion details","Competition Name",null,{"$f":"IF(ISBLANK(C5),\"Enter data\",\"\")","v":"Enter data"},null,null,"Competition ID",{"$f":"IF(C2=\"No\",\"N/A\",IFERROR(VLOOKUP(J5,Data!$A:$I,3,FALSE),\"No tender matching these perameters\"))","v":""},null,{"$f":"CONCATENATE(C5,C6,C7)","v":""}]
[null,"Period",null,{"$f":"IF(OR(ISBLANK(C5),ISBLANK(C6),ISBLANK(C7)),\"Enter data\",IF(H5=\"No Tender matching these perameters\",\"No tender matching these perameters\",\"\"))","v":"Enter data"},null,null,"Celling Price per annum",{"$f":"IFERROR(VLOOKUP(J5,Data!$A:$I,6,FALSE),\"No tender matching these perameters\")","v":""}]
[null,"Service Type",null,{"$f":"IF(ISBLANK(C7),\"Enter data\",\"\")","v":"Enter data"},null,null,"Availability Hours",{"$f":"IFERROR(VLOOKUP(J5,Data!$A:$I,8,FALSE),\"No tender matching these perameters\")","v":""}]
[null,{"$f":"IF(C2=\"No\",\"Insert Bid Details Here\",\"\")","v":""},null,{"$f":"IF(AND(C7=\"restore\",C9>0,C9),\"No availability payments for Restore contracts\",\"\")","v":""},null,null,"Utilisation Hours",{"$f":"IFERROR(VLOOKUP(J5,Data!$A:$I,7,FALSE),\"No tender matching these perameters\")","v":""}]
["Bid Details","Availability £/MWh",2,null,null,null,"Capacity Required MW",{"$f":"IFERROR(VLOOKUP(J5,Data!$A:$I,9,FALSE),\"No tender matching these perameters\")","v":""}]
[null,"Utilisation £/MWh",6,{"$f":"IF(C11>H9,\"Capacity exceeds network requirements\",\"\")","v":""}]
[null,"Capacity MW",2000]
[]
[]
[]
["Total Bid Price ",null,null,"% of capacity\n required","Total price if scaled up to total capacity required",null,null,null,"% of celling Price"]
["Availability £","Utilisation £","Total Bid \nPrice",null,"Availability £",null,"Utilisation","Total Bid Price"]
[{"$f":"IFERROR(C9*H7*C11,\"\")","v":""},{"$f":"IFERROR(C10*H8*C11,\"\")","v":""},{"$f":"IFERROR(A17+B17,\"\")","v":""},{"$f":"IFERROR(C11/H9,\"\")","v":""},{"$f":"IFERROR(C9*H7*H9,\"\")","v":""},null,{"$f":"IFERROR(C10*H8*H9,\"\")","v":""},{"$f":"IFERROR(E17+G17,\"\")","v":""},{"$f":"IFERROR(H17/H6,\"\")","v":""}]

{"sheet":"Manual Entry (Do not use)","index":9,"n_rows":22,"n_cols":12,"rows_kept":22,"cut":false,"hidden":true,"merged":[[16,9,17,9],[16,1,16,3],[16,4,17,4],[11,4,11,6],[10,4,10,6],[8,11,9,12],[1,3,3,7],[1,11,1,12],[2,11,2,12],[13,11,13,12],[21,2,22,2],[21,3,22,8],[8,7,9,8],[12,4,12,6],[8,1,9,3],[16,6,16,8]]}
[]
[null,null,null,"Flexible Services \ncost checker"]
[null,null,null,null,null,null,null,null,null,null,null,"Click here to visit Piclo"]
[]
[]
[]
[]
[]
[null,"Insert Bid Details Here",null,null,null,null,null,"Competition details (Manually-populated)",null,null,null,"Click here to visit our website"]
[]
[null,"Bid Details","Availability £/MWh",0,{"$f":"IF(ISBLANK(I11),\"Enter data\",\"\")","v":""},null,null,"Celling Price per annum",29820,{"$f":"IF(ISBLANK(I11),\"Enter data\",\"\")","v":""}]
[null,null,"Utilisation £/MWh",20,{"$f":"IF(ISBLANK(D12),\"Enter data\",\"\")","v":""},null,null,"Availability Hours",0,{"$f":"IF(ISBLANK(I12),\"Enter data\",\"\")","v":""}]
[null,null,"Capacity MW",1,{"$f":"IF(ISBLANK(D13),\"Enter data\",IF(D13>I14,\"Capacity exceeds network requirements\",\"\"))","v":""},null,null,"Utilisation Hours",150,""]
[null,null,null,null,null,null,null,"Capacity Required MW",1.5,"",null,"Click here to contact us"]
[]
[]
[null,"Total Bid Price ",null,null,"% of capacity\n required",null,"Total price if scaled up to total capacity required",null,null,"% of celling Price"]
[null,"Availability £","Utilisation £","Total Bid \nPrice",null,null,"Availability £","Utilisation","Total Bid Price"]
[null,{"$f":"IFERROR(D11*I12*D13,\"\")","v":0},{"$f":"IFERROR(D12*I13*D13,\"\")","v":3000},{"$f":"IFERROR(B19+C19,\"\")","v":3000},{"$f":"IFERROR(D13/I14,\"\")","v":0.66666666666666663},null,{"$f":"IFERROR(D11*I12*I14,\"\")","v":0},{"$f":"IFERROR(D12*I13*I14,\"\")","v":4500},{"$f":"IFERROR(G19+H19,\"\")","v":4500},{"$f":"IFERROR(I19/I11,\"\")","v":0.15090543259557343}]
[]
[]
[null,null,"Result:",{"$f":"IF(I19=0,\"\",IF(J19>1,'Lists & wording'!K4,'Lists & wording'!K3))","v":"Your tendered price is within the ceiling price. \nNote: This is not a guarantee that your submission will be accepted."}]